{"text_format":"1","workbook":"xlsx","n_sheets":4,"sheets":["入力シート","サリバ取込","集荷不可","リスト"],"not_rendered":{"charts":0,"images":0,"macros":1,"external_links":0,"defined_names":3,"comments":0,"pivot_tables":0},"unopened":[],"bounds":{"document_bytes":16777216,"sheet_cells":100000,"rows_first":2000,"rows_last":500,"rows_between":2000,"halvings":0,"cell_chars":16384,"cell_head_chars":4096},"cells_cut":0,"cells_raw":0,"read":"whole","date_system":"1900"}

{"sheet":"入力シート","index":0,"n_rows":1004,"n_cols":33,"rows_kept":1004,"cut":false,"hidden":false,"merged":[]}
[1,2,3,4,5,6,7,8,9,10,11,12,13,14,15,16,17,18,19,20,21,22,23,24,25,26,27,28,29,30,31,32,33]
["SalivaChecker® 一括申込シート",null,"貴社名：",null,null,null,null,null,null,null,null,null,null,"シートVer：20220825"]
[]
[null,null,null,"こちらに入力いただいた住所へ採取キット、結果レポートを送付いたします。",null,null,null,null,null,null,null,null,null,null,"非表示","非表示","非表示","非表示","非表示","非表示","非表示","非表示","非表示","非表示","非表示","非表示","非表示","非表示","非表示","非表示","非表示","非表示","非表示"]
["ご利用者氏名　※必須\n全角16文字以下","ご利用者性別　※必須\n男性or女性","ご利用者生年月日　※必須\n日付を指定","送付先 ※必須\n会社/自宅","送付先郵便番号　※必須\nハイフン有8文字\n（ハイフンなし7文字も可）","送付先住所1　※必須\n全角32文字以下\n都道府県から入力","送付先住所2\n全角16文字以下","送付先会社部門名１\n全角25文字以下","送付先会社部門名２\n全角25文字以下","送付先TEL　※必須\n半角15文字以下","メール　※必須\n半角60文字以下","社員番号１\n半角8文字以下","社員番号２\n半角8文字以下","本人・家族　※必須\n本人or家族","送付先郵便番号 変換",null,"空行チェック","氏名機種依存","文字数 氏名","性別","生年月日","会社住所","文字数　住所１","文字数　住所２","文字数　部門１","文字数　部門２","文字数　TEL","文字数　メール","保険証記号　※必須","本人・家族　※必須","郵便番号チェック","メールアドレスRFC","文字数　保険証番号"]
[null,null,null,null,null,null,null,null,null,null,null,null,null,null,{"$f":"SUBSTITUTE(E6,\"-\",\"\")","v":""},{"$f":"LEFT(N6,1)","v":""},{"$f":"IF(LEN(A6&B6&C6&D6&E6&F6&G6&H6&I6&J6&K6&L6&M6&N6)=0,FALSE,TRUE)","v":false},{"$f":"CheckIzonMoji(A6)","v":false},{"$f":"IF(Q6,IF(AND(LENB(A6)>2,LENB(A6)<33),FALSE,TRUE),FALSE)","v":false},{"$f":"IF(Q6,IF(B6=\"\",TRUE,FALSE),FALSE)","v":false},{"$f":"IF(Q6,IF(OR(C6=\"\",ISERR(DAY(C6))),TRUE,FALSE),FALSE)","v":false},{"$f":"IF(Q6,IF(D6=\"\",TRUE,FALSE),FALSE)","v":false},{"$f":"IF(Q6,IF(AND(LENB(F6)>1,LENB(F6)<65),FALSE,TRUE),FALSE)","v":false},{"$f":"IF(LENB(G6)<33,FALSE,TRUE)","v":false},{"$f":"IF(LENB(H6)<51,FALSE,TRUE)","v":false},{"$f":"IF(LENB(I6)<51,FALSE,TRUE)","v":false},{"$f":"IF(Q6,IF(AND(LENB(J6)>2,LENB(J6)<16),FALSE,TRUE),FALSE)","v":false},{"$f":"IF(Q6,IF(AND(LENB(K6)<61),FALSE,TRUE),FALSE)","v":false},{"$f":"IF(Q6,IF(AND(LENB(L6)<9),FALSE,TRUE),FALSE)","v":false},{"$f":"IF(Q6,IF(N6=\"\",TRUE,FALSE),FALSE)","v":false},{"$f":"IF(Q6,IF(AND(LEN(O6)=7,COUNTIF(集荷不可!$A:$A,O6)=0),FALSE,TRUE),FALSE)","v":false},{"$f":"IF(ISERROR(FIND(\".@\",K6)),FALSE,TRUE)","v":false},{"$f":"IF(LENB(M6)<9,FALSE,TRUE)","v":false}]
[null,null,null,null,null,null,null,null,null,null,null,null,null,null,{"$f":"SUBSTITUTE(E7,\"-\",\"\")","v":""},{"$f":"LEFT(N7,1)","v":""},{"$f":"IF(LEN(A7&B7&C7&D7&E7&F7&G7&H7&I7&J7&K7&L7&M7&N7)=0,FALSE,TRUE)","v":false},{"$f":"CheckIzonMoji(A7)","v":false},{"$f":"IF(Q7,IF(AND(LENB(A7)>2,LENB(A7)<33),FALSE,TRUE),FALSE)","v":false},{"$f":"IF(Q7,IF(B7=\"\",TRUE,FALSE),FALSE)","v":false},{"$f":"IF(Q7,IF(OR(C7=\"\",ISERR(DAY(C7))),TRUE,FALSE),FALSE)","v":false},{"$f":"IF(Q7,IF(D7=\"\",TRUE,FALSE),FALSE)","v":false},{"$f":"IF(Q7,IF(AND(LENB(F7)>1,LENB(F7)<65),FALSE,TRUE),FALSE)","v":false},{"$f":"IF(LENB(G7)<33,FALSE,TRUE)","v":false},{"$f":"IF(LENB(H7)<51,FALSE,TRUE)","v":false},{"$f":"IF(LENB(I7)<51,FALSE,TRUE)","v":false},{"$f":"IF(Q7,IF(AND(LENB(J7)>2,LENB(J7)<16),FALSE,TRUE),FALSE)","v":false},{"$f":"IF(Q7,IF(AND(LENB(K7)<61),FALSE,TRUE),FALSE)","v":false},{"$f":"IF(Q7,IF(AND(LENB(L7)<9),FALSE,TRUE),FALSE)","v":false},{"$f":"IF(Q7,IF(N7=\"\",TRUE,FALSE),FALSE)","v":false},{"$f":"IF(Q7,IF(AND(LEN(O7)=7,COUNTIF(集荷不可!$A:$A,O7)=0),FALSE,TRUE),FALSE)","v":false},{"$f":"IF(ISERROR(FIND(\".@\",K7)),FALSE,TRUE)","v":false},{"$f":"IF(LENB(M7)<9,FALSE,TRUE)","v":false}]
[null,null,null,null,null,null,null,null,null,null,null,null,null,null,{"$f":"SUBSTITUTE(E8,\"-\",\"\")","v":""},{"$f":"LEFT(N8,1)","v":""},false,{"$f":"CheckIzonMoji(A8)","v":false},false,false,false,false,false,false,false,false,false,false,false,false,{"$f":"IF(Q8,IF(AND(LEN(O8)=7,COUNTIF(集荷不可!$A:$A,O8)=0),FALSE,TRUE),FALSE)","v":false},false,false]
[null,null,null,null,null,null,null,null,null,null,null,null,null,null,{"$f":"SUBSTITUTE(E9,\"-\",\"\")","v":""},{"$f":"LEFT(N9,1)","v":""},false,{"$f":"CheckIzonMoji(A9)","v":false},false,false,false,false,false,false,false,false,false,false,false,false,{"$f":"IF(Q9,IF(AND(LEN(O9)=7,COUNTIF(集荷不可!$A:$A,O9)=0),FALSE,TRUE),FALSE)","v":false},false,false]
[null,null,null,null,null,null,null,null,null,null,null,null,null,null,"","",false,{"$f":"CheckIzonMoji(A10)","v":false},false,false,false,false,false,false,false,false,false,false,false,false,{"$f":"IF(Q10,IF(AND(LEN(O10)=7,COUNTIF(集荷不可!$A:$A,O10)=0),FALSE,TRUE),FALSE)","v":false},false,false]
[null,null,null,null,null,null,null,null,null,null,null,null,null,null,"","",false,{"$f":"CheckIzonMoji(A11)","v":false},false,false,false,false,false,false,false,false,false,false,false,false,{"$f":"IF(Q11,IF(AND(LEN(O11)=7,COUNTIF(集荷不可!$A:$A,O11)=0),FALSE,TRUE),FALSE)","v":false},false,false]
[null,null,null,null,null,null,null,null,null,null,null,null,null,null,"","",false,{"$f":"CheckIzonMoji(A12)","v":false},false,false,false,false,false,false,false,false,false,false,false,false,{"$f":"IF(Q12,IF(AND(LEN(O12)=7,COUNTIF(集荷不可!$A:$A,O12)=0),FALSE,TRUE),FALSE)","v":false},false,false]
[null,null,null,null,null,null,null,null,null,null,null,null,null,null,"","",false,{"$f":"CheckIzonMoji(A13)","v":false},false,false,false,false,false,false,false,false,false,false,false,false,{"$f":"IF(Q13,IF(AND(LEN(O13)=7,COUNTIF(集荷不可!$A:$A,O13)=0),FALSE,TRUE),FALSE)","v":false},false,false]
[null,null,null,null,null,null,null,null,null,null,null,null,null,null,"","",false,{"$f":"CheckIzonMoji(A14)","v":false},false,false,false,false,false,false,false,false,false,false,false,false,{"$f":"IF(Q14,IF(AND(LEN(O14)=7,COUNTIF(集荷不可!$A:$A,O14)=0),FALSE,TRUE),FALSE)","v":false},false,false]
[null,null,null,null,null,null,null,null,null,null,null,null,null,null,"","",false,{"$f":"CheckIzonMoji(A15)","v":false},false,false,false,false,false,false,false,false,false,false,false,false,{"$f":"IF(Q15,IF(AND(LEN(O15)=7,COUNTIF(集荷不可!$A:$A,O15)=0),FALSE,TRUE),FALSE)","v":false},false,false]
[null,null,null,null,null,null,null,null,null,null,null,null,null,null,"","",false,{"$f":"CheckIzonMoji(A16)","v":false},false,false,false,false,false,false,false,false,false,false,false,false,{"$f":"IF(Q16,IF(AND(LEN(O16)=7,COUNTIF(集荷不可!$A:$A,O16)=0),FALSE,TRUE),FALSE)","v":false},false,false]
[null,null,null,null,null,null,null,null,null,null,null,null,null,null,"","",false,{"$f":"CheckIzonMoji(A17)","v":false},false,false,false,false,false,false,false,false,false,false,false,false,{"$f":"IF(Q17,IF(AND(LEN(O17)=7,COUNTIF(集荷不可!$A:$A,O17)=0),FALSE,TRUE),FALSE)","v":false},false,false]
[null,null,null,null,null,null,null,null,null,null,null,null,null,null,"","",false,{"$f":"CheckIzonMoji(A18)","v":false},false,false,false,false,false,false,false,false,false,false,false,false,{"$f":"IF(Q18,IF(AND(LEN(O18)=7,COUNTIF(集荷不可!$A:$A,O18)=0),FALSE,TRUE),FALSE)","v":false},false,false]
[null,null,null,null,null,null,null,null,null,null,null,null,null,null,"","",false,{"$f":"CheckIzonMoji(A19)","v":false},false,false,false,false,false,false,false,false,false,false,false,false,{"$f":"IF(Q19,IF(AND(LEN(O19)=7,COUNTIF(集荷不可!$A:$A,O19)=0),FALSE,TRUE),FALSE)","v":false},false,false]
[null,null,null,null,null,null,null,null,null,null,null,null,null,null,"","",false,{"$f":"CheckIzonMoji(A20)","v":false},false,false,false,false,false,false,false,false,false,false,false,false,{"$f":"IF(Q20,IF(AND(LEN(O20)=7,COUNTIF(集荷不可!$A:$A,O20)=0),FALSE,TRUE),FALSE)","v":false},false,false]
[null,null,null,null,null,null,null,null,null,null,null,null,null,null,"","",false,{"$f":"CheckIzonMoji(A21)","v":false},false,false,false,false,false,false,false,false,false,false,false,false,{"$f":"IF(Q21,IF(AND(LEN(O21)=7,COUNTIF(集荷不可!$A:$A,O21)=0),FALSE,TRUE),FALSE)","v":false},false,false]
[null,null,null,null,null,null,null,null,null,null,null,null,null,null,"","",false,{"$f":"CheckIzonMoji(A22)","v":false},false,false,false,false,false,false,false,false,false,false,false,false,{"$f":"IF(Q22,IF(AND(LEN(O22)=7,COUNTIF(集荷不可!$A:$A,O22)=0),FALSE,TRUE),FALSE)","v":false},false,false]
[null,null,null,null,null,null,null,null,null,null,null,null,null,null,"","",false,{"$f":"CheckIzonMoji(A23)","v":false},false,false,false,false,false,false,false,false,false,false,false,false,{"$f":"IF(Q23,IF(AND(LEN(O23)=7,COUNTIF(集荷不可!$A:$A,O23)=0),FALSE,TRUE),FALSE)","v":false},false,false]
[null,null,null,null,null,null,null,null,null,null,null,null,null,null,"","",false,{"$f":"CheckIzonMoji(A24)","v":false},false,false,false,false,false,false,false,false,false,false,false,false,{"$f":"IF(Q24,IF(AND(LEN(O24)=7,COUNTIF(集荷不可!$A:$A,O24)=0),FALSE,TRUE),FALSE)","v":false},false,false]
[null,null,null,null,null,null,null,null,null,null,null,null,null,null,"","",false,{"$f":"CheckIzonMoji(A25)","v":false},false,false,false,false,false,false,false,false,false,false,false,false,{"$f":"IF(Q25,IF(AND(LEN(O25)=7,COUNTIF(集荷不可!$A:$A,O25)=0),FALSE,TRUE),FALSE)","v":false},false,false]
[null,null,null,null,null,null,null,null,null,null,null,null,null,null,"","",false,{"$f":"CheckIzonMoji(A26)","v":false},false,false,false,false,false,false,false,false,false,false,false,false,{"$f":"IF(Q26,IF(AND(LEN(O26)=7,COUNTIF(集荷不可!$A:$A,O26)=0),FALSE,TRUE),FALSE)","v":false},false,false]
[null,null,null,null,null,null,null,null,null,null,null,null,null,null,"","",false,{"$f":"CheckIzonMoji(A27)","v":false},false,false,false,false,false,false,false,false,false,false,false,false,{"$f":"IF(Q27,IF(AND(LEN(O27)=7,COUNTIF(集荷不可!$A:$A,O27)=0),FALSE,TRUE),FALSE)","v":false},false,false]
[null,null,null,null,null,null,null,null,null,null,null,null,null,null,"","",false,{"$f":"CheckIzonMoji(A28)","v":false},false,false,false,false,false,false,false,false,false,false,false,false,{"$f":"IF(Q28,IF(AND(LEN(O28)=7,COUNTIF(集荷不可!$A:$A,O28)=0),FALSE,TRUE),FALSE)","v":false},false,false]
[null,null,null,null,null,null,null,null,null,null,null,null,null,null,"","",false,{"$f":"CheckIzonMoji(A29)","v":false},false,false,false,false,false,false,false,false,false,false,false,false,{"$f":"IF(Q29,IF(AND(LEN(O29)=7,COUNTIF(集荷不可!$A:$A,O29)=0),FALSE,TRUE),FALSE)","v":false},false,false]
[null,null,null,null,null,null,null,null,null,null,null,null,null,null,"","",false,{"$f":"CheckIzonMoji(A30)","v":false},false,false,false,false,false,false,false,false,false,false,false,false,{"$f":"IF(Q30,IF(AND(LEN(O30)=7,COUNTIF(集荷不可!$A:$A,O30)=0),FALSE,TRUE),FALSE)","v":false},false,false]
[null,null,null,null,null,null,null,null,null,null,null,null,null,null,"","",false,{"$f":"CheckIzonMoji(A31)","v":false},false,false,false,false,false,false,false,false,false,false,false,false,{"$f":"IF(Q31,IF(AND(LEN(O31)=7,COUNTIF(集荷不可!$A:$A,O31)=0),FALSE,TRUE),FALSE)","v":false},false,false]
[null,null,null,null,null,null,null,null,null,null,null,null,null,null,"","",false,{"$f":"CheckIzonMoji(A32)","v":false},false,false,false,false,false,false,false,false,false,false,false,false,{"$f":"IF(Q32,IF(AND(LEN(O32)=7,COUNTIF(集荷不可!$A:$A,O32)=0),FALSE,TRUE),FALSE)","v":false},false,false]
[null,null,null,null,null,null,null,null,null,null,null,null,null,null,"","",false,{"$f":"CheckIzonMoji(A33)","v":false},false,false,false,false,false,false,false,false,false,false,false,false,{"$f":"IF(Q33,IF(AND(LEN(O33)=7,COUNTIF(集荷不可!$A:$A,O33)=0),FALSE,TRUE),FALSE)","v":false},false,false]
[null,null,null,null,null,null,null,null,null,null,null,null,null,null,"","",false,{"$f":"CheckIzonMoji(A34)","v":false},false,false,false,false,false,false,false,false,false,false,false,false,{"$f":"IF(Q34,IF(AND(LEN(O34)=7,COUNTIF(集荷不可!$A:$A,O34)=0),FALSE,TRUE),FALSE)","v":false},false,false]
[null,null,null,null,null,null,null,null,null,null,null,null,null,null,"","",false,{"$f":"CheckIzonMoji(A35)","v":false},false,false,false,false,false,false,false,false,false,false,false,false,{"$f":"IF(Q35,IF(AND(LEN(O35)=7,COUNTIF(集荷不可!$A:$A,O35)=0),FALSE,TRUE),FALSE)","v":false},false,false]
[null,null,null,null,null,null,null,null,null,null,null,null,null,null,"","",false,{"$f":"CheckIzonMoji(A36)","v":false},false,false,false,false,false,false,false,false,false,false,false,false,{"$f":"IF(Q36,IF(AND(LEN(O36)=7,COUNTIF(集荷不可!$A:$A,O36)=0),FALSE,TRUE),FALSE)","v":false},false,false]
[null,null,null,null,null,null,null,null,null,null,null,null,null,null,"","",false,{"$f":"CheckIzonMoji(A37)","v":false},false,false,false,false,false,false,false,false,false,false,false,false,{"$f":"IF(Q37,IF(AND(LEN(O37)=7,COUNTIF(集荷不可!$A:$A,O37)=0),FALSE,TRUE),FALSE)","v":false},false,false]
[null,null,null,null,null,null,null,null,null,null,null,null,null,null,"","",false,{"$f":"CheckIzonMoji(A38)","v":false},false,false,false,false,false,false,false,false,false,false,false,false,{"$f":"IF(Q38,IF(AND(LEN(O38)=7,COUNTIF(集荷不可!$A:$A,O38)=0),FALSE,TRUE),FALSE)","v":false},false,false]
[null,null,null,null,null,null,null,null,null,null,null,null,null,null,"","",false,{"$f":"CheckIzonMoji(A39)","v":false},false,false,false,false,false,false,false,false,false,false,false,false,{"$f":"IF(Q39,IF(AND(LEN(O39)=7,COUNTIF(集荷不可!$A:$A,O39)=0),FALSE,TRUE),FALSE)","v":false},false,false]
[null,null,null,null,null,null,null,null,null,null,null,null,null,null,"","",false,{"$f":"CheckIzonMoji(A40)","v":false},false,false,false,false,false,false,false,false,false,false,false,false,{"$f":"IF(Q40,IF(AND(LEN(O40)=7,COUNTIF(集荷不可!$A:$A,O40)=0),FALSE,TRUE),FALSE)","v":false},false,false]
[null,null,null,null,null,null,null,null,null,null,null,null,null,null,"","",false,{"$f":"CheckIzonMoji(A41)","v":false},false,false,false,false,false,false,false,false,false,false,false,false,{"$f":"IF(Q41,IF(AND(LEN(O41)=7,COUNTIF(集荷不可!$A:$A,O41)=0),FALSE,TRUE),FALSE)","v":false},false,false]
[null,null,null,null,null,null,null,null,null,null,null,null,null,null,"","",false,{"$f":"CheckIzonMoji(A42)","v":false},false,false,false,false,false,false,false,false,false,false,false,false,{"$f":"IF(Q42,IF(AND(LEN(O42)=7,COUNTIF(集荷不可!$A:$A,O42)=0),FALSE,TRUE),FALSE)","v":false},false,false]
[null,null,null,null,null,null,null,null,null,null,null,null,null,null,"","",false,{"$f":"CheckIzonMoji(A43)","v":false},false,false,false,false,false,false,false,false,false,false,false,false,{"$f":"IF(Q43,IF(AND(LEN(O43)=7,COUNTIF(集荷不可!$A:$A,O43)=0),FALSE,TRUE),FALSE)","v":false},false,false]
[null,null,null,null,null,null,null,null,null,null,null,null,null,null,"","",false,{"$f":"CheckIzonMoji(A44)","v":false},false,false,false,false,false,false,false,false,false,false,false,false,{"$f":"IF(Q44,IF(AND(LEN(O44)=7,COUNTIF(集荷不可!$A:$A,O44)=0),FALSE,TRUE),FALSE)","v":false},false,false]
[null,null,null,null,null,null,null,null,null,null,null,null,null,null,"","",false,{"$f":"CheckIzonMoji(A45)","v":false},false,false,false,false,false,false,false,false,false,false,false,false,{"$f":"IF(Q45,IF(AND(LEN(O45)=7,COUNTIF(集荷不可!$A:$A,O45)=0),FALSE,TRUE),FALSE)","v":false},false,false]
[null,null,null,null,null,null,null,null,null,null,null,null,null,null,"","",false,{"$f":"CheckIzonMoji(A46)","v":false},false,false,false,false,false,false,false,false,false,false,false,false,{"$f":"IF(Q46,IF(AND(LEN(O46)=7,COUNTIF(集荷不可!$A:$A,O46)=0),FALSE,TRUE),FALSE)","v":false},false,false]
[null,null,null,null,null,null,null,null,null,null,null,null,null,null,"","",false,{"$f":"CheckIzonMoji(A47)","v":false},false,false,false,false,false,false,false,false,false,false,false,false,{"$f":"IF(Q47,IF(AND(LEN(O47)=7,COUNTIF(集荷不可!$A:$A,O47)=0),FALSE,TRUE),FALSE)","v":false},false,false]
[null,null,null,null,null,null,null,null,null,null,null,null,null,null,"","",false,{"$f":"CheckIzonMoji(A48)","v":false},false,false,false,false,false,false,false,false,false,false,false,false,{"$f":"IF(Q48,IF(AND(LEN(O48)=7,COUNTIF(集荷不可!$A:$A,O48)=0),FALSE,TRUE),FALSE)","v":false},false,false]
[null,null,null,null,null,null,null,null,null,null,null,null,null,null,"","",false,{"$f":"CheckIzonMoji(A49)","v":false},false,false,false,false,false,false,false,false,false,false,false,false,{"$f":"IF(Q49,IF(AND(LEN(O49)=7,COUNTIF(集荷不可!$A:$A,O49)=0),FALSE,TRUE),FALSE)","v":false},false,false]
[null,null,null,null,null,null,null,null,null,null,null,null,null,null,"","",false,{"$f":"CheckIzonMoji(A50)","v":false},false,false,false,false,false,false,false,false,false,false,false,false,{"$f":"IF(Q50,IF(AND(LEN(O50)=7,COUNTIF(集荷不可!$A:$A,O50)=0),FALSE,TRUE),FALSE)","v":false},false,false]
[null,null,null,null,null,null,null,null,null,null,null,null,null,null,"","",false,{"$f":"CheckIzonMoji(A51)","v":false},false,false,false,false,false,false,false,false,false,false,false,false,{"$f":"IF(Q51,IF(AND(LEN(O51)=7,COUNTIF(集荷不可!$A:$A,O51)=0),FALSE,TRUE),FALSE)","v":false},false,false]
[null,null,null,null,null,null,null,null,null,null,null,null,null,null,"","",false,{"$f":"CheckIzonMoji(A52)","v":false},false,false,false,false,false,false,false,false,false,false,false,false,{"$f":"IF(Q52,IF(AND(LEN(O52)=7,COUNTIF(集荷不可!$A:$A,O52)=0),FALSE,TRUE),FALSE)","v":false},false,false]
[null,null,null,null,null,null,null,null,null,null,null,null,null,null,"","",false,{"$f":"CheckIzonMoji(A53)","v":false},false,false,false,false,false,false,false,false,false,false,false,false,{"$f":"IF(Q53,IF(AND(LEN(O53)=7,COUNTIF(集荷不可!$A:$A,O53)=0),FALSE,TRUE),FALSE)","v":false},false,false]
[null,null,null,null,null,null,null,null,null,null,null,null,null,null,"","",false,{"$f":"CheckIzonMoji(A54)","v":false},false,false,false,false,false,false,false,false,false,false,false,false,{"$f":"IF(Q54,IF(AND(LEN(O54)=7,COUNTIF(集荷不可!$A:$A,O54)=0),FALSE,TRUE),FALSE)","v":false},false,false]
[null,null,null,null,null,null,null,null,null,null,null,null,null,null,"","",false,{"$f":"CheckIzonMoji(A55)","v":false},false,false,false,false,false,false,false,false,false,false,false,false,{"$f":"IF(Q55,IF(AND(LEN(O55)=7,COUNTIF(集荷不可!$A:$A,O55)=0),FALSE,TRUE),FALSE)","v":false},false,false]
[null,null,null,null,null,null,null,null,null,null,null,null,null,null,"","",false,{"$f":"CheckIzonMoji(A56)","v":false},false,false,false,false,false,false,false,false,false,false,false,false,{"$f":"IF(Q56,IF(AND(LEN(O56)=7,COUNTIF(集荷不可!$A:$A,O56)=0),FALSE,TRUE),FALSE)","v":false},false,false]
[null,null,null,null,null,null,null,null,null,null,null,null,null,null,"","",false,{"$f":"CheckIzonMoji(A57)","v":false},false,false,false,false,false,false,false,false,false,false,false,false,{"$f":"IF(Q57,IF(AND(LEN(O57)=7,COUNTIF(集荷不可!$A:$A,O57)=0),FALSE,TRUE),FALSE)","v":false},false,false]
[null,null,null,null,null,null,null,null,null,null,null,null,null,null,"","",false,{"$f":"CheckIzonMoji(A58)","v":false},false,false,false,false,false,false,false,false,false,false,false,false,{"$f":"IF(Q58,IF(AND(LEN(O58)=7,COUNTIF(集荷不可!$A:$A,O58)=0),FALSE,TRUE),FALSE)","v":false},false,false]
[null,null,null,null,null,null,null,null,null,null,null,null,null,null,"","",false,{"$f":"CheckIzonMoji(A59)","v":false},false,false,false,false,false,false,false,false,false,false,false,false,{"$f":"IF(Q59,IF(AND(LEN(O59)=7,COUNTIF(集荷不可!$A:$A,O59)=0),FALSE,TRUE),FALSE)","v":false},false,false]
[null,null,null,null,null,null,null,null,null,null,null,null,null,null,"","",false,{"$f":"CheckIzonMoji(A60)","v":false},false,false,false,false,false,false,false,false,false,false,false,false,{"$f":"IF(Q60,IF(AND(LEN(O60)=7,COUNTIF(集荷不可!$A:$A,O60)=0),FALSE,TRUE),FALSE)","v":false},false,false]
[null,null,null,null,null,null,null,null,null,null,null,null,null,null,"","",false,{"$f":"CheckIzonMoji(A61)","v":false},false,false,false,false,false,false,false,false,false,false,false,false,{"$f":"IF(Q61,IF(AND(LEN(O61)=7,COUNTIF(集荷不可!$A:$A,O61)=0),FALSE,TRUE),FALSE)","v":false},false,false]
[null,null,null,null,null,null,null,null,null,null,null,null,null,null,"","",false,{"$f":"CheckIzonMoji(A62)","v":false},false,false,false,false,false,false,false,false,false,false,false,false,{"$f":"IF(Q62,IF(AND(LEN(O62)=7,COUNTIF(集荷不可!$A:$A,O62)=0),FALSE,TRUE),FALSE)","v":false},false,false]
[null,null,null,null,null,null,null,null,null,null,null,null,null,null,"","",false,{"$f":"CheckIzonMoji(A63)","v":false},false,false,false,false,false,false,false,false,false,false,false,false,{"$f":"IF(Q63,IF(AND(LEN(O63)=7,COUNTIF(集荷不可!$A:$A,O63)=0),FALSE,TRUE),FALSE)","v":false},false,false]
[null,null,null,null,null,null,null,null,null,null,null,null,null,null,"","",false,{"$f":"CheckIzonMoji(A64)","v":false},false,false,false,false,false,false,false,false,false,false,false,false,{"$f":"IF(Q64,IF(AND(LEN(O64)=7,COUNTIF(集荷不可!$A:$A,O64)=0),FALSE,TRUE),FALSE)","v":false},false,false]
[null,null,null,null,null,null,null,null,null,null,null,null,null,null,"","",false,{"$f":"CheckIzonMoji(A65)","v":false},false,false,false,false,false,false,false,false,false,false,false,false,{"$f":"IF(Q65,IF(AND(LEN(O65)=7,COUNTIF(集荷不可!$A:$A,O65)=0),FALSE,TRUE),FALSE)","v":false},false,false]
[null,null,null,null,null,null,null,null,null,null,null,null,null,null,"","",false,{"$f":"CheckIzonMoji(A66)","v":false},false,false,false,false,false,false,false,false,false,false,false,false,{"$f":"IF(Q66,IF(AND(LEN(O66)=7,COUNTIF(集荷不可!$A:$A,O66)=0),FALSE,TRUE),FALSE)","v":false},false,false]
[null,null,null,null,null,null,null,null,null,null,null,null,null,null,"","",false,{"$f":"CheckIzonMoji(A67)","v":false},false,false,false,false,false,false,false,false,false,false,false,false,{"$f":"IF(Q67,IF(AND(LEN(O67)=7,COUNTIF(集荷不可!$A:$A,O67)=0),FALSE,TRUE),FALSE)","v":false},false,false]
[null,null,null,null,null,null,null,null,null,null,null,null,null,null,"","",false,{"$f":"CheckIzonMoji(A68)","v":false},false,false,false,false,false,false,false,false,false,false,false,false,{"$f":"IF(Q68,IF(AND(LEN(O68)=7,COUNTIF(集荷不可!$A:$A,O68)=0),FALSE,TRUE),FALSE)","v":false},false,false]
[null,null,null,null,null,null,null,null,null,null,null,null,null,null,"","",false,{"$f":"CheckIzonMoji(A69)","v":false},false,false,false,false,false,false,false,false,false,false,false,false,{"$f":"IF(Q69,IF(AND(LEN(O69)=7,COUNTIF(集荷不可!$A:$A,O69)=0),FALSE,TRUE),FALSE)","v":false},false,false]
[null,null,null,null,null,null,null,null,null,null,null,null,null,null,"","",false,{"$f":"CheckIzonMoji(A70)","v":false},false,false,false,false,false,false,false,false,false,false,false,false,{"$f":"IF(Q70,IF(AND(LEN(O70)=7,COUNTIF(集荷不可!$A:$A,O70)=0),FALSE,TRUE),FALSE)","v":false},false,false]
[null,null,null,null,null,null,null,null,null,null,null,null,null,null,"","",{"$f":"IF(LEN(A71&B71&C71&D71&E71&F71&G71&H71&I71&J71&K71&L71&M71&N71)=0,FALSE,TRUE)","v":false},{"$f":"CheckIzonMoji(A71)","v":false},{"$f":"IF(Q71,IF(AND(LENB(A71)>2,LENB(A71)<33),FALSE,TRUE),FALSE)","v":false},{"$f":"IF(Q71,IF(B71=\"\",TRUE,FALSE),FALSE)","v":false},{"$f":"IF(Q71,IF(OR(C71=\"\",ISERR(DAY(C71))),TRUE,FALSE),FALSE)","v":false},{"$f":"IF(Q71,IF(D71=\"\",TRUE,FALSE),FALSE)","v":false},{"$f":"IF(Q71,IF(AND(LENB(F71)>1,LENB(F71)<65),FALSE,TRUE),FALSE)","v":false},{"$f":"IF(LENB(G71)<33,FALSE,TRUE)","v":false},{"$f":"IF(LENB(H71)<51,FALSE,TRUE)","v":false},{"$f":"IF(LENB(I71)<51,FALSE,TRUE)","v":false},{"$f":"IF(Q71,IF(AND(LENB(J71)>2,LENB(J71)<16),FALSE,TRUE),FALSE)","v":false},{"$f":"IF(Q71,IF(AND(LENB(K71)<61),FALSE,TRUE),FALSE)","v":false},{"$f":"IF(Q71,IF(AND(LENB(L71)<9),FALSE,TRUE),FALSE)","v":false},{"$f":"IF(Q71,IF(N71=\"\",TRUE,FALSE),FALSE)","v":false},{"$f":"IF(Q71,IF(AND(LEN(O71)=7,COUNTIF(集荷不可!$A:$A,O71)=0),FALSE,TRUE),FALSE)","v":false},{"$f":"IF(ISERROR(FIND(\".@\",K71)),FALSE,TRUE)","v":false},{"$f":"IF(LENB(M71)<9,FALSE,TRUE)","v":false}]
[null,null,null,null,null,null,null,null,null,null,null,null,null,null,"","",false,{"$f":"CheckIzonMoji(A72)","v":false},false,false,false,false,false,false,false,false,false,false,false,false,{"$f":"IF(Q72,IF(AND(LEN(O72)=7,COUNTIF(集荷不可!$A:$A,O72)=0),FALSE,TRUE),FALSE)","v":false},false,false]
[null,null,null,null,null,null,null,null,null,null,null,null,null,null,{"$f":"SUBSTITUTE(E73,\"-\",\"\")","v":""},{"$f":"LEFT(N73,1)","v":""},false,{"$f":"CheckIzonMoji(A73)","v":false},false,false,false,false,false,false,false,false,false,false,false,false,{"$f":"IF(Q73,IF(AND(LEN(O73)=7,COUNTIF(集荷不可!$A:$A,O73)=0),FALSE,TRUE),FALSE)","v":false},false,false]
[null,null,null,null,null,null,null,null,null,null,null,null,null,null,"","",false,{"$f":"CheckIzonMoji(A74)","v":false},false,false,false,false,false,false,false,false,false,false,false,false,{"$f":"IF(Q74,IF(AND(LEN(O74)=7,COUNTIF(集荷不可!$A:$A,O74)=0),FALSE,TRUE),FALSE)","v":false},false,false]
[null,null,null,null,null,null,null,null,null,null,null,null,null,null,"","",false,{"$f":"CheckIzonMoji(A75)","v":false},false,false,false,false,false,false,false,false,false,false,false,false,{"$f":"IF(Q75,IF(AND(LEN(O75)=7,COUNTIF(集荷不可!$A:$A,O75)=0),FALSE,TRUE),FALSE)","v":false},false,false]
[null,null,null,null,null,null,null,null,null,null,null,null,null,null,"","",false,{"$f":"CheckIzonMoji(A76)","v":false},false,false,false,false,false,false,false,false,false,false,false,false,{"$f":"IF(Q76,IF(AND(LEN(O76)=7,COUNTIF(集荷不可!$A:$A,O76)=0),FALSE,TRUE),FALSE)","v":false},false,false]
[null,null,null,null,null,null,null,null,null,null,null,null,null,null,"","",false,{"$f":"CheckIzonMoji(A77)","v":false},false,false,false,false,false,false,false,false,false,false,false,false,{"$f":"IF(Q77,IF(AND(LEN(O77)=7,COUNTIF(集荷不可!$A:$A,O77)=0),FALSE,TRUE),FALSE)","v":false},false,false]
[null,null,null,null,null,null,null,null,null,null,null,null,null,null,"","",false,{"$f":"CheckIzonMoji(A78)","v":false},false,false,false,false,false,false,false,false,false,false,false,false,{"$f":"IF(Q78,IF(AND(LEN(O78)=7,COUNTIF(集荷不可!$A:$A,O78)=0),FALSE,TRUE),FALSE)","v":false},false,false]
[null,null,null,null,null,null,null,null,null,null,null,null,null,null,"","",false,{"$f":"CheckIzonMoji(A79)","v":false},false,false,false,false,false,false,false,false,false,false,false,false,{"$f":"IF(Q79,IF(AND(LEN(O79)=7,COUNTIF(集荷不可!$A:$A,O79)=0),FALSE,TRUE),FALSE)","v":false},false,false]
[null,null,null,null,null,null,null,null,null,null,null,null,null,null,"","",false,{"$f":"CheckIzonMoji(A80)","v":false},false,false,false,false,false,false,false,false,false,false,false,false,{"$f":"IF(Q80,IF(AND(LEN(O80)=7,COUNTIF(集荷不可!$A:$A,O80)=0),FALSE,TRUE),FALSE)","v":false},false,false]
[null,null,null,null,null,null,null,null,null,null,null,null,null,null,"","",false,{"$f":"CheckIzonMoji(A81)","v":false},false,false,false,false,false,false,false,false,false,false,false,false,{"$f":"IF(Q81,IF(AND(LEN(O81)=7,COUNTIF(集荷不可!$A:$A,O81)=0),FALSE,TRUE),FALSE)","v":false},false,false]
[null,null,null,null,null,null,null,null,null,null,null,null,null,null,"","",false,{"$f":"CheckIzonMoji(A82)","v":false},false,false,false,false,false,false,false,false,false,false,false,false,{"$f":"IF(Q82,IF(AND(LEN(O82)=7,COUNTIF(集荷不可!$A:$A,O82)=0),FALSE,TRUE),FALSE)","v":false},false,false]
[null,null,null,null,null,null,null,null,null,null,null,null,null,null,"","",false,{"$f":"CheckIzonMoji(A83)","v":false},false,false,false,false,false,false,false,false,false,false,false,false,{"$f":"IF(Q83,IF(AND(LEN(O83)=7,COUNTIF(集荷不可!$A:$A,O83)=0),FALSE,TRUE),FALSE)","v":false},false,false]
[null,null,null,null,null,null,null,null,null,null,null,null,null,null,"","",false,{"$f":"CheckIzonMoji(A84)","v":false},false,false,false,false,false,false,false,false,false,false,false,false,{"$f":"IF(Q84,IF(AND(LEN(O84)=7,COUNTIF(集荷不可!$A:$A,O84)=0),FALSE,TRUE),FALSE)","v":false},false,false]
[null,null,null,null,null,null,null,null,null,null,null,null,null,null,"","",false,{"$f":"CheckIzonMoji(A85)","v":false},false,false,false,false,false,false,false,false,false,false,false,false,{"$f":"IF(Q85,IF(AND(LEN(O85)=7,COUNTIF(集荷不可!$A:$A,O85)=0),FALSE,TRUE),FALSE)","v":false},false,false]
[null,null,null,null,null,null,null,null,null,null,null,null,null,null,"","",false,{"$f":"CheckIzonMoji(A86)","v":false},false,false,false,false,false,false,false,false,false,false,false,false,{"$f":"IF(Q86,IF(AND(LEN(O86)=7,COUNTIF(集荷不可!$A:$A,O86)=0),FALSE,TRUE),FALSE)","v":false},false,false]
[null,null,null,null,null,null,null,null,null,null,null,null,null,null,"","",false,{"$f":"CheckIzonMoji(A87)","v":false},false,false,false,false,false,false,false,false,false,false,false,false,{"$f":"IF(Q87,IF(AND(LEN(O87)=7,COUNTIF(集荷不可!$A:$A,O87)=0),FALSE,TRUE),FALSE)","v":false},false,false]
[null,null,null,null,null,null,null,null,null,null,null,null,null,null,"","",false,{"$f":"CheckIzonMoji(A88)","v":false},false,false,false,false,false,false,false,false,false,false,false,false,{"$f":"IF(Q88,IF(AND(LEN(O88)=7,COUNTIF(集荷不可!$A:$A,O88)=0),FALSE,TRUE),FALSE)","v":false},false,false]
[null,null,null,null,null,null,null,null,null,null,null,null,null,null,"","",false,{"$f":"CheckIzonMoji(A89)","v":false},false,false,false,false,false,false,false,false,false,false,false,false,{"$f":"IF(Q89,IF(AND(LEN(O89)=7,COUNTIF(集荷不可!$A:$A,O89)=0),FALSE,TRUE),FALSE)","v":false},false,false]
[null,null,null,null,null,null,null,null,null,null,null,null,null,null,"","",false,{"$f":"CheckIzonMoji(A90)","v":false},false,false,false,false,false,false,false,false,false,false,false,false,{"$f":"IF(Q90,IF(AND(LEN(O90)=7,COUNTIF(集荷不可!$A:$A,O90)=0),FALSE,TRUE),FALSE)","v":false},false,false]
[null,null,null,null,null,null,null,null,null,null,null,null,null,null,"","",false,{"$f":"CheckIzonMoji(A91)","v":false},false,false,false,false,false,false,false,false,false,false,false,false,{"$f":"IF(Q91,IF(AND(LEN(O91)=7,COUNTIF(集荷不可!$A:$A,O91)=0),FALSE,TRUE),FALSE)","v":false},false,false]
[null,null,null,null,null,null,null,null,null,null,null,null,null,null,"","",false,{"$f":"CheckIzonMoji(A92)","v":false},false,false,false,false,false,false,false,false,false,false,false,false,{"$f":"IF(Q92,IF(AND(LEN(O92)=7,COUNTIF(集荷不可!$A:$A,O92)=0),FALSE,TRUE),FALSE)","v":false},false,false]
[null,null,null,null,null,null,null,null,null,null,null,null,null,null,"","",false,{"$f":"CheckIzonMoji(A93)","v":false},false,false,false,false,false,false,false,false,false,false,false,false,{"$f":"IF(Q93,IF(AND(LEN(O93)=7,COUNTIF(集荷不可!$A:$A,O93)=0),FALSE,TRUE),FALSE)","v":false},false,false]
[null,null,null,null,null,null,null,null,null,null,null,null,null,null,"","",false,{"$f":"CheckIzonMoji(A94)","v":false},false,false,false,false,false,false,false,false,false,false,false,false,{"$f":"IF(Q94,IF(AND(LEN(O94)=7,COUNTIF(集荷不可!$A:$A,O94)=0),FALSE,TRUE),FALSE)","v":false},false,false]
[null,null,null,null,null,null,null,null,null,null,null,null,null,null,"","",false,{"$f":"CheckIzonMoji(A95)","v":false},false,false,false,false,false,false,false,false,false,false,false,false,{"$f":"IF(Q95,IF(AND(LEN(O95)=7,COUNTIF(集荷不可!$A:$A,O95)=0),FALSE,TRUE),FALSE)","v":false},false,false]
[null,null,null,null,null,null,null,null,null,null,null,null,null,null,"","",false,{"$f":"CheckIzonMoji(A96)","v":false},false,false,false,false,false,false,false,false,false,false,false,false,{"$f":"IF(Q96,IF(AND(LEN(O96)=7,COUNTIF(集荷不可!$A:$A,O96)=0),FALSE,TRUE),FALSE)","v":false},false,false]
[null,null,null,null,null,null,null,null,null,null,null,null,null,null,"","",false,{"$f":"CheckIzonMoji(A97)","v":false},false,false,false,false,false,false,false,false,false,false,false,false,{"$f":"IF(Q97,IF(AND(LEN(O97)=7,COUNTIF(集荷不可!$A:$A,O97)=0),FALSE,TRUE),FALSE)","v":false},false,false]
[null,null,null,null,null,null,null,null,null,null,null,null,null,null,"","",false,{"$f":"CheckIzonMoji(A98)","v":false},false,false,false,false,false,false,false,false,false,false,false,false,{"$f":"IF(Q98,IF(AND(LEN(O98)=7,COUNTIF(集荷不可!$A:$A,O98)=0),FALSE,TRUE),FALSE)","v":false},false,false]
[null,null,null,null,null,null,null,null,null,null,null,null,null,null,"","",false,{"$f":"CheckIzonMoji(A99)","v":false},false,false,false,false,false,false,false,false,false,false,false,false,{"$f":"IF(Q99,IF(AND(LEN(O99)=7,COUNTIF(集荷不可!$A:$A,O99)=0),FALSE,TRUE),FALSE)","v":false},false,false]
[null,null,null,null,null,null,null,null,null,null,null,null,null,null,"","",false,{"$f":"CheckIzonMoji(A100)","v":false},false,false,false,false,false,false,false,false,false,false,false,false,{"$f":"IF(Q100,IF(AND(LEN(O100)=7,COUNTIF(集荷不可!$A:$A,O100)=0),FALSE,TRUE),FALSE)","v":false},false,false]
[null,null,null,null,null,null,null,null,null,null,null,null,null,null,"","",false,{"$f":"CheckIzonMoji(A101)","v":false},false,false,false,false,false,false,false,false,false,false,false,false,{"$f":"IF(Q101,IF(AND(LEN(O101)=7,COUNTIF(集荷不可!$A:$A,O101)=0),FALSE,TRUE),FALSE)","v":false},false,false]
[null,null,null,null,null,null,null,null,null,null,null,null,null,null,"","",false,{"$f":"CheckIzonMoji(A102)","v":false},false,false,false,false,false,false,false,false,false,false,false,false,{"$f":"IF(Q102,IF(AND(LEN(O102)=7,COUNTIF(集荷不可!$A:$A,O102)=0),FALSE,TRUE),FALSE)","v":false},false,false]
[null,null,null,null,null,null,null,null,null,null,null,null,null,null,"","",false,{"$f":"CheckIzonMoji(A103)","v":false},false,false,false,false,false,false,false,false,false,false,false,false,{"$f":"IF(Q103,IF(AND(LEN(O103)=7,COUNTIF(集荷不可!$A:$A,O103)=0),FALSE,TRUE),FALSE)","v":false},false,false]
[null,null,null,null,null,null,null,null,null,null,null,null,null,null,"","",false,{"$f":"CheckIzonMoji(A104)","v":false},false,false,false,false,false,false,false,false,false,false,false,false,{"$f":"IF(Q104,IF(AND(LEN(O104)=7,COUNTIF(集荷不可!$A:$A,O104)=0),FALSE,TRUE),FALSE)","v":false},false,false]
[null,null,null,null,null,null,null,null,null,null,null,null,null,null,"","",false,{"$f":"CheckIzonMoji(A105)","v":false},false,false,false,false,false,false,false,false,false,false,false,false,{"$f":"IF(Q105,IF(AND(LEN(O105)=7,COUNTIF(集荷不可!$A:$A,O105)=0),FALSE,TRUE),FALSE)","v":false},false,false]
[null,null,null,null,null,null,null,null,null,null,null,null,null,null,"","",false,{"$f":"CheckIzonMoji(A106)","v":false},false,false,false,false,false,false,false,false,false,false,false,false,{"$f":"IF(Q106,IF(AND(LEN(O106)=7,COUNTIF(集荷不可!$A:$A,O106)=0),FALSE,TRUE),FALSE)","v":false},false,false]
[null,null,null,null,null,null,null,null,null,null,null,null,null,null,"","",false,{"$f":"CheckIzonMoji(A107)","v":false},false,false,false,false,false,false,false,false,false,false,false,false,{"$f":"IF(Q107,IF(AND(LEN(O107)=7,COUNTIF(集荷不可!$A:$A,O107)=0),FALSE,TRUE),FALSE)","v":false},false,false]
[null,null,null,null,null,null,null,null,null,null,null,null,null,null,"","",false,{"$f":"CheckIzonMoji(A108)","v":false},false,false,false,false,false,false,false,false,false,false,false,false,{"$f":"IF(Q108,IF(AND(LEN(O108)=7,COUNTIF(集荷不可!$A:$A,O108)=0),FALSE,TRUE),FALSE)","v":false},false,false]
[null,null,null,null,null,null,null,null,null,null,null,null,null,null,"","",false,{"$f":"CheckIzonMoji(A109)","v":false},false,false,false,false,false,false,false,false,false,false,false,false,{"$f":"IF(Q109,IF(AND(LEN(O109)=7,COUNTIF(集荷不可!$A:$A,O109)=0),FALSE,TRUE),FALSE)","v":false},false,false]
[null,null,null,null,null,null,null,null,null,null,null,null,null,null,"","",false,{"$f":"CheckIzonMoji(A110)","v":false},false,false,false,false,false,false,false,false,false,false,false,false,{"$f":"IF(Q110,IF(AND(LEN(O110)=7,COUNTIF(集荷不可!$A:$A,O110)=0),FALSE,TRUE),FALSE)","v":false},false,false]
[null,null,null,null,null,null,null,null,null,null,null,null,null,null,"","",false,{"$f":"CheckIzonMoji(A111)","v":false},false,false,false,false,false,false,false,false,false,false,false,false,{"$f":"IF(Q111,IF(AND(LEN(O111)=7,COUNTIF(集荷不可!$A:$A,O111)=0),FALSE,TRUE),FALSE)","v":false},false,false]
[null,null,null,null,null,null,null,null,null,null,null,null,null,null,"","",false,{"$f":"CheckIzonMoji(A112)","v":false},false,false,false,false,false,false,false,false,false,false,false,false,{"$f":"IF(Q112,IF(AND(LEN(O112)=7,COUNTIF(集荷不可!$A:$A,O112)=0),FALSE,TRUE),FALSE)","v":false},false,false]
[null,null,null,null,null,null,null,null,null,null,null,null,null,null,"","",false,{"$f":"CheckIzonMoji(A113)","v":false},false,false,false,false,false,false,false,false,false,false,false,false,{"$f":"IF(Q113,IF(AND(LEN(O113)=7,COUNTIF(集荷不可!$A:$A,O113)=0),FALSE,TRUE),FALSE)","v":false},false,false]
[null,null,null,null,null,null,null,null,null,null,null,null,null,null,"","",false,{"$f":"CheckIzonMoji(A114)","v":false},false,false,false,false,false,false,false,false,false,false,false,false,{"$f":"IF(Q114,IF(AND(LEN(O114)=7,COUNTIF(集荷不可!$A:$A,O114)=0),FALSE,TRUE),FALSE)","v":false},false,false]
[null,null,null,null,null,null,null,null,null,null,null,null,null,null,"","",false,{"$f":"CheckIzonMoji(A115)","v":false},false,false,false,false,false,false,false,false,false,false,false,false,{"$f":"IF(Q115,IF(AND(LEN(O115)=7,COUNTIF(集荷不可!$A:$A,O115)=0),FALSE,TRUE),FALSE)","v":false},false,false]
[null,null,null,null,null,null,null,null,null,null,null,null,null,null,"","",false,{"$f":"CheckIzonMoji(A116)","v":false},false,false,false,false,false,false,false,false,false,false,false,false,{"$f":"IF(Q116,IF(AND(LEN(O116)=7,COUNTIF(集荷不可!$A:$A,O116)=0),FALSE,TRUE),FALSE)","v":false},false,false]
[null,null,null,null,null,null,null,null,null,null,null,null,null,null,"","",false,{"$f":"CheckIzonMoji(A117)","v":false},false,false,false,false,false,false,false,false,false,false,false,false,{"$f":"IF(Q117,IF(AND(LEN(O117)=7,COUNTIF(集荷不可!$A:$A,O117)=0),FALSE,TRUE),FALSE)","v":false},false,false]
[null,null,null,null,null,null,null,null,null,null,null,null,null,null,"","",false,{"$f":"CheckIzonMoji(A118)","v":false},false,false,false,false,false,false,false,false,false,false,false,false,{"$f":"IF(Q118,IF(AND(LEN(O118)=7,COUNTIF(集荷不可!$A:$A,O118)=0),FALSE,TRUE),FALSE)","v":false},false,false]
[null,null,null,null,null,null,null,null,null,null,null,null,null,null,"","",false,{"$f":"CheckIzonMoji(A119)","v":false},false,false,false,false,false,false,false,false,false,false,false,false,{"$f":"IF(Q119,IF(AND(LEN(O119)=7,COUNTIF(集荷不可!$A:$A,O119)=0),FALSE,TRUE),FALSE)","v":false},false,false]
[null,null,null,null,null,null,null,null,null,null,null,null,null,null,"","",false,{"$f":"CheckIzonMoji(A120)","v":false},false,false,false,false,false,false,false,false,false,false,false,false,{"$f":"IF(Q120,IF(AND(LEN(O120)=7,COUNTIF(集荷不可!$A:$A,O120)=0),FALSE,TRUE),FALSE)","v":false},false,false]
[null,null,null,null,null,null,null,null,null,null,null,null,null,null,"","",false,{"$f":"CheckIzonMoji(A121)","v":false},false,false,false,false,false,false,false,false,false,false,false,false,{"$f":"IF(Q121,IF(AND(LEN(O121)=7,COUNTIF(集荷不可!$A:$A,O121)=0),FALSE,TRUE),FALSE)","v":false},false,false]
[null,null,null,null,null,null,null,null,null,null,null,null,null,null,"","",false,{"$f":"CheckIzonMoji(A122)","v":false},false,false,false,false,false,false,false,false,false,false,false,false,{"$f":"IF(Q122,IF(AND(LEN(O122)=7,COUNTIF(集荷不可!$A:$A,O122)=0),FALSE,TRUE),FALSE)","v":false},false,false]
[null,null,null,null,null,null,null,null,null,null,null,null,null,null,"","",false,{"$f":"CheckIzonMoji(A123)","v":false},false,false,false,false,false,false,false,false,false,false,false,false,{"$f":"IF(Q123,IF(AND(LEN(O123)=7,COUNTIF(集荷不可!$A:$A,O123)=0),FALSE,TRUE),FALSE)","v":false},false,false]
[null,null,null,null,null,null,null,null,null,null,null,null,null,null,"","",false,{"$f":"CheckIzonMoji(A124)","v":false},false,false,false,false,false,false,false,false,false,false,false,false,{"$f":"IF(Q124,IF(AND(LEN(O124)=7,COUNTIF(集荷不可!$A:$A,O124)=0),FALSE,TRUE),FALSE)","v":false},false,false]
[null,null,null,null,null,null,null,null,null,null,null,null,null,null,"","",false,{"$f":"CheckIzonMoji(A125)","v":false},false,false,false,false,false,false,false,false,false,false,false,false,{"$f":"IF(Q125,IF(AND(LEN(O125)=7,COUNTIF(集荷不可!$A:$A,O125)=0),FALSE,TRUE),FALSE)","v":false},false,false]
[null,null,null,null,null,null,null,null,null,null,null,null,null,null,"","",false,{"$f":"CheckIzonMoji(A126)","v":false},false,false,false,false,false,false,false,false,false,false,false,false,{"$f":"IF(Q126,IF(AND(LEN(O126)=7,COUNTIF(集荷不可!$A:$A,O126)=0),FALSE,TRUE),FALSE)","v":false},false,false]
[null,null,null,null,null,null,null,null,null,null,null,null,null,null,"","",false,{"$f":"CheckIzonMoji(A127)","v":false},false,false,false,false,false,false,false,false,false,false,false,false,{"$f":"IF(Q127,IF(AND(LEN(O127)=7,COUNTIF(集荷不可!$A:$A,O127)=0),FALSE,TRUE),FALSE)","v":false},false,false]
[null,null,null,null,null,null,null,null,null,null,null,null,null,null,"","",false,{"$f":"CheckIzonMoji(A128)","v":false},false,false,false,false,false,false,false,false,false,false,false,false,{"$f":"IF(Q128,IF(AND(LEN(O128)=7,COUNTIF(集荷不可!$A:$A,O128)=0),FALSE,TRUE),FALSE)","v":false},false,false]
[null,null,null,null,null,null,null,null,null,null,null,null,null,null,"","",false,{"$f":"CheckIzonMoji(A129)","v":false},false,false,false,false,false,false,false,false,false,false,false,false,{"$f":"IF(Q129,IF(AND(LEN(O129)=7,COUNTIF(集荷不可!$A:$A,O129)=0),FALSE,TRUE),FALSE)","v":false},false,false]
[null,null,null,null,null,null,null,null,null,null,null,null,null,null,"","",false,{"$f":"CheckIzonMoji(A130)","v":false},false,false,false,false,false,false,false,false,false,false,false,false,{"$f":"IF(Q130,IF(AND(LEN(O130)=7,COUNTIF(集荷不可!$A:$A,O130)=0),FALSE,TRUE),FALSE)","v":false},false,false]
[null,null,null,null,null,null,null,null,null,null,null,null,null,null,"","",false,{"$f":"CheckIzonMoji(A131)","v":false},false,false,false,false,false,false,false,false,false,false,false,false,{"$f":"IF(Q131,IF(AND(LEN(O131)=7,COUNTIF(集荷不可!$A:$A,O131)=0),FALSE,TRUE),FALSE)","v":false},false,false]
[null,null,null,null,null,null,null,null,null,null,null,null,null,null,"","",false,{"$f":"CheckIzonMoji(A132)","v":false},false,false,false,false,false,false,false,false,false,false,false,false,{"$f":"IF(Q132,IF(AND(LEN(O132)=7,COUNTIF(集荷不可!$A:$A,O132)=0),FALSE,TRUE),FALSE)","v":false},false,false]
[null,null,null,null,null,null,null,null,null,null,null,null,null,null,"","",false,{"$f":"CheckIzonMoji(A133)","v":false},false,false,false,false,false,false,false,false,false,false,false,false,{"$f":"IF(Q133,IF(AND(LEN(O133)=7,COUNTIF(集荷不可!$A:$A,O133)=0),FALSE,TRUE),FALSE)","v":false},false,false]
[null,null,null,null,null,null,null,null,null,null,null,null,null,null,"","",false,{"$f":"CheckIzonMoji(A134)","v":false},false,false,false,false,false,false,false,false,false,false,false,false,{"$f":"IF(Q134,IF(AND(LEN(O134)=7,COUNTIF(集荷不可!$A:$A,O134)=0),FALSE,TRUE),FALSE)","v":false},false,false]
[null,null,null,null,null,null,null,null,null,null,null,null,null,null,"","",{"$f":"IF(LEN(A135&B135&C135&D135&E135&F135&G135&H135&I135&J135&K135&L135&M135&N135)=0,FALSE,TRUE)","v":false},{"$f":"CheckIzonMoji(A135)","v":false},{"$f":"IF(Q135,IF(AND(LENB(A135)>2,LENB(A135)<33),FALSE,TRUE),FALSE)","v":false},{"$f":"IF(Q135,IF(B135=\"\",TRUE,FALSE),FALSE)","v":false},{"$f":"IF(Q135,IF(OR(C135=\"\",ISERR(DAY(C135))),TRUE,FALSE),FALSE)","v":false},{"$f":"IF(Q135,IF(D135=\"\",TRUE,FALSE),FALSE)","v":false},{"$f":"IF(Q135,IF(AND(LENB(F135)>1,LENB(F135)<65),FALSE,TRUE),FALSE)","v":false},{"$f":"IF(LENB(G135)<33,FALSE,TRUE)","v":false},{"$f":"IF(LENB(H135)<51,FALSE,TRUE)","v":false},{"$f":"IF(LENB(I135)<51,FALSE,TRUE)","v":false},{"$f":"IF(Q135,IF(AND(LENB(J135)>2,LENB(J135)<16),FALSE,TRUE),FALSE)","v":false},{"$f":"IF(Q135,IF(AND(LENB(K135)<61),FALSE,TRUE),FALSE)","v":false},{"$f":"IF(Q135,IF(AND(LENB(L135)<9),FALSE,TRUE),FALSE)","v":false},{"$f":"IF(Q135,IF(N135=\"\",TRUE,FALSE),FALSE)","v":false},{"$f":"IF(Q135,IF(AND(LEN(O135)=7,COUNTIF(集荷不可!$A:$A,O135)=0),FALSE,TRUE),FALSE)","v":false},{"$f":"IF(ISERROR(FIND(\".@\",K135)),FALSE,TRUE)","v":false},{"$f":"IF(LENB(M135)<9,FALSE,TRUE)","v":false}]
[null,null,null,null,null,null,null,null,null,null,null,null,null,null,"","",false,{"$f":"CheckIzonMoji(A136)","v":false},false,false,false,false,false,false,false,false,false,false,false,false,{"$f":"IF(Q136,IF(AND(LEN(O136)=7,COUNTIF(集荷不可!$A:$A,O136)=0),FALSE,TRUE),FALSE)","v":false},false,false]
[null,null,null,null,null,null,null,null,null,null,null,null,null,null,{"$f":"SUBSTITUTE(E137,\"-\",\"\")","v":""},{"$f":"LEFT(N137,1)","v":""},false,{"$f":"CheckIzonMoji(A137)","v":false},false,false,false,false,false,false,false,false,false,false,false,false,{"$f":"IF(Q137,IF(AND(LEN(O137)=7,COUNTIF(集荷不可!$A:$A,O137)=0),FALSE,TRUE),FALSE)","v":false},false,false]
[null,null,null,null,null,null,null,null,null,null,null,null,null,null,"","",false,{"$f":"CheckIzonMoji(A138)","v":false},false,false,false,false,false,false,false,false,false,false,false,false,{"$f":"IF(Q138,IF(AND(LEN(O138)=7,COUNTIF(集荷不可!$A:$A,O138)=0),FALSE,TRUE),FALSE)","v":false},false,false]
[null,null,null,null,null,null,null,null,null,null,null,null,null,null,"","",false,{"$f":"CheckIzonMoji(A139)","v":false},false,false,false,false,false,false,false,false,false,false,false,false,{"$f":"IF(Q139,IF(AND(LEN(O139)=7,COUNTIF(集荷不可!$A:$A,O139)=0),FALSE,TRUE),FALSE)","v":false},false,false]
[null,null,null,null,null,null,null,null,null,null,null,null,null,null,"","",false,{"$f":"CheckIzonMoji(A140)","v":false},false,false,false,false,false,false,false,false,false,false,false,false,{"$f":"IF(Q140,IF(AND(LEN(O140)=7,COUNTIF(集荷不可!$A:$A,O140)=0),FALSE,TRUE),FALSE)","v":false},false,false]
[null,null,null,null,null,null,null,null,null,null,null,null,null,null,"","",false,{"$f":"CheckIzonMoji(A141)","v":false},false,false,false,false,false,false,false,false,false,false,false,false,{"$f":"IF(Q141,IF(AND(LEN(O141)=7,COUNTIF(集荷不可!$A:$A,O141)=0),FALSE,TRUE),FALSE)","v":false},false,false]
[null,null,null,null,null,null,null,null,null,null,null,null,null,null,"","",false,{"$f":"CheckIzonMoji(A142)","v":false},false,false,false,false,false,false,false,false,false,false,false,false,{"$f":"IF(Q142,IF(AND(LEN(O142)=7,COUNTIF(集荷不可!$A:$A,O142)=0),FALSE,TRUE),FALSE)","v":false},false,false]
[null,null,null,null,null,null,null,null,null,null,null,null,null,null,"","",false,{"$f":"CheckIzonMoji(A143)","v":false},false,false,false,false,false,false,false,false,false,false,false,false,{"$f":"IF(Q143,IF(AND(LEN(O143)=7,COUNTIF(集荷不可!$A:$A,O143)=0),FALSE,TRUE),FALSE)","v":false},false,false]
[null,null,null,null,null,null,null,null,null,null,null,null,null,null,"","",false,{"$f":"CheckIzonMoji(A144)","v":false},false,false,false,false,false,false,false,false,false,false,false,false,{"$f":"IF(Q144,IF(AND(LEN(O144)=7,COUNTIF(集荷不可!$A:$A,O144)=0),FALSE,TRUE),FALSE)","v":false},false,false]
[null,null,null,null,null,null,null,null,null,null,null,null,null,null,"","",false,{"$f":"CheckIzonMoji(A145)","v":false},false,false,false,false,false,false,false,false,false,false,false,false,{"$f":"IF(Q145,IF(AND(LEN(O145)=7,COUNTIF(集荷不可!$A:$A,O145)=0),FALSE,TRUE),FALSE)","v":false},false,false]
[null,null,null,null,null,null,null,null,null,null,null,null,null,null,"","",false,{"$f":"CheckIzonMoji(A146)","v":false},false,false,false,false,false,false,false,false,false,false,false,false,{"$f":"IF(Q146,IF(AND(LEN(O146)=7,COUNTIF(集荷不可!$A:$A,O146)=0),FALSE,TRUE),FALSE)","v":false},false,false]
[null,null,null,null,null,null,null,null,null,null,null,null,null,null,"","",false,{"$f":"CheckIzonMoji(A147)","v":false},false,false,false,false,false,false,false,false,false,false,false,false,{"$f":"IF(Q147,IF(AND(LEN(O147)=7,COUNTIF(集荷不可!$A:$A,O147)=0),FALSE,TRUE),FALSE)","v":false},false,false]
[null,null,null,null,null,null,null,null,null,null,null,null,null,null,"","",false,{"$f":"CheckIzonMoji(A148)","v":false},false,false,false,false,false,false,false,false,false,false,false,false,{"$f":"IF(Q148,IF(AND(LEN(O148)=7,COUNTIF(集荷不可!$A:$A,O148)=0),FALSE,TRUE),FALSE)","v":false},false,false]
[null,null,null,null,null,null,null,null,null,null,null,null,null,null,"","",false,{"$f":"CheckIzonMoji(A149)","v":false},false,false,false,false,false,false,false,false,false,false,false,false,{"$f":"IF(Q149,IF(AND(LEN(O149)=7,COUNTIF(集荷不可!$A:$A,O149)=0),FALSE,TRUE),FALSE)","v":false},false,false]
[null,null,null,null,null,null,null,null,null,null,null,null,null,null,"","",false,{"$f":"CheckIzonMoji(A150)","v":false},false,false,false,false,false,false,false,false,false,false,false,false,{"$f":"IF(Q150,IF(AND(LEN(O150)=7,COUNTIF(集荷不可!$A:$A,O150)=0),FALSE,TRUE),FALSE)","v":false},false,false]
[null,null,null,null,null,null,null,null,null,null,null,null,null,null,"","",false,{"$f":"CheckIzonMoji(A151)","v":false},false,false,false,false,false,false,false,false,false,false,false,false,{"$f":"IF(Q151,IF(AND(LEN(O151)=7,COUNTIF(集荷不可!$A:$A,O151)=0),FALSE,TRUE),FALSE)","v":false},false,false]
[null,null,null,null,null,null,null,null,null,null,null,null,null,null,"","",false,{"$f":"CheckIzonMoji(A152)","v":false},false,false,false,false,false,false,false,false,false,false,false,false,{"$f":"IF(Q152,IF(AND(LEN(O152)=7,COUNTIF(集荷不可!$A:$A,O152)=0),FALSE,TRUE),FALSE)","v":false},false,false]
[null,null,null,null,null,null,null,null,null,null,null,null,null,null,"","",false,{"$f":"CheckIzonMoji(A153)","v":false},false,false,false,false,false,false,false,false,false,false,false,false,{"$f":"IF(Q153,IF(AND(LEN(O153)=7,COUNTIF(集荷不可!$A:$A,O153)=0),FALSE,TRUE),FALSE)","v":false},false,false]
[null,null,null,null,null,null,null,null,null,null,null,null,null,null,"","",false,{"$f":"CheckIzonMoji(A154)","v":false},false,false,false,false,false,false,false,false,false,false,false,false,{"$f":"IF(Q154,IF(AND(LEN(O154)=7,COUNTIF(集荷不可!$A:$A,O154)=0),FALSE,TRUE),FALSE)","v":false},false,false]
[null,null,null,null,null,null,null,null,null,null,null,null,null,null,"","",false,{"$f":"CheckIzonMoji(A155)","v":false},false,false,false,false,false,false,false,false,false,false,false,false,{"$f":"IF(Q155,IF(AND(LEN(O155)=7,COUNTIF(集荷不可!$A:$A,O155)=0),FALSE,TRUE),FALSE)","v":false},false,false]
[null,null,null,null,null,null,null,null,null,null,null,null,null,null,"","",false,{"$f":"CheckIzonMoji(A156)","v":false},false,false,false,false,false,false,false,false,false,false,false,false,{"$f":"IF(Q156,IF(AND(LEN(O156)=7,COUNTIF(集荷不可!$A:$A,O156)=0),FALSE,TRUE),FALSE)","v":false},false,false]
[null,null,null,null,null,null,null,null,null,null,null,null,null,null,"","",false,{"$f":"CheckIzonMoji(A157)","v":false},false,false,false,false,false,false,false,false,false,false,false,false,{"$f":"IF(Q157,IF(AND(LEN(O157)=7,COUNTIF(集荷不可!$A:$A,O157)=0),FALSE,TRUE),FALSE)","v":false},false,false]
[null,null,null,null,null,null,null,null,null,null,null,null,null,null,"","",false,{"$f":"CheckIzonMoji(A158)","v":false},false,false,false,false,false,false,false,false,false,false,false,false,{"$f":"IF(Q158,IF(AND(LEN(O158)=7,COUNTIF(集荷不可!$A:$A,O158)=0),FALSE,TRUE),FALSE)","v":false},false,false]
[null,null,null,null,null,null,null,null,null,null,null,null,null,null,"","",false,{"$f":"CheckIzonMoji(A159)","v":false},false,false,false,false,false,false,false,false,false,false,false,false,{"$f":"IF(Q159,IF(AND(LEN(O159)=7,COUNTIF(集荷不可!$A:$A,O159)=0),FALSE,TRUE),FALSE)","v":false},false,false]
[null,null,null,null,null,null,null,null,null,null,null,null,null,null,"","",false,{"$f":"CheckIzonMoji(A160)","v":false},false,false,false,false,false,false,false,false,false,false,false,false,{"$f":"IF(Q160,IF(AND(LEN(O160)=7,COUNTIF(集荷不可!$A:$A,O160)=0),FALSE,TRUE),FALSE)","v":false},false,false]
[null,null,null,null,null,null,null,null,null,null,null,null,null,null,"","",false,{"$f":"CheckIzonMoji(A161)","v":false},false,false,false,false,false,false,false,false,false,false,false,false,{"$f":"IF(Q161,IF(AND(LEN(O161)=7,COUNTIF(集荷不可!$A:$A,O161)=0),FALSE,TRUE),FALSE)","v":false},false,false]
[null,null,null,null,null,null,null,null,null,null,null,null,null,null,"","",false,{"$f":"CheckIzonMoji(A162)","v":false},false,false,false,false,false,false,false,false,false,false,false,false,{"$f":"IF(Q162,IF(AND(LEN(O162)=7,COUNTIF(集荷不可!$A:$A,O162)=0),FALSE,TRUE),FALSE)","v":false},false,false]
[null,null,null,null,null,null,null,null,null,null,null,null,null,null,"","",false,{"$f":"CheckIzonMoji(A163)","v":false},false,false,false,false,false,false,false,false,false,false,false,false,{"$f":"IF(Q163,IF(AND(LEN(O163)=7,COUNTIF(集荷不可!$A:$A,O163)=0),FALSE,TRUE),FALSE)","v":false},false,false]
[null,null,null,null,null,null,null,null,null,null,null,null,null,null,"","",false,{"$f":"CheckIzonMoji(A164)","v":false},false,false,false,false,false,false,false,false,false,false,false,false,{"$f":"IF(Q164,IF(AND(LEN(O164)=7,COUNTIF(集荷不可!$A:$A,O164)=0),FALSE,TRUE),FALSE)","v":false},false,false]
[null,null,null,null,null,null,null,null,null,null,null,null,null,null,"","",false,{"$f":"CheckIzonMoji(A165)","v":false},false,false,false,false,false,false,false,false,false,false,false,false,{"$f":"IF(Q165,IF(AND(LEN(O165)=7,COUNTIF(集荷不可!$A:$A,O165)=0),FALSE,TRUE),FALSE)","v":false},false,false]
[null,null,null,null,null,null,null,null,null,null,null,null,null,null,"","",false,{"$f":"CheckIzonMoji(A166)","v":false},false,false,false,false,false,false,false,false,false,false,false,false,{"$f":"IF(Q166,IF(AND(LEN(O166)=7,COUNTIF(集荷不可!$A:$A,O166)=0),FALSE,TRUE),FALSE)","v":false},false,false]
[null,null,null,null,null,null,null,null,null,null,null,null,null,null,"","",false,{"$f":"CheckIzonMoji(A167)","v":false},false,false,false,false,false,false,false,false,false,false,false,false,{"$f":"IF(Q167,IF(AND(LEN(O167)=7,COUNTIF(集荷不可!$A:$A,O167)=0),FALSE,TRUE),FALSE)","v":false},false,false]
[null,null,null,null,null,null,null,null,null,null,null,null,null,null,"","",false,{"$f":"CheckIzonMoji(A168)","v":false},false,false,false,false,false,false,false,false,false,false,false,false,{"$f":"IF(Q168,IF(AND(LEN(O168)=7,COUNTIF(集荷不可!$A:$A,O168)=0),FALSE,TRUE),FALSE)","v":false},false,false]
[null,null,null,null,null,null,null,null,null,null,null,null,null,null,"","",false,{"$f":"CheckIzonMoji(A169)","v":false},false,false,false,false,false,false,false,false,false,false,false,false,{"$f":"IF(Q169,IF(AND(LEN(O169)=7,COUNTIF(集荷不可!$A:$A,O169)=0),FALSE,TRUE),FALSE)","v":false},false,false]
[null,null,null,null,null,null,null,null,null,null,null,null,null,null,"","",false,{"$f":"CheckIzonMoji(A170)","v":false},false,false,false,false,false,false,false,false,false,false,false,false,{"$f":"IF(Q170,IF(AND(LEN(O170)=7,COUNTIF(集荷不可!$A:$A,O170)=0),FALSE,TRUE),FALSE)","v":false},false,false]
[null,null,null,null,null,null,null,null,null,null,null,null,null,null,"","",false,{"$f":"CheckIzonMoji(A171)","v":false},false,false,false,false,false,false,false,false,false,false,false,false,{"$f":"IF(Q171,IF(AND(LEN(O171)=7,COUNTIF(集荷不可!$A:$A,O171)=0),FALSE,TRUE),FALSE)","v":false},false,false]
[null,null,null,null,null,null,null,null,null,null,null,null,null,null,"","",false,{"$f":"CheckIzonMoji(A172)","v":false},false,false,false,false,false,false,false,false,false,false,false,false,{"$f":"IF(Q172,IF(AND(LEN(O172)=7,COUNTIF(集荷不可!$A:$A,O172)=0),FALSE,TRUE),FALSE)","v":false},false,false]
[null,null,null,null,null,null,null,null,null,null,null,null,null,null,"","",false,{"$f":"CheckIzonMoji(A173)","v":false},false,false,false,false,false,false,false,false,false,false,false,false,{"$f":"IF(Q173,IF(AND(LEN(O173)=7,COUNTIF(集荷不可!$A:$A,O173)=0),FALSE,TRUE),FALSE)","v":false},false,false]
[null,null,null,null,null,null,null,null,null,null,null,null,null,null,"","",false,{"$f":"CheckIzonMoji(A174)","v":false},false,false,false,false,false,false,false,false,false,false,false,false,{"$f":"IF(Q174,IF(AND(LEN(O174)=7,COUNTIF(集荷不可!$A:$A,O174)=0),FALSE,TRUE),FALSE)","v":false},false,false]
[null,null,null,null,null,null,null,null,null,null,null,null,null,null,"","",false,{"$f":"CheckIzonMoji(A175)","v":false},false,false,false,false,false,false,false,false,false,false,false,false,{"$f":"IF(Q175,IF(AND(LEN(O175)=7,COUNTIF(集荷不可!$A:$A,O175)=0),FALSE,TRUE),FALSE)","v":false},false,false]
[null,null,null,null,null,null,null,null,null,null,null,null,null,null,"","",false,{"$f":"CheckIzonMoji(A176)","v":false},false,false,false,false,false,false,false,false,false,false,false,false,{"$f":"IF(Q176,IF(AND(LEN(O176)=7,COUNTIF(集荷不可!$A:$A,O176)=0),FALSE,TRUE),FALSE)","v":false},false,false]
[null,null,null,null,null,null,null,null,null,null,null,null,null,null,"","",false,{"$f":"CheckIzonMoji(A177)","v":false},false,false,false,false,false,false,false,false,false,false,false,false,{"$f":"IF(Q177,IF(AND(LEN(O177)=7,COUNTIF(集荷不可!$A:$A,O177)=0),FALSE,TRUE),FALSE)","v":false},false,false]
[null,null,null,null,null,null,null,null,null,null,null,null,null,null,"","",false,{"$f":"CheckIzonMoji(A178)","v":false},false,false,false,false,false,false,false,false,false,false,false,false,{"$f":"IF(Q178,IF(AND(LEN(O178)=7,COUNTIF(集荷不可!$A:$A,O178)=0),FALSE,TRUE),FALSE)","v":false},false,false]
[null,null,null,null,null,null,null,null,null,null,null,null,null,null,"","",false,{"$f":"CheckIzonMoji(A179)","v":false},false,false,false,false,false,false,false,false,false,false,false,false,{"$f":"IF(Q179,IF(AND(LEN(O179)=7,COUNTIF(集荷不可!$A:$A,O179)=0),FALSE,TRUE),FALSE)","v":false},false,false]
[null,null,null,null,null,null,null,null,null,null,null,null,null,null,"","",false,{"$f":"CheckIzonMoji(A180)","v":false},false,false,false,false,false,false,false,false,false,false,false,false,{"$f":"IF(Q180,IF(AND(LEN(O180)=7,COUNTIF(集荷不可!$A:$A,O180)=0),FALSE,TRUE),FALSE)","v":false},false,false]
[null,null,null,null,null,null,null,null,null,null,null,null,null,null,"","",false,{"$f":"CheckIzonMoji(A181)","v":false},false,false,false,false,false,false,false,false,false,false,false,false,{"$f":"IF(Q181,IF(AND(LEN(O181)=7,COUNTIF(集荷不可!$A:$A,O181)=0),FALSE,TRUE),FALSE)","v":false},false,false]
[null,null,null,null,null,null,null,null,null,null,null,null,null,null,"","",false,{"$f":"CheckIzonMoji(A182)","v":false},false,false,false,false,false,false,false,false,false,false,false,false,{"$f":"IF(Q182,IF(AND(LEN(O182)=7,COUNTIF(集荷不可!$A:$A,O182)=0),FALSE,TRUE),FALSE)","v":false},false,false]
[null,null,null,null,null,null,null,null,null,null,null,null,null,null,"","",false,{"$f":"CheckIzonMoji(A183)","v":false},false,false,false,false,false,false,false,false,false,false,false,false,{"$f":"IF(Q183,IF(AND(LEN(O183)=7,COUNTIF(集荷不可!$A:$A,O183)=0),FALSE,TRUE),FALSE)","v":false},false,false]
[null,null,null,null,null,null,null,null,null,null,null,null,null,null,"","",false,{"$f":"CheckIzonMoji(A184)","v":false},false,false,false,false,false,false,false,false,false,false,false,false,{"$f":"IF(Q184,IF(AND(LEN(O184)=7,COUNTIF(集荷不可!$A:$A,O184)=0),FALSE,TRUE),FALSE)","v":false},false,false]
[null,null,null,null,null,null,null,null,null,null,null,null,null,null,"","",false,{"$f":"CheckIzonMoji(A185)","v":false},false,false,false,false,false,false,false,false,false,false,false,false,{"$f":"IF(Q185,IF(AND(LEN(O185)=7,COUNTIF(集荷不可!$A:$A,O185)=0),FALSE,TRUE),FALSE)","v":false},false,false]
[null,null,null,null,null,null,null,null,null,null,null,null,null,null,"","",false,{"$f":"CheckIzonMoji(A186)","v":false},false,false,false,false,false,false,false,false,false,false,false,false,{"$f":"IF(Q186,IF(AND(LEN(O186)=7,COUNTIF(集荷不可!$A:$A,O186)=0),FALSE,TRUE),FALSE)","v":false},false,false]
[null,null,null,null,null,null,null,null,null,null,null,null,null,null,"","",false,{"$f":"CheckIzonMoji(A187)","v":false},false,false,false,false,false,false,false,false,false,false,false,false,{"$f":"IF(Q187,IF(AND(LEN(O187)=7,COUNTIF(集荷不可!$A:$A,O187)=0),FALSE,TRUE),FALSE)","v":false},false,false]
[null,null,null,null,null,null,null,null,null,null,null,null,null,null,"","",false,{"$f":"CheckIzonMoji(A188)","v":false},false,false,false,false,false,false,false,false,false,false,false,false,{"$f":"IF(Q188,IF(AND(LEN(O188)=7,COUNTIF(集荷不可!$A:$A,O188)=0),FALSE,TRUE),FALSE)","v":false},false,false]
[null,null,null,null,null,null,null,null,null,null,null,null,null,null,"","",false,{"$f":"CheckIzonMoji(A189)","v":false},false,false,false,false,false,false,false,false,false,false,false,false,{"$f":"IF(Q189,IF(AND(LEN(O189)=7,COUNTIF(集荷不可!$A:$A,O189)=0),FALSE,TRUE),FALSE)","v":false},false,false]
[null,null,null,null,null,null,null,null,null,null,null,null,null,null,"","",false,{"$f":"CheckIzonMoji(A190)","v":false},false,false,false,false,false,false,false,false,false,false,false,false,{"$f":"IF(Q190,IF(AND(LEN(O190)=7,COUNTIF(集荷不可!$A:$A,O190)=0),FALSE,TRUE),FALSE)","v":false},false,false]
[null,null,null,null,null,null,null,null,null,null,null,null,null,null,"","",false,{"$f":"CheckIzonMoji(A191)","v":false},false,false,false,false,false,false,false,false,false,false,false,false,{"$f":"IF(Q191,IF(AND(LEN(O191)=7,COUNTIF(集荷不可!$A:$A,O191)=0),FALSE,TRUE),FALSE)","v":false},false,false]
[null,null,null,null,null,null,null,null,null,null,null,null,null,null,"","",false,{"$f":"CheckIzonMoji(A192)","v":false},false,false,false,false,false,false,false,false,false,false,false,false,{"$f":"IF(Q192,IF(AND(LEN(O192)=7,COUNTIF(集荷不可!$A:$A,O192)=0),FALSE,TRUE),FALSE)","v":false},false,false]
[null,null,null,null,null,null,null,null,null,null,null,null,null,null,"","",false,{"$f":"CheckIzonMoji(A193)","v":false},false,false,false,false,false,false,false,false,false,false,false,false,{"$f":"IF(Q193,IF(AND(LEN(O193)=7,COUNTIF(集荷不可!$A:$A,O193)=0),FALSE,TRUE),FALSE)","v":false},false,false]
[null,null,null,null,null,null,null,null,null,null,null,null,null,null,"","",false,{"$f":"CheckIzonMoji(A194)","v":false},false,false,false,false,false,false,false,false,false,false,false,false,{"$f":"IF(Q194,IF(AND(LEN(O194)=7,COUNTIF(集荷不可!$A:$A,O194)=0),FALSE,TRUE),FALSE)","v":false},false,false]
[null,null,null,null,null,null,null,null,null,null,null,null,null,null,"","",false,{"$f":"CheckIzonMoji(A195)","v":false},false,false,false,false,false,false,false,false,false,false,false,false,{"$f":"IF(Q195,IF(AND(LEN(O195)=7,COUNTIF(集荷不可!$A:$A,O195)=0),FALSE,TRUE),FALSE)","v":false},false,false]
[null,null,null,null,null,null,null,null,null,null,null,null,null,null,"","",false,{"$f":"CheckIzonMoji(A196)","v":false},false,false,false,false,false,false,false,false,false,false,false,false,{"$f":"IF(Q196,IF(AND(LEN(O196)=7,COUNTIF(集荷不可!$A:$A,O196)=0),FALSE,TRUE),FALSE)","v":false},false,false]
[null,null,null,null,null,null,null,null,null,null,null,null,null,null,"","",false,{"$f":"CheckIzonMoji(A197)","v":false},false,false,false,false,false,false,false,false,false,false,false,false,{"$f":"IF(Q197,IF(AND(LEN(O197)=7,COUNTIF(集荷不可!$A:$A,O197)=0),FALSE,TRUE),FALSE)","v":false},false,false]
[null,null,null,null,null,null,null,null,null,null,null,null,null,null,"","",false,{"$f":"CheckIzonMoji(A198)","v":false},false,false,false,false,false,false,false,false,false,false,false,false,{"$f":"IF(Q198,IF(AND(LEN(O198)=7,COUNTIF(集荷不可!$A:$A,O198)=0),FALSE,TRUE),FALSE)","v":false},false,false]
[null,null,null,null,null,null,null,null,null,null,null,null,null,null,"","",{"$f":"IF(LEN(A199&B199&C199&D199&E199&F199&G199&H199&I199&J199&K199&L199&M199&N199)=0,FALSE,TRUE)","v":false},{"$f":"CheckIzonMoji(A199)","v":false},{"$f":"IF(Q199,IF(AND(LENB(A199)>2,LENB(A199)<33),FALSE,TRUE),FALSE)","v":false},{"$f":"IF(Q199,IF(B199=\"\",TRUE,FALSE),FALSE)","v":false},{"$f":"IF(Q199,IF(OR(C199=\"\",ISERR(DAY(C199))),TRUE,FALSE),FALSE)","v":false},{"$f":"IF(Q199,IF(D199=\"\",TRUE,FALSE),FALSE)","v":false},{"$f":"IF(Q199,IF(AND(LENB(F199)>1,LENB(F199)<65),FALSE,TRUE),FALSE)","v":false},{"$f":"IF(LENB(G199)<33,FALSE,TRUE)","v":false},{"$f":"IF(LENB(H199)<51,FALSE,TRUE)","v":false},{"$f":"IF(LENB(I199)<51,FALSE,TRUE)","v":false},{"$f":"IF(Q199,IF(AND(LENB(J199)>2,LENB(J199)<16),FALSE,TRUE),FALSE)","v":false},{"$f":"IF(Q199,IF(AND(LENB(K199)<61),FALSE,TRUE),FALSE)","v":false},{"$f":"IF(Q199,IF(AND(LENB(L199)<9),FALSE,TRUE),FALSE)","v":false},{"$f":"IF(Q199,IF(N199=\"\",TRUE,FALSE),FALSE)","v":false},{"$f":"IF(Q199,IF(AND(LEN(O199)=7,COUNTIF(集荷不可!$A:$A,O199)=0),FALSE,TRUE),FALSE)","v":false},{"$f":"IF(ISERROR(FIND(\".@\",K199)),FALSE,TRUE)","v":false},{"$f":"IF(LENB(M199)<9,FALSE,TRUE)","v":false}]
[null,null,null,null,null,null,null,null,null,null,null,null,null,null,"","",false,{"$f":"CheckIzonMoji(A200)","v":false},false,false,false,false,false,false,false,false,false,false,false,false,{"$f":"IF(Q200,IF(AND(LEN(O200)=7,COUNTIF(集荷不可!$A:$A,O200)=0),FALSE,TRUE),FALSE)","v":false},false,false]
[null,null,null,null,null,null,null,null,null,null,null,null,null,null,{"$f":"SUBSTITUTE(E201,\"-\",\"\")","v":""},{"$f":"LEFT(N201,1)","v":""},false,{"$f":"CheckIzonMoji(A201)","v":false},false,false,false,false,false,false,false,false,false,false,false,false,{"$f":"IF(Q201,IF(AND(LEN(O201)=7,COUNTIF(集荷不可!$A:$A,O201)=0),FALSE,TRUE),FALSE)","v":false},false,false]
[null,null,null,null,null,null,null,null,null,null,null,null,null,null,"","",false,{"$f":"CheckIzonMoji(A202)","v":false},false,false,false,false,false,false,false,false,false,false,false,false,{"$f":"IF(Q202,IF(AND(LEN(O202)=7,COUNTIF(集荷不可!$A:$A,O202)=0),FALSE,TRUE),FALSE)","v":false},false,false]
[null,null,null,null,null,null,null,null,null,null,null,null,null,null,"","",false,{"$f":"CheckIzonMoji(A203)","v":false},false,false,false,false,false,false,false,false,false,false,false,false,{"$f":"IF(Q203,IF(AND(LEN(O203)=7,COUNTIF(集荷不可!$A:$A,O203)=0),FALSE,TRUE),FALSE)","v":false},false,false]
[null,null,null,null,null,null,null,null,null,null,null,null,null,null,"","",false,{"$f":"CheckIzonMoji(A204)","v":false},false,false,false,false,false,false,false,false,false,false,false,false,{"$f":"IF(Q204,IF(AND(LEN(O204)=7,COUNTIF(集荷不可!$A:$A,O204)=0),FALSE,TRUE),FALSE)","v":false},false,false]
[null,null,null,null,null,null,null,null,null,null,null,null,null,null,"","",false,{"$f":"CheckIzonMoji(A205)","v":false},false,false,false,false,false,false,false,false,false,false,false,false,{"$f":"IF(Q205,IF(AND(LEN(O205)=7,COUNTIF(集荷不可!$A:$A,O205)=0),FALSE,TRUE),FALSE)","v":false},false,false]
[null,null,null,null,null,null,null,null,null,null,null,null,null,null,"","",false,{"$f":"CheckIzonMoji(A206)","v":false},false,false,false,false,false,false,false,false,false,false,false,false,{"$f":"IF(Q206,IF(AND(LEN(O206)=7,COUNTIF(集荷不可!$A:$A,O206)=0),FALSE,TRUE),FALSE)","v":false},false,false]
[null,null,null,null,null,null,null,null,null,null,null,null,null,null,"","",false,{"$f":"CheckIzonMoji(A207)","v":false},false,false,false,false,false,false,false,false,false,false,false,false,{"$f":"IF(Q207,IF(AND(LEN(O207)=7,COUNTIF(集荷不可!$A:$A,O207)=0),FALSE,TRUE),FALSE)","v":false},false,false]
[null,null,null,null,null,null,null,null,null,null,null,null,null,null,"","",false,{"$f":"CheckIzonMoji(A208)","v":false},false,false,false,false,false,false,false,false,false,false,false,false,{"$f":"IF(Q208,IF(AND(LEN(O208)=7,COUNTIF(集荷不可!$A:$A,O208)=0),FALSE,TRUE),FALSE)","v":false},false,false]
[null,null,null,null,null,null,null,null,null,null,null,null,null,null,"","",false,{"$f":"CheckIzonMoji(A209)","v":false},false,false,false,false,false,false,false,false,false,false,false,false,{"$f":"IF(Q209,IF(AND(LEN(O209)=7,COUNTIF(集荷不可!$A:$A,O209)=0),FALSE,TRUE),FALSE)","v":false},false,false]
[null,null,null,null,null,null,null,null,null,null,null,null,null,null,"","",false,{"$f":"CheckIzonMoji(A210)","v":false},false,false,false,false,false,false,false,false,false,false,false,false,{"$f":"IF(Q210,IF(AND(LEN(O210)=7,COUNTIF(集荷不可!$A:$A,O210)=0),FALSE,TRUE),FALSE)","v":false},false,false]
[null,null,null,null,null,null,null,null,null,null,null,null,null,null,"","",false,{"$f":"CheckIzonMoji(A211)","v":false},false,false,false,false,false,false,false,false,false,false,false,false,{"$f":"IF(Q211,IF(AND(LEN(O211)=7,COUNTIF(集荷不可!$A:$A,O211)=0),FALSE,TRUE),FALSE)","v":false},false,false]
[null,null,null,null,null,null,null,null,null,null,null,null,null,null,"","",false,{"$f":"CheckIzonMoji(A212)","v":false},false,false,false,false,false,false,false,false,false,false,false,false,{"$f":"IF(Q212,IF(AND(LEN(O212)=7,COUNTIF(集荷不可!$A:$A,O212)=0),FALSE,TRUE),FALSE)","v":false},false,false]
[null,null,null,null,null,null,null,null,null,null,null,null,null,null,"","",false,{"$f":"CheckIzonMoji(A213)","v":false},false,false,false,false,false,false,false,false,false,false,false,false,{"$f":"IF(Q213,IF(AND(LEN(O213)=7,COUNTIF(集荷不可!$A:$A,O213)=0),FALSE,TRUE),FALSE)","v":false},false,false]
[null,null,null,null,null,null,null,null,null,null,null,null,null,null,"","",false,{"$f":"CheckIzonMoji(A214)","v":false},false,false,false,false,false,false,false,false,false,false,false,false,{"$f":"IF(Q214,IF(AND(LEN(O214)=7,COUNTIF(集荷不可!$A:$A,O214)=0),FALSE,TRUE),FALSE)","v":false},false,false]
[null,null,null,null,null,null,null,null,null,null,null,null,null,null,"","",false,{"$f":"CheckIzonMoji(A215)","v":false},false,false,false,false,false,false,false,false,false,false,false,false,{"$f":"IF(Q215,IF(AND(LEN(O215)=7,COUNTIF(集荷不可!$A:$A,O215)=0),FALSE,TRUE),FALSE)","v":false},false,false]
[null,null,null,null,null,null,null,null,null,null,null,null,null,null,"","",false,{"$f":"CheckIzonMoji(A216)","v":false},false,false,false,false,false,false,false,false,false,false,false,false,{"$f":"IF(Q216,IF(AND(LEN(O216)=7,COUNTIF(集荷不可!$A:$A,O216)=0),FALSE,TRUE),FALSE)","v":false},false,false]
[null,null,null,null,null,null,null,null,null,null,null,null,null,null,"","",false,{"$f":"CheckIzonMoji(A217)","v":false},false,false,false,false,false,false,false,false,false,false,false,false,{"$f":"IF(Q217,IF(AND(LEN(O217)=7,COUNTIF(集荷不可!$A:$A,O217)=0),FALSE,TRUE),FALSE)","v":false},false,false]
[null,null,null,null,null,null,null,null,null,null,null,null,null,null,"","",false,{"$f":"CheckIzonMoji(A218)","v":false},false,false,false,false,false,false,false,false,false,false,false,false,{"$f":"IF(Q218,IF(AND(LEN(O218)=7,COUNTIF(集荷不可!$A:$A,O218)=0),FALSE,TRUE),FALSE)","v":false},false,false]
[null,null,null,null,null,null,null,null,null,null,null,null,null,null,"","",false,{"$f":"CheckIzonMoji(A219)","v":false},false,false,false,false,false,false,false,false,false,false,false,false,{"$f":"IF(Q219,IF(AND(LEN(O219)=7,COUNTIF(集荷不可!$A:$A,O219)=0),FALSE,TRUE),FALSE)","v":false},false,false]
[null,null,null,null,null,null,null,null,null,null,null,null,null,null,"","",false,{"$f":"CheckIzonMoji(A220)","v":false},false,false,false,false,false,false,false,false,false,false,false,false,{"$f":"IF(Q220,IF(AND(LEN(O220)=7,COUNTIF(集荷不可!$A:$A,O220)=0),FALSE,TRUE),FALSE)","v":false},false,false]
[null,null,null,null,null,null,null,null,null,null,null,null,null,null,"","",false,{"$f":"CheckIzonMoji(A221)","v":false},false,false,false,false,false,false,false,false,false,false,false,false,{"$f":"IF(Q221,IF(AND(LEN(O221)=7,COUNTIF(集荷不可!$A:$A,O221)=0),FALSE,TRUE),FALSE)","v":false},false,false]
[null,null,null,null,null,null,null,null,null,null,null,null,null,null,"","",false,{"$f":"CheckIzonMoji(A222)","v":false},false,false,false,false,false,false,false,false,false,false,false,false,{"$f":"IF(Q222,IF(AND(LEN(O222)=7,COUNTIF(集荷不可!$A:$A,O222)=0),FALSE,TRUE),FALSE)","v":false},false,false]
[null,null,null,null,null,null,null,null,null,null,null,null,null,null,"","",false,{"$f":"CheckIzonMoji(A223)","v":false},false,false,false,false,false,false,false,false,false,false,false,false,{"$f":"IF(Q223,IF(AND(LEN(O223)=7,COUNTIF(集荷不可!$A:$A,O223)=0),FALSE,TRUE),FALSE)","v":false},false,false]
[null,null,null,null,null,null,null,null,null,null,null,null,null,null,"","",false,{"$f":"CheckIzonMoji(A224)","v":false},false,false,false,false,false,false,false,false,false,false,false,false,{"$f":"IF(Q224,IF(AND(LEN(O224)=7,COUNTIF(集荷不可!$A:$A,O224)=0),FALSE,TRUE),FALSE)","v":false},false,false]
[null,null,null,null,null,null,null,null,null,null,null,null,null,null,"","",false,{"$f":"CheckIzonMoji(A225)","v":false},false,false,false,false,false,false,false,false,false,false,false,false,{"$f":"IF(Q225,IF(AND(LEN(O225)=7,COUNTIF(集荷不可!$A:$A,O225)=0),FALSE,TRUE),FALSE)","v":false},false,false]
[null,null,null,null,null,null,null,null,null,null,null,null,null,null,"","",false,{"$f":"CheckIzonMoji(A226)","v":false},false,false,false,false,false,false,false,false,false,false,false,false,{"$f":"IF(Q226,IF(AND(LEN(O226)=7,COUNTIF(集荷不可!$A:$A,O226)=0),FALSE,TRUE),FALSE)","v":false},false,false]
[null,null,null,null,null,null,null,null,null,null,null,null,null,null,"","",false,{"$f":"CheckIzonMoji(A227)","v":false},false,false,false,false,false,false,false,false,false,false,false,false,{"$f":"IF(Q227,IF(AND(LEN(O227)=7,COUNTIF(集荷不可!$A:$A,O227)=0),FALSE,TRUE),FALSE)","v":false},false,false]
[null,null,null,null,null,null,null,null,null,null,null,null,null,null,"","",false,{"$f":"CheckIzonMoji(A228)","v":false},false,false,false,false,false,false,false,false,false,false,false,false,{"$f":"IF(Q228,IF(AND(LEN(O228)=7,COUNTIF(集荷不可!$A:$A,O228)=0),FALSE,TRUE),FALSE)","v":false},false,false]
[null,null,null,null,null,null,null,null,null,null,null,null,null,null,"","",false,{"$f":"CheckIzonMoji(A229)","v":false},false,false,false,false,false,false,false,false,false,false,false,false,{"$f":"IF(Q229,IF(AND(LEN(O229)=7,COUNTIF(集荷不可!$A:$A,O229)=0),FALSE,TRUE),FALSE)","v":false},false,false]
[null,null,null,null,null,null,null,null,null,null,null,null,null,null,"","",false,{"$f":"CheckIzonMoji(A230)","v":false},false,false,false,false,false,false,false,false,false,false,false,false,{"$f":"IF(Q230,IF(AND(LEN(O230)=7,COUNTIF(集荷不可!$A:$A,O230)=0),FALSE,TRUE),FALSE)","v":false},false,false]
[null,null,null,null,null,null,null,null,null,null,null,null,null,null,"","",false,{"$f":"CheckIzonMoji(A231)","v":false},false,false,false,false,false,false,false,false,false,false,false,false,{"$f":"IF(Q231,IF(AND(LEN(O231)=7,COUNTIF(集荷不可!$A:$A,O231)=0),FALSE,TRUE),FALSE)","v":false},false,false]
[null,null,null,null,null,null,null,null,null,null,null,null,null,null,"","",false,{"$f":"CheckIzonMoji(A232)","v":false},false,false,false,false,false,false,false,false,false,false,false,false,{"$f":"IF(Q232,IF(AND(LEN(O232)=7,COUNTIF(集荷不可!$A:$A,O232)=0),FALSE,TRUE),FALSE)","v":false},false,false]
[null,null,null,null,null,null,null,null,null,null,null,null,null,null,"","",false,{"$f":"CheckIzonMoji(A233)","v":false},false,false,false,false,false,false,false,false,false,false,false,false,{"$f":"IF(Q233,IF(AND(LEN(O233)=7,COUNTIF(集荷不可!$A:$A,O233)=0),FALSE,TRUE),FALSE)","v":false},false,false]
[null,null,null,null,null,null,null,null,null,null,null,null,null,null,"","",false,{"$f":"CheckIzonMoji(A234)","v":false},false,false,false,false,false,false,false,false,false,false,false,false,{"$f":"IF(Q234,IF(AND(LEN(O234)=7,COUNTIF(集荷不可!$A:$A,O234)=0),FALSE,TRUE),FALSE)","v":false},false,false]
[null,null,null,null,null,null,null,null,null,null,null,null,null,null,"","",false,{"$f":"CheckIzonMoji(A235)","v":false},false,false,false,false,false,false,false,false,false,false,false,false,{"$f":"IF(Q235,IF(AND(LEN(O235)=7,COUNTIF(集荷不可!$A:$A,O235)=0),FALSE,TRUE),FALSE)","v":false},false,false]
[null,null,null,null,null,null,null,null,null,null,null,null,null,null,"","",false,{"$f":"CheckIzonMoji(A236)","v":false},false,false,false,false,false,false,false,false,false,false,false,false,{"$f":"IF(Q236,IF(AND(LEN(O236)=7,COUNTIF(集荷不可!$A:$A,O236)=0),FALSE,TRUE),FALSE)","v":false},false,false]
[null,null,null,null,null,null,null,null,null,null,null,null,null,null,"","",false,{"$f":"CheckIzonMoji(A237)","v":false},false,false,false,false,false,false,false,false,false,false,false,false,{"$f":"IF(Q237,IF(AND(LEN(O237)=7,COUNTIF(集荷不可!$A:$A,O237)=0),FALSE,TRUE),FALSE)","v":false},false,false]
[null,null,null,null,null,null,null,null,null,null,null,null,null,null,"","",false,{"$f":"CheckIzonMoji(A238)","v":false},false,false,false,false,false,false,false,false,false,false,false,false,{"$f":"IF(Q238,IF(AND(LEN(O238)=7,COUNTIF(集荷不可!$A:$A,O238)=0),FALSE,TRUE),FALSE)","v":false},false,false]
[null,null,null,null,null,null,null,null,null,null,null,null,null,null,"","",false,{"$f":"CheckIzonMoji(A239)","v":false},false,false,false,false,false,false,false,false,false,false,false,false,{"$f":"IF(Q239,IF(AND(LEN(O239)=7,COUNTIF(集荷不可!$A:$A,O239)=0),FALSE,TRUE),FALSE)","v":false},false,false]
[null,null,null,null,null,null,null,null,null,null,null,null,null,null,"","",false,{"$f":"CheckIzonMoji(A240)","v":false},false,false,false,false,false,false,false,false,false,false,false,false,{"$f":"IF(Q240,IF(AND(LEN(O240)=7,COUNTIF(集荷不可!$A:$A,O240)=0),FALSE,TRUE),FALSE)","v":false},false,false]
[null,null,null,null,null,null,null,null,null,null,null,null,null,null,"","",false,{"$f":"CheckIzonMoji(A241)","v":false},false,false,false,false,false,false,false,false,false,false,false,false,{"$f":"IF(Q241,IF(AND(LEN(O241)=7,COUNTIF(集荷不可!$A:$A,O241)=0),FALSE,TRUE),FALSE)","v":false},false,false]
[null,null,null,null,null,null,null,null,null,null,null,null,null,null,"","",false,{"$f":"CheckIzonMoji(A242)","v":false},false,false,false,false,false,false,false,false,false,false,false,false,{"$f":"IF(Q242,IF(AND(LEN(O242)=7,COUNTIF(集荷不可!$A:$A,O242)=0),FALSE,TRUE),FALSE)","v":false},false,false]
[null,null,null,null,null,null,null,null,null,null,null,null,null,null,"","",false,{"$f":"CheckIzonMoji(A243)","v":false},false,false,false,false,false,false,false,false,false,false,false,false,{"$f":"IF(Q243,IF(AND(LEN(O243)=7,COUNTIF(集荷不可!$A:$A,O243)=0),FALSE,TRUE),FALSE)","v":false},false,false]
[null,null,null,null,null,null,null,null,null,null,null,null,null,null,"","",false,{"$f":"CheckIzonMoji(A244)","v":false},false,false,false,false,false,false,false,false,false,false,false,false,{"$f":"IF(Q244,IF(AND(LEN(O244)=7,COUNTIF(集荷不可!$A:$A,O244)=0),FALSE,TRUE),FALSE)","v":false},false,false]
[null,null,null,null,null,null,null,null,null,null,null,null,null,null,"","",false,{"$f":"CheckIzonMoji(A245)","v":false},false,false,false,false,false,false,false,false,false,false,false,false,{"$f":"IF(Q245,IF(AND(LEN(O245)=7,COUNTIF(集荷不可!$A:$A,O245)=0),FALSE,TRUE),FALSE)","v":false},false,false]
[null,null,null,null,null,null,null,null,null,null,null,null,null,null,"","",false,{"$f":"CheckIzonMoji(A246)","v":false},false,false,false,false,false,false,false,false,false,false,false,false,{"$f":"IF(Q246,IF(AND(LEN(O246)=7,COUNTIF(集荷不可!$A:$A,O246)=0),FALSE,TRUE),FALSE)","v":false},false,false]
[null,null,null,null,null,null,null,null,null,null,null,null,null,null,"","",false,{"$f":"CheckIzonMoji(A247)","v":false},false,false,false,false,false,false,false,false,false,false,false,false,{"$f":"IF(Q247,IF(AND(LEN(O247)=7,COUNTIF(集荷不可!$A:$A,O247)=0),FALSE,TRUE),FALSE)","v":false},false,false]
[null,null,null,null,null,null,null,null,null,null,null,null,null,null,"","",false,{"$f":"CheckIzonMoji(A248)","v":false},false,false,false,false,false,false,false,false,false,false,false,false,{"$f":"IF(Q248,IF(AND(LEN(O248)=7,COUNTIF(集荷不可!$A:$A,O248)=0),FALSE,TRUE),FALSE)","v":false},false,false]
[null,null,null,null,null,null,null,null,null,null,null,null,null,null,"","",false,{"$f":"CheckIzonMoji(A249)","v":false},false,false,false,false,false,false,false,false,false,false,false,false,{"$f":"IF(Q249,IF(AND(LEN(O249)=7,COUNTIF(集荷不可!$A:$A,O249)=0),FALSE,TRUE),FALSE)","v":false},false,false]
[null,null,null,null,null,null,null,null,null,null,null,null,null,null,"","",false,{"$f":"CheckIzonMoji(A250)","v":false},false,false,false,false,false,false,false,false,false,false,false,false,{"$f":"IF(Q250,IF(AND(LEN(O250)=7,COUNTIF(集荷不可!$A:$A,O250)=0),FALSE,TRUE),FALSE)","v":false},false,false]
[null,null,null,null,null,null,null,null,null,null,null,null,null,null,"","",false,{"$f":"CheckIzonMoji(A251)","v":false},false,false,false,false,false,false,false,false,false,false,false,false,{"$f":"IF(Q251,IF(AND(LEN(O251)=7,COUNTIF(集荷不可!$A:$A,O251)=0),FALSE,TRUE),FALSE)","v":false},false,false]
[null,null,null,null,null,null,null,null,null,null,null,null,null,null,"","",false,{"$f":"CheckIzonMoji(A252)","v":false},false,false,false,false,false,false,false,false,false,false,false,false,{"$f":"IF(Q252,IF(AND(LEN(O252)=7,COUNTIF(集荷不可!$A:$A,O252)=0),FALSE,TRUE),FALSE)","v":false},false,false]
[null,null,null,null,null,null,null,null,null,null,null,null,null,null,"","",false,{"$f":"CheckIzonMoji(A253)","v":false},false,false,false,false,false,false,false,false,false,false,false,false,{"$f":"IF(Q253,IF(AND(LEN(O253)=7,COUNTIF(集荷不可!$A:$A,O253)=0),FALSE,TRUE),FALSE)","v":false},false,false]
[null,null,null,null,null,null,null,null,null,null,null,null,null,null,"","",false,{"$f":"CheckIzonMoji(A254)","v":false},false,false,false,false,false,false,false,false,false,false,false,false,{"$f":"IF(Q254,IF(AND(LEN(O254)=7,COUNTIF(集荷不可!$A:$A,O254)=0),FALSE,TRUE),FALSE)","v":false},false,false]
[null,null,null,null,null,null,null,null,null,null,null,null,null,null,"","",false,{"$f":"CheckIzonMoji(A255)","v":false},false,false,false,false,false,false,false,false,false,false,false,false,{"$f":"IF(Q255,IF(AND(LEN(O255)=7,COUNTIF(集荷不可!$A:$A,O255)=0),FALSE,TRUE),FALSE)","v":false},false,false]
[null,null,null,null,null,null,null,null,null,null,null,null,null,null,"","",false,{"$f":"CheckIzonMoji(A256)","v":false},false,false,false,false,false,false,false,false,false,false,false,false,{"$f":"IF(Q256,IF(AND(LEN(O256)=7,COUNTIF(集荷不可!$A:$A,O256)=0),FALSE,TRUE),FALSE)","v":false},false,false]
[null,null,null,null,null,null,null,null,null,null,null,null,null,null,"","",false,{"$f":"CheckIzonMoji(A257)","v":false},false,false,false,false,false,false,false,false,false,false,false,false,{"$f":"IF(Q257,IF(AND(LEN(O257)=7,COUNTIF(集荷不可!$A:$A,O257)=0),FALSE,TRUE),FALSE)","v":false},false,false]
[null,null,null,null,null,null,null,null,null,null,null,null,null,null,"","",false,{"$f":"CheckIzonMoji(A258)","v":false},false,false,false,false,false,false,false,false,false,false,false,false,{"$f":"IF(Q258,IF(AND(LEN(O258)=7,COUNTIF(集荷不可!$A:$A,O258)=0),FALSE,TRUE),FALSE)","v":false},false,false]
[null,null,null,null,null,null,null,null,null,null,null,null,null,null,"","",false,{"$f":"CheckIzonMoji(A259)","v":false},false,false,false,false,false,false,false,false,false,false,false,false,{"$f":"IF(Q259,IF(AND(LEN(O259)=7,COUNTIF(集荷不可!$A:$A,O259)=0),FALSE,TRUE),FALSE)","v":false},false,false]
[null,null,null,null,null,null,null,null,null,null,null,null,null,null,"","",false,{"$f":"CheckIzonMoji(A260)","v":false},false,false,false,false,false,false,false,false,false,false,false,false,{"$f":"IF(Q260,IF(AND(LEN(O260)=7,COUNTIF(集荷不可!$A:$A,O260)=0),FALSE,TRUE),FALSE)","v":false},false,false]
[null,null,null,null,null,null,null,null,null,null,null,null,null,null,"","",false,{"$f":"CheckIzonMoji(A261)","v":false},false,false,false,false,false,false,false,false,false,false,false,false,{"$f":"IF(Q261,IF(AND(LEN(O261)=7,COUNTIF(集荷不可!$A:$A,O261)=0),FALSE,TRUE),FALSE)","v":false},false,false]
[null,null,null,null,null,null,null,null,null,null,null,null,null,null,"","",false,{"$f":"CheckIzonMoji(A262)","v":false},false,false,false,false,false,false,false,false,false,false,false,false,{"$f":"IF(Q262,IF(AND(LEN(O262)=7,COUNTIF(集荷不可!$A:$A,O262)=0),FALSE,TRUE),FALSE)","v":false},false,false]
[null,null,null,null,null,null,null,null,null,null,null,null,null,null,"","",{"$f":"IF(LEN(A263&B263&C263&D263&E263&F263&G263&H263&I263&J263&K263&L263&M263&N263)=0,FALSE,TRUE)","v":false},{"$f":"CheckIzonMoji(A263)","v":false},{"$f":"IF(Q263,IF(AND(LENB(A263)>2,LENB(A263)<33),FALSE,TRUE),FALSE)","v":false},{"$f":"IF(Q263,IF(B263=\"\",TRUE,FALSE),FALSE)","v":false},{"$f":"IF(Q263,IF(OR(C263=\"\",ISERR(DAY(C263))),TRUE,FALSE),FALSE)","v":false},{"$f":"IF(Q263,IF(D263=\"\",TRUE,FALSE),FALSE)","v":false},{"$f":"IF(Q263,IF(AND(LENB(F263)>1,LENB(F263)<65),FALSE,TRUE),FALSE)","v":false},{"$f":"IF(LENB(G263)<33,FALSE,TRUE)","v":false},{"$f":"IF(LENB(H263)<51,FALSE,TRUE)","v":false},{"$f":"IF(LENB(I263)<51,FALSE,TRUE)","v":false},{"$f":"IF(Q263,IF(AND(LENB(J263)>2,LENB(J263)<16),FALSE,TRUE),FALSE)","v":false},{"$f":"IF(Q263,IF(AND(LENB(K263)<61),FALSE,TRUE),FALSE)","v":false},{"$f":"IF(Q263,IF(AND(LENB(L263)<9),FALSE,TRUE),FALSE)","v":false},{"$f":"IF(Q263,IF(N263=\"\",TRUE,FALSE),FALSE)","v":false},{"$f":"IF(Q263,IF(AND(LEN(O263)=7,COUNTIF(集荷不可!$A:$A,O263)=0),FALSE,TRUE),FALSE)","v":false},{"$f":"IF(ISERROR(FIND(\".@\",K263)),FALSE,TRUE)","v":false},{"$f":"IF(LENB(M263)<9,FALSE,TRUE)","v":false}]
[null,null,null,null,null,null,null,null,null,null,null,null,null,null,"","",false,{"$f":"CheckIzonMoji(A264)","v":false},false,false,false,false,false,false,false,false,false,false,false,false,{"$f":"IF(Q264,IF(AND(LEN(O264)=7,COUNTIF(集荷不可!$A:$A,O264)=0),FALSE,TRUE),FALSE)","v":false},false,false]
[null,null,null,null,null,null,null,null,null,null,null,null,null,null,{"$f":"SUBSTITUTE(E265,\"-\",\"\")","v":""},{"$f":"LEFT(N265,1)","v":""},false,{"$f":"CheckIzonMoji(A265)","v":false},false,false,false,false,false,false,false,false,false,false,false,false,{"$f":"IF(Q265,IF(AND(LEN(O265)=7,COUNTIF(集荷不可!$A:$A,O265)=0),FALSE,TRUE),FALSE)","v":false},false,false]
[null,null,null,null,null,null,null,null,null,null,null,null,null,null,"","",false,{"$f":"CheckIzonMoji(A266)","v":false},false,false,false,false,false,false,false,false,false,false,false,false,{"$f":"IF(Q266,IF(AND(LEN(O266)=7,COUNTIF(集荷不可!$A:$A,O266)=0),FALSE,TRUE),FALSE)","v":false},false,false]
[null,null,null,null,null,null,null,null,null,null,null,null,null,null,"","",false,{"$f":"CheckIzonMoji(A267)","v":false},false,false,false,false,false,false,false,false,false,false,false,false,{"$f":"IF(Q267,IF(AND(LEN(O267)=7,COUNTIF(集荷不可!$A:$A,O267)=0),FALSE,TRUE),FALSE)","v":false},false,false]
[null,null,null,null,null,null,null,null,null,null,null,null,null,null,"","",false,{"$f":"CheckIzonMoji(A268)","v":false},false,false,false,false,false,false,false,false,false,false,false,false,{"$f":"IF(Q268,IF(AND(LEN(O268)=7,COUNTIF(集荷不可!$A:$A,O268)=0),FALSE,TRUE),FALSE)","v":false},false,false]
[null,null,null,null,null,null,null,null,null,null,null,null,null,null,"","",false,{"$f":"CheckIzonMoji(A269)","v":false},false,false,false,false,false,false,false,false,false,false,false,false,{"$f":"IF(Q269,IF(AND(LEN(O269)=7,COUNTIF(集荷不可!$A:$A,O269)=0),FALSE,TRUE),FALSE)","v":false},false,false]
[null,null,null,null,null,null,null,null,null,null,null,null,null,null,"","",false,{"$f":"CheckIzonMoji(A270)","v":false},false,false,false,false,false,false,false,false,false,false,false,false,{"$f":"IF(Q270,IF(AND(LEN(O270)=7,COUNTIF(集荷不可!$A:$A,O270)=0),FALSE,TRUE),FALSE)","v":false},false,false]
[null,null,null,null,null,null,null,null,null,null,null,null,null,null,"","",false,{"$f":"CheckIzonMoji(A271)","v":false},false,false,false,false,false,false,false,false,false,false,false,false,{"$f":"IF(Q271,IF(AND(LEN(O271)=7,COUNTIF(集荷不可!$A:$A,O271)=0),FALSE,TRUE),FALSE)","v":false},false,false]
[null,null,null,null,null,null,null,null,null,null,null,null,null,null,"","",false,{"$f":"CheckIzonMoji(A272)","v":false},false,false,false,false,false,false,false,false,false,false,false,false,{"$f":"IF(Q272,IF(AND(LEN(O272)=7,COUNTIF(集荷不可!$A:$A,O272)=0),FALSE,TRUE),FALSE)","v":false},false,false]
[null,null,null,null,null,null,null,null,null,null,null,null,null,null,"","",false,{"$f":"CheckIzonMoji(A273)","v":false},false,false,false,false,false,false,false,false,false,false,false,false,{"$f":"IF(Q273,IF(AND(LEN(O273)=7,COUNTIF(集荷不可!$A:$A,O273)=0),FALSE,TRUE),FALSE)","v":false},false,false]
[null,null,null,null,null,null,null,null,null,null,null,null,null,null,"","",false,{"$f":"CheckIzonMoji(A274)","v":false},false,false,false,false,false,false,false,false,false,false,false,false,{"$f":"IF(Q274,IF(AND(LEN(O274)=7,COUNTIF(集荷不可!$A:$A,O274)=0),FALSE,TRUE),FALSE)","v":false},false,false]
[null,null,null,null,null,null,null,null,null,null,null,null,null,null,"","",false,{"$f":"CheckIzonMoji(A275)","v":false},false,false,false,false,false,false,false,false,false,false,false,false,{"$f":"IF(Q275,IF(AND(LEN(O275)=7,COUNTIF(集荷不可!$A:$A,O275)=0),FALSE,TRUE),FALSE)","v":false},false,false]
[null,null,null,null,null,null,null,null,null,null,null,null,null,null,"","",false,{"$f":"CheckIzonMoji(A276)","v":false},false,false,false,false,false,false,false,false,false,false,false,false,{"$f":"IF(Q276,IF(AND(LEN(O276)=7,COUNTIF(集荷不可!$A:$A,O276)=0),FALSE,TRUE),FALSE)","v":false},false,false]
[null,null,null,null,null,null,null,null,null,null,null,null,null,null,"","",false,{"$f":"CheckIzonMoji(A277)","v":false},false,false,false,false,false,false,false,false,false,false,false,false,{"$f":"IF(Q277,IF(AND(LEN(O277)=7,COUNTIF(集荷不可!$A:$A,O277)=0),FALSE,TRUE),FALSE)","v":false},false,false]
[null,null,null,null,null,null,null,null,null,null,null,null,null,null,"","",false,{"$f":"CheckIzonMoji(A278)","v":false},false,false,false,false,false,false,false,false,false,false,false,false,{"$f":"IF(Q278,IF(AND(LEN(O278)=7,COUNTIF(集荷不可!$A:$A,O278)=0),FALSE,TRUE),FALSE)","v":false},false,false]
[null,null,null,null,null,null,null,null,null,null,null,null,null,null,"","",false,{"$f":"CheckIzonMoji(A279)","v":false},false,false,false,false,false,false,false,false,false,false,false,false,{"$f":"IF(Q279,IF(AND(LEN(O279)=7,COUNTIF(集荷不可!$A:$A,O279)=0),FALSE,TRUE),FALSE)","v":false},false,false]
[null,null,null,null,null,null,null,null,null,null,null,null,null,null,"","",false,{"$f":"CheckIzonMoji(A280)","v":false},false,false,false,false,false,false,false,false,false,false,false,false,{"$f":"IF(Q280,IF(AND(LEN(O280)=7,COUNTIF(集荷不可!$A:$A,O280)=0),FALSE,TRUE),FALSE)","v":false},false,false]
[null,null,null,null,null,null,null,null,null,null,null,null,null,null,"","",false,{"$f":"CheckIzonMoji(A281)","v":false},false,false,false,false,false,false,false,false,false,false,false,false,{"$f":"IF(Q281,IF(AND(LEN(O281)=7,COUNTIF(集荷不可!$A:$A,O281)=0),FALSE,TRUE),FALSE)","v":false},false,false]
[null,null,null,null,null,null,null,null,null,null,null,null,null,null,"","",false,{"$f":"CheckIzonMoji(A282)","v":false},false,false,false,false,false,false,false,false,false,false,false,false,{"$f":"IF(Q282,IF(AND(LEN(O282)=7,COUNTIF(集荷不可!$A:$A,O282)=0),FALSE,TRUE),FALSE)","v":false},false,false]
[null,null,null,null,null,null,null,null,null,null,null,null,null,null,"","",false,{"$f":"CheckIzonMoji(A283)","v":false},false,false,false,false,false,false,false,false,false,false,false,false,{"$f":"IF(Q283,IF(AND(LEN(O283)=7,COUNTIF(集荷不可!$A:$A,O283)=0),FALSE,TRUE),FALSE)","v":false},false,false]
[null,null,null,null,null,null,null,null,null,null,null,null,null,null,"","",false,{"$f":"CheckIzonMoji(A284)","v":false},false,false,false,false,false,false,false,false,false,false,false,false,{"$f":"IF(Q284,IF(AND(LEN(O284)=7,COUNTIF(集荷不可!$A:$A,O284)=0),FALSE,TRUE),FALSE)","v":false},false,false]
[null,null,null,null,null,null,null,null,null,null,null,null,null,null,"","",false,{"$f":"CheckIzonMoji(A285)","v":false},false,false,false,false,false,false,false,false,false,false,false,false,{"$f":"IF(Q285,IF(AND(LEN(O285)=7,COUNTIF(集荷不可!$A:$A,O285)=0),FALSE,TRUE),FALSE)","v":false},false,false]
[null,null,null,null,null,null,null,null,null,null,null,null,null,null,"","",false,{"$f":"CheckIzonMoji(A286)","v":false},false,false,false,false,false,false,false,false,false,false,false,false,{"$f":"IF(Q286,IF(AND(LEN(O286)=7,COUNTIF(集荷不可!$A:$A,O286)=0),FALSE,TRUE),FALSE)","v":false},false,false]
[null,null,null,null,null,null,null,null,null,null,null,null,null,null,"","",false,{"$f":"CheckIzonMoji(A287)","v":false},false,false,false,false,false,false,false,false,false,false,false,false,{"$f":"IF(Q287,IF(AND(LEN(O287)=7,COUNTIF(集荷不可!$A:$A,O287)=0),FALSE,TRUE),FALSE)","v":false},false,false]
[null,null,null,null,null,null,null,null,null,null,null,null,null,null,"","",false,{"$f":"CheckIzonMoji(A288)","v":false},false,false,false,false,false,false,false,false,false,false,false,false,{"$f":"IF(Q288,IF(AND(LEN(O288)=7,COUNTIF(集荷不可!$A:$A,O288)=0),FALSE,TRUE),FALSE)","v":false},false,false]
[null,null,null,null,null,null,null,null,null,null,null,null,null,null,"","",false,{"$f":"CheckIzonMoji(A289)","v":false},false,false,false,false,false,false,false,false,false,false,false,false,{"$f":"IF(Q289,IF(AND(LEN(O289)=7,COUNTIF(集荷不可!$A:$A,O289)=0),FALSE,TRUE),FALSE)","v":false},false,false]
[null,null,null,null,null,null,null,null,null,null,null,null,null,null,"","",false,{"$f":"CheckIzonMoji(A290)","v":false},false,false,false,false,false,false,false,false,false,false,false,false,{"$f":"IF(Q290,IF(AND(LEN(O290)=7,COUNTIF(集荷不可!$A:$A,O290)=0),FALSE,TRUE),FALSE)","v":false},false,false]
[null,null,null,null,null,null,null,null,null,null,null,null,null,null,"","",false,{"$f":"CheckIzonMoji(A291)","v":false},false,false,false,false,false,false,false,false,false,false,false,false,{"$f":"IF(Q291,IF(AND(LEN(O291)=7,COUNTIF(集荷不可!$A:$A,O291)=0),FALSE,TRUE),FALSE)","v":false},false,false]
[null,null,null,null,null,null,null,null,null,null,null,null,null,null,"","",false,{"$f":"CheckIzonMoji(A292)","v":false},false,false,false,false,false,false,false,false,false,false,false,false,{"$f":"IF(Q292,IF(AND(LEN(O292)=7,COUNTIF(集荷不可!$A:$A,O292)=0),FALSE,TRUE),FALSE)","v":false},false,false]
[null,null,null,null,null,null,null,null,null,null,null,null,null,null,"","",false,{"$f":"CheckIzonMoji(A293)","v":false},false,false,false,false,false,false,false,false,false,false,false,false,{"$f":"IF(Q293,IF(AND(LEN(O293)=7,COUNTIF(集荷不可!$A:$A,O293)=0),FALSE,TRUE),FALSE)","v":false},false,false]
[null,null,null,null,null,null,null,null,null,null,null,null,null,null,"","",false,{"$f":"CheckIzonMoji(A294)","v":false},false,false,false,false,false,false,false,false,false,false,false,false,{"$f":"IF(Q294,IF(AND(LEN(O294)=7,COUNTIF(集荷不可!$A:$A,O294)=0),FALSE,TRUE),FALSE)","v":false},false,false]
[null,null,null,null,null,null,null,null,null,null,null,null,null,null,"","",false,{"$f":"CheckIzonMoji(A295)","v":false},false,false,false,false,false,false,false,false,false,false,false,false,{"$f":"IF(Q295,IF(AND(LEN(O295)=7,COUNTIF(集荷不可!$A:$A,O295)=0),FALSE,TRUE),FALSE)","v":false},false,false]
[null,null,null,null,null,null,null,null,null,null,null,null,null,null,"","",false,{"$f":"CheckIzonMoji(A296)","v":false},false,false,false,false,false,false,false,false,false,false,false,false,{"$f":"IF(Q296,IF(AND(LEN(O296)=7,COUNTIF(集荷不可!$A:$A,O296)=0),FALSE,TRUE),FALSE)","v":false},false,false]
[null,null,null,null,null,null,null,null,null,null,null,null,null,null,"","",false,{"$f":"CheckIzonMoji(A297)","v":false},false,false,false,false,false,false,false,false,false,false,false,false,{"$f":"IF(Q297,IF(AND(LEN(O297)=7,COUNTIF(集荷不可!$A:$A,O297)=0),FALSE,TRUE),FALSE)","v":false},false,false]
[null,null,null,null,null,null,null,null,null,null,null,null,null,null,"","",false,{"$f":"CheckIzonMoji(A298)","v":false},false,false,false,false,false,false,false,false,false,false,false,false,{"$f":"IF(Q298,IF(AND(LEN(O298)=7,COUNTIF(集荷不可!$A:$A,O298)=0),FALSE,TRUE),FALSE)","v":false},false,false]
[null,null,null,null,null,null,null,null,null,null,null,null,null,null,"","",false,{"$f":"CheckIzonMoji(A299)","v":false},false,false,false,false,false,false,false,false,false,false,false,false,{"$f":"IF(Q299,IF(AND(LEN(O299)=7,COUNTIF(集荷不可!$A:$A,O299)=0),FALSE,TRUE),FALSE)","v":false},false,false]
[null,null,null,null,null,null,null,null,null,null,null,null,null,null,"","",false,{"$f":"CheckIzonMoji(A300)","v":false},false,false,false,false,false,false,false,false,false,false,false,false,{"$f":"IF(Q300,IF(AND(LEN(O300)=7,COUNTIF(集荷不可!$A:$A,O300)=0),FALSE,TRUE),FALSE)","v":false},false,false]
[null,null,null,null,null,null,null,null,null,null,null,null,null,null,"","",false,{"$f":"CheckIzonMoji(A301)","v":false},false,false,false,false,false,false,false,false,false,false,false,false,{"$f":"IF(Q301,IF(AND(LEN(O301)=7,COUNTIF(集荷不可!$A:$A,O301)=0),FALSE,TRUE),FALSE)","v":false},false,false]
[null,null,null,null,null,null,null,null,null,null,null,null,null,null,"","",false,{"$f":"CheckIzonMoji(A302)","v":false},false,false,false,false,false,false,false,false,false,false,false,false,{"$f":"IF(Q302,IF(AND(LEN(O302)=7,COUNTIF(集荷不可!$A:$A,O302)=0),FALSE,TRUE),FALSE)","v":false},false,false]
[null,null,null,null,null,null,null,null,null,null,null,null,null,null,"","",false,{"$f":"CheckIzonMoji(A303)","v":false},false,false,false,false,false,false,false,false,false,false,false,false,{"$f":"IF(Q303,IF(AND(LEN(O303)=7,COUNTIF(集荷不可!$A:$A,O303)=0),FALSE,TRUE),FALSE)","v":false},false,false]
[null,null,null,null,null,null,null,null,null,null,null,null,null,null,"","",false,{"$f":"CheckIzonMoji(A304)","v":false},false,false,false,false,false,false,false,false,false,false,false,false,{"$f":"IF(Q304,IF(AND(LEN(O304)=7,COUNTIF(集荷不可!$A:$A,O304)=0),FALSE,TRUE),FALSE)","v":false},false,false]
[null,null,null,null,null,null,null,null,null,null,null,null,null,null,"","",false,{"$f":"CheckIzonMoji(A305)","v":false},false,false,false,false,false,false,false,false,false,false,false,false,{"$f":"IF(Q305,IF(AND(LEN(O305)=7,COUNTIF(集荷不可!$A:$A,O305)=0),FALSE,TRUE),FALSE)","v":false},false,false]
[null,null,null,null,null,null,null,null,null,null,null,null,null,null,"","",false,{"$f":"CheckIzonMoji(A306)","v":false},false,false,false,false,false,false,false,false,false,false,false,false,{"$f":"IF(Q306,IF(AND(LEN(O306)=7,COUNTIF(集荷不可!$A:$A,O306)=0),FALSE,TRUE),FALSE)","v":false},false,false]
[null,null,null,null,null,null,null,null,null,null,null,null,null,null,"","",false,{"$f":"CheckIzonMoji(A307)","v":false},false,false,false,false,false,false,false,false,false,false,false,false,{"$f":"IF(Q307,IF(AND(LEN(O307)=7,COUNTIF(集荷不可!$A:$A,O307)=0),FALSE,TRUE),FALSE)","v":false},false,false]
[null,null,null,null,null,null,null,null,null,null,null,null,null,null,"","",false,{"$f":"CheckIzonMoji(A308)","v":false},false,false,false,false,false,false,false,false,false,false,false,false,{"$f":"IF(Q308,IF(AND(LEN(O308)=7,COUNTIF(集荷不可!$A:$A,O308)=0),FALSE,TRUE),FALSE)","v":false},false,false]
[null,null,null,null,null,null,null,null,null,null,null,null,null,null,"","",false,{"$f":"CheckIzonMoji(A309)","v":false},false,false,false,false,false,false,false,false,false,false,false,false,{"$f":"IF(Q309,IF(AND(LEN(O309)=7,COUNTIF(集荷不可!$A:$A,O309)=0),FALSE,TRUE),FALSE)","v":false},false,false]
[null,null,null,null,null,null,null,null,null,null,null,null,null,null,"","",false,{"$f":"CheckIzonMoji(A310)","v":false},false,false,false,false,false,false,false,false,false,false,false,false,{"$f":"IF(Q310,IF(AND(LEN(O310)=7,COUNTIF(集荷不可!$A:$A,O310)=0),FALSE,TRUE),FALSE)","v":false},false,false]
[null,null,null,null,null,null,null,null,null,null,null,null,null,null,"","",false,{"$f":"CheckIzonMoji(A311)","v":false},false,false,false,false,false,false,false,false,false,false,false,false,{"$f":"IF(Q311,IF(AND(LEN(O311)=7,COUNTIF(集荷不可!$A:$A,O311)=0),FALSE,TRUE),FALSE)","v":false},false,false]
[null,null,null,null,null,null,null,null,null,null,null,null,null,null,"","",false,{"$f":"CheckIzonMoji(A312)","v":false},false,false,false,false,false,false,false,false,false,false,false,false,{"$f":"IF(Q312,IF(AND(LEN(O312)=7,COUNTIF(集荷不可!$A:$A,O312)=0),FALSE,TRUE),FALSE)","v":false},false,false]
[null,null,null,null,null,null,null,null,null,null,null,null,null,null,"","",false,{"$f":"CheckIzonMoji(A313)","v":false},false,false,false,false,false,false,false,false,false,false,false,false,{"$f":"IF(Q313,IF(AND(LEN(O313)=7,COUNTIF(集荷不可!$A:$A,O313)=0),FALSE,TRUE),FALSE)","v":false},false,false]
[null,null,null,null,null,null,null,null,null,null,null,null,null,null,"","",false,{"$f":"CheckIzonMoji(A314)","v":false},false,false,false,false,false,false,false,false,false,false,false,false,{"$f":"IF(Q314,IF(AND(LEN(O314)=7,COUNTIF(集荷不可!$A:$A,O314)=0),FALSE,TRUE),FALSE)","v":false},false,false]
[null,null,null,null,null,null,null,null,null,null,null,null,null,null,"","",false,{"$f":"CheckIzonMoji(A315)","v":false},false,false,false,false,false,false,false,false,false,false,false,false,{"$f":"IF(Q315,IF(AND(LEN(O315)=7,COUNTIF(集荷不可!$A:$A,O315)=0),FALSE,TRUE),FALSE)","v":false},false,false]
[null,null,null,null,null,null,null,null,null,null,null,null,null,null,"","",false,{"$f":"CheckIzonMoji(A316)","v":false},false,false,false,false,false,false,false,false,false,false,false,false,{"$f":"IF(Q316,IF(AND(LEN(O316)=7,COUNTIF(集荷不可!$A:$A,O316)=0),FALSE,TRUE),FALSE)","v":false},false,false]
[null,null,null,null,null,null,null,null,null,null,null,null,null,null,"","",false,{"$f":"CheckIzonMoji(A317)","v":false},false,false,false,false,false,false,false,false,false,false,false,false,{"$f":"IF(Q317,IF(AND(LEN(O317)=7,COUNTIF(集荷不可!$A:$A,O317)=0),FALSE,TRUE),FALSE)","v":false},false,false]
[null,null,null,null,null,null,null,null,null,null,null,null,null,null,"","",false,{"$f":"CheckIzonMoji(A318)","v":false},false,false,false,false,false,false,false,false,false,false,false,false,{"$f":"IF(Q318,IF(AND(LEN(O318)=7,COUNTIF(集荷不可!$A:$A,O318)=0),FALSE,TRUE),FALSE)","v":false},false,false]
[null,null,null,null,null,null,null,null,null,null,null,null,null,null,"","",false,{"$f":"CheckIzonMoji(A319)","v":false},false,false,false,false,false,false,false,false,false,false,false,false,{"$f":"IF(Q319,IF(AND(LEN(O319)=7,COUNTIF(集荷不可!$A:$A,O319)=0),FALSE,TRUE),FALSE)","v":false},false,false]
[null,null,null,null,null,null,null,null,null,null,null,null,null,null,"","",false,{"$f":"CheckIzonMoji(A320)","v":false},false,false,false,false,false,false,false,false,false,false,false,false,{"$f":"IF(Q320,IF(AND(LEN(O320)=7,COUNTIF(集荷不可!$A:$A,O320)=0),FALSE,TRUE),FALSE)","v":false},false,false]
[null,null,null,null,null,null,null,null,null,null,null,null,null,null,"","",false,{"$f":"CheckIzonMoji(A321)","v":false},false,false,false,false,false,false,false,false,false,false,false,false,{"$f":"IF(Q321,IF(AND(LEN(O321)=7,COUNTIF(集荷不可!$A:$A,O321)=0),FALSE,TRUE),FALSE)","v":false},false,false]
[null,null,null,null,null,null,null,null,null,null,null,null,null,null,"","",false,{"$f":"CheckIzonMoji(A322)","v":false},false,false,false,false,false,false,false,false,false,false,false,false,{"$f":"IF(Q322,IF(AND(LEN(O322)=7,COUNTIF(集荷不可!$A:$A,O322)=0),FALSE,TRUE),FALSE)","v":false},false,false]
[null,null,null,null,null,null,null,null,null,null,null,null,null,null,"","",false,{"$f":"CheckIzonMoji(A323)","v":false},false,false,false,false,false,false,false,false,false,false,false,false,{"$f":"IF(Q323,IF(AND(LEN(O323)=7,COUNTIF(集荷不可!$A:$A,O323)=0),FALSE,TRUE),FALSE)","v":false},false,false]
[null,null,null,null,null,null,null,null,null,null,null,null,null,null,"","",false,{"$f":"CheckIzonMoji(A324)","v":false},false,false,false,false,false,false,false,false,false,false,false,false,{"$f":"IF(Q324,IF(AND(LEN(O324)=7,COUNTIF(集荷不可!$A:$A,O324)=0),FALSE,TRUE),FALSE)","v":false},false,false]
[null,null,null,null,null,null,null,null,null,null,null,null,null,null,"","",false,{"$f":"CheckIzonMoji(A325)","v":false},false,false,false,false,false,false,false,false,false,false,false,false,{"$f":"IF(Q325,IF(AND(LEN(O325)=7,COUNTIF(集荷不可!$A:$A,O325)=0),FALSE,TRUE),FALSE)","v":false},false,false]
[null,null,null,null,null,null,null,null,null,null,null,null,null,null,"","",false,{"$f":"CheckIzonMoji(A326)","v":false},false,false,false,false,false,false,false,false,false,false,false,false,{"$f":"IF(Q326,IF(AND(LEN(O326)=7,COUNTIF(集荷不可!$A:$A,O326)=0),FALSE,TRUE),FALSE)","v":false},false,false]
[null,null,null,null,null,null,null,null,null,null,null,null,null,null,"","",{"$f":"IF(LEN(A327&B327&C327&D327&E327&F327&G327&H327&I327&J327&K327&L327&M327&N327)=0,FALSE,TRUE)","v":false},{"$f":"CheckIzonMoji(A327)","v":false},{"$f":"IF(Q327,IF(AND(LENB(A327)>2,LENB(A327)<33),FALSE,TRUE),FALSE)","v":false},{"$f":"IF(Q327,IF(B327=\"\",TRUE,FALSE),FALSE)","v":false},{"$f":"IF(Q327,IF(OR(C327=\"\",ISERR(DAY(C327))),TRUE,FALSE),FALSE)","v":false},{"$f":"IF(Q327,IF(D327=\"\",TRUE,FALSE),FALSE)","v":false},{"$f":"IF(Q327,IF(AND(LENB(F327)>1,LENB(F327)<65),FALSE,TRUE),FALSE)","v":false},{"$f":"IF(LENB(G327)<33,FALSE,TRUE)","v":false},{"$f":"IF(LENB(H327)<51,FALSE,TRUE)","v":false},{"$f":"IF(LENB(I327)<51,FALSE,TRUE)","v":false},{"$f":"IF(Q327,IF(AND(LENB(J327)>2,LENB(J327)<16),FALSE,TRUE),FALSE)","v":false},{"$f":"IF(Q327,IF(AND(LENB(K327)<61),FALSE,TRUE),FALSE)","v":false},{"$f":"IF(Q327,IF(AND(LENB(L327)<9),FALSE,TRUE),FALSE)","v":false},{"$f":"IF(Q327,IF(N327=\"\",TRUE,FALSE),FALSE)","v":false},{"$f":"IF(Q327,IF(AND(LEN(O327)=7,COUNTIF(集荷不可!$A:$A,O327)=0),FALSE,TRUE),FALSE)","v":false},{"$f":"IF(ISERROR(FIND(\".@\",K327)),FALSE,TRUE)","v":false},{"$f":"IF(LENB(M327)<9,FALSE,TRUE)","v":false}]
[null,null,null,null,null,null,null,null,null,null,null,null,null,null,"","",false,{"$f":"CheckIzonMoji(A328)","v":false},false,false,false,false,false,false,false,false,false,false,false,false,{"$f":"IF(Q328,IF(AND(LEN(O328)=7,COUNTIF(集荷不可!$A:$A,O328)=0),FALSE,TRUE),FALSE)","v":false},false,false]
[null,null,null,null,null,null,null,null,null,null,null,null,null,null,{"$f":"SUBSTITUTE(E329,\"-\",\"\")","v":""},{"$f":"LEFT(N329,1)","v":""},false,{"$f":"CheckIzonMoji(A329)","v":false},false,false,false,false,false,false,false,false,false,false,false,false,{"$f":"IF(Q329,IF(AND(LEN(O329)=7,COUNTIF(集荷不可!$A:$A,O329)=0),FALSE,TRUE),FALSE)","v":false},false,false]
[null,null,null,null,null,null,null,null,null,null,null,null,null,null,"","",false,{"$f":"CheckIzonMoji(A330)","v":false},false,false,false,false,false,false,false,false,false,false,false,false,{"$f":"IF(Q330,IF(AND(LEN(O330)=7,COUNTIF(集荷不可!$A:$A,O330)=0),FALSE,TRUE),FALSE)","v":false},false,false]
[null,null,null,null,null,null,null,null,null,null,null,null,null,null,"","",false,{"$f":"CheckIzonMoji(A331)","v":false},false,false,false,false,false,false,false,false,false,false,false,false,{"$f":"IF(Q331,IF(AND(LEN(O331)=7,COUNTIF(集荷不可!$A:$A,O331)=0),FALSE,TRUE),FALSE)","v":false},false,false]
[null,null,null,null,null,null,null,null,null,null,null,null,null,null,"","",false,{"$f":"CheckIzonMoji(A332)","v":false},false,false,false,false,false,false,false,false,false,false,false,false,{"$f":"IF(Q332,IF(AND(LEN(O332)=7,COUNTIF(集荷不可!$A:$A,O332)=0),FALSE,TRUE),FALSE)","v":false},false,false]
[null,null,null,null,null,null,null,null,null,null,null,null,null,null,"","",false,{"$f":"CheckIzonMoji(A333)","v":false},false,false,false,false,false,false,false,false,false,false,false,false,{"$f":"IF(Q333,IF(AND(LEN(O333)=7,COUNTIF(集荷不可!$A:$A,O333)=0),FALSE,TRUE),FALSE)","v":false},false,false]
[null,null,null,null,null,null,null,null,null,null,null,null,null,null,"","",false,{"$f":"CheckIzonMoji(A334)","v":false},false,false,false,false,false,false,false,false,false,false,false,false,{"$f":"IF(Q334,IF(AND(LEN(O334)=7,COUNTIF(集荷不可!$A:$A,O334)=0),FALSE,TRUE),FALSE)","v":false},false,false]
[null,null,null,null,null,null,null,null,null,null,null,null,null,null,"","",false,{"$f":"CheckIzonMoji(A335)","v":false},false,false,false,false,false,false,false,false,false,false,false,false,{"$f":"IF(Q335,IF(AND(LEN(O335)=7,COUNTIF(集荷不可!$A:$A,O335)=0),FALSE,TRUE),FALSE)","v":false},false,false]
[null,null,null,null,null,null,null,null,null,null,null,null,null,null,"","",false,{"$f":"CheckIzonMoji(A336)","v":false},false,false,false,false,false,false,false,false,false,false,false,false,{"$f":"IF(Q336,IF(AND(LEN(O336)=7,COUNTIF(集荷不可!$A:$A,O336)=0),FALSE,TRUE),FALSE)","v":false},false,false]
[null,null,null,null,null,null,null,null,null,null,null,null,null,null,"","",false,{"$f":"CheckIzonMoji(A337)","v":false},false,false,false,false,false,false,false,false,false,false,false,false,{"$f":"IF(Q337,IF(AND(LEN(O337)=7,COUNTIF(集荷不可!$A:$A,O337)=0),FALSE,TRUE),FALSE)","v":false},false,false]
[null,null,null,null,null,null,null,null,null,null,null,null,null,null,"","",false,{"$f":"CheckIzonMoji(A338)","v":false},false,false,false,false,false,false,false,false,false,false,false,false,{"$f":"IF(Q338,IF(AND(LEN(O338)=7,COUNTIF(集荷不可!$A:$A,O338)=0),FALSE,TRUE),FALSE)","v":false},false,false]
[null,null,null,null,null,null,null,null,null,null,null,null,null,null,"","",false,{"$f":"CheckIzonMoji(A339)","v":false},false,false,false,false,false,false,false,false,false,false,false,false,{"$f":"IF(Q339,IF(AND(LEN(O339)=7,COUNTIF(集荷不可!$A:$A,O339)=0),FALSE,TRUE),FALSE)","v":false},false,false]
[null,null,null,null,null,null,null,null,null,null,null,null,null,null,"","",false,{"$f":"CheckIzonMoji(A340)","v":false},false,false,false,false,false,false,false,false,false,false,false,false,{"$f":"IF(Q340,IF(AND(LEN(O340)=7,COUNTIF(集荷不可!$A:$A,O340)=0),FALSE,TRUE),FALSE)","v":false},false,false]
[null,null,null,null,null,null,null,null,null,null,null,null,null,null,"","",false,{"$f":"CheckIzonMoji(A341)","v":false},false,false,false,false,false,false,false,false,false,false,false,false,{"$f":"IF(Q341,IF(AND(LEN(O341)=7,COUNTIF(集荷不可!$A:$A,O341)=0),FALSE,TRUE),FALSE)","v":false},false,false]
[null,null,null,null,null,null,null,null,null,null,null,null,null,null,"","",false,{"$f":"CheckIzonMoji(A342)","v":false},false,false,false,false,false,false,false,false,false,false,false,false,{"$f":"IF(Q342,IF(AND(LEN(O342)=7,COUNTIF(集荷不可!$A:$A,O342)=0),FALSE,TRUE),FALSE)","v":false},false,false]
[null,null,null,null,null,null,null,null,null,null,null,null,null,null,"","",false,{"$f":"CheckIzonMoji(A343)","v":false},false,false,false,false,false,false,false,false,false,false,false,false,{"$f":"IF(Q343,IF(AND(LEN(O343)=7,COUNTIF(集荷不可!$A:$A,O343)=0),FALSE,TRUE),FALSE)","v":false},false,false]
[null,null,null,null,null,null,null,null,null,null,null,null,null,null,"","",false,{"$f":"CheckIzonMoji(A344)","v":false},false,false,false,false,false,false,false,false,false,false,false,false,{"$f":"IF(Q344,IF(AND(LEN(O344)=7,COUNTIF(集荷不可!$A:$A,O344)=0),FALSE,TRUE),FALSE)","v":false},false,false]
[null,null,null,null,null,null,null,null,null,null,null,null,null,null,"","",false,{"$f":"CheckIzonMoji(A345)","v":false},false,false,false,false,false,false,false,false,false,false,false,false,{"$f":"IF(Q345,IF(AND(LEN(O345)=7,COUNTIF(集荷不可!$A:$A,O345)=0),FALSE,TRUE),FALSE)","v":false},false,false]
[null,null,null,null,null,null,null,null,null,null,null,null,null,null,"","",false,{"$f":"CheckIzonMoji(A346)","v":false},false,false,false,false,false,false,false,false,false,false,false,false,{"$f":"IF(Q346,IF(AND(LEN(O346)=7,COUNTIF(集荷不可!$A:$A,O346)=0),FALSE,TRUE),FALSE)","v":false},false,false]
[null,null,null,null,null,null,null,null,null,null,null,null,null,null,"","",false,{"$f":"CheckIzonMoji(A347)","v":false},false,false,false,false,false,false,false,false,false,false,false,false,{"$f":"IF(Q347,IF(AND(LEN(O347)=7,COUNTIF(集荷不可!$A:$A,O347)=0),FALSE,TRUE),FALSE)","v":false},false,false]
[null,null,null,null,null,null,null,null,null,null,null,null,null,null,"","",false,{"$f":"CheckIzonMoji(A348)","v":false},false,false,false,false,false,false,false,false,false,false,false,false,{"$f":"IF(Q348,IF(AND(LEN(O348)=7,COUNTIF(集荷不可!$A:$A,O348)=0),FALSE,TRUE),FALSE)","v":false},false,false]
[null,null,null,null,null,null,null,null,null,null,null,null,null,null,"","",false,{"$f":"CheckIzonMoji(A349)","v":false},false,false,false,false,false,false,false,false,false,false,false,false,{"$f":"IF(Q349,IF(AND(LEN(O349)=7,COUNTIF(集荷不可!$A:$A,O349)=0),FALSE,TRUE),FALSE)","v":false},false,false]
[null,null,null,null,null,null,null,null,null,null,null,null,null,null,"","",false,{"$f":"CheckIzonMoji(A350)","v":false},false,false,false,false,false,false,false,false,false,false,false,false,{"$f":"IF(Q350,IF(AND(LEN(O350)=7,COUNTIF(集荷不可!$A:$A,O350)=0),FALSE,TRUE),FALSE)","v":false},false,false]
[null,null,null,null,null,null,null,null,null,null,null,null,null,null,"","",false,{"$f":"CheckIzonMoji(A351)","v":false},false,false,false,false,false,false,false,false,false,false,false,false,{"$f":"IF(Q351,IF(AND(LEN(O351)=7,COUNTIF(集荷不可!$A:$A,O351)=0),FALSE,TRUE),FALSE)","v":false},false,false]
[null,null,null,null,null,null,null,null,null,null,null,null,null,null,"","",false,{"$f":"CheckIzonMoji(A352)","v":false},false,false,false,false,false,false,false,false,false,false,false,false,{"$f":"IF(Q352,IF(AND(LEN(O352)=7,COUNTIF(集荷不可!$A:$A,O352)=0),FALSE,TRUE),FALSE)","v":false},false,false]
[null,null,null,null,null,null,null,null,null,null,null,null,null,null,"","",false,{"$f":"CheckIzonMoji(A353)","v":false},false,false,false,false,false,false,false,false,false,false,false,false,{"$f":"IF(Q353,IF(AND(LEN(O353)=7,COUNTIF(集荷不可!$A:$A,O353)=0),FALSE,TRUE),FALSE)","v":false},false,false]
[null,null,null,null,null,null,null,null,null,null,null,null,null,null,"","",false,{"$f":"CheckIzonMoji(A354)","v":false},false,false,false,false,false,false,false,false,false,false,false,false,{"$f":"IF(Q354,IF(AND(LEN(O354)=7,COUNTIF(集荷不可!$A:$A,O354)=0),FALSE,TRUE),FALSE)","v":false},false,false]
[null,null,null,null,null,null,null,null,null,null,null,null,null,null,"","",false,{"$f":"CheckIzonMoji(A355)","v":false},false,false,false,false,false,false,false,false,false,false,false,false,{"$f":"IF(Q355,IF(AND(LEN(O355)=7,COUNTIF(集荷不可!$A:$A,O355)=0),FALSE,TRUE),FALSE)","v":false},false,false]
[null,null,null,null,null,null,null,null,null,null,null,null,null,null,"","",false,{"$f":"CheckIzonMoji(A356)","v":false},false,false,false,false,false,false,false,false,false,false,false,false,{"$f":"IF(Q356,IF(AND(LEN(O356)=7,COUNTIF(集荷不可!$A:$A,O356)=0),FALSE,TRUE),FALSE)","v":false},false,false]
[null,null,null,null,null,null,null,null,null,null,null,null,null,null,"","",false,{"$f":"CheckIzonMoji(A357)","v":false},false,false,false,false,false,false,false,false,false,false,false,false,{"$f":"IF(Q357,IF(AND(LEN(O357)=7,COUNTIF(集荷不可!$A:$A,O357)=0),FALSE,TRUE),FALSE)","v":false},false,false]
[null,null,null,null,null,null,null,null,null,null,null,null,null,null,"","",false,{"$f":"CheckIzonMoji(A358)","v":false},false,false,false,false,false,false,false,false,false,false,false,false,{"$f":"IF(Q358,IF(AND(LEN(O358)=7,COUNTIF(集荷不可!$A:$A,O358)=0),FALSE,TRUE),FALSE)","v":false},false,false]
[null,null,null,null,null,null,null,null,null,null,null,null,null,null,"","",false,{"$f":"CheckIzonMoji(A359)","v":false},false,false,false,false,false,false,false,false,false,false,false,false,{"$f":"IF(Q359,IF(AND(LEN(O359)=7,COUNTIF(集荷不可!$A:$A,O359)=0),FALSE,TRUE),FALSE)","v":false},false,false]
[null,null,null,null,null,null,null,null,null,null,null,null,null,null,"","",false,{"$f":"CheckIzonMoji(A360)","v":false},false,false,false,false,false,false,false,false,false,false,false,false,{"$f":"IF(Q360,IF(AND(LEN(O360)=7,COUNTIF(集荷不可!$A:$A,O360)=0),FALSE,TRUE),FALSE)","v":false},false,false]
[null,null,null,null,null,null,null,null,null,null,null,null,null,null,"","",false,{"$f":"CheckIzonMoji(A361)","v":false},false,false,false,false,false,false,false,false,false,false,false,false,{"$f":"IF(Q361,IF(AND(LEN(O361)=7,COUNTIF(集荷不可!$A:$A,O361)=0),FALSE,TRUE),FALSE)","v":false},false,false]
[null,null,null,null,null,null,null,null,null,null,null,null,null,null,"","",false,{"$f":"CheckIzonMoji(A362)","v":false},false,false,false,false,false,false,false,false,false,false,false,false,{"$f":"IF(Q362,IF(AND(LEN(O362)=7,COUNTIF(集荷不可!$A:$A,O362)=0),FALSE,TRUE),FALSE)","v":false},false,false]
[null,null,null,null,null,null,null,null,null,null,null,null,null,null,"","",false,{"$f":"CheckIzonMoji(A363)","v":false},false,false,false,false,false,false,false,false,false,false,false,false,{"$f":"IF(Q363,IF(AND(LEN(O363)=7,COUNTIF(集荷不可!$A:$A,O363)=0),FALSE,TRUE),FALSE)","v":false},false,false]
[null,null,null,null,null,null,null,null,null,null,null,null,null,null,"","",false,{"$f":"CheckIzonMoji(A364)","v":false},false,false,false,false,false,false,false,false,false,false,false,false,{"$f":"IF(Q364,IF(AND(LEN(O364)=7,COUNTIF(集荷不可!$A:$A,O364)=0),FALSE,TRUE),FALSE)","v":false},false,false]
[null,null,null,null,null,null,null,null,null,null,null,null,null,null,"","",false,{"$f":"CheckIzonMoji(A365)","v":false},false,false,false,false,false,false,false,false,false,false,false,false,{"$f":"IF(Q365,IF(AND(LEN(O365)=7,COUNTIF(集荷不可!$A:$A,O365)=0),FALSE,TRUE),FALSE)","v":false},false,false]
[null,null,null,null,null,null,null,null,null,null,null,null,null,null,"","",false,{"$f":"CheckIzonMoji(A366)","v":false},false,false,false,false,false,false,false,false,false,false,false,false,{"$f":"IF(Q366,IF(AND(LEN(O366)=7,COUNTIF(集荷不可!$A:$A,O366)=0),FALSE,TRUE),FALSE)","v":false},false,false]
[null,null,null,null,null,null,null,null,null,null,null,null,null,null,"","",false,{"$f":"CheckIzonMoji(A367)","v":false},false,false,false,false,false,false,false,false,false,false,false,false,{"$f":"IF(Q367,IF(AND(LEN(O367)=7,COUNTIF(集荷不可!$A:$A,O367)=0),FALSE,TRUE),FALSE)","v":false},false,false]
[null,null,null,null,null,null,null,null,null,null,null,null,null,null,"","",false,{"$f":"CheckIzonMoji(A368)","v":false},false,false,false,false,false,false,false,false,false,false,false,false,{"$f":"IF(Q368,IF(AND(LEN(O368)=7,COUNTIF(集荷不可!$A:$A,O368)=0),FALSE,TRUE),FALSE)","v":false},false,false]
[null,null,null,null,null,null,null,null,null,null,null,null,null,null,"","",false,{"$f":"CheckIzonMoji(A369)","v":false},false,false,false,false,false,false,false,false,false,false,false,false,{"$f":"IF(Q369,IF(AND(LEN(O369)=7,COUNTIF(集荷不可!$A:$A,O369)=0),FALSE,TRUE),FALSE)","v":false},false,false]
[null,null,null,null,null,null,null,null,null,null,null,null,null,null,"","",false,{"$f":"CheckIzonMoji(A370)","v":false},false,false,false,false,false,false,false,false,false,false,false,false,{"$f":"IF(Q370,IF(AND(LEN(O370)=7,COUNTIF(集荷不可!$A:$A,O370)=0),FALSE,TRUE),FALSE)","v":false},false,false]
[null,null,null,null,null,null,null,null,null,null,null,null,null,null,"","",false,{"$f":"CheckIzonMoji(A371)","v":false},false,false,false,false,false,false,false,false,false,false,false,false,{"$f":"IF(Q371,IF(AND(LEN(O371)=7,COUNTIF(集荷不可!$A:$A,O371)=0),FALSE,TRUE),FALSE)","v":false},false,false]
[null,null,null,null,null,null,null,null,null,null,null,null,null,null,"","",false,{"$f":"CheckIzonMoji(A372)","v":false},false,false,false,false,false,false,false,false,false,false,false,false,{"$f":"IF(Q372,IF(AND(LEN(O372)=7,COUNTIF(集荷不可!$A:$A,O372)=0),FALSE,TRUE),FALSE)","v":false},false,false]
[null,null,null,null,null,null,null,null,null,null,null,null,null,null,"","",false,{"$f":"CheckIzonMoji(A373)","v":false},false,false,false,false,false,false,false,false,false,false,false,false,{"$f":"IF(Q373,IF(AND(LEN(O373)=7,COUNTIF(集荷不可!$A:$A,O373)=0),FALSE,TRUE),FALSE)","v":false},false,false]
[null,null,null,null,null,null,null,null,null,null,null,null,null,null,"","",false,{"$f":"CheckIzonMoji(A374)","v":false},false,false,false,false,false,false,false,false,false,false,false,false,{"$f":"IF(Q374,IF(AND(LEN(O374)=7,COUNTIF(集荷不可!$A:$A,O374)=0),FALSE,TRUE),FALSE)","v":false},false,false]
[null,null,null,null,null,null,null,null,null,null,null,null,null,null,"","",false,{"$f":"CheckIzonMoji(A375)","v":false},false,false,false,false,false,false,false,false,false,false,false,false,{"$f":"IF(Q375,IF(AND(LEN(O375)=7,COUNTIF(集荷不可!$A:$A,O375)=0),FALSE,TRUE),FALSE)","v":false},false,false]
[null,null,null,null,null,null,null,null,null,null,null,null,null,null,"","",false,{"$f":"CheckIzonMoji(A376)","v":false},false,false,false,false,false,false,false,false,false,false,false,false,{"$f":"IF(Q376,IF(AND(LEN(O376)=7,COUNTIF(集荷不可!$A:$A,O376)=0),FALSE,TRUE),FALSE)","v":false},false,false]
[null,null,null,null,null,null,null,null,null,null,null,null,null,null,"","",false,{"$f":"CheckIzonMoji(A377)","v":false},false,false,false,false,false,false,false,false,false,false,false,false,{"$f":"IF(Q377,IF(AND(LEN(O377)=7,COUNTIF(集荷不可!$A:$A,O377)=0),FALSE,TRUE),FALSE)","v":false},false,false]
[null,null,null,null,null,null,null,null,null,null,null,null,null,null,"","",false,{"$f":"CheckIzonMoji(A378)","v":false},false,false,false,false,false,false,false,false,false,false,false,false,{"$f":"IF(Q378,IF(AND(LEN(O378)=7,COUNTIF(集荷不可!$A:$A,O378)=0),FALSE,TRUE),FALSE)","v":false},false,false]
[null,null,null,null,null,null,null,null,null,null,null,null,null,null,"","",false,{"$f":"CheckIzonMoji(A379)","v":false},false,false,false,false,false,false,false,false,false,false,false,false,{"$f":"IF(Q379,IF(AND(LEN(O379)=7,COUNTIF(集荷不可!$A:$A,O379)=0),FALSE,TRUE),FALSE)","v":false},false,false]
[null,null,null,null,null,null,null,null,null,null,null,null,null,null,"","",false,{"$f":"CheckIzonMoji(A380)","v":false},false,false,false,false,false,false,false,false,false,false,false,false,{"$f":"IF(Q380,IF(AND(LEN(O380)=7,COUNTIF(集荷不可!$A:$A,O380)=0),FALSE,TRUE),FALSE)","v":false},false,false]
[null,null,null,null,null,null,null,null,null,null,null,null,null,null,"","",false,{"$f":"CheckIzonMoji(A381)","v":false},false,false,false,false,false,false,false,false,false,false,false,false,{"$f":"IF(Q381,IF(AND(LEN(O381)=7,COUNTIF(集荷不可!$A:$A,O381)=0),FALSE,TRUE),FALSE)","v":false},false,false]
[null,null,null,null,null,null,null,null,null,null,null,null,null,null,"","",false,{"$f":"CheckIzonMoji(A382)","v":false},false,false,false,false,false,false,false,false,false,false,false,false,{"$f":"IF(Q382,IF(AND(LEN(O382)=7,COUNTIF(集荷不可!$A:$A,O382)=0),FALSE,TRUE),FALSE)","v":false},false,false]
[null,null,null,null,null,null,null,null,null,null,null,null,null,null,"","",false,{"$f":"CheckIzonMoji(A383)","v":false},false,false,false,false,false,false,false,false,false,false,false,false,{"$f":"IF(Q383,IF(AND(LEN(O383)=7,COUNTIF(集荷不可!$A:$A,O383)=0),FALSE,TRUE),FALSE)","v":false},false,false]
[null,null,null,null,null,null,null,null,null,null,null,null,null,null,"","",false,{"$f":"CheckIzonMoji(A384)","v":false},false,false,false,false,false,false,false,false,false,false,false,false,{"$f":"IF(Q384,IF(AND(LEN(O384)=7,COUNTIF(集荷不可!$A:$A,O384)=0),FALSE,TRUE),FALSE)","v":false},false,false]
[null,null,null,null,null,null,null,null,null,null,null,null,null,null,"","",false,{"$f":"CheckIzonMoji(A385)","v":false},false,false,false,false,false,false,false,false,false,false,false,false,{"$f":"IF(Q385,IF(AND(LEN(O385)=7,COUNTIF(集荷不可!$A:$A,O385)=0),FALSE,TRUE),FALSE)","v":false},false,false]
[null,null,null,null,null,null,null,null,null,null,null,null,null,null,"","",false,{"$f":"CheckIzonMoji(A386)","v":false},false,false,false,false,false,false,false,false,false,false,false,false,{"$f":"IF(Q386,IF(AND(LEN(O386)=7,COUNTIF(集荷不可!$A:$A,O386)=0),FALSE,TRUE),FALSE)","v":false},false,false]
[null,null,null,null,null,null,null,null,null,null,null,null,null,null,"","",false,{"$f":"CheckIzonMoji(A387)","v":false},false,false,false,false,false,false,false,false,false,false,false,false,{"$f":"IF(Q387,IF(AND(LEN(O387)=7,COUNTIF(集荷不可!$A:$A,O387)=0),FALSE,TRUE),FALSE)","v":false},false,false]
[null,null,null,null,null,null,null,null,null,null,null,null,null,null,"","",false,{"$f":"CheckIzonMoji(A388)","v":false},false,false,false,false,false,false,false,false,false,false,false,false,{"$f":"IF(Q388,IF(AND(LEN(O388)=7,COUNTIF(集荷不可!$A:$A,O388)=0),FALSE,TRUE),FALSE)","v":false},false,false]
[null,null,null,null,null,null,null,null,null,null,null,null,null,null,"","",false,{"$f":"CheckIzonMoji(A389)","v":false},false,false,false,false,false,false,false,false,false,false,false,false,{"$f":"IF(Q389,IF(AND(LEN(O389)=7,COUNTIF(集荷不可!$A:$A,O389)=0),FALSE,TRUE),FALSE)","v":false},false,false]
[null,null,null,null,null,null,null,null,null,null,null,null,null,null,"","",false,{"$f":"CheckIzonMoji(A390)","v":false},false,false,false,false,false,false,false,false,false,false,false,false,{"$f":"IF(Q390,IF(AND(LEN(O390)=7,COUNTIF(集荷不可!$A:$A,O390)=0),FALSE,TRUE),FALSE)","v":false},false,false]
[null,null,null,null,null,null,null,null,null,null,null,null,null,null,"","",{"$f":"IF(LEN(A391&B391&C391&D391&E391&F391&G391&H391&I391&J391&K391&L391&M391&N391)=0,FALSE,TRUE)","v":false},{"$f":"CheckIzonMoji(A391)","v":false},{"$f":"IF(Q391,IF(AND(LENB(A391)>2,LENB(A391)<33),FALSE,TRUE),FALSE)","v":false},{"$f":"IF(Q391,IF(B391=\"\",TRUE,FALSE),FALSE)","v":false},{"$f":"IF(Q391,IF(OR(C391=\"\",ISERR(DAY(C391))),TRUE,FALSE),FALSE)","v":false},{"$f":"IF(Q391,IF(D391=\"\",TRUE,FALSE),FALSE)","v":false},{"$f":"IF(Q391,IF(AND(LENB(F391)>1,LENB(F391)<65),FALSE,TRUE),FALSE)","v":false},{"$f":"IF(LENB(G391)<33,FALSE,TRUE)","v":false},{"$f":"IF(LENB(H391)<51,FALSE,TRUE)","v":false},{"$f":"IF(LENB(I391)<51,FALSE,TRUE)","v":false},{"$f":"IF(Q391,IF(AND(LENB(J391)>2,LENB(J391)<16),FALSE,TRUE),FALSE)","v":false},{"$f":"IF(Q391,IF(AND(LENB(K391)<61),FALSE,TRUE),FALSE)","v":false},{"$f":"IF(Q391,IF(AND(LENB(L391)<9),FALSE,TRUE),FALSE)","v":false},{"$f":"IF(Q391,IF(N391=\"\",TRUE,FALSE),FALSE)","v":false},{"$f":"IF(Q391,IF(AND(LEN(O391)=7,COUNTIF(集荷不可!$A:$A,O391)=0),FALSE,TRUE),FALSE)","v":false},{"$f":"IF(ISERROR(FIND(\".@\",K391)),FALSE,TRUE)","v":false},{"$f":"IF(LENB(M391)<9,FALSE,TRUE)","v":false}]
[null,null,null,null,null,null,null,null,null,null,null,null,null,null,"","",false,{"$f":"CheckIzonMoji(A392)","v":false},false,false,false,false,false,false,false,false,false,false,false,false,{"$f":"IF(Q392,IF(AND(LEN(O392)=7,COUNTIF(集荷不可!$A:$A,O392)=0),FALSE,TRUE),FALSE)","v":false},false,false]
[null,null,null,null,null,null,null,null,null,null,null,null,null,null,{"$f":"SUBSTITUTE(E393,\"-\",\"\")","v":""},{"$f":"LEFT(N393,1)","v":""},false,{"$f":"CheckIzonMoji(A393)","v":false},false,false,false,false,false,false,false,false,false,false,false,false,{"$f":"IF(Q393,IF(AND(LEN(O393)=7,COUNTIF(集荷不可!$A:$A,O393)=0),FALSE,TRUE),FALSE)","v":false},false,false]
[null,null,null,null,null,null,null,null,null,null,null,null,null,null,"","",false,{"$f":"CheckIzonMoji(A394)","v":false},false,false,false,false,false,false,false,false,false,false,false,false,{"$f":"IF(Q394,IF(AND(LEN(O394)=7,COUNTIF(集荷不可!$A:$A,O394)=0),FALSE,TRUE),FALSE)","v":false},false,false]
[null,null,null,null,null,null,null,null,null,null,null,null,null,null,"","",false,{"$f":"CheckIzonMoji(A395)","v":false},false,false,false,false,false,false,false,false,false,false,false,false,{"$f":"IF(Q395,IF(AND(LEN(O395)=7,COUNTIF(集荷不可!$A:$A,O395)=0),FALSE,TRUE),FALSE)","v":false},false,false]
[null,null,null,null,null,null,null,null,null,null,null,null,null,null,"","",false,{"$f":"CheckIzonMoji(A396)","v":false},false,false,false,false,false,false,false,false,false,false,false,false,{"$f":"IF(Q396,IF(AND(LEN(O396)=7,COUNTIF(集荷不可!$A:$A,O396)=0),FALSE,TRUE),FALSE)","v":false},false,false]
[null,null,null,null,null,null,null,null,null,null,null,null,null,null,"","",false,{"$f":"CheckIzonMoji(A397)","v":false},false,false,false,false,false,false,false,false,false,false,false,false,{"$f":"IF(Q397,IF(AND(LEN(O397)=7,COUNTIF(集荷不可!$A:$A,O397)=0),FALSE,TRUE),FALSE)","v":false},false,false]
[null,null,null,null,null,null,null,null,null,null,null,null,null,null,"","",false,{"$f":"CheckIzonMoji(A398)","v":false},false,false,false,false,false,false,false,false,false,false,false,false,{"$f":"IF(Q398,IF(AND(LEN(O398)=7,COUNTIF(集荷不可!$A:$A,O398)=0),FALSE,TRUE),FALSE)","v":false},false,false]
[null,null,null,null,null,null,null,null,null,null,null,null,null,null,"","",false,{"$f":"CheckIzonMoji(A399)","v":false},false,false,false,false,false,false,false,false,false,false,false,false,{"$f":"IF(Q399,IF(AND(LEN(O399)=7,COUNTIF(集荷不可!$A:$A,O399)=0),FALSE,TRUE),FALSE)","v":false},false,false]
[null,null,null,null,null,null,null,null,null,null,null,null,null,null,"","",false,{"$f":"CheckIzonMoji(A400)","v":false},false,false,false,false,false,false,false,false,false,false,false,false,{"$f":"IF(Q400,IF(AND(LEN(O400)=7,COUNTIF(集荷不可!$A:$A,O400)=0),FALSE,TRUE),FALSE)","v":false},false,false]
[null,null,null,null,null,null,null,null,null,null,null,null,null,null,"","",false,{"$f":"CheckIzonMoji(A401)","v":false},false,false,false,false,false,false,false,false,false,false,false,false,{"$f":"IF(Q401,IF(AND(LEN(O401)=7,COUNTIF(集荷不可!$A:$A,O401)=0),FALSE,TRUE),FALSE)","v":false},false,false]
[null,null,null,null,null,null,null,null,null,null,null,null,null,null,"","",false,{"$f":"CheckIzonMoji(A402)","v":false},false,false,false,false,false,false,false,false,false,false,false,false,{"$f":"IF(Q402,IF(AND(LEN(O402)=7,COUNTIF(集荷不可!$A:$A,O402)=0),FALSE,TRUE),FALSE)","v":false},false,false]
[null,null,null,null,null,null,null,null,null,null,null,null,null,null,"","",false,{"$f":"CheckIzonMoji(A403)","v":false},false,false,false,false,false,false,false,false,false,false,false,false,{"$f":"IF(Q403,IF(AND(LEN(O403)=7,COUNTIF(集荷不可!$A:$A,O403)=0),FALSE,TRUE),FALSE)","v":false},false,false]
[null,null,null,null,null,null,null,null,null,null,null,null,null,null,"","",false,{"$f":"CheckIzonMoji(A404)","v":false},false,false,false,false,false,false,false,false,false,false,false,false,{"$f":"IF(Q404,IF(AND(LEN(O404)=7,COUNTIF(集荷不可!$A:$A,O404)=0),FALSE,TRUE),FALSE)","v":false},false,false]
[null,null,null,null,null,null,null,null,null,null,null,null,null,null,"","",false,{"$f":"CheckIzonMoji(A405)","v":false},false,false,false,false,false,false,false,false,false,false,false,false,{"$f":"IF(Q405,IF(AND(LEN(O405)=7,COUNTIF(集荷不可!$A:$A,O405)=0),FALSE,TRUE),FALSE)","v":false},false,false]
[null,null,null,null,null,null,null,null,null,null,null,null,null,null,"","",false,{"$f":"CheckIzonMoji(A406)","v":false},false,false,false,false,false,false,false,false,false,false,false,false,{"$f":"IF(Q406,IF(AND(LEN(O406)=7,COUNTIF(集荷不可!$A:$A,O406)=0),FALSE,TRUE),FALSE)","v":false},false,false]
[null,null,null,null,null,null,null,null,null,null,null,null,null,null,"","",false,{"$f":"CheckIzonMoji(A407)","v":false},false,false,false,false,false,false,false,false,false,false,false,false,{"$f":"IF(Q407,IF(AND(LEN(O407)=7,COUNTIF(集荷不可!$A:$A,O407)=0),FALSE,TRUE),FALSE)","v":false},false,false]
[null,null,null,null,null,null,null,null,null,null,null,null,null,null,"","",false,{"$f":"CheckIzonMoji(A408)","v":false},false,false,false,false,false,false,false,false,false,false,false,false,{"$f":"IF(Q408,IF(AND(LEN(O408)=7,COUNTIF(集荷不可!$A:$A,O408)=0),FALSE,TRUE),FALSE)","v":false},false,false]
[null,null,null,null,null,null,null,null,null,null,null,null,null,null,"","",false,{"$f":"CheckIzonMoji(A409)","v":false},false,false,false,false,false,false,false,false,false,false,false,false,{"$f":"IF(Q409,IF(AND(LEN(O409)=7,COUNTIF(集荷不可!$A:$A,O409)=0),FALSE,TRUE),FALSE)","v":false},false,false]
[null,null,null,null,null,null,null,null,null,null,null,null,null,null,"","",false,{"$f":"CheckIzonMoji(A410)","v":false},false,false,false,false,false,false,false,false,false,false,false,false,{"$f":"IF(Q410,IF(AND(LEN(O410)=7,COUNTIF(集荷不可!$A:$A,O410)=0),FALSE,TRUE),FALSE)","v":false},false,false]
[null,null,null,null,null,null,null,null,null,null,null,null,null,null,"","",false,{"$f":"CheckIzonMoji(A411)","v":false},false,false,false,false,false,false,false,false,false,false,false,false,{"$f":"IF(Q411,IF(AND(LEN(O411)=7,COUNTIF(集荷不可!$A:$A,O411)=0),FALSE,TRUE),FALSE)","v":false},false,false]
[null,null,null,null,null,null,null,null,null,null,null,null,null,null,"","",false,{"$f":"CheckIzonMoji(A412)","v":false},false,false,false,false,false,false,false,false,false,false,false,false,{"$f":"IF(Q412,IF(AND(LEN(O412)=7,COUNTIF(集荷不可!$A:$A,O412)=0),FALSE,TRUE),FALSE)","v":false},false,false]
[null,null,null,null,null,null,null,null,null,null,null,null,null,null,"","",false,{"$f":"CheckIzonMoji(A413)","v":false},false,false,false,false,false,false,false,false,false,false,false,false,{"$f":"IF(Q413,IF(AND(LEN(O413)=7,COUNTIF(集荷不可!$A:$A,O413)=0),FALSE,TRUE),FALSE)","v":false},false,false]
[null,null,null,null,null,null,null,null,null,null,null,null,null,null,"","",false,{"$f":"CheckIzonMoji(A414)","v":false},false,false,false,false,false,false,false,false,false,false,false,false,{"$f":"IF(Q414,IF(AND(LEN(O414)=7,COUNTIF(集荷不可!$A:$A,O414)=0),FALSE,TRUE),FALSE)","v":false},false,false]
[null,null,null,null,null,null,null,null,null,null,null,null,null,null,"","",false,{"$f":"CheckIzonMoji(A415)","v":false},false,false,false,false,false,false,false,false,false,false,false,false,{"$f":"IF(Q415,IF(AND(LEN(O415)=7,COUNTIF(集荷不可!$A:$A,O415)=0),FALSE,TRUE),FALSE)","v":false},false,false]
[null,null,null,null,null,null,null,null,null,null,null,null,null,null,"","",false,{"$f":"CheckIzonMoji(A416)","v":false},false,false,false,false,false,false,false,false,false,false,false,false,{"$f":"IF(Q416,IF(AND(LEN(O416)=7,COUNTIF(集荷不可!$A:$A,O416)=0),FALSE,TRUE),FALSE)","v":false},false,false]
[null,null,null,null,null,null,null,null,null,null,null,null,null,null,"","",false,{"$f":"CheckIzonMoji(A417)","v":false},false,false,false,false,false,false,false,false,false,false,false,false,{"$f":"IF(Q417,IF(AND(LEN(O417)=7,COUNTIF(集荷不可!$A:$A,O417)=0),FALSE,TRUE),FALSE)","v":false},false,false]
[null,null,null,null,null,null,null,null,null,null,null,null,null,null,"","",false,{"$f":"CheckIzonMoji(A418)","v":false},false,false,false,false,false,false,false,false,false,false,false,false,{"$f":"IF(Q418,IF(AND(LEN(O418)=7,COUNTIF(集荷不可!$A:$A,O418)=0),FALSE,TRUE),FALSE)","v":false},false,false]
[null,null,null,null,null,null,null,null,null,null,null,null,null,null,"","",false,{"$f":"CheckIzonMoji(A419)","v":false},false,false,false,false,false,false,false,false,false,false,false,false,{"$f":"IF(Q419,IF(AND(LEN(O419)=7,COUNTIF(集荷不可!$A:$A,O419)=0),FALSE,TRUE),FALSE)","v":false},false,false]
[null,null,null,null,null,null,null,null,null,null,null,null,null,null,"","",false,{"$f":"CheckIzonMoji(A420)","v":false},false,false,false,false,false,false,false,false,false,false,false,false,{"$f":"IF(Q420,IF(AND(LEN(O420)=7,COUNTIF(集荷不可!$A:$A,O420)=0),FALSE,TRUE),FALSE)","v":false},false,false]
[null,null,null,null,null,null,null,null,null,null,null,null,null,null,"","",false,{"$f":"CheckIzonMoji(A421)","v":false},false,false,false,false,false,false,false,false,false,false,false,false,{"$f":"IF(Q421,IF(AND(LEN(O421)=7,COUNTIF(集荷不可!$A:$A,O421)=0),FALSE,TRUE),FALSE)","v":false},false,false]
[null,null,null,null,null,null,null,null,null,null,null,null,null,null,"","",false,{"$f":"CheckIzonMoji(A422)","v":false},false,false,false,false,false,false,false,false,false,false,false,false,{"$f":"IF(Q422,IF(AND(LEN(O422)=7,COUNTIF(集荷不可!$A:$A,O422)=0),FALSE,TRUE),FALSE)","v":false},false,false]
[null,null,null,null,null,null,null,null,null,null,null,null,null,null,"","",false,{"$f":"CheckIzonMoji(A423)","v":false},false,false,false,false,false,false,false,false,false,false,false,false,{"$f":"IF(Q423,IF(AND(LEN(O423)=7,COUNTIF(集荷不可!$A:$A,O423)=0),FALSE,TRUE),FALSE)","v":false},false,false]
[null,null,null,null,null,null,null,null,null,null,null,null,null,null,"","",false,{"$f":"CheckIzonMoji(A424)","v":false},false,false,false,false,false,false,false,false,false,false,false,false,{"$f":"IF(Q424,IF(AND(LEN(O424)=7,COUNTIF(集荷不可!$A:$A,O424)=0),FALSE,TRUE),FALSE)","v":false},false,false]
[null,null,null,null,null,null,null,null,null,null,null,null,null,null,"","",false,{"$f":"CheckIzonMoji(A425)","v":false},false,false,false,false,false,false,false,false,false,false,false,false,{"$f":"IF(Q425,IF(AND(LEN(O425)=7,COUNTIF(集荷不可!$A:$A,O425)=0),FALSE,TRUE),FALSE)","v":false},false,false]
[null,null,null,null,null,null,null,null,null,null,null,null,null,null,"","",false,{"$f":"CheckIzonMoji(A426)","v":false},false,false,false,false,false,false,false,false,false,false,false,false,{"$f":"IF(Q426,IF(AND(LEN(O426)=7,COUNTIF(集荷不可!$A:$A,O426)=0),FALSE,TRUE),FALSE)","v":false},false,false]
[null,null,null,null,null,null,null,null,null,null,null,null,null,null,"","",false,{"$f":"CheckIzonMoji(A427)","v":false},false,false,false,false,false,false,false,false,false,false,false,false,{"$f":"IF(Q427,IF(AND(LEN(O427)=7,COUNTIF(集荷不可!$A:$A,O427)=0),FALSE,TRUE),FALSE)","v":false},false,false]
[null,null,null,null,null,null,null,null,null,null,null,null,null,null,"","",false,{"$f":"CheckIzonMoji(A428)","v":false},false,false,false,false,false,false,false,false,false,false,false,false,{"$f":"IF(Q428,IF(AND(LEN(O428)=7,COUNTIF(集荷不可!$A:$A,O428)=0),FALSE,TRUE),FALSE)","v":false},false,false]
[null,null,null,null,null,null,null,null,null,null,null,null,null,null,"","",false,{"$f":"CheckIzonMoji(A429)","v":false},false,false,false,false,false,false,false,false,false,false,false,false,{"$f":"IF(Q429,IF(AND(LEN(O429)=7,COUNTIF(集荷不可!$A:$A,O429)=0),FALSE,TRUE),FALSE)","v":false},false,false]
[null,null,null,null,null,null,null,null,null,null,null,null,null,null,"","",false,{"$f":"CheckIzonMoji(A430)","v":false},false,false,false,false,false,false,false,false,false,false,false,false,{"$f":"IF(Q430,IF(AND(LEN(O430)=7,COUNTIF(集荷不可!$A:$A,O430)=0),FALSE,TRUE),FALSE)","v":false},false,false]
[null,null,null,null,null,null,null,null,null,null,null,null,null,null,"","",false,{"$f":"CheckIzonMoji(A431)","v":false},false,false,false,false,false,false,false,false,false,false,false,false,{"$f":"IF(Q431,IF(AND(LEN(O431)=7,COUNTIF(集荷不可!$A:$A,O431)=0),FALSE,TRUE),FALSE)","v":false},false,false]
[null,null,null,null,null,null,null,null,null,null,null,null,null,null,"","",false,{"$f":"CheckIzonMoji(A432)","v":false},false,false,false,false,false,false,false,false,false,false,false,false,{"$f":"IF(Q432,IF(AND(LEN(O432)=7,COUNTIF(集荷不可!$A:$A,O432)=0),FALSE,TRUE),FALSE)","v":false},false,false]
[null,null,null,null,null,null,null,null,null,null,null,null,null,null,"","",false,{"$f":"CheckIzonMoji(A433)","v":false},false,false,false,false,false,false,false,false,false,false,false,false,{"$f":"IF(Q433,IF(AND(LEN(O433)=7,COUNTIF(集荷不可!$A:$A,O433)=0),FALSE,TRUE),FALSE)","v":false},false,false]
[null,null,null,null,null,null,null,null,null,null,null,null,null,null,"","",false,{"$f":"CheckIzonMoji(A434)","v":false},false,false,false,false,false,false,false,false,false,false,false,false,{"$f":"IF(Q434,IF(AND(LEN(O434)=7,COUNTIF(集荷不可!$A:$A,O434)=0),FALSE,TRUE),FALSE)","v":false},false,false]
[null,null,null,null,null,null,null,null,null,null,null,null,null,null,"","",false,{"$f":"CheckIzonMoji(A435)","v":false},false,false,false,false,false,false,false,false,false,false,false,false,{"$f":"IF(Q435,IF(AND(LEN(O435)=7,COUNTIF(集荷不可!$A:$A,O435)=0),FALSE,TRUE),FALSE)","v":false},false,false]
[null,null,null,null,null,null,null,null,null,null,null,null,null,null,"","",false,{"$f":"CheckIzonMoji(A436)","v":false},false,false,false,false,false,false,false,false,false,false,false,false,{"$f":"IF(Q436,IF(AND(LEN(O436)=7,COUNTIF(集荷不可!$A:$A,O436)=0),FALSE,TRUE),FALSE)","v":false},false,false]
[null,null,null,null,null,null,null,null,null,null,null,null,null,null,"","",false,{"$f":"CheckIzonMoji(A437)","v":false},false,false,false,false,false,false,false,false,false,false,false,false,{"$f":"IF(Q437,IF(AND(LEN(O437)=7,COUNTIF(集荷不可!$A:$A,O437)=0),FALSE,TRUE),FALSE)","v":false},false,false]
[null,null,null,null,null,null,null,null,null,null,null,null,null,null,"","",false,{"$f":"CheckIzonMoji(A438)","v":false},false,false,false,false,false,false,false,false,false,false,false,false,{"$f":"IF(Q438,IF(AND(LEN(O438)=7,COUNTIF(集荷不可!$A:$A,O438)=0),FALSE,TRUE),FALSE)","v":false},false,false]
[null,null,null,null,null,null,null,null,null,null,null,null,null,null,"","",false,{"$f":"CheckIzonMoji(A439)","v":false},false,false,false,false,false,false,false,false,false,false,false,false,{"$f":"IF(Q439,IF(AND(LEN(O439)=7,COUNTIF(集荷不可!$A:$A,O439)=0),FALSE,TRUE),FALSE)","v":false},false,false]
[null,null,null,null,null,null,null,null,null,null,null,null,null,null,"","",false,{"$f":"CheckIzonMoji(A440)","v":false},false,false,false,false,false,false,false,false,false,false,false,false,{"$f":"IF(Q440,IF(AND(LEN(O440)=7,COUNTIF(集荷不可!$A:$A,O440)=0),FALSE,TRUE),FALSE)","v":false},false,false]
[null,null,null,null,null,null,null,null,null,null,null,null,null,null,"","",false,{"$f":"CheckIzonMoji(A441)","v":false},false,false,false,false,false,false,false,false,false,false,false,false,{"$f":"IF(Q441,IF(AND(LEN(O441)=7,COUNTIF(集荷不可!$A:$A,O441)=0),FALSE,TRUE),FALSE)","v":false},false,false]
[null,null,null,null,null,null,null,null,null,null,null,null,null,null,"","",false,{"$f":"CheckIzonMoji(A442)","v":false},false,false,false,false,false,false,false,false,false,false,false,false,{"$f":"IF(Q442,IF(AND(LEN(O442)=7,COUNTIF(集荷不可!$A:$A,O442)=0),FALSE,TRUE),FALSE)","v":false},false,false]
[null,null,null,null,null,null,null,null,null,null,null,null,null,null,"","",false,{"$f":"CheckIzonMoji(A443)","v":false},false,false,false,false,false,false,false,false,false,false,false,false,{"$f":"IF(Q443,IF(AND(LEN(O443)=7,COUNTIF(集荷不可!$A:$A,O443)=0),FALSE,TRUE),FALSE)","v":false},false,false]
[null,null,null,null,null,null,null,null,null,null,null,null,null,null,"","",false,{"$f":"CheckIzonMoji(A444)","v":false},false,false,false,false,false,false,false,false,false,false,false,false,{"$f":"IF(Q444,IF(AND(LEN(O444)=7,COUNTIF(集荷不可!$A:$A,O444)=0),FALSE,TRUE),FALSE)","v":false},false,false]
[null,null,null,null,null,null,null,null,null,null,null,null,null,null,"","",false,{"$f":"CheckIzonMoji(A445)","v":false},false,false,false,false,false,false,false,false,false,false,false,false,{"$f":"IF(Q445,IF(AND(LEN(O445)=7,COUNTIF(集荷不可!$A:$A,O445)=0),FALSE,TRUE),FALSE)","v":false},false,false]
[null,null,null,null,null,null,null,null,null,null,null,null,null,null,"","",false,{"$f":"CheckIzonMoji(A446)","v":false},false,false,false,false,false,false,false,false,false,false,false,false,{"$f":"IF(Q446,IF(AND(LEN(O446)=7,COUNTIF(集荷不可!$A:$A,O446)=0),FALSE,TRUE),FALSE)","v":false},false,false]
[null,null,null,null,null,null,null,null,null,null,null,null,null,null,"","",false,{"$f":"CheckIzonMoji(A447)","v":false},false,false,false,false,false,false,false,false,false,false,false,false,{"$f":"IF(Q447,IF(AND(LEN(O447)=7,COUNTIF(集荷不可!$A:$A,O447)=0),FALSE,TRUE),FALSE)","v":false},false,false]
[null,null,null,null,null,null,null,null,null,null,null,null,null,null,"","",false,{"$f":"CheckIzonMoji(A448)","v":false},false,false,false,false,false,false,false,false,false,false,false,false,{"$f":"IF(Q448,IF(AND(LEN(O448)=7,COUNTIF(集荷不可!$A:$A,O448)=0),FALSE,TRUE),FALSE)","v":false},false,false]
[null,null,null,null,null,null,null,null,null,null,null,null,null,null,"","",false,{"$f":"CheckIzonMoji(A449)","v":false},false,false,false,false,false,false,false,false,false,false,false,false,{"$f":"IF(Q449,IF(AND(LEN(O449)=7,COUNTIF(集荷不可!$A:$A,O449)=0),FALSE,TRUE),FALSE)","v":false},false,false]
[null,null,null,null,null,null,null,null,null,null,null,null,null,null,"","",false,{"$f":"CheckIzonMoji(A450)","v":false},false,false,false,false,false,false,false,false,false,false,false,false,{"$f":"IF(Q450,IF(AND(LEN(O450)=7,COUNTIF(集荷不可!$A:$A,O450)=0),FALSE,TRUE),FALSE)","v":false},false,false]
[null,null,null,null,null,null,null,null,null,null,null,null,null,null,"","",false,{"$f":"CheckIzonMoji(A451)","v":false},false,false,false,false,false,false,false,false,false,false,false,false,{"$f":"IF(Q451,IF(AND(LEN(O451)=7,COUNTIF(集荷不可!$A:$A,O451)=0),FALSE,TRUE),FALSE)","v":false},false,false]
[null,null,null,null,null,null,null,null,null,null,null,null,null,null,"","",false,{"$f":"CheckIzonMoji(A452)","v":false},false,false,false,false,false,false,false,false,false,false,false,false,{"$f":"IF(Q452,IF(AND(LEN(O452)=7,COUNTIF(集荷不可!$A:$A,O452)=0),FALSE,TRUE),FALSE)","v":false},false,false]
[null,null,null,null,null,null,null,null,null,null,null,null,null,null,"","",false,{"$f":"CheckIzonMoji(A453)","v":false},false,false,false,false,false,false,false,false,false,false,false,false,{"$f":"IF(Q453,IF(AND(LEN(O453)=7,COUNTIF(集荷不可!$A:$A,O453)=0),FALSE,TRUE),FALSE)","v":false},false,false]
[null,null,null,null,null,null,null,null,null,null,null,null,null,null,"","",false,{"$f":"CheckIzonMoji(A454)","v":false},false,false,false,false,false,false,false,false,false,false,false,false,{"$f":"IF(Q454,IF(AND(LEN(O454)=7,COUNTIF(集荷不可!$A:$A,O454)=0),FALSE,TRUE),FALSE)","v":false},false,false]
[null,null,null,null,null,null,null,null,null,null,null,null,null,null,"","",{"$f":"IF(LEN(A455&B455&C455&D455&E455&F455&G455&H455&I455&J455&K455&L455&M455&N455)=0,FALSE,TRUE)","v":false},{"$f":"CheckIzonMoji(A455)","v":false},{"$f":"IF(Q455,IF(AND(LENB(A455)>2,LENB(A455)<33),FALSE,TRUE),FALSE)","v":false},{"$f":"IF(Q455,IF(B455=\"\",TRUE,FALSE),FALSE)","v":false},{"$f":"IF(Q455,IF(OR(C455=\"\",ISERR(DAY(C455))),TRUE,FALSE),FALSE)","v":false},{"$f":"IF(Q455,IF(D455=\"\",TRUE,FALSE),FALSE)","v":false},{"$f":"IF(Q455,IF(AND(LENB(F455)>1,LENB(F455)<65),FALSE,TRUE),FALSE)","v":false},{"$f":"IF(LENB(G455)<33,FALSE,TRUE)","v":false},{"$f":"IF(LENB(H455)<51,FALSE,TRUE)","v":false},{"$f":"IF(LENB(I455)<51,FALSE,TRUE)","v":false},{"$f":"IF(Q455,IF(AND(LENB(J455)>2,LENB(J455)<16),FALSE,TRUE),FALSE)","v":false},{"$f":"IF(Q455,IF(AND(LENB(K455)<61),FALSE,TRUE),FALSE)","v":false},{"$f":"IF(Q455,IF(AND(LENB(L455)<9),FALSE,TRUE),FALSE)","v":false},{"$f":"IF(Q455,IF(N455=\"\",TRUE,FALSE),FALSE)","v":false},{"$f":"IF(Q455,IF(AND(LEN(O455)=7,COUNTIF(集荷不可!$A:$A,O455)=0),FALSE,TRUE),FALSE)","v":false},{"$f":"IF(ISERROR(FIND(\".@\",K455)),FALSE,TRUE)","v":false},{"$f":"IF(LENB(M455)<9,FALSE,TRUE)","v":false}]
[null,null,null,null,null,null,null,null,null,null,null,null,null,null,"","",false,{"$f":"CheckIzonMoji(A456)","v":false},false,false,false,false,false,false,false,false,false,false,false,false,{"$f":"IF(Q456,IF(AND(LEN(O456)=7,COUNTIF(集荷不可!$A:$A,O456)=0),FALSE,TRUE),FALSE)","v":false},false,false]
[null,null,null,null,null,null,null,null,null,null,null,null,null,null,{"$f":"SUBSTITUTE(E457,\"-\",\"\")","v":""},{"$f":"LEFT(N457,1)","v":""},false,{"$f":"CheckIzonMoji(A457)","v":false},false,false,false,false,false,false,false,false,false,false,false,false,{"$f":"IF(Q457,IF(AND(LEN(O457)=7,COUNTIF(集荷不可!$A:$A,O457)=0),FALSE,TRUE),FALSE)","v":false},false,false]
[null,null,null,null,null,null,null,null,null,null,null,null,null,null,"","",false,{"$f":"CheckIzonMoji(A458)","v":false},false,false,false,false,false,false,false,false,false,false,false,false,{"$f":"IF(Q458,IF(AND(LEN(O458)=7,COUNTIF(集荷不可!$A:$A,O458)=0),FALSE,TRUE),FALSE)","v":false},false,false]
[null,null,null,null,null,null,null,null,null,null,null,null,null,null,"","",false,{"$f":"CheckIzonMoji(A459)","v":false},false,false,false,false,false,false,false,false,false,false,false,false,{"$f":"IF(Q459,IF(AND(LEN(O459)=7,COUNTIF(集荷不可!$A:$A,O459)=0),FALSE,TRUE),FALSE)","v":false},false,false]
[null,null,null,null,null,null,null,null,null,null,null,null,null,null,"","",false,{"$f":"CheckIzonMoji(A460)","v":false},false,false,false,false,false,false,false,false,false,false,false,false,{"$f":"IF(Q460,IF(AND(LEN(O460)=7,COUNTIF(集荷不可!$A:$A,O460)=0),FALSE,TRUE),FALSE)","v":false},false,false]
[null,null,null,null,null,null,null,null,null,null,null,null,null,null,"","",false,{"$f":"CheckIzonMoji(A461)","v":false},false,false,false,false,false,false,false,false,false,false,false,false,{"$f":"IF(Q461,IF(AND(LEN(O461)=7,COUNTIF(集荷不可!$A:$A,O461)=0),FALSE,TRUE),FALSE)","v":false},false,false]
[null,null,null,null,null,null,null,null,null,null,null,null,null,null,"","",false,{"$f":"CheckIzonMoji(A462)","v":false},false,false,false,false,false,false,false,false,false,false,false,false,{"$f":"IF(Q462,IF(AND(LEN(O462)=7,COUNTIF(集荷不可!$A:$A,O462)=0),FALSE,TRUE),FALSE)","v":false},false,false]
[null,null,null,null,null,null,null,null,null,null,null,null,null,null,"","",false,{"$f":"CheckIzonMoji(A463)","v":false},false,false,false,false,false,false,false,false,false,false,false,false,{"$f":"IF(Q463,IF(AND(LEN(O463)=7,COUNTIF(集荷不可!$A:$A,O463)=0),FALSE,TRUE),FALSE)","v":false},false,false]
[null,null,null,null,null,null,null,null,null,null,null,null,null,null,"","",false,{"$f":"CheckIzonMoji(A464)","v":false},false,false,false,false,false,false,false,false,false,false,false,false,{"$f":"IF(Q464,IF(AND(LEN(O464)=7,COUNTIF(集荷不可!$A:$A,O464)=0),FALSE,TRUE),FALSE)","v":false},false,false]
[null,null,null,null,null,null,null,null,null,null,null,null,null,null,"","",false,{"$f":"CheckIzonMoji(A465)","v":false},false,false,false,false,false,false,false,false,false,false,false,false,{"$f":"IF(Q465,IF(AND(LEN(O465)=7,COUNTIF(集荷不可!$A:$A,O465)=0),FALSE,TRUE),FALSE)","v":false},false,false]
[null,null,null,null,null,null,null,null,null,null,null,null,null,null,"","",false,{"$f":"CheckIzonMoji(A466)","v":false},false,false,false,false,false,false,false,false,false,false,false,false,{"$f":"IF(Q466,IF(AND(LEN(O466)=7,COUNTIF(集荷不可!$A:$A,O466)=0),FALSE,TRUE),FALSE)","v":false},false,false]
[null,null,null,null,null,null,null,null,null,null,null,null,null,null,"","",false,{"$f":"CheckIzonMoji(A467)","v":false},false,false,false,false,false,false,false,false,false,false,false,false,{"$f":"IF(Q467,IF(AND(LEN(O467)=7,COUNTIF(集荷不可!$A:$A,O467)=0),FALSE,TRUE),FALSE)","v":false},false,false]
[null,null,null,null,null,null,null,null,null,null,null,null,null,null,"","",false,{"$f":"CheckIzonMoji(A468)","v":false},false,false,false,false,false,false,false,false,false,false,false,false,{"$f":"IF(Q468,IF(AND(LEN(O468)=7,COUNTIF(集荷不可!$A:$A,O468)=0),FALSE,TRUE),FALSE)","v":false},false,false]
[null,null,null,null,null,null,null,null,null,null,null,null,null,null,"","",false,{"$f":"CheckIzonMoji(A469)","v":false},false,false,false,false,false,false,false,false,false,false,false,false,{"$f":"IF(Q469,IF(AND(LEN(O469)=7,COUNTIF(集荷不可!$A:$A,O469)=0),FALSE,TRUE),FALSE)","v":false},false,false]
[null,null,null,null,null,null,null,null,null,null,null,null,null,null,"","",false,{"$f":"CheckIzonMoji(A470)","v":false},false,false,false,false,false,false,false,false,false,false,false,false,{"$f":"IF(Q470,IF(AND(LEN(O470)=7,COUNTIF(集荷不可!$A:$A,O470)=0),FALSE,TRUE),FALSE)","v":false},false,false]
[null,null,null,null,null,null,null,null,null,null,null,null,null,null,"","",false,{"$f":"CheckIzonMoji(A471)","v":false},false,false,false,false,false,false,false,false,false,false,false,false,{"$f":"IF(Q471,IF(AND(LEN(O471)=7,COUNTIF(集荷不可!$A:$A,O471)=0),FALSE,TRUE),FALSE)","v":false},false,false]
[null,null,null,null,null,null,null,null,null,null,null,null,null,null,"","",false,{"$f":"CheckIzonMoji(A472)","v":false},false,false,false,false,false,false,false,false,false,false,false,false,{"$f":"IF(Q472,IF(AND(LEN(O472)=7,COUNTIF(集荷不可!$A:$A,O472)=0),FALSE,TRUE),FALSE)","v":false},false,false]
[null,null,null,null,null,null,null,null,null,null,null,null,null,null,"","",false,{"$f":"CheckIzonMoji(A473)","v":false},false,false,false,false,false,false,false,false,false,false,false,false,{"$f":"IF(Q473,IF(AND(LEN(O473)=7,COUNTIF(集荷不可!$A:$A,O473)=0),FALSE,TRUE),FALSE)","v":false},false,false]
[null,null,null,null,null,null,null,null,null,null,null,null,null,null,"","",false,{"$f":"CheckIzonMoji(A474)","v":false},false,false,false,false,false,false,false,false,false,false,false,false,{"$f":"IF(Q474,IF(AND(LEN(O474)=7,COUNTIF(集荷不可!$A:$A,O474)=0),FALSE,TRUE),FALSE)","v":false},false,false]
[null,null,null,null,null,null,null,null,null,null,null,null,null,null,"","",false,{"$f":"CheckIzonMoji(A475)","v":false},false,false,false,false,false,false,false,false,false,false,false,false,{"$f":"IF(Q475,IF(AND(LEN(O475)=7,COUNTIF(集荷不可!$A:$A,O475)=0),FALSE,TRUE),FALSE)","v":false},false,false]
[null,null,null,null,null,null,null,null,null,null,null,null,null,null,"","",false,{"$f":"CheckIzonMoji(A476)","v":false},false,false,false,false,false,false,false,false,false,false,false,false,{"$f":"IF(Q476,IF(AND(LEN(O476)=7,COUNTIF(集荷不可!$A:$A,O476)=0),FALSE,TRUE),FALSE)","v":false},false,false]
[null,null,null,null,null,null,null,null,null,null,null,null,null,null,"","",false,{"$f":"CheckIzonMoji(A477)","v":false},false,false,false,false,false,false,false,false,false,false,false,false,{"$f":"IF(Q477,IF(AND(LEN(O477)=7,COUNTIF(集荷不可!$A:$A,O477)=0),FALSE,TRUE),FALSE)","v":false},false,false]
[null,null,null,null,null,null,null,null,null,null,null,null,null,null,"","",false,{"$f":"CheckIzonMoji(A478)","v":false},false,false,false,false,false,false,false,false,false,false,false,false,{"$f":"IF(Q478,IF(AND(LEN(O478)=7,COUNTIF(集荷不可!$A:$A,O478)=0),FALSE,TRUE),FALSE)","v":false},false,false]
[null,null,null,null,null,null,null,null,null,null,null,null,null,null,"","",false,{"$f":"CheckIzonMoji(A479)","v":false},false,false,false,false,false,false,false,false,false,false,false,false,{"$f":"IF(Q479,IF(AND(LEN(O479)=7,COUNTIF(集荷不可!$A:$A,O479)=0),FALSE,TRUE),FALSE)","v":false},false,false]
[null,null,null,null,null,null,null,null,null,null,null,null,null,null,"","",false,{"$f":"CheckIzonMoji(A480)","v":false},false,false,false,false,false,false,false,false,false,false,false,false,{"$f":"IF(Q480,IF(AND(LEN(O480)=7,COUNTIF(集荷不可!$A:$A,O480)=0),FALSE,TRUE),FALSE)","v":false},false,false]
[null,null,null,null,null,null,null,null,null,null,null,null,null,null,"","",false,{"$f":"CheckIzonMoji(A481)","v":false},false,false,false,false,false,false,false,false,false,false,false,false,{"$f":"IF(Q481,IF(AND(LEN(O481)=7,COUNTIF(集荷不可!$A:$A,O481)=0),FALSE,TRUE),FALSE)","v":false},false,false]
[null,null,null,null,null,null,null,null,null,null,null,null,null,null,"","",false,{"$f":"CheckIzonMoji(A482)","v":false},false,false,false,false,false,false,false,false,false,false,false,false,{"$f":"IF(Q482,IF(AND(LEN(O482)=7,COUNTIF(集荷不可!$A:$A,O482)=0),FALSE,TRUE),FALSE)","v":false},false,false]
[null,null,null,null,null,null,null,null,null,null,null,null,null,null,"","",false,{"$f":"CheckIzonMoji(A483)","v":false},false,false,false,false,false,false,false,false,false,false,false,false,{"$f":"IF(Q483,IF(AND(LEN(O483)=7,COUNTIF(集荷不可!$A:$A,O483)=0),FALSE,TRUE),FALSE)","v":false},false,false]
[null,null,null,null,null,null,null,null,null,null,null,null,null,null,"","",false,{"$f":"CheckIzonMoji(A484)","v":false},false,false,false,false,false,false,false,false,false,false,false,false,{"$f":"IF(Q484,IF(AND(LEN(O484)=7,COUNTIF(集荷不可!$A:$A,O484)=0),FALSE,TRUE),FALSE)","v":false},false,false]
[null,null,null,null,null,null,null,null,null,null,null,null,null,null,"","",false,{"$f":"CheckIzonMoji(A485)","v":false},false,false,false,false,false,false,false,false,false,false,false,false,{"$f":"IF(Q485,IF(AND(LEN(O485)=7,COUNTIF(集荷不可!$A:$A,O485)=0),FALSE,TRUE),FALSE)","v":false},false,false]
[null,null,null,null,null,null,null,null,null,null,null,null,null,null,"","",false,{"$f":"CheckIzonMoji(A486)","v":false},false,false,false,false,false,false,false,false,false,false,false,false,{"$f":"IF(Q486,IF(AND(LEN(O486)=7,COUNTIF(集荷不可!$A:$A,O486)=0),FALSE,TRUE),FALSE)","v":false},false,false]
[null,null,null,null,null,null,null,null,null,null,null,null,null,null,"","",false,{"$f":"CheckIzonMoji(A487)","v":false},false,false,false,false,false,false,false,false,false,false,false,false,{"$f":"IF(Q487,IF(AND(LEN(O487)=7,COUNTIF(集荷不可!$A:$A,O487)=0),FALSE,TRUE),FALSE)","v":false},false,false]
[null,null,null,null,null,null,null,null,null,null,null,null,null,null,"","",false,{"$f":"CheckIzonMoji(A488)","v":false},false,false,false,false,false,false,false,false,false,false,false,false,{"$f":"IF(Q488,IF(AND(LEN(O488)=7,COUNTIF(集荷不可!$A:$A,O488)=0),FALSE,TRUE),FALSE)","v":false},false,false]
[null,null,null,null,null,null,null,null,null,null,null,null,null,null,"","",false,{"$f":"CheckIzonMoji(A489)","v":false},false,false,false,false,false,false,false,false,false,false,false,false,{"$f":"IF(Q489,IF(AND(LEN(O489)=7,COUNTIF(集荷不可!$A:$A,O489)=0),FALSE,TRUE),FALSE)","v":false},false,false]
[null,null,null,null,null,null,null,null,null,null,null,null,null,null,"","",false,{"$f":"CheckIzonMoji(A490)","v":false},false,false,false,false,false,false,false,false,false,false,false,false,{"$f":"IF(Q490,IF(AND(LEN(O490)=7,COUNTIF(集荷不可!$A:$A,O490)=0),FALSE,TRUE),FALSE)","v":false},false,false]
[null,null,null,null,null,null,null,null,null,null,null,null,null,null,"","",false,{"$f":"CheckIzonMoji(A491)","v":false},false,false,false,false,false,false,false,false,false,false,false,false,{"$f":"IF(Q491,IF(AND(LEN(O491)=7,COUNTIF(集荷不可!$A:$A,O491)=0),FALSE,TRUE),FALSE)","v":false},false,false]
[null,null,null,null,null,null,null,null,null,null,null,null,null,null,"","",false,{"$f":"CheckIzonMoji(A492)","v":false},false,false,false,false,false,false,false,false,false,false,false,false,{"$f":"IF(Q492,IF(AND(LEN(O492)=7,COUNTIF(集荷不可!$A:$A,O492)=0),FALSE,TRUE),FALSE)","v":false},false,false]
[null,null,null,null,null,null,null,null,null,null,null,null,null,null,"","",false,{"$f":"CheckIzonMoji(A493)","v":false},false,false,false,false,false,false,false,false,false,false,false,false,{"$f":"IF(Q493,IF(AND(LEN(O493)=7,COUNTIF(集荷不可!$A:$A,O493)=0),FALSE,TRUE),FALSE)","v":false},false,false]
[null,null,null,null,null,null,null,null,null,null,null,null,null,null,"","",false,{"$f":"CheckIzonMoji(A494)","v":false},false,false,false,false,false,false,false,false,false,false,false,false,{"$f":"IF(Q494,IF(AND(LEN(O494)=7,COUNTIF(集荷不可!$A:$A,O494)=0),FALSE,TRUE),FALSE)","v":false},false,false]
[null,null,null,null,null,null,null,null,null,null,null,null,null,null,"","",false,{"$f":"CheckIzonMoji(A495)","v":false},false,false,false,false,false,false,false,false,false,false,false,false,{"$f":"IF(Q495,IF(AND(LEN(O495)=7,COUNTIF(集荷不可!$A:$A,O495)=0),FALSE,TRUE),FALSE)","v":false},false,false]
[null,null,null,null,null,null,null,null,null,null,null,null,null,null,"","",false,{"$f":"CheckIzonMoji(A496)","v":false},false,false,false,false,false,false,false,false,false,false,false,false,{"$f":"IF(Q496,IF(AND(LEN(O496)=7,COUNTIF(集荷不可!$A:$A,O496)=0),FALSE,TRUE),FALSE)","v":false},false,false]
[null,null,null,null,null,null,null,null,null,null,null,null,null,null,"","",false,{"$f":"CheckIzonMoji(A497)","v":false},false,false,false,false,false,false,false,false,false,false,false,false,{"$f":"IF(Q497,IF(AND(LEN(O497)=7,COUNTIF(集荷不可!$A:$A,O497)=0),FALSE,TRUE),FALSE)","v":false},false,false]
[null,null,null,null,null,null,null,null,null,null,null,null,null,null,"","",false,{"$f":"CheckIzonMoji(A498)","v":false},false,false,false,false,false,false,false,false,false,false,false,false,{"$f":"IF(Q498,IF(AND(LEN(O498)=7,COUNTIF(集荷不可!$A:$A,O498)=0),FALSE,TRUE),FALSE)","v":false},false,false]
[null,null,null,null,null,null,null,null,null,null,null,null,null,null,"","",false,{"$f":"CheckIzonMoji(A499)","v":false},false,false,false,false,false,false,false,false,false,false,false,false,{"$f":"IF(Q499,IF(AND(LEN(O499)=7,COUNTIF(集荷不可!$A:$A,O499)=0),FALSE,TRUE),FALSE)","v":false},false,false]
[null,null,null,null,null,null,null,null,null,null,null,null,null,null,"","",false,{"$f":"CheckIzonMoji(A500)","v":false},false,false,false,false,false,false,false,false,false,false,false,false,{"$f":"IF(Q500,IF(AND(LEN(O500)=7,COUNTIF(集荷不可!$A:$A,O500)=0),FALSE,TRUE),FALSE)","v":false},false,false]
[null,null,null,null,null,null,null,null,null,null,null,null,null,null,"","",false,{"$f":"CheckIzonMoji(A501)","v":false},false,false,false,false,false,false,false,false,false,false,false,false,{"$f":"IF(Q501,IF(AND(LEN(O501)=7,COUNTIF(集荷不可!$A:$A,O501)=0),FALSE,TRUE),FALSE)","v":false},false,false]
[null,null,null,null,null,null,null,null,null,null,null,null,null,null,"","",false,{"$f":"CheckIzonMoji(A502)","v":false},false,false,false,false,false,false,false,false,false,false,false,false,{"$f":"IF(Q502,IF(AND(LEN(O502)=7,COUNTIF(集荷不可!$A:$A,O502)=0),FALSE,TRUE),FALSE)","v":false},false,false]
[null,null,null,null,null,null,null,null,null,null,null,null,null,null,"","",false,{"$f":"CheckIzonMoji(A503)","v":false},false,false,false,false,false,false,false,false,false,false,false,false,{"$f":"IF(Q503,IF(AND(LEN(O503)=7,COUNTIF(集荷不可!$A:$A,O503)=0),FALSE,TRUE),FALSE)","v":false},false,false]
[null,null,null,null,null,null,null,null,null,null,null,null,null,null,"","",false,{"$f":"CheckIzonMoji(A504)","v":false},false,false,false,false,false,false,false,false,false,false,false,false,{"$f":"IF(Q504,IF(AND(LEN(O504)=7,COUNTIF(集荷不可!$A:$A,O504)=0),FALSE,TRUE),FALSE)","v":false},false,false]
[null,null,null,null,null,null,null,null,null,null,null,null,null,null,"","",false,{"$f":"CheckIzonMoji(A505)","v":false},false,false,false,false,false,false,false,false,false,false,false,false,{"$f":"IF(Q505,IF(AND(LEN(O505)=7,COUNTIF(集荷不可!$A:$A,O505)=0),FALSE,TRUE),FALSE)","v":false},false,false]
[null,null,null,null,null,null,null,null,null,null,null,null,null,null,"","",false,{"$f":"CheckIzonMoji(A506)","v":false},false,false,false,false,false,false,false,false,false,false,false,false,{"$f":"IF(Q506,IF(AND(LEN(O506)=7,COUNTIF(集荷不可!$A:$A,O506)=0),FALSE,TRUE),FALSE)","v":false},false,false]
[null,null,null,null,null,null,null,null,null,null,null,null,null,null,"","",false,{"$f":"CheckIzonMoji(A507)","v":false},false,false,false,false,false,false,false,false,false,false,false,false,{"$f":"IF(Q507,IF(AND(LEN(O507)=7,COUNTIF(集荷不可!$A:$A,O507)=0),FALSE,TRUE),FALSE)","v":false},false,false]
[null,null,null,null,null,null,null,null,null,null,null,null,null,null,"","",false,{"$f":"CheckIzonMoji(A508)","v":false},false,false,false,false,false,false,false,false,false,false,false,false,{"$f":"IF(Q508,IF(AND(LEN(O508)=7,COUNTIF(集荷不可!$A:$A,O508)=0),FALSE,TRUE),FALSE)","v":false},false,false]
[null,null,null,null,null,null,null,null,null,null,null,null,null,null,"","",false,{"$f":"CheckIzonMoji(A509)","v":false},false,false,false,false,false,false,false,false,false,false,false,false,{"$f":"IF(Q509,IF(AND(LEN(O509)=7,COUNTIF(集荷不可!$A:$A,O509)=0),FALSE,TRUE),FALSE)","v":false},false,false]
[null,null,null,null,null,null,null,null,null,null,null,null,null,null,"","",false,{"$f":"CheckIzonMoji(A510)","v":false},false,false,false,false,false,false,false,false,false,false,false,false,{"$f":"IF(Q510,IF(AND(LEN(O510)=7,COUNTIF(集荷不可!$A:$A,O510)=0),FALSE,TRUE),FALSE)","v":false},false,false]
[null,null,null,null,null,null,null,null,null,null,null,null,null,null,"","",false,{"$f":"CheckIzonMoji(A511)","v":false},false,false,false,false,false,false,false,false,false,false,false,false,{"$f":"IF(Q511,IF(AND(LEN(O511)=7,COUNTIF(集荷不可!$A:$A,O511)=0),FALSE,TRUE),FALSE)","v":false},false,false]
[null,null,null,null,null,null,null,null,null,null,null,null,null,null,"","",false,{"$f":"CheckIzonMoji(A512)","v":false},false,false,false,false,false,false,false,false,false,false,false,false,{"$f":"IF(Q512,IF(AND(LEN(O512)=7,COUNTIF(集荷不可!$A:$A,O512)=0),FALSE,TRUE),FALSE)","v":false},false,false]
[null,null,null,null,null,null,null,null,null,null,null,null,null,null,"","",false,{"$f":"CheckIzonMoji(A513)","v":false},false,false,false,false,false,false,false,false,false,false,false,false,{"$f":"IF(Q513,IF(AND(LEN(O513)=7,COUNTIF(集荷不可!$A:$A,O513)=0),FALSE,TRUE),FALSE)","v":false},false,false]
[null,null,null,null,null,null,null,null,null,null,null,null,null,null,"","",false,{"$f":"CheckIzonMoji(A514)","v":false},false,false,false,false,false,false,false,false,false,false,false,false,{"$f":"IF(Q514,IF(AND(LEN(O514)=7,COUNTIF(集荷不可!$A:$A,O514)=0),FALSE,TRUE),FALSE)","v":false},false,false]
[null,null,null,null,null,null,null,null,null,null,null,null,null,null,"","",false,{"$f":"CheckIzonMoji(A515)","v":false},false,false,false,false,false,false,false,false,false,false,false,false,{"$f":"IF(Q515,IF(AND(LEN(O515)=7,COUNTIF(集荷不可!$A:$A,O515)=0),FALSE,TRUE),FALSE)","v":false},false,false]
[null,null,null,null,null,null,null,null,null,null,null,null,null,null,"","",false,{"$f":"CheckIzonMoji(A516)","v":false},false,false,false,false,false,false,false,false,false,false,false,false,{"$f":"IF(Q516,IF(AND(LEN(O516)=7,COUNTIF(集荷不可!$A:$A,O516)=0),FALSE,TRUE),FALSE)","v":false},false,false]
[null,null,null,null,null,null,null,null,null,null,null,null,null,null,"","",false,{"$f":"CheckIzonMoji(A517)","v":false},false,false,false,false,false,false,false,false,false,false,false,false,{"$f":"IF(Q517,IF(AND(LEN(O517)=7,COUNTIF(集荷不可!$A:$A,O517)=0),FALSE,TRUE),FALSE)","v":false},false,false]
[null,null,null,null,null,null,null,null,null,null,null,null,null,null,"","",false,{"$f":"CheckIzonMoji(A518)","v":false},false,false,false,false,false,false,false,false,false,false,false,false,{"$f":"IF(Q518,IF(AND(LEN(O518)=7,COUNTIF(集荷不可!$A:$A,O518)=0),FALSE,TRUE),FALSE)","v":false},false,false]
[null,null,null,null,null,null,null,null,null,null,null,null,null,null,"","",{"$f":"IF(LEN(A519&B519&C519&D519&E519&F519&G519&H519&I519&J519&K519&L519&M519&N519)=0,FALSE,TRUE)","v":false},{"$f":"CheckIzonMoji(A519)","v":false},{"$f":"IF(Q519,IF(AND(LENB(A519)>2,LENB(A519)<33),FALSE,TRUE),FALSE)","v":false},{"$f":"IF(Q519,IF(B519=\"\",TRUE,FALSE),FALSE)","v":false},{"$f":"IF(Q519,IF(OR(C519=\"\",ISERR(DAY(C519))),TRUE,FALSE),FALSE)","v":false},{"$f":"IF(Q519,IF(D519=\"\",TRUE,FALSE),FALSE)","v":false},{"$f":"IF(Q519,IF(AND(LENB(F519)>1,LENB(F519)<65),FALSE,TRUE),FALSE)","v":false},{"$f":"IF(LENB(G519)<33,FALSE,TRUE)","v":false},{"$f":"IF(LENB(H519)<51,FALSE,TRUE)","v":false},{"$f":"IF(LENB(I519)<51,FALSE,TRUE)","v":false},{"$f":"IF(Q519,IF(AND(LENB(J519)>2,LENB(J519)<16),FALSE,TRUE),FALSE)","v":false},{"$f":"IF(Q519,IF(AND(LENB(K519)<61),FALSE,TRUE),FALSE)","v":false},{"$f":"IF(Q519,IF(AND(LENB(L519)<9),FALSE,TRUE),FALSE)","v":false},{"$f":"IF(Q519,IF(N519=\"\",TRUE,FALSE),FALSE)","v":false},{"$f":"IF(Q519,IF(AND(LEN(O519)=7,COUNTIF(集荷不可!$A:$A,O519)=0),FALSE,TRUE),FALSE)","v":false},{"$f":"IF(ISERROR(FIND(\".@\",K519)),FALSE,TRUE)","v":false},{"$f":"IF(LENB(M519)<9,FALSE,TRUE)","v":false}]
[null,null,null,null,null,null,null,null,null,null,null,null,null,null,"","",false,{"$f":"CheckIzonMoji(A520)","v":false},false,false,false,false,false,false,false,false,false,false,false,false,{"$f":"IF(Q520,IF(AND(LEN(O520)=7,COUNTIF(集荷不可!$A:$A,O520)=0),FALSE,TRUE),FALSE)","v":false},false,false]
[null,null,null,null,null,null,null,null,null,null,null,null,null,null,{"$f":"SUBSTITUTE(E521,\"-\",\"\")","v":""},{"$f":"LEFT(N521,1)","v":""},false,{"$f":"CheckIzonMoji(A521)","v":false},false,false,false,false,false,false,false,false,false,false,false,false,{"$f":"IF(Q521,IF(AND(LEN(O521)=7,COUNTIF(集荷不可!$A:$A,O521)=0),FALSE,TRUE),FALSE)","v":false},false,false]
[null,null,null,null,null,null,null,null,null,null,null,null,null,null,"","",false,{"$f":"CheckIzonMoji(A522)","v":false},false,false,false,false,false,false,false,false,false,false,false,false,{"$f":"IF(Q522,IF(AND(LEN(O522)=7,COUNTIF(集荷不可!$A:$A,O522)=0),FALSE,TRUE),FALSE)","v":false},false,false]
[null,null,null,null,null,null,null,null,null,null,null,null,null,null,"","",false,{"$f":"CheckIzonMoji(A523)","v":false},false,false,false,false,false,false,false,false,false,false,false,false,{"$f":"IF(Q523,IF(AND(LEN(O523)=7,COUNTIF(集荷不可!$A:$A,O523)=0),FALSE,TRUE),FALSE)","v":false},false,false]
[null,null,null,null,null,null,null,null,null,null,null,null,null,null,"","",false,{"$f":"CheckIzonMoji(A524)","v":false},false,false,false,false,false,false,false,false,false,false,false,false,{"$f":"IF(Q524,IF(AND(LEN(O524)=7,COUNTIF(集荷不可!$A:$A,O524)=0),FALSE,TRUE),FALSE)","v":false},false,false]
[null,null,null,null,null,null,null,null,null,null,null,null,null,null,"","",false,{"$f":"CheckIzonMoji(A525)","v":false},false,false,false,false,false,false,false,false,false,false,false,false,{"$f":"IF(Q525,IF(AND(LEN(O525)=7,COUNTIF(集荷不可!$A:$A,O525)=0),FALSE,TRUE),FALSE)","v":false},false,false]
[null,null,null,null,null,null,null,null,null,null,null,null,null,null,"","",false,{"$f":"CheckIzonMoji(A526)","v":false},false,false,false,false,false,false,false,false,false,false,false,false,{"$f":"IF(Q526,IF(AND(LEN(O526)=7,COUNTIF(集荷不可!$A:$A,O526)=0),FALSE,TRUE),FALSE)","v":false},false,false]
[null,null,null,null,null,null,null,null,null,null,null,null,null,null,"","",false,{"$f":"CheckIzonMoji(A527)","v":false},false,false,false,false,false,false,false,false,false,false,false,false,{"$f":"IF(Q527,IF(AND(LEN(O527)=7,COUNTIF(集荷不可!$A:$A,O527)=0),FALSE,TRUE),FALSE)","v":false},false,false]
[null,null,null,null,null,null,null,null,null,null,null,null,null,null,"","",false,{"$f":"CheckIzonMoji(A528)","v":false},false,false,false,false,false,false,false,false,false,false,false,false,{"$f":"IF(Q528,IF(AND(LEN(O528)=7,COUNTIF(集荷不可!$A:$A,O528)=0),FALSE,TRUE),FALSE)","v":false},false,false]
[null,null,null,null,null,null,null,null,null,null,null,null,null,null,"","",false,{"$f":"CheckIzonMoji(A529)","v":false},false,false,false,false,false,false,false,false,false,false,false,false,{"$f":"IF(Q529,IF(AND(LEN(O529)=7,COUNTIF(集荷不可!$A:$A,O529)=0),FALSE,TRUE),FALSE)","v":false},false,false]
[null,null,null,null,null,null,null,null,null,null,null,null,null,null,"","",false,{"$f":"CheckIzonMoji(A530)","v":false},false,false,false,false,false,false,false,false,false,false,false,false,{"$f":"IF(Q530,IF(AND(LEN(O530)=7,COUNTIF(集荷不可!$A:$A,O530)=0),FALSE,TRUE),FALSE)","v":false},false,false]
[null,null,null,null,null,null,null,null,null,null,null,null,null,null,"","",false,{"$f":"CheckIzonMoji(A531)","v":false},false,false,false,false,false,false,false,false,false,false,false,false,{"$f":"IF(Q531,IF(AND(LEN(O531)=7,COUNTIF(集荷不可!$A:$A,O531)=0),FALSE,TRUE),FALSE)","v":false},false,false]
[null,null,null,null,null,null,null,null,null,null,null,null,null,null,"","",false,{"$f":"CheckIzonMoji(A532)","v":false},false,false,false,false,false,false,false,false,false,false,false,false,{"$f":"IF(Q532,IF(AND(LEN(O532)=7,COUNTIF(集荷不可!$A:$A,O532)=0),FALSE,TRUE),FALSE)","v":false},false,false]
[null,null,null,null,null,null,null,null,null,null,null,null,null,null,"","",false,{"$f":"CheckIzonMoji(A533)","v":false},false,false,false,false,false,false,false,false,false,false,false,false,{"$f":"IF(Q533,IF(AND(LEN(O533)=7,COUNTIF(集荷不可!$A:$A,O533)=0),FALSE,TRUE),FALSE)","v":false},false,false]
[null,null,null,null,null,null,null,null,null,null,null,null,null,null,"","",false,{"$f":"CheckIzonMoji(A534)","v":false},false,false,false,false,false,false,false,false,false,false,false,false,{"$f":"IF(Q534,IF(AND(LEN(O534)=7,COUNTIF(集荷不可!$A:$A,O534)=0),FALSE,TRUE),FALSE)","v":false},false,false]
[null,null,null,null,null,null,null,null,null,null,null,null,null,null,"","",false,{"$f":"CheckIzonMoji(A535)","v":false},false,false,false,false,false,false,false,false,false,false,false,false,{"$f":"IF(Q535,IF(AND(LEN(O535)=7,COUNTIF(集荷不可!$A:$A,O535)=0),FALSE,TRUE),FALSE)","v":false},false,false]
[null,null,null,null,null,null,null,null,null,null,null,null,null,null,"","",false,{"$f":"CheckIzonMoji(A536)","v":false},false,false,false,false,false,false,false,false,false,false,false,false,{"$f":"IF(Q536,IF(AND(LEN(O536)=7,COUNTIF(集荷不可!$A:$A,O536)=0),FALSE,TRUE),FALSE)","v":false},false,false]
[null,null,null,null,null,null,null,null,null,null,null,null,null,null,"","",false,{"$f":"CheckIzonMoji(A537)","v":false},false,false,false,false,false,false,false,false,false,false,false,false,{"$f":"IF(Q537,IF(AND(LEN(O537)=7,COUNTIF(集荷不可!$A:$A,O537)=0),FALSE,TRUE),FALSE)","v":false},false,false]
[null,null,null,null,null,null,null,null,null,null,null,null,null,null,"","",false,{"$f":"CheckIzonMoji(A538)","v":false},false,false,false,false,false,false,false,false,false,false,false,false,{"$f":"IF(Q538,IF(AND(LEN(O538)=7,COUNTIF(集荷不可!$A:$A,O538)=0),FALSE,TRUE),FALSE)","v":false},false,false]
[null,null,null,null,null,null,null,null,null,null,null,null,null,null,"","",false,{"$f":"CheckIzonMoji(A539)","v":false},false,false,false,false,false,false,false,false,false,false,false,false,{"$f":"IF(Q539,IF(AND(LEN(O539)=7,COUNTIF(集荷不可!$A:$A,O539)=0),FALSE,TRUE),FALSE)","v":false},false,false]
[null,null,null,null,null,null,null,null,null,null,null,null,null,null,"","",false,{"$f":"CheckIzonMoji(A540)","v":false},false,false,false,false,false,false,false,false,false,false,false,false,{"$f":"IF(Q540,IF(AND(LEN(O540)=7,COUNTIF(集荷不可!$A:$A,O540)=0),FALSE,TRUE),FALSE)","v":false},false,false]
[null,null,null,null,null,null,null,null,null,null,null,null,null,null,"","",false,{"$f":"CheckIzonMoji(A541)","v":false},false,false,false,false,false,false,false,false,false,false,false,false,{"$f":"IF(Q541,IF(AND(LEN(O541)=7,COUNTIF(集荷不可!$A:$A,O541)=0),FALSE,TRUE),FALSE)","v":false},false,false]
[null,null,null,null,null,null,null,null,null,null,null,null,null,null,"","",false,{"$f":"CheckIzonMoji(A542)","v":false},false,false,false,false,false,false,false,false,false,false,false,false,{"$f":"IF(Q542,IF(AND(LEN(O542)=7,COUNTIF(集荷不可!$A:$A,O542)=0),FALSE,TRUE),FALSE)","v":false},false,false]
[null,null,null,null,null,null,null,null,null,null,null,null,null,null,"","",false,{"$f":"CheckIzonMoji(A543)","v":false},false,false,false,false,false,false,false,false,false,false,false,false,{"$f":"IF(Q543,IF(AND(LEN(O543)=7,COUNTIF(集荷不可!$A:$A,O543)=0),FALSE,TRUE),FALSE)","v":false},false,false]
[null,null,null,null,null,null,null,null,null,null,null,null,null,null,"","",false,{"$f":"CheckIzonMoji(A544)","v":false},false,false,false,false,false,false,false,false,false,false,false,false,{"$f":"IF(Q544,IF(AND(LEN(O544)=7,COUNTIF(集荷不可!$A:$A,O544)=0),FALSE,TRUE),FALSE)","v":false},false,false]
[null,null,null,null,null,null,null,null,null,null,null,null,null,null,"","",false,{"$f":"CheckIzonMoji(A545)","v":false},false,false,false,false,false,false,false,false,false,false,false,false,{"$f":"IF(Q545,IF(AND(LEN(O545)=7,COUNTIF(集荷不可!$A:$A,O545)=0),FALSE,TRUE),FALSE)","v":false},false,false]
[null,null,null,null,null,null,null,null,null,null,null,null,null,null,"","",false,{"$f":"CheckIzonMoji(A546)","v":false},false,false,false,false,false,false,false,false,false,false,false,false,{"$f":"IF(Q546,IF(AND(LEN(O546)=7,COUNTIF(集荷不可!$A:$A,O546)=0),FALSE,TRUE),FALSE)","v":false},false,false]
[null,null,null,null,null,null,null,null,null,null,null,null,null,null,"","",false,{"$f":"CheckIzonMoji(A547)","v":false},false,false,false,false,false,false,false,false,false,false,false,false,{"$f":"IF(Q547,IF(AND(LEN(O547)=7,COUNTIF(集荷不可!$A:$A,O547)=0),FALSE,TRUE),FALSE)","v":false},false,false]
[null,null,null,null,null,null,null,null,null,null,null,null,null,null,"","",false,{"$f":"CheckIzonMoji(A548)","v":false},false,false,false,false,false,false,false,false,false,false,false,false,{"$f":"IF(Q548,IF(AND(LEN(O548)=7,COUNTIF(集荷不可!$A:$A,O548)=0),FALSE,TRUE),FALSE)","v":false},false,false]
[null,null,null,null,null,null,null,null,null,null,null,null,null,null,"","",false,{"$f":"CheckIzonMoji(A549)","v":false},false,false,false,false,false,false,false,false,false,false,false,false,{"$f":"IF(Q549,IF(AND(LEN(O549)=7,COUNTIF(集荷不可!$A:$A,O549)=0),FALSE,TRUE),FALSE)","v":false},false,false]
[null,null,null,null,null,null,null,null,null,null,null,null,null,null,"","",false,{"$f":"CheckIzonMoji(A550)","v":false},false,false,false,false,false,false,false,false,false,false,false,false,{"$f":"IF(Q550,IF(AND(LEN(O550)=7,COUNTIF(集荷不可!$A:$A,O550)=0),FALSE,TRUE),FALSE)","v":false},false,false]
[null,null,null,null,null,null,null,null,null,null,null,null,null,null,"","",false,{"$f":"CheckIzonMoji(A551)","v":false},false,false,false,false,false,false,false,false,false,false,false,false,{"$f":"IF(Q551,IF(AND(LEN(O551)=7,COUNTIF(集荷不可!$A:$A,O551)=0),FALSE,TRUE),FALSE)","v":false},false,false]
[null,null,null,null,null,null,null,null,null,null,null,null,null,null,"","",false,{"$f":"CheckIzonMoji(A552)","v":false},false,false,false,false,false,false,false,false,false,false,false,false,{"$f":"IF(Q552,IF(AND(LEN(O552)=7,COUNTIF(集荷不可!$A:$A,O552)=0),FALSE,TRUE),FALSE)","v":false},false,false]
[null,null,null,null,null,null,null,null,null,null,null,null,null,null,"","",false,{"$f":"CheckIzonMoji(A553)","v":false},false,false,false,false,false,false,false,false,false,false,false,false,{"$f":"IF(Q553,IF(AND(LEN(O553)=7,COUNTIF(集荷不可!$A:$A,O553)=0),FALSE,TRUE),FALSE)","v":false},false,false]
[null,null,null,null,null,null,null,null,null,null,null,null,null,null,"","",false,{"$f":"CheckIzonMoji(A554)","v":false},false,false,false,false,false,false,false,false,false,false,false,false,{"$f":"IF(Q554,IF(AND(LEN(O554)=7,COUNTIF(集荷不可!$A:$A,O554)=0),FALSE,TRUE),FALSE)","v":false},false,false]
[null,null,null,null,null,null,null,null,null,null,null,null,null,null,"","",false,{"$f":"CheckIzonMoji(A555)","v":false},false,false,false,false,false,false,false,false,false,false,false,false,{"$f":"IF(Q555,IF(AND(LEN(O555)=7,COUNTIF(集荷不可!$A:$A,O555)=0),FALSE,TRUE),FALSE)","v":false},false,false]
[null,null,null,null,null,null,null,null,null,null,null,null,null,null,"","",false,{"$f":"CheckIzonMoji(A556)","v":false},false,false,false,false,false,false,false,false,false,false,false,false,{"$f":"IF(Q556,IF(AND(LEN(O556)=7,COUNTIF(集荷不可!$A:$A,O556)=0),FALSE,TRUE),FALSE)","v":false},false,false]
[null,null,null,null,null,null,null,null,null,null,null,null,null,null,"","",false,{"$f":"CheckIzonMoji(A557)","v":false},false,false,false,false,false,false,false,false,false,false,false,false,{"$f":"IF(Q557,IF(AND(LEN(O557)=7,COUNTIF(集荷不可!$A:$A,O557)=0),FALSE,TRUE),FALSE)","v":false},false,false]
[null,null,null,null,null,null,null,null,null,null,null,null,null,null,"","",false,{"$f":"CheckIzonMoji(A558)","v":false},false,false,false,false,false,false,false,false,false,false,false,false,{"$f":"IF(Q558,IF(AND(LEN(O558)=7,COUNTIF(集荷不可!$A:$A,O558)=0),FALSE,TRUE),FALSE)","v":false},false,false]
[null,null,null,null,null,null,null,null,null,null,null,null,null,null,"","",false,{"$f":"CheckIzonMoji(A559)","v":false},false,false,false,false,false,false,false,false,false,false,false,false,{"$f":"IF(Q559,IF(AND(LEN(O559)=7,COUNTIF(集荷不可!$A:$A,O559)=0),FALSE,TRUE),FALSE)","v":false},false,false]
[null,null,null,null,null,null,null,null,null,null,null,null,null,null,"","",false,{"$f":"CheckIzonMoji(A560)","v":false},false,false,false,false,false,false,false,false,false,false,false,false,{"$f":"IF(Q560,IF(AND(LEN(O560)=7,COUNTIF(集荷不可!$A:$A,O560)=0),FALSE,TRUE),FALSE)","v":false},false,false]
[null,null,null,null,null,null,null,null,null,null,null,null,null,null,"","",false,{"$f":"CheckIzonMoji(A561)","v":false},false,false,false,false,false,false,false,false,false,false,false,false,{"$f":"IF(Q561,IF(AND(LEN(O561)=7,COUNTIF(集荷不可!$A:$A,O561)=0),FALSE,TRUE),FALSE)","v":false},false,false]
[null,null,null,null,null,null,null,null,null,null,null,null,null,null,"","",false,{"$f":"CheckIzonMoji(A562)","v":false},false,false,false,false,false,false,false,false,false,false,false,false,{"$f":"IF(Q562,IF(AND(LEN(O562)=7,COUNTIF(集荷不可!$A:$A,O562)=0),FALSE,TRUE),FALSE)","v":false},false,false]
[null,null,null,null,null,null,null,null,null,null,null,null,null,null,"","",false,{"$f":"CheckIzonMoji(A563)","v":false},false,false,false,false,false,false,false,false,false,false,false,false,{"$f":"IF(Q563,IF(AND(LEN(O563)=7,COUNTIF(集荷不可!$A:$A,O563)=0),FALSE,TRUE),FALSE)","v":false},false,false]
[null,null,null,null,null,null,null,null,null,null,null,null,null,null,"","",false,{"$f":"CheckIzonMoji(A564)","v":false},false,false,false,false,false,false,false,false,false,false,false,false,{"$f":"IF(Q564,IF(AND(LEN(O564)=7,COUNTIF(集荷不可!$A:$A,O564)=0),FALSE,TRUE),FALSE)","v":false},false,false]
[null,null,null,null,null,null,null,null,null,null,null,null,null,null,"","",false,{"$f":"CheckIzonMoji(A565)","v":false},false,false,false,false,false,false,false,false,false,false,false,false,{"$f":"IF(Q565,IF(AND(LEN(O565)=7,COUNTIF(集荷不可!$A:$A,O565)=0),FALSE,TRUE),FALSE)","v":false},false,false]
[null,null,null,null,null,null,null,null,null,null,null,null,null,null,"","",false,{"$f":"CheckIzonMoji(A566)","v":false},false,false,false,false,false,false,false,false,false,false,false,false,{"$f":"IF(Q566,IF(AND(LEN(O566)=7,COUNTIF(集荷不可!$A:$A,O566)=0),FALSE,TRUE),FALSE)","v":false},false,false]
[null,null,null,null,null,null,null,null,null,null,null,null,null,null,"","",false,{"$f":"CheckIzonMoji(A567)","v":false},false,false,false,false,false,false,false,false,false,false,false,false,{"$f":"IF(Q567,IF(AND(LEN(O567)=7,COUNTIF(集荷不可!$A:$A,O567)=0),FALSE,TRUE),FALSE)","v":false},false,false]
[null,null,null,null,null,null,null,null,null,null,null,null,null,null,"","",false,{"$f":"CheckIzonMoji(A568)","v":false},false,false,false,false,false,false,false,false,false,false,false,false,{"$f":"IF(Q568,IF(AND(LEN(O568)=7,COUNTIF(集荷不可!$A:$A,O568)=0),FALSE,TRUE),FALSE)","v":false},false,false]
[null,null,null,null,null,null,null,null,null,null,null,null,null,null,"","",false,{"$f":"CheckIzonMoji(A569)","v":false},false,false,false,false,false,false,false,false,false,false,false,false,{"$f":"IF(Q569,IF(AND(LEN(O569)=7,COUNTIF(集荷不可!$A:$A,O569)=0),FALSE,TRUE),FALSE)","v":false},false,false]
[null,null,null,null,null,null,null,null,null,null,null,null,null,null,"","",false,{"$f":"CheckIzonMoji(A570)","v":false},false,false,false,false,false,false,false,false,false,false,false,false,{"$f":"IF(Q570,IF(AND(LEN(O570)=7,COUNTIF(集荷不可!$A:$A,O570)=0),FALSE,TRUE),FALSE)","v":false},false,false]
[null,null,null,null,null,null,null,null,null,null,null,null,null,null,"","",false,{"$f":"CheckIzonMoji(A571)","v":false},false,false,false,false,false,false,false,false,false,false,false,false,{"$f":"IF(Q571,IF(AND(LEN(O571)=7,COUNTIF(集荷不可!$A:$A,O571)=0),FALSE,TRUE),FALSE)","v":false},false,false]
[null,null,null,null,null,null,null,null,null,null,null,null,null,null,"","",false,{"$f":"CheckIzonMoji(A572)","v":false},false,false,false,false,false,false,false,false,false,false,false,false,{"$f":"IF(Q572,IF(AND(LEN(O572)=7,COUNTIF(集荷不可!$A:$A,O572)=0),FALSE,TRUE),FALSE)","v":false},false,false]
[null,null,null,null,null,null,null,null,null,null,null,null,null,null,"","",false,{"$f":"CheckIzonMoji(A573)","v":false},false,false,false,false,false,false,false,false,false,false,false,false,{"$f":"IF(Q573,IF(AND(LEN(O573)=7,COUNTIF(集荷不可!$A:$A,O573)=0),FALSE,TRUE),FALSE)","v":false},false,false]
[null,null,null,null,null,null,null,null,null,null,null,null,null,null,"","",false,{"$f":"CheckIzonMoji(A574)","v":false},false,false,false,false,false,false,false,false,false,false,false,false,{"$f":"IF(Q574,IF(AND(LEN(O574)=7,COUNTIF(集荷不可!$A:$A,O574)=0),FALSE,TRUE),FALSE)","v":false},false,false]
[null,null,null,null,null,null,null,null,null,null,null,null,null,null,"","",false,{"$f":"CheckIzonMoji(A575)","v":false},false,false,false,false,false,false,false,false,false,false,false,false,{"$f":"IF(Q575,IF(AND(LEN(O575)=7,COUNTIF(集荷不可!$A:$A,O575)=0),FALSE,TRUE),FALSE)","v":false},false,false]
[null,null,null,null,null,null,null,null,null,null,null,null,null,null,"","",false,{"$f":"CheckIzonMoji(A576)","v":false},false,false,false,false,false,false,false,false,false,false,false,false,{"$f":"IF(Q576,IF(AND(LEN(O576)=7,COUNTIF(集荷不可!$A:$A,O576)=0),FALSE,TRUE),FALSE)","v":false},false,false]
[null,null,null,null,null,null,null,null,null,null,null,null,null,null,"","",false,{"$f":"CheckIzonMoji(A577)","v":false},false,false,false,false,false,false,false,false,false,false,false,false,{"$f":"IF(Q577,IF(AND(LEN(O577)=7,COUNTIF(集荷不可!$A:$A,O577)=0),FALSE,TRUE),FALSE)","v":false},false,false]
[null,null,null,null,null,null,null,null,null,null,null,null,null,null,"","",false,{"$f":"CheckIzonMoji(A578)","v":false},false,false,false,false,false,false,false,false,false,false,false,false,{"$f":"IF(Q578,IF(AND(LEN(O578)=7,COUNTIF(集荷不可!$A:$A,O578)=0),FALSE,TRUE),FALSE)","v":false},false,false]
[null,null,null,null,null,null,null,null,null,null,null,null,null,null,"","",false,{"$f":"CheckIzonMoji(A579)","v":false},false,false,false,false,false,false,false,false,false,false,false,false,{"$f":"IF(Q579,IF(AND(LEN(O579)=7,COUNTIF(集荷不可!$A:$A,O579)=0),FALSE,TRUE),FALSE)","v":false},false,false]
[null,null,null,null,null,null,null,null,null,null,null,null,null,null,"","",false,{"$f":"CheckIzonMoji(A580)","v":false},false,false,false,false,false,false,false,false,false,false,false,false,{"$f":"IF(Q580,IF(AND(LEN(O580)=7,COUNTIF(集荷不可!$A:$A,O580)=0),FALSE,TRUE),FALSE)","v":false},false,false]
[null,null,null,null,null,null,null,null,null,null,null,null,null,null,"","",false,{"$f":"CheckIzonMoji(A581)","v":false},false,false,false,false,false,false,false,false,false,false,false,false,{"$f":"IF(Q581,IF(AND(LEN(O581)=7,COUNTIF(集荷不可!$A:$A,O581)=0),FALSE,TRUE),FALSE)","v":false},false,false]
[null,null,null,null,null,null,null,null,null,null,null,null,null,null,"","",false,{"$f":"CheckIzonMoji(A582)","v":false},false,false,false,false,false,false,false,false,false,false,false,false,{"$f":"IF(Q582,IF(AND(LEN(O582)=7,COUNTIF(集荷不可!$A:$A,O582)=0),FALSE,TRUE),FALSE)","v":false},false,false]
[null,null,null,null,null,null,null,null,null,null,null,null,null,null,"","",{"$f":"IF(LEN(A583&B583&C583&D583&E583&F583&G583&H583&I583&J583&K583&L583&M583&N583)=0,FALSE,TRUE)","v":false},{"$f":"CheckIzonMoji(A583)","v":false},{"$f":"IF(Q583,IF(AND(LENB(A583)>2,LENB(A583)<33),FALSE,TRUE),FALSE)","v":false},{"$f":"IF(Q583,IF(B583=\"\",TRUE,FALSE),FALSE)","v":false},{"$f":"IF(Q583,IF(OR(C583=\"\",ISERR(DAY(C583))),TRUE,FALSE),FALSE)","v":false},{"$f":"IF(Q583,IF(D583=\"\",TRUE,FALSE),FALSE)","v":false},{"$f":"IF(Q583,IF(AND(LENB(F583)>1,LENB(F583)<65),FALSE,TRUE),FALSE)","v":false},{"$f":"IF(LENB(G583)<33,FALSE,TRUE)","v":false},{"$f":"IF(LENB(H583)<51,FALSE,TRUE)","v":false},{"$f":"IF(LENB(I583)<51,FALSE,TRUE)","v":false},{"$f":"IF(Q583,IF(AND(LENB(J583)>2,LENB(J583)<16),FALSE,TRUE),FALSE)","v":false},{"$f":"IF(Q583,IF(AND(LENB(K583)<61),FALSE,TRUE),FALSE)","v":false},{"$f":"IF(Q583,IF(AND(LENB(L583)<9),FALSE,TRUE),FALSE)","v":false},{"$f":"IF(Q583,IF(N583=\"\",TRUE,FALSE),FALSE)","v":false},{"$f":"IF(Q583,IF(AND(LEN(O583)=7,COUNTIF(集荷不可!$A:$A,O583)=0),FALSE,TRUE),FALSE)","v":false},{"$f":"IF(ISERROR(FIND(\".@\",K583)),FALSE,TRUE)","v":false},{"$f":"IF(LENB(M583)<9,FALSE,TRUE)","v":false}]
[null,null,null,null,null,null,null,null,null,null,null,null,null,null,"","",false,{"$f":"CheckIzonMoji(A584)","v":false},false,false,false,false,false,false,false,false,false,false,false,false,{"$f":"IF(Q584,IF(AND(LEN(O584)=7,COUNTIF(集荷不可!$A:$A,O584)=0),FALSE,TRUE),FALSE)","v":false},false,false]
[null,null,null,null,null,null,null,null,null,null,null,null,null,null,{"$f":"SUBSTITUTE(E585,\"-\",\"\")","v":""},{"$f":"LEFT(N585,1)","v":""},false,{"$f":"CheckIzonMoji(A585)","v":false},false,false,false,false,false,false,false,false,false,false,false,false,{"$f":"IF(Q585,IF(AND(LEN(O585)=7,COUNTIF(集荷不可!$A:$A,O585)=0),FALSE,TRUE),FALSE)","v":false},false,false]
[null,null,null,null,null,null,null,null,null,null,null,null,null,null,"","",false,{"$f":"CheckIzonMoji(A586)","v":false},false,false,false,false,false,false,false,false,false,false,false,false,{"$f":"IF(Q586,IF(AND(LEN(O586)=7,COUNTIF(集荷不可!$A:$A,O586)=0),FALSE,TRUE),FALSE)","v":false},false,false]
[null,null,null,null,null,null,null,null,null,null,null,null,null,null,"","",false,{"$f":"CheckIzonMoji(A587)","v":false},false,false,false,false,false,false,false,false,false,false,false,false,{"$f":"IF(Q587,IF(AND(LEN(O587)=7,COUNTIF(集荷不可!$A:$A,O587)=0),FALSE,TRUE),FALSE)","v":false},false,false]
[null,null,null,null,null,null,null,null,null,null,null,null,null,null,"","",false,{"$f":"CheckIzonMoji(A588)","v":false},false,false,false,false,false,false,false,false,false,false,false,false,{"$f":"IF(Q588,IF(AND(LEN(O588)=7,COUNTIF(集荷不可!$A:$A,O588)=0),FALSE,TRUE),FALSE)","v":false},false,false]
[null,null,null,null,null,null,null,null,null,null,null,null,null,null,"","",false,{"$f":"CheckIzonMoji(A589)","v":false},false,false,false,false,false,false,false,false,false,false,false,false,{"$f":"IF(Q589,IF(AND(LEN(O589)=7,COUNTIF(集荷不可!$A:$A,O589)=0),FALSE,TRUE),FALSE)","v":false},false,false]
[null,null,null,null,null,null,null,null,null,null,null,null,null,null,"","",false,{"$f":"CheckIzonMoji(A590)","v":false},false,false,false,false,false,false,false,false,false,false,false,false,{"$f":"IF(Q590,IF(AND(LEN(O590)=7,COUNTIF(集荷不可!$A:$A,O590)=0),FALSE,TRUE),FALSE)","v":false},false,false]
[null,null,null,null,null,null,null,null,null,null,null,null,null,null,"","",false,{"$f":"CheckIzonMoji(A591)","v":false},false,false,false,false,false,false,false,false,false,false,false,false,{"$f":"IF(Q591,IF(AND(LEN(O591)=7,COUNTIF(集荷不可!$A:$A,O591)=0),FALSE,TRUE),FALSE)","v":false},false,false]
[null,null,null,null,null,null,null,null,null,null,null,null,null,null,"","",false,{"$f":"CheckIzonMoji(A592)","v":false},false,false,false,false,false,false,false,false,false,false,false,false,{"$f":"IF(Q592,IF(AND(LEN(O592)=7,COUNTIF(集荷不可!$A:$A,O592)=0),FALSE,TRUE),FALSE)","v":false},false,false]
[null,null,null,null,null,null,null,null,null,null,null,null,null,null,"","",false,{"$f":"CheckIzonMoji(A593)","v":false},false,false,false,false,false,false,false,false,false,false,false,false,{"$f":"IF(Q593,IF(AND(LEN(O593)=7,COUNTIF(集荷不可!$A:$A,O593)=0),FALSE,TRUE),FALSE)","v":false},false,false]
[null,null,null,null,null,null,null,null,null,null,null,null,null,null,"","",false,{"$f":"CheckIzonMoji(A594)","v":false},false,false,false,false,false,false,false,false,false,false,false,false,{"$f":"IF(Q594,IF(AND(LEN(O594)=7,COUNTIF(集荷不可!$A:$A,O594)=0),FALSE,TRUE),FALSE)","v":false},false,false]
[null,null,null,null,null,null,null,null,null,null,null,null,null,null,"","",false,{"$f":"CheckIzonMoji(A595)","v":false},false,false,false,false,false,false,false,false,false,false,false,false,{"$f":"IF(Q595,IF(AND(LEN(O595)=7,COUNTIF(集荷不可!$A:$A,O595)=0),FALSE,TRUE),FALSE)","v":false},false,false]
[null,null,null,null,null,null,null,null,null,null,null,null,null,null,"","",false,{"$f":"CheckIzonMoji(A596)","v":false},false,false,false,false,false,false,false,false,false,false,false,false,{"$f":"IF(Q596,IF(AND(LEN(O596)=7,COUNTIF(集荷不可!$A:$A,O596)=0),FALSE,TRUE),FALSE)","v":false},false,false]
[null,null,null,null,null,null,null,null,null,null,null,null,null,null,"","",false,{"$f":"CheckIzonMoji(A597)","v":false},false,false,false,false,false,false,false,false,false,false,false,false,{"$f":"IF(Q597,IF(AND(LEN(O597)=7,COUNTIF(集荷不可!$A:$A,O597)=0),FALSE,TRUE),FALSE)","v":false},false,false]
[null,null,null,null,null,null,null,null,null,null,null,null,null,null,"","",false,{"$f":"CheckIzonMoji(A598)","v":false},false,false,false,false,false,false,false,false,false,false,false,false,{"$f":"IF(Q598,IF(AND(LEN(O598)=7,COUNTIF(集荷不可!$A:$A,O598)=0),FALSE,TRUE),FALSE)","v":false},false,false]
[null,null,null,null,null,null,null,null,null,null,null,null,null,null,"","",false,{"$f":"CheckIzonMoji(A599)","v":false},false,false,false,false,false,false,false,false,false,false,false,false,{"$f":"IF(Q599,IF(AND(LEN(O599)=7,COUNTIF(集荷不可!$A:$A,O599)=0),FALSE,TRUE),FALSE)","v":false},false,false]
[null,null,null,null,null,null,null,null,null,null,null,null,null,null,"","",false,{"$f":"CheckIzonMoji(A600)","v":false},false,false,false,false,false,false,false,false,false,false,false,false,{"$f":"IF(Q600,IF(AND(LEN(O600)=7,COUNTIF(集荷不可!$A:$A,O600)=0),FALSE,TRUE),FALSE)","v":false},false,false]
[null,null,null,null,null,null,null,null,null,null,null,null,null,null,"","",false,{"$f":"CheckIzonMoji(A601)","v":false},false,false,false,false,false,false,false,false,false,false,false,false,{"$f":"IF(Q601,IF(AND(LEN(O601)=7,COUNTIF(集荷不可!$A:$A,O601)=0),FALSE,TRUE),FALSE)","v":false},false,false]
[null,null,null,null,null,null,null,null,null,null,null,null,null,null,"","",false,{"$f":"CheckIzonMoji(A602)","v":false},false,false,false,false,false,false,false,false,false,false,false,false,{"$f":"IF(Q602,IF(AND(LEN(O602)=7,COUNTIF(集荷不可!$A:$A,O602)=0),FALSE,TRUE),FALSE)","v":false},false,false]
[null,null,null,null,null,null,null,null,null,null,null,null,null,null,"","",false,{"$f":"CheckIzonMoji(A603)","v":false},false,false,false,false,false,false,false,false,false,false,false,false,{"$f":"IF(Q603,IF(AND(LEN(O603)=7,COUNTIF(集荷不可!$A:$A,O603)=0),FALSE,TRUE),FALSE)","v":false},false,false]
[null,null,null,null,null,null,null,null,null,null,null,null,null,null,"","",false,{"$f":"CheckIzonMoji(A604)","v":false},false,false,false,false,false,false,false,false,false,false,false,false,{"$f":"IF(Q604,IF(AND(LEN(O604)=7,COUNTIF(集荷不可!$A:$A,O604)=0),FALSE,TRUE),FALSE)","v":false},false,false]
[null,null,null,null,null,null,null,null,null,null,null,null,null,null,"","",false,{"$f":"CheckIzonMoji(A605)","v":false},false,false,false,false,false,false,false,false,false,false,false,false,{"$f":"IF(Q605,IF(AND(LEN(O605)=7,COUNTIF(集荷不可!$A:$A,O605)=0),FALSE,TRUE),FALSE)","v":false},false,false]
[null,null,null,null,null,null,null,null,null,null,null,null,null,null,"","",false,{"$f":"CheckIzonMoji(A606)","v":false},false,false,false,false,false,false,false,false,false,false,false,false,{"$f":"IF(Q606,IF(AND(LEN(O606)=7,COUNTIF(集荷不可!$A:$A,O606)=0),FALSE,TRUE),FALSE)","v":false},false,false]
[null,null,null,null,null,null,null,null,null,null,null,null,null,null,"","",false,{"$f":"CheckIzonMoji(A607)","v":false},false,false,false,false,false,false,false,false,false,false,false,false,{"$f":"IF(Q607,IF(AND(LEN(O607)=7,COUNTIF(集荷不可!$A:$A,O607)=0),FALSE,TRUE),FALSE)","v":false},false,false]
[null,null,null,null,null,null,null,null,null,null,null,null,null,null,"","",false,{"$f":"CheckIzonMoji(A608)","v":false},false,false,false,false,false,false,false,false,false,false,false,false,{"$f":"IF(Q608,IF(AND(LEN(O608)=7,COUNTIF(集荷不可!$A:$A,O608)=0),FALSE,TRUE),FALSE)","v":false},false,false]
[null,null,null,null,null,null,null,null,null,null,null,null,null,null,"","",false,{"$f":"CheckIzonMoji(A609)","v":false},false,false,false,false,false,false,false,false,false,false,false,false,{"$f":"IF(Q609,IF(AND(LEN(O609)=7,COUNTIF(集荷不可!$A:$A,O609)=0),FALSE,TRUE),FALSE)","v":false},false,false]
[null,null,null,null,null,null,null,null,null,null,null,null,null,null,"","",false,{"$f":"CheckIzonMoji(A610)","v":false},false,false,false,false,false,false,false,false,false,false,false,false,{"$f":"IF(Q610,IF(AND(LEN(O610)=7,COUNTIF(集荷不可!$A:$A,O610)=0),FALSE,TRUE),FALSE)","v":false},false,false]
[null,null,null,null,null,null,null,null,null,null,null,null,null,null,"","",false,{"$f":"CheckIzonMoji(A611)","v":false},false,false,false,false,false,false,false,false,false,false,false,false,{"$f":"IF(Q611,IF(AND(LEN(O611)=7,COUNTIF(集荷不可!$A:$A,O611)=0),FALSE,TRUE),FALSE)","v":false},false,false]
[null,null,null,null,null,null,null,null,null,null,null,null,null,null,"","",false,{"$f":"CheckIzonMoji(A612)","v":false},false,false,false,false,false,false,false,false,false,false,false,false,{"$f":"IF(Q612,IF(AND(LEN(O612)=7,COUNTIF(集荷不可!$A:$A,O612)=0),FALSE,TRUE),FALSE)","v":false},false,false]
[null,null,null,null,null,null,null,null,null,null,null,null,null,null,"","",false,{"$f":"CheckIzonMoji(A613)","v":false},false,false,false,false,false,false,false,false,false,false,false,false,{"$f":"IF(Q613,IF(AND(LEN(O613)=7,COUNTIF(集荷不可!$A:$A,O613)=0),FALSE,TRUE),FALSE)","v":false},false,false]
[null,null,null,null,null,null,null,null,null,null,null,null,null,null,"","",false,{"$f":"CheckIzonMoji(A614)","v":false},false,false,false,false,false,false,false,false,false,false,false,false,{"$f":"IF(Q614,IF(AND(LEN(O614)=7,COUNTIF(集荷不可!$A:$A,O614)=0),FALSE,TRUE),FALSE)","v":false},false,false]
[null,null,null,null,null,null,null,null,null,null,null,null,null,null,"","",false,{"$f":"CheckIzonMoji(A615)","v":false},false,false,false,false,false,false,false,false,false,false,false,false,{"$f":"IF(Q615,IF(AND(LEN(O615)=7,COUNTIF(集荷不可!$A:$A,O615)=0),FALSE,TRUE),FALSE)","v":false},false,false]
[null,null,null,null,null,null,null,null,null,null,null,null,null,null,"","",false,{"$f":"CheckIzonMoji(A616)","v":false},false,false,false,false,false,false,false,false,false,false,false,false,{"$f":"IF(Q616,IF(AND(LEN(O616)=7,COUNTIF(集荷不可!$A:$A,O616)=0),FALSE,TRUE),FALSE)","v":false},false,false]
[null,null,null,null,null,null,null,null,null,null,null,null,null,null,"","",false,{"$f":"CheckIzonMoji(A617)","v":false},false,false,false,false,false,false,false,false,false,false,false,false,{"$f":"IF(Q617,IF(AND(LEN(O617)=7,COUNTIF(集荷不可!$A:$A,O617)=0),FALSE,TRUE),FALSE)","v":false},false,false]
[null,null,null,null,null,null,null,null,null,null,null,null,null,null,"","",false,{"$f":"CheckIzonMoji(A618)","v":false},false,false,false,false,false,false,false,false,false,false,false,false,{"$f":"IF(Q618,IF(AND(LEN(O618)=7,COUNTIF(集荷不可!$A:$A,O618)=0),FALSE,TRUE),FALSE)","v":false},false,false]
[null,null,null,null,null,null,null,null,null,null,null,null,null,null,"","",false,{"$f":"CheckIzonMoji(A619)","v":false},false,false,false,false,false,false,false,false,false,false,false,false,{"$f":"IF(Q619,IF(AND(LEN(O619)=7,COUNTIF(集荷不可!$A:$A,O619)=0),FALSE,TRUE),FALSE)","v":false},false,false]
[null,null,null,null,null,null,null,null,null,null,null,null,null,null,"","",false,{"$f":"CheckIzonMoji(A620)","v":false},false,false,false,false,false,false,false,false,false,false,false,false,{"$f":"IF(Q620,IF(AND(LEN(O620)=7,COUNTIF(集荷不可!$A:$A,O620)=0),FALSE,TRUE),FALSE)","v":false},false,false]
[null,null,null,null,null,null,null,null,null,null,null,null,null,null,"","",false,{"$f":"CheckIzonMoji(A621)","v":false},false,false,false,false,false,false,false,false,false,false,false,false,{"$f":"IF(Q621,IF(AND(LEN(O621)=7,COUNTIF(集荷不可!$A:$A,O621)=0),FALSE,TRUE),FALSE)","v":false},false,false]
[null,null,null,null,null,null,null,null,null,null,null,null,null,null,"","",false,{"$f":"CheckIzonMoji(A622)","v":false},false,false,false,false,false,false,false,false,false,false,false,false,{"$f":"IF(Q622,IF(AND(LEN(O622)=7,COUNTIF(集荷不可!$A:$A,O622)=0),FALSE,TRUE),FALSE)","v":false},false,false]
[null,null,null,null,null,null,null,null,null,null,null,null,null,null,"","",false,{"$f":"CheckIzonMoji(A623)","v":false},false,false,false,false,false,false,false,false,false,false,false,false,{"$f":"IF(Q623,IF(AND(LEN(O623)=7,COUNTIF(集荷不可!$A:$A,O623)=0),FALSE,TRUE),FALSE)","v":false},false,false]
[null,null,null,null,null,null,null,null,null,null,null,null,null,null,"","",false,{"$f":"CheckIzonMoji(A624)","v":false},false,false,false,false,false,false,false,false,false,false,false,false,{"$f":"IF(Q624,IF(AND(LEN(O624)=7,COUNTIF(集荷不可!$A:$A,O624)=0),FALSE,TRUE),FALSE)","v":false},false,false]
[null,null,null,null,null,null,null,null,null,null,null,null,null,null,"","",false,{"$f":"CheckIzonMoji(A625)","v":false},false,false,false,false,false,false,false,false,false,false,false,false,{"$f":"IF(Q625,IF(AND(LEN(O625)=7,COUNTIF(集荷不可!$A:$A,O625)=0),FALSE,TRUE),FALSE)","v":false},false,false]
[null,null,null,null,null,null,null,null,null,null,null,null,null,null,"","",false,{"$f":"CheckIzonMoji(A626)","v":false},false,false,false,false,false,false,false,false,false,false,false,false,{"$f":"IF(Q626,IF(AND(LEN(O626)=7,COUNTIF(集荷不可!$A:$A,O626)=0),FALSE,TRUE),FALSE)","v":false},false,false]
[null,null,null,null,null,null,null,null,null,null,null,null,null,null,"","",false,{"$f":"CheckIzonMoji(A627)","v":false},false,false,false,false,false,false,false,false,false,false,false,false,{"$f":"IF(Q627,IF(AND(LEN(O627)=7,COUNTIF(集荷不可!$A:$A,O627)=0),FALSE,TRUE),FALSE)","v":false},false,false]
[null,null,null,null,null,null,null,null,null,null,null,null,null,null,"","",false,{"$f":"CheckIzonMoji(A628)","v":false},false,false,false,false,false,false,false,false,false,false,false,false,{"$f":"IF(Q628,IF(AND(LEN(O628)=7,COUNTIF(集荷不可!$A:$A,O628)=0),FALSE,TRUE),FALSE)","v":false},false,false]
[null,null,null,null,null,null,null,null,null,null,null,null,null,null,"","",false,{"$f":"CheckIzonMoji(A629)","v":false},false,false,false,false,false,false,false,false,false,false,false,false,{"$f":"IF(Q629,IF(AND(LEN(O629)=7,COUNTIF(集荷不可!$A:$A,O629)=0),FALSE,TRUE),FALSE)","v":false},false,false]
[null,null,null,null,null,null,null,null,null,null,null,null,null,null,"","",false,{"$f":"CheckIzonMoji(A630)","v":false},false,false,false,false,false,false,false,false,false,false,false,false,{"$f":"IF(Q630,IF(AND(LEN(O630)=7,COUNTIF(集荷不可!$A:$A,O630)=0),FALSE,TRUE),FALSE)","v":false},false,false]
[null,null,null,null,null,null,null,null,null,null,null,null,null,null,"","",false,{"$f":"CheckIzonMoji(A631)","v":false},false,false,false,false,false,false,false,false,false,false,false,false,{"$f":"IF(Q631,IF(AND(LEN(O631)=7,COUNTIF(集荷不可!$A:$A,O631)=0),FALSE,TRUE),FALSE)","v":false},false,false]
[null,null,null,null,null,null,null,null,null,null,null,null,null,null,"","",false,{"$f":"CheckIzonMoji(A632)","v":false},false,false,false,false,false,false,false,false,false,false,false,false,{"$f":"IF(Q632,IF(AND(LEN(O632)=7,COUNTIF(集荷不可!$A:$A,O632)=0),FALSE,TRUE),FALSE)","v":false},false,false]
[null,null,null,null,null,null,null,null,null,null,null,null,null,null,"","",false,{"$f":"CheckIzonMoji(A633)","v":false},false,false,false,false,false,false,false,false,false,false,false,false,{"$f":"IF(Q633,IF(AND(LEN(O633)=7,COUNTIF(集荷不可!$A:$A,O633)=0),FALSE,TRUE),FALSE)","v":false},false,false]
[null,null,null,null,null,null,null,null,null,null,null,null,null,null,"","",false,{"$f":"CheckIzonMoji(A634)","v":false},false,false,false,false,false,false,false,false,false,false,false,false,{"$f":"IF(Q634,IF(AND(LEN(O634)=7,COUNTIF(集荷不可!$A:$A,O634)=0),FALSE,TRUE),FALSE)","v":false},false,false]
[null,null,null,null,null,null,null,null,null,null,null,null,null,null,"","",false,{"$f":"CheckIzonMoji(A635)","v":false},false,false,false,false,false,false,false,false,false,false,false,false,{"$f":"IF(Q635,IF(AND(LEN(O635)=7,COUNTIF(集荷不可!$A:$A,O635)=0),FALSE,TRUE),FALSE)","v":false},false,false]
[null,null,null,null,null,null,null,null,null,null,null,null,null,null,"","",false,{"$f":"CheckIzonMoji(A636)","v":false},false,false,false,false,false,false,false,false,false,false,false,false,{"$f":"IF(Q636,IF(AND(LEN(O636)=7,COUNTIF(集荷不可!$A:$A,O636)=0),FALSE,TRUE),FALSE)","v":false},false,false]
[null,null,null,null,null,null,null,null,null,null,null,null,null,null,"","",false,{"$f":"CheckIzonMoji(A637)","v":false},false,false,false,false,false,false,false,false,false,false,false,false,{"$f":"IF(Q637,IF(AND(LEN(O637)=7,COUNTIF(集荷不可!$A:$A,O637)=0),FALSE,TRUE),FALSE)","v":false},false,false]
[null,null,null,null,null,null,null,null,null,null,null,null,null,null,"","",false,{"$f":"CheckIzonMoji(A638)","v":false},false,false,false,false,false,false,false,false,false,false,false,false,{"$f":"IF(Q638,IF(AND(LEN(O638)=7,COUNTIF(集荷不可!$A:$A,O638)=0),FALSE,TRUE),FALSE)","v":false},false,false]
[null,null,null,null,null,null,null,null,null,null,null,null,null,null,"","",false,{"$f":"CheckIzonMoji(A639)","v":false},false,false,false,false,false,false,false,false,false,false,false,false,{"$f":"IF(Q639,IF(AND(LEN(O639)=7,COUNTIF(集荷不可!$A:$A,O639)=0),FALSE,TRUE),FALSE)","v":false},false,false]
[null,null,null,null,null,null,null,null,null,null,null,null,null,null,"","",false,{"$f":"CheckIzonMoji(A640)","v":false},false,false,false,false,false,false,false,false,false,false,false,false,{"$f":"IF(Q640,IF(AND(LEN(O640)=7,COUNTIF(集荷不可!$A:$A,O640)=0),FALSE,TRUE),FALSE)","v":false},false,false]
[null,null,null,null,null,null,null,null,null,null,null,null,null,null,"","",false,{"$f":"CheckIzonMoji(A641)","v":false},false,false,false,false,false,false,false,false,false,false,false,false,{"$f":"IF(Q641,IF(AND(LEN(O641)=7,COUNTIF(集荷不可!$A:$A,O641)=0),FALSE,TRUE),FALSE)","v":false},false,false]
[null,null,null,null,null,null,null,null,null,null,null,null,null,null,"","",false,{"$f":"CheckIzonMoji(A642)","v":false},false,false,false,false,false,false,false,false,false,false,false,false,{"$f":"IF(Q642,IF(AND(LEN(O642)=7,COUNTIF(集荷不可!$A:$A,O642)=0),FALSE,TRUE),FALSE)","v":false},false,false]
[null,null,null,null,null,null,null,null,null,null,null,null,null,null,"","",false,{"$f":"CheckIzonMoji(A643)","v":false},false,false,false,false,false,false,false,false,false,false,false,false,{"$f":"IF(Q643,IF(AND(LEN(O643)=7,COUNTIF(集荷不可!$A:$A,O643)=0),FALSE,TRUE),FALSE)","v":false},false,false]
[null,null,null,null,null,null,null,null,null,null,null,null,null,null,"","",false,{"$f":"CheckIzonMoji(A644)","v":false},false,false,false,false,false,false,false,false,false,false,false,false,{"$f":"IF(Q644,IF(AND(LEN(O644)=7,COUNTIF(集荷不可!$A:$A,O644)=0),FALSE,TRUE),FALSE)","v":false},false,false]
[null,null,null,null,null,null,null,null,null,null,null,null,null,null,"","",false,{"$f":"CheckIzonMoji(A645)","v":false},false,false,false,false,false,false,false,false,false,false,false,false,{"$f":"IF(Q645,IF(AND(LEN(O645)=7,COUNTIF(集荷不可!$A:$A,O645)=0),FALSE,TRUE),FALSE)","v":false},false,false]
[null,null,null,null,null,null,null,null,null,null,null,null,null,null,"","",false,{"$f":"CheckIzonMoji(A646)","v":false},false,false,false,false,false,false,false,false,false,false,false,false,{"$f":"IF(Q646,IF(AND(LEN(O646)=7,COUNTIF(集荷不可!$A:$A,O646)=0),FALSE,TRUE),FALSE)","v":false},false,false]
[null,null,null,null,null,null,null,null,null,null,null,null,null,null,"","",{"$f":"IF(LEN(A647&B647&C647&D647&E647&F647&G647&H647&I647&J647&K647&L647&M647&N647)=0,FALSE,TRUE)","v":false},{"$f":"CheckIzonMoji(A647)","v":false},{"$f":"IF(Q647,IF(AND(LENB(A647)>2,LENB(A647)<33),FALSE,TRUE),FALSE)","v":false},{"$f":"IF(Q647,IF(B647=\"\",TRUE,FALSE),FALSE)","v":false},{"$f":"IF(Q647,IF(OR(C647=\"\",ISERR(DAY(C647))),TRUE,FALSE),FALSE)","v":false},{"$f":"IF(Q647,IF(D647=\"\",TRUE,FALSE),FALSE)","v":false},{"$f":"IF(Q647,IF(AND(LENB(F647)>1,LENB(F647)<65),FALSE,TRUE),FALSE)","v":false},{"$f":"IF(LENB(G647)<33,FALSE,TRUE)","v":false},{"$f":"IF(LENB(H647)<51,FALSE,TRUE)","v":false},{"$f":"IF(LENB(I647)<51,FALSE,TRUE)","v":false},{"$f":"IF(Q647,IF(AND(LENB(J647)>2,LENB(J647)<16),FALSE,TRUE),FALSE)","v":false},{"$f":"IF(Q647,IF(AND(LENB(K647)<61),FALSE,TRUE),FALSE)","v":false},{"$f":"IF(Q647,IF(AND(LENB(L647)<9),FALSE,TRUE),FALSE)","v":false},{"$f":"IF(Q647,IF(N647=\"\",TRUE,FALSE),FALSE)","v":false},{"$f":"IF(Q647,IF(AND(LEN(O647)=7,COUNTIF(集荷不可!$A:$A,O647)=0),FALSE,TRUE),FALSE)","v":false},{"$f":"IF(ISERROR(FIND(\".@\",K647)),FALSE,TRUE)","v":false},{"$f":"IF(LENB(M647)<9,FALSE,TRUE)","v":false}]
[null,null,null,null,null,null,null,null,null,null,null,null,null,null,"","",false,{"$f":"CheckIzonMoji(A648)","v":false},false,false,false,false,false,false,false,false,false,false,false,false,{"$f":"IF(Q648,IF(AND(LEN(O648)=7,COUNTIF(集荷不可!$A:$A,O648)=0),FALSE,TRUE),FALSE)","v":false},false,false]
[null,null,null,null,null,null,null,null,null,null,null,null,null,null,{"$f":"SUBSTITUTE(E649,\"-\",\"\")","v":""},{"$f":"LEFT(N649,1)","v":""},false,{"$f":"CheckIzonMoji(A649)","v":false},false,false,false,false,false,false,false,false,false,false,false,false,{"$f":"IF(Q649,IF(AND(LEN(O649)=7,COUNTIF(集荷不可!$A:$A,O649)=0),FALSE,TRUE),FALSE)","v":false},false,false]
[null,null,null,null,null,null,null,null,null,null,null,null,null,null,"","",false,{"$f":"CheckIzonMoji(A650)","v":false},false,false,false,false,false,false,false,false,false,false,false,false,{"$f":"IF(Q650,IF(AND(LEN(O650)=7,COUNTIF(集荷不可!$A:$A,O650)=0),FALSE,TRUE),FALSE)","v":false},false,false]
[null,null,null,null,null,null,null,null,null,null,null,null,null,null,"","",false,{"$f":"CheckIzonMoji(A651)","v":false},false,false,false,false,false,false,false,false,false,false,false,false,{"$f":"IF(Q651,IF(AND(LEN(O651)=7,COUNTIF(集荷不可!$A:$A,O651)=0),FALSE,TRUE),FALSE)","v":false},false,false]
[null,null,null,null,null,null,null,null,null,null,null,null,null,null,"","",false,{"$f":"CheckIzonMoji(A652)","v":false},false,false,false,false,false,false,false,false,false,false,false,false,{"$f":"IF(Q652,IF(AND(LEN(O652)=7,COUNTIF(集荷不可!$A:$A,O652)=0),FALSE,TRUE),FALSE)","v":false},false,false]
[null,null,null,null,null,null,null,null,null,null,null,null,null,null,"","",false,{"$f":"CheckIzonMoji(A653)","v":false},false,false,false,false,false,false,false,false,false,false,false,false,{"$f":"IF(Q653,IF(AND(LEN(O653)=7,COUNTIF(集荷不可!$A:$A,O653)=0),FALSE,TRUE),FALSE)","v":false},false,false]
[null,null,null,null,null,null,null,null,null,null,null,null,null,null,"","",false,{"$f":"CheckIzonMoji(A654)","v":false},false,false,false,false,false,false,false,false,false,false,false,false,{"$f":"IF(Q654,IF(AND(LEN(O654)=7,COUNTIF(集荷不可!$A:$A,O654)=0),FALSE,TRUE),FALSE)","v":false},false,false]
[null,null,null,null,null,null,null,null,null,null,null,null,null,null,"","",false,{"$f":"CheckIzonMoji(A655)","v":false},false,false,false,false,false,false,false,false,false,false,false,false,{"$f":"IF(Q655,IF(AND(LEN(O655)=7,COUNTIF(集荷不可!$A:$A,O655)=0),FALSE,TRUE),FALSE)","v":false},false,false]
[null,null,null,null,null,null,null,null,null,null,null,null,null,null,"","",false,{"$f":"CheckIzonMoji(A656)","v":false},false,false,false,false,false,false,false,false,false,false,false,false,{"$f":"IF(Q656,IF(AND(LEN(O656)=7,COUNTIF(集荷不可!$A:$A,O656)=0),FALSE,TRUE),FALSE)","v":false},false,false]
[null,null,null,null,null,null,null,null,null,null,null,null,null,null,"","",false,{"$f":"CheckIzonMoji(A657)","v":false},false,false,false,false,false,false,false,false,false,false,false,false,{"$f":"IF(Q657,IF(AND(LEN(O657)=7,COUNTIF(集荷不可!$A:$A,O657)=0),FALSE,TRUE),FALSE)","v":false},false,false]
[null,null,null,null,null,null,null,null,null,null,null,null,null,null,"","",false,{"$f":"CheckIzonMoji(A658)","v":false},false,false,false,false,false,false,false,false,false,false,false,false,{"$f":"IF(Q658,IF(AND(LEN(O658)=7,COUNTIF(集荷不可!$A:$A,O658)=0),FALSE,TRUE),FALSE)","v":false},false,false]
[null,null,null,null,null,null,null,null,null,null,null,null,null,null,"","",false,{"$f":"CheckIzonMoji(A659)","v":false},false,false,false,false,false,false,false,false,false,false,false,false,{"$f":"IF(Q659,IF(AND(LEN(O659)=7,COUNTIF(集荷不可!$A:$A,O659)=0),FALSE,TRUE),FALSE)","v":false},false,false]
[null,null,null,null,null,null,null,null,null,null,null,null,null,null,"","",false,{"$f":"CheckIzonMoji(A660)","v":false},false,false,false,false,false,false,false,false,false,false,false,false,{"$f":"IF(Q660,IF(AND(LEN(O660)=7,COUNTIF(集荷不可!$A:$A,O660)=0),FALSE,TRUE),FALSE)","v":false},false,false]
[null,null,null,null,null,null,null,null,null,null,null,null,null,null,"","",false,{"$f":"CheckIzonMoji(A661)","v":false},false,false,false,false,false,false,false,false,false,false,false,false,{"$f":"IF(Q661,IF(AND(LEN(O661)=7,COUNTIF(集荷不可!$A:$A,O661)=0),FALSE,TRUE),FALSE)","v":false},false,false]
[null,null,null,null,null,null,null,null,null,null,null,null,null,null,"","",false,{"$f":"CheckIzonMoji(A662)","v":false},false,false,false,false,false,false,false,false,false,false,false,false,{"$f":"IF(Q662,IF(AND(LEN(O662)=7,COUNTIF(集荷不可!$A:$A,O662)=0),FALSE,TRUE),FALSE)","v":false},false,false]
[null,null,null,null,null,null,null,null,null,null,null,null,null,null,"","",false,{"$f":"CheckIzonMoji(A663)","v":false},false,false,false,false,false,false,false,false,false,false,false,false,{"$f":"IF(Q663,IF(AND(LEN(O663)=7,COUNTIF(集荷不可!$A:$A,O663)=0),FALSE,TRUE),FALSE)","v":false},false,false]
[null,null,null,null,null,null,null,null,null,null,null,null,null,null,"","",false,{"$f":"CheckIzonMoji(A664)","v":false},false,false,false,false,false,false,false,false,false,false,false,false,{"$f":"IF(Q664,IF(AND(LEN(O664)=7,COUNTIF(集荷不可!$A:$A,O664)=0),FALSE,TRUE),FALSE)","v":false},false,false]
[null,null,null,null,null,null,null,null,null,null,null,null,null,null,"","",false,{"$f":"CheckIzonMoji(A665)","v":false},false,false,false,false,false,false,false,false,false,false,false,false,{"$f":"IF(Q665,IF(AND(LEN(O665)=7,COUNTIF(集荷不可!$A:$A,O665)=0),FALSE,TRUE),FALSE)","v":false},false,false]
[null,null,null,null,null,null,null,null,null,null,null,null,null,null,"","",false,{"$f":"CheckIzonMoji(A666)","v":false},false,false,false,false,false,false,false,false,false,false,false,false,{"$f":"IF(Q666,IF(AND(LEN(O666)=7,COUNTIF(集荷不可!$A:$A,O666)=0),FALSE,TRUE),FALSE)","v":false},false,false]
[null,null,null,null,null,null,null,null,null,null,null,null,null,null,"","",false,{"$f":"CheckIzonMoji(A667)","v":false},false,false,false,false,false,false,false,false,false,false,false,false,{"$f":"IF(Q667,IF(AND(LEN(O667)=7,COUNTIF(集荷不可!$A:$A,O667)=0),FALSE,TRUE),FALSE)","v":false},false,false]
[null,null,null,null,null,null,null,null,null,null,null,null,null,null,"","",false,{"$f":"CheckIzonMoji(A668)","v":false},false,false,false,false,false,false,false,false,false,false,false,false,{"$f":"IF(Q668,IF(AND(LEN(O668)=7,COUNTIF(集荷不可!$A:$A,O668)=0),FALSE,TRUE),FALSE)","v":false},false,false]
[null,null,null,null,null,null,null,null,null,null,null,null,null,null,"","",false,{"$f":"CheckIzonMoji(A669)","v":false},false,false,false,false,false,false,false,false,false,false,false,false,{"$f":"IF(Q669,IF(AND(LEN(O669)=7,COUNTIF(集荷不可!$A:$A,O669)=0),FALSE,TRUE),FALSE)","v":false},false,false]
[null,null,null,null,null,null,null,null,null,null,null,null,null,null,"","",false,{"$f":"CheckIzonMoji(A670)","v":false},false,false,false,false,false,false,false,false,false,false,false,false,{"$f":"IF(Q670,IF(AND(LEN(O670)=7,COUNTIF(集荷不可!$A:$A,O670)=0),FALSE,TRUE),FALSE)","v":false},false,false]
[null,null,null,null,null,null,null,null,null,null,null,null,null,null,"","",false,{"$f":"CheckIzonMoji(A671)","v":false},false,false,false,false,false,false,false,false,false,false,false,false,{"$f":"IF(Q671,IF(AND(LEN(O671)=7,COUNTIF(集荷不可!$A:$A,O671)=0),FALSE,TRUE),FALSE)","v":false},false,false]
[null,null,null,null,null,null,null,null,null,null,null,null,null,null,"","",false,{"$f":"CheckIzonMoji(A672)","v":false},false,false,false,false,false,false,false,false,false,false,false,false,{"$f":"IF(Q672,IF(AND(LEN(O672)=7,COUNTIF(集荷不可!$A:$A,O672)=0),FALSE,TRUE),FALSE)","v":false},false,false]
[null,null,null,null,null,null,null,null,null,null,null,null,null,null,"","",false,{"$f":"CheckIzonMoji(A673)","v":false},false,false,false,false,false,false,false,false,false,false,false,false,{"$f":"IF(Q673,IF(AND(LEN(O673)=7,COUNTIF(集荷不可!$A:$A,O673)=0),FALSE,TRUE),FALSE)","v":false},false,false]
[null,null,null,null,null,null,null,null,null,null,null,null,null,null,"","",false,{"$f":"CheckIzonMoji(A674)","v":false},false,false,false,false,false,false,false,false,false,false,false,false,{"$f":"IF(Q674,IF(AND(LEN(O674)=7,COUNTIF(集荷不可!$A:$A,O674)=0),FALSE,TRUE),FALSE)","v":false},false,false]
[null,null,null,null,null,null,null,null,null,null,null,null,null,null,"","",false,{"$f":"CheckIzonMoji(A675)","v":false},false,false,false,false,false,false,false,false,false,false,false,false,{"$f":"IF(Q675,IF(AND(LEN(O675)=7,COUNTIF(集荷不可!$A:$A,O675)=0),FALSE,TRUE),FALSE)","v":false},false,false]
[null,null,null,null,null,null,null,null,null,null,null,null,null,null,"","",false,{"$f":"CheckIzonMoji(A676)","v":false},false,false,false,false,false,false,false,false,false,false,false,false,{"$f":"IF(Q676,IF(AND(LEN(O676)=7,COUNTIF(集荷不可!$A:$A,O676)=0),FALSE,TRUE),FALSE)","v":false},false,false]
[null,null,null,null,null,null,null,null,null,null,null,null,null,null,"","",false,{"$f":"CheckIzonMoji(A677)","v":false},false,false,false,false,false,false,false,false,false,false,false,false,{"$f":"IF(Q677,IF(AND(LEN(O677)=7,COUNTIF(集荷不可!$A:$A,O677)=0),FALSE,TRUE),FALSE)","v":false},false,false]
[null,null,null,null,null,null,null,null,null,null,null,null,null,null,"","",false,{"$f":"CheckIzonMoji(A678)","v":false},false,false,false,false,false,false,false,false,false,false,false,false,{"$f":"IF(Q678,IF(AND(LEN(O678)=7,COUNTIF(集荷不可!$A:$A,O678)=0),FALSE,TRUE),FALSE)","v":false},false,false]
[null,null,null,null,null,null,null,null,null,null,null,null,null,null,"","",false,{"$f":"CheckIzonMoji(A679)","v":false},false,false,false,false,false,false,false,false,false,false,false,false,{"$f":"IF(Q679,IF(AND(LEN(O679)=7,COUNTIF(集荷不可!$A:$A,O679)=0),FALSE,TRUE),FALSE)","v":false},false,false]
[null,null,null,null,null,null,null,null,null,null,null,null,null,null,"","",false,{"$f":"CheckIzonMoji(A680)","v":false},false,false,false,false,false,false,false,false,false,false,false,false,{"$f":"IF(Q680,IF(AND(LEN(O680)=7,COUNTIF(集荷不可!$A:$A,O680)=0),FALSE,TRUE),FALSE)","v":false},false,false]
[null,null,null,null,null,null,null,null,null,null,null,null,null,null,"","",false,{"$f":"CheckIzonMoji(A681)","v":false},false,false,false,false,false,false,false,false,false,false,false,false,{"$f":"IF(Q681,IF(AND(LEN(O681)=7,COUNTIF(集荷不可!$A:$A,O681)=0),FALSE,TRUE),FALSE)","v":false},false,false]
[null,null,null,null,null,null,null,null,null,null,null,null,null,null,"","",false,{"$f":"CheckIzonMoji(A682)","v":false},false,false,false,false,false,false,false,false,false,false,false,false,{"$f":"IF(Q682,IF(AND(LEN(O682)=7,COUNTIF(集荷不可!$A:$A,O682)=0),FALSE,TRUE),FALSE)","v":false},false,false]
[null,null,null,null,null,null,null,null,null,null,null,null,null,null,"","",false,{"$f":"CheckIzonMoji(A683)","v":false},false,false,false,false,false,false,false,false,false,false,false,false,{"$f":"IF(Q683,IF(AND(LEN(O683)=7,COUNTIF(集荷不可!$A:$A,O683)=0),FALSE,TRUE),FALSE)","v":false},false,false]
[null,null,null,null,null,null,null,null,null,null,null,null,null,null,"","",false,{"$f":"CheckIzonMoji(A684)","v":false},false,false,false,false,false,false,false,false,false,false,false,false,{"$f":"IF(Q684,IF(AND(LEN(O684)=7,COUNTIF(集荷不可!$A:$A,O684)=0),FALSE,TRUE),FALSE)","v":false},false,false]
[null,null,null,null,null,null,null,null,null,null,null,null,null,null,"","",false,{"$f":"CheckIzonMoji(A685)","v":false},false,false,false,false,false,false,false,false,false,false,false,false,{"$f":"IF(Q685,IF(AND(LEN(O685)=7,COUNTIF(集荷不可!$A:$A,O685)=0),FALSE,TRUE),FALSE)","v":false},false,false]
[null,null,null,null,null,null,null,null,null,null,null,null,null,null,"","",false,{"$f":"CheckIzonMoji(A686)","v":false},false,false,false,false,false,false,false,false,false,false,false,false,{"$f":"IF(Q686,IF(AND(LEN(O686)=7,COUNTIF(集荷不可!$A:$A,O686)=0),FALSE,TRUE),FALSE)","v":false},false,false]
[null,null,null,null,null,null,null,null,null,null,null,null,null,null,"","",false,{"$f":"CheckIzonMoji(A687)","v":false},false,false,false,false,false,false,false,false,false,false,false,false,{"$f":"IF(Q687,IF(AND(LEN(O687)=7,COUNTIF(集荷不可!$A:$A,O687)=0),FALSE,TRUE),FALSE)","v":false},false,false]
[null,null,null,null,null,null,null,null,null,null,null,null,null,null,"","",false,{"$f":"CheckIzonMoji(A688)","v":false},false,false,false,false,false,false,false,false,false,false,false,false,{"$f":"IF(Q688,IF(AND(LEN(O688)=7,COUNTIF(集荷不可!$A:$A,O688)=0),FALSE,TRUE),FALSE)","v":false},false,false]
[null,null,null,null,null,null,null,null,null,null,null,null,null,null,"","",false,{"$f":"CheckIzonMoji(A689)","v":false},false,false,false,false,false,false,false,false,false,false,false,false,{"$f":"IF(Q689,IF(AND(LEN(O689)=7,COUNTIF(集荷不可!$A:$A,O689)=0),FALSE,TRUE),FALSE)","v":false},false,false]
[null,null,null,null,null,null,null,null,null,null,null,null,null,null,"","",false,{"$f":"CheckIzonMoji(A690)","v":false},false,false,false,false,false,false,false,false,false,false,false,false,{"$f":"IF(Q690,IF(AND(LEN(O690)=7,COUNTIF(集荷不可!$A:$A,O690)=0),FALSE,TRUE),FALSE)","v":false},false,false]
[null,null,null,null,null,null,null,null,null,null,null,null,null,null,"","",false,{"$f":"CheckIzonMoji(A691)","v":false},false,false,false,false,false,false,false,false,false,false,false,false,{"$f":"IF(Q691,IF(AND(LEN(O691)=7,COUNTIF(集荷不可!$A:$A,O691)=0),FALSE,TRUE),FALSE)","v":false},false,false]
[null,null,null,null,null,null,null,null,null,null,null,null,null,null,"","",false,{"$f":"CheckIzonMoji(A692)","v":false},false,false,false,false,false,false,false,false,false,false,false,false,{"$f":"IF(Q692,IF(AND(LEN(O692)=7,COUNTIF(集荷不可!$A:$A,O692)=0),FALSE,TRUE),FALSE)","v":false},false,false]
[null,null,null,null,null,null,null,null,null,null,null,null,null,null,"","",false,{"$f":"CheckIzonMoji(A693)","v":false},false,false,false,false,false,false,false,false,false,false,false,false,{"$f":"IF(Q693,IF(AND(LEN(O693)=7,COUNTIF(集荷不可!$A:$A,O693)=0),FALSE,TRUE),FALSE)","v":false},false,false]
[null,null,null,null,null,null,null,null,null,null,null,null,null,null,"","",false,{"$f":"CheckIzonMoji(A694)","v":false},false,false,false,false,false,false,false,false,false,false,false,false,{"$f":"IF(Q694,IF(AND(LEN(O694)=7,COUNTIF(集荷不可!$A:$A,O694)=0),FALSE,TRUE),FALSE)","v":false},false,false]
[null,null,null,null,null,null,null,null,null,null,null,null,null,null,"","",false,{"$f":"CheckIzonMoji(A695)","v":false},false,false,false,false,false,false,false,false,false,false,false,false,{"$f":"IF(Q695,IF(AND(LEN(O695)=7,COUNTIF(集荷不可!$A:$A,O695)=0),FALSE,TRUE),FALSE)","v":false},false,false]
[null,null,null,null,null,null,null,null,null,null,null,null,null,null,"","",false,{"$f":"CheckIzonMoji(A696)","v":false},false,false,false,false,false,false,false,false,false,false,false,false,{"$f":"IF(Q696,IF(AND(LEN(O696)=7,COUNTIF(集荷不可!$A:$A,O696)=0),FALSE,TRUE),FALSE)","v":false},false,false]
[null,null,null,null,null,null,null,null,null,null,null,null,null,null,"","",false,{"$f":"CheckIzonMoji(A697)","v":false},false,false,false,false,false,false,false,false,false,false,false,false,{"$f":"IF(Q697,IF(AND(LEN(O697)=7,COUNTIF(集荷不可!$A:$A,O697)=0),FALSE,TRUE),FALSE)","v":false},false,false]
[null,null,null,null,null,null,null,null,null,null,null,null,null,null,"","",false,{"$f":"CheckIzonMoji(A698)","v":false},false,false,false,false,false,false,false,false,false,false,false,false,{"$f":"IF(Q698,IF(AND(LEN(O698)=7,COUNTIF(集荷不可!$A:$A,O698)=0),FALSE,TRUE),FALSE)","v":false},false,false]
[null,null,null,null,null,null,null,null,null,null,null,null,null,null,"","",false,{"$f":"CheckIzonMoji(A699)","v":false},false,false,false,false,false,false,false,false,false,false,false,false,{"$f":"IF(Q699,IF(AND(LEN(O699)=7,COUNTIF(集荷不可!$A:$A,O699)=0),FALSE,TRUE),FALSE)","v":false},false,false]
[null,null,null,null,null,null,null,null,null,null,null,null,null,null,"","",false,{"$f":"CheckIzonMoji(A700)","v":false},false,false,false,false,false,false,false,false,false,false,false,false,{"$f":"IF(Q700,IF(AND(LEN(O700)=7,COUNTIF(集荷不可!$A:$A,O700)=0),FALSE,TRUE),FALSE)","v":false},false,false]
[null,null,null,null,null,null,null,null,null,null,null,null,null,null,"","",false,{"$f":"CheckIzonMoji(A701)","v":false},false,false,false,false,false,false,false,false,false,false,false,false,{"$f":"IF(Q701,IF(AND(LEN(O701)=7,COUNTIF(集荷不可!$A:$A,O701)=0),FALSE,TRUE),FALSE)","v":false},false,false]
[null,null,null,null,null,null,null,null,null,null,null,null,null,null,"","",false,{"$f":"CheckIzonMoji(A702)","v":false},false,false,false,false,false,false,false,false,false,false,false,false,{"$f":"IF(Q702,IF(AND(LEN(O702)=7,COUNTIF(集荷不可!$A:$A,O702)=0),FALSE,TRUE),FALSE)","v":false},false,false]
[null,null,null,null,null,null,null,null,null,null,null,null,null,null,"","",false,{"$f":"CheckIzonMoji(A703)","v":false},false,false,false,false,false,false,false,false,false,false,false,false,{"$f":"IF(Q703,IF(AND(LEN(O703)=7,COUNTIF(集荷不可!$A:$A,O703)=0),FALSE,TRUE),FALSE)","v":false},false,false]
[null,null,null,null,null,null,null,null,null,null,null,null,null,null,"","",false,{"$f":"CheckIzonMoji(A704)","v":false},false,false,false,false,false,false,false,false,false,false,false,false,{"$f":"IF(Q704,IF(AND(LEN(O704)=7,COUNTIF(集荷不可!$A:$A,O704)=0),FALSE,TRUE),FALSE)","v":false},false,false]
[null,null,null,null,null,null,null,null,null,null,null,null,null,null,"","",false,{"$f":"CheckIzonMoji(A705)","v":false},false,false,false,false,false,false,false,false,false,false,false,false,{"$f":"IF(Q705,IF(AND(LEN(O705)=7,COUNTIF(集荷不可!$A:$A,O705)=0),FALSE,TRUE),FALSE)","v":false},false,false]
[null,null,null,null,null,null,null,null,null,null,null,null,null,null,"","",false,{"$f":"CheckIzonMoji(A706)","v":false},false,false,false,false,false,false,false,false,false,false,false,false,{"$f":"IF(Q706,IF(AND(LEN(O706)=7,COUNTIF(集荷不可!$A:$A,O706)=0),FALSE,TRUE),FALSE)","v":false},false,false]
[null,null,null,null,null,null,null,null,null,null,null,null,null,null,"","",false,{"$f":"CheckIzonMoji(A707)","v":false},false,false,false,false,false,false,false,false,false,false,false,false,{"$f":"IF(Q707,IF(AND(LEN(O707)=7,COUNTIF(集荷不可!$A:$A,O707)=0),FALSE,TRUE),FALSE)","v":false},false,false]
[null,null,null,null,null,null,null,null,null,null,null,null,null,null,"","",false,{"$f":"CheckIzonMoji(A708)","v":false},false,false,false,false,false,false,false,false,false,false,false,false,{"$f":"IF(Q708,IF(AND(LEN(O708)=7,COUNTIF(集荷不可!$A:$A,O708)=0),FALSE,TRUE),FALSE)","v":false},false,false]
[null,null,null,null,null,null,null,null,null,null,null,null,null,null,"","",false,{"$f":"CheckIzonMoji(A709)","v":false},false,false,false,false,false,false,false,false,false,false,false,false,{"$f":"IF(Q709,IF(AND(LEN(O709)=7,COUNTIF(集荷不可!$A:$A,O709)=0),FALSE,TRUE),FALSE)","v":false},false,false]
[null,null,null,null,null,null,null,null,null,null,null,null,null,null,"","",false,{"$f":"CheckIzonMoji(A710)","v":false},false,false,false,false,false,false,false,false,false,false,false,false,{"$f":"IF(Q710,IF(AND(LEN(O710)=7,COUNTIF(集荷不可!$A:$A,O710)=0),FALSE,TRUE),FALSE)","v":false},false,false]
[null,null,null,null,null,null,null,null,null,null,null,null,null,null,"","",{"$f":"IF(LEN(A711&B711&C711&D711&E711&F711&G711&H711&I711&J711&K711&L711&M711&N711)=0,FALSE,TRUE)","v":false},{"$f":"CheckIzonMoji(A711)","v":false},{"$f":"IF(Q711,IF(AND(LENB(A711)>2,LENB(A711)<33),FALSE,TRUE),FALSE)","v":false},{"$f":"IF(Q711,IF(B711=\"\",TRUE,FALSE),FALSE)","v":false},{"$f":"IF(Q711,IF(OR(C711=\"\",ISERR(DAY(C711))),TRUE,FALSE),FALSE)","v":false},{"$f":"IF(Q711,IF(D711=\"\",TRUE,FALSE),FALSE)","v":false},{"$f":"IF(Q711,IF(AND(LENB(F711)>1,LENB(F711)<65),FALSE,TRUE),FALSE)","v":false},{"$f":"IF(LENB(G711)<33,FALSE,TRUE)","v":false},{"$f":"IF(LENB(H711)<51,FALSE,TRUE)","v":false},{"$f":"IF(LENB(I711)<51,FALSE,TRUE)","v":false},{"$f":"IF(Q711,IF(AND(LENB(J711)>2,LENB(J711)<16),FALSE,TRUE),FALSE)","v":false},{"$f":"IF(Q711,IF(AND(LENB(K711)<61),FALSE,TRUE),FALSE)","v":false},{"$f":"IF(Q711,IF(AND(LENB(L711)<9),FALSE,TRUE),FALSE)","v":false},{"$f":"IF(Q711,IF(N711=\"\",TRUE,FALSE),FALSE)","v":false},{"$f":"IF(Q711,IF(AND(LEN(O711)=7,COUNTIF(集荷不可!$A:$A,O711)=0),FALSE,TRUE),FALSE)","v":false},{"$f":"IF(ISERROR(FIND(\".@\",K711)),FALSE,TRUE)","v":false},{"$f":"IF(LENB(M711)<9,FALSE,TRUE)","v":false}]
[null,null,null,null,null,null,null,null,null,null,null,null,null,null,"","",false,{"$f":"CheckIzonMoji(A712)","v":false},false,false,false,false,false,false,false,false,false,false,false,false,{"$f":"IF(Q712,IF(AND(LEN(O712)=7,COUNTIF(集荷不可!$A:$A,O712)=0),FALSE,TRUE),FALSE)","v":false},false,false]
[null,null,null,null,null,null,null,null,null,null,null,null,null,null,{"$f":"SUBSTITUTE(E713,\"-\",\"\")","v":""},{"$f":"LEFT(N713,1)","v":""},false,{"$f":"CheckIzonMoji(A713)","v":false},false,false,false,false,false,false,false,false,false,false,false,false,{"$f":"IF(Q713,IF(AND(LEN(O713)=7,COUNTIF(集荷不可!$A:$A,O713)=0),FALSE,TRUE),FALSE)","v":false},false,false]
[null,null,null,null,null,null,null,null,null,null,null,null,null,null,"","",false,{"$f":"CheckIzonMoji(A714)","v":false},false,false,false,false,false,false,false,false,false,false,false,false,{"$f":"IF(Q714,IF(AND(LEN(O714)=7,COUNTIF(集荷不可!$A:$A,O714)=0),FALSE,TRUE),FALSE)","v":false},false,false]
[null,null,null,null,null,null,null,null,null,null,null,null,null,null,"","",false,{"$f":"CheckIzonMoji(A715)","v":false},false,false,false,false,false,false,false,false,false,false,false,false,{"$f":"IF(Q715,IF(AND(LEN(O715)=7,COUNTIF(集荷不可!$A:$A,O715)=0),FALSE,TRUE),FALSE)","v":false},false,false]
[null,null,null,null,null,null,null,null,null,null,null,null,null,null,"","",false,{"$f":"CheckIzonMoji(A716)","v":false},false,false,false,false,false,false,false,false,false,false,false,false,{"$f":"IF(Q716,IF(AND(LEN(O716)=7,COUNTIF(集荷不可!$A:$A,O716)=0),FALSE,TRUE),FALSE)","v":false},false,false]
[null,null,null,null,null,null,null,null,null,null,null,null,null,null,"","",false,{"$f":"CheckIzonMoji(A717)","v":false},false,false,false,false,false,false,false,false,false,false,false,false,{"$f":"IF(Q717,IF(AND(LEN(O717)=7,COUNTIF(集荷不可!$A:$A,O717)=0),FALSE,TRUE),FALSE)","v":false},false,false]
[null,null,null,null,null,null,null,null,null,null,null,null,null,null,"","",false,{"$f":"CheckIzonMoji(A718)","v":false},false,false,false,false,false,false,false,false,false,false,false,false,{"$f":"IF(Q718,IF(AND(LEN(O718)=7,COUNTIF(集荷不可!$A:$A,O718)=0),FALSE,TRUE),FALSE)","v":false},false,false]
[null,null,null,null,null,null,null,null,null,null,null,null,null,null,"","",false,{"$f":"CheckIzonMoji(A719)","v":false},false,false,false,false,false,false,false,false,false,false,false,false,{"$f":"IF(Q719,IF(AND(LEN(O719)=7,COUNTIF(集荷不可!$A:$A,O719)=0),FALSE,TRUE),FALSE)","v":false},false,false]
[null,null,null,null,null,null,null,null,null,null,null,null,null,null,"","",false,{"$f":"CheckIzonMoji(A720)","v":false},false,false,false,false,false,false,false,false,false,false,false,false,{"$f":"IF(Q720,IF(AND(LEN(O720)=7,COUNTIF(集荷不可!$A:$A,O720)=0),FALSE,TRUE),FALSE)","v":false},false,false]
[null,null,null,null,null,null,null,null,null,null,null,null,null,null,"","",false,{"$f":"CheckIzonMoji(A721)","v":false},false,false,false,false,false,false,false,false,false,false,false,false,{"$f":"IF(Q721,IF(AND(LEN(O721)=7,COUNTIF(集荷不可!$A:$A,O721)=0),FALSE,TRUE),FALSE)","v":false},false,false]
[null,null,null,null,null,null,null,null,null,null,null,null,null,null,"","",false,{"$f":"CheckIzonMoji(A722)","v":false},false,false,false,false,false,false,false,false,false,false,false,false,{"$f":"IF(Q722,IF(AND(LEN(O722)=7,COUNTIF(集荷不可!$A:$A,O722)=0),FALSE,TRUE),FALSE)","v":false},false,false]
[null,null,null,null,null,null,null,null,null,null,null,null,null,null,"","",false,{"$f":"CheckIzonMoji(A723)","v":false},false,false,false,false,false,false,false,false,false,false,false,false,{"$f":"IF(Q723,IF(AND(LEN(O723)=7,COUNTIF(集荷不可!$A:$A,O723)=0),FALSE,TRUE),FALSE)","v":false},false,false]
[null,null,null,null,null,null,null,null,null,null,null,null,null,null,"","",false,{"$f":"CheckIzonMoji(A724)","v":false},false,false,false,false,false,false,false,false,false,false,false,false,{"$f":"IF(Q724,IF(AND(LEN(O724)=7,COUNTIF(集荷不可!$A:$A,O724)=0),FALSE,TRUE),FALSE)","v":false},false,false]
[null,null,null,null,null,null,null,null,null,null,null,null,null,null,"","",false,{"$f":"CheckIzonMoji(A725)","v":false},false,false,false,false,false,false,false,false,false,false,false,false,{"$f":"IF(Q725,IF(AND(LEN(O725)=7,COUNTIF(集荷不可!$A:$A,O725)=0),FALSE,TRUE),FALSE)","v":false},false,false]
[null,null,null,null,null,null,null,null,null,null,null,null,null,null,"","",false,{"$f":"CheckIzonMoji(A726)","v":false},false,false,false,false,false,false,false,false,false,false,false,false,{"$f":"IF(Q726,IF(AND(LEN(O726)=7,COUNTIF(集荷不可!$A:$A,O726)=0),FALSE,TRUE),FALSE)","v":false},false,false]
[null,null,null,null,null,null,null,null,null,null,null,null,null,null,"","",false,{"$f":"CheckIzonMoji(A727)","v":false},false,false,false,false,false,false,false,false,false,false,false,false,{"$f":"IF(Q727,IF(AND(LEN(O727)=7,COUNTIF(集荷不可!$A:$A,O727)=0),FALSE,TRUE),FALSE)","v":false},false,false]
[null,null,null,null,null,null,null,null,null,null,null,null,null,null,"","",false,{"$f":"CheckIzonMoji(A728)","v":false},false,false,false,false,false,false,false,false,false,false,false,false,{"$f":"IF(Q728,IF(AND(LEN(O728)=7,COUNTIF(集荷不可!$A:$A,O728)=0),FALSE,TRUE),FALSE)","v":false},false,false]
[null,null,null,null,null,null,null,null,null,null,null,null,null,null,"","",false,{"$f":"CheckIzonMoji(A729)","v":false},false,false,false,false,false,false,false,false,false,false,false,false,{"$f":"IF(Q729,IF(AND(LEN(O729)=7,COUNTIF(集荷不可!$A:$A,O729)=0),FALSE,TRUE),FALSE)","v":false},false,false]
[null,null,null,null,null,null,null,null,null,null,null,null,null,null,"","",false,{"$f":"CheckIzonMoji(A730)","v":false},false,false,false,false,false,false,false,false,false,false,false,false,{"$f":"IF(Q730,IF(AND(LEN(O730)=7,COUNTIF(集荷不可!$A:$A,O730)=0),FALSE,TRUE),FALSE)","v":false},false,false]
[null,null,null,null,null,null,null,null,null,null,null,null,null,null,"","",false,{"$f":"CheckIzonMoji(A731)","v":false},false,false,false,false,false,false,false,false,false,false,false,false,{"$f":"IF(Q731,IF(AND(LEN(O731)=7,COUNTIF(集荷不可!$A:$A,O731)=0),FALSE,TRUE),FALSE)","v":false},false,false]
[null,null,null,null,null,null,null,null,null,null,null,null,null,null,"","",false,{"$f":"CheckIzonMoji(A732)","v":false},false,false,false,false,false,false,false,false,false,false,false,false,{"$f":"IF(Q732,IF(AND(LEN(O732)=7,COUNTIF(集荷不可!$A:$A,O732)=0),FALSE,TRUE),FALSE)","v":false},false,false]
[null,null,null,null,null,null,null,null,null,null,null,null,null,null,"","",false,{"$f":"CheckIzonMoji(A733)","v":false},false,false,false,false,false,false,false,false,false,false,false,false,{"$f":"IF(Q733,IF(AND(LEN(O733)=7,COUNTIF(集荷不可!$A:$A,O733)=0),FALSE,TRUE),FALSE)","v":false},false,false]
[null,null,null,null,null,null,null,null,null,null,null,null,null,null,"","",false,{"$f":"CheckIzonMoji(A734)","v":false},false,false,false,false,false,false,false,false,false,false,false,false,{"$f":"IF(Q734,IF(AND(LEN(O734)=7,COUNTIF(集荷不可!$A:$A,O734)=0),FALSE,TRUE),FALSE)","v":false},false,false]
[null,null,null,null,null,null,null,null,null,null,null,null,null,null,"","",false,{"$f":"CheckIzonMoji(A735)","v":false},false,false,false,false,false,false,false,false,false,false,false,false,{"$f":"IF(Q735,IF(AND(LEN(O735)=7,COUNTIF(集荷不可!$A:$A,O735)=0),FALSE,TRUE),FALSE)","v":false},false,false]
[null,null,null,null,null,null,null,null,null,null,null,null,null,null,"","",false,{"$f":"CheckIzonMoji(A736)","v":false},false,false,false,false,false,false,false,false,false,false,false,false,{"$f":"IF(Q736,IF(AND(LEN(O736)=7,COUNTIF(集荷不可!$A:$A,O736)=0),FALSE,TRUE),FALSE)","v":false},false,false]
[null,null,null,null,null,null,null,null,null,null,null,null,null,null,"","",false,{"$f":"CheckIzonMoji(A737)","v":false},false,false,false,false,false,false,false,false,false,false,false,false,{"$f":"IF(Q737,IF(AND(LEN(O737)=7,COUNTIF(集荷不可!$A:$A,O737)=0),FALSE,TRUE),FALSE)","v":false},false,false]
[null,null,null,null,null,null,null,null,null,null,null,null,null,null,"","",false,{"$f":"CheckIzonMoji(A738)","v":false},false,false,false,false,false,false,false,false,false,false,false,false,{"$f":"IF(Q738,IF(AND(LEN(O738)=7,COUNTIF(集荷不可!$A:$A,O738)=0),FALSE,TRUE),FALSE)","v":false},false,false]
[null,null,null,null,null,null,null,null,null,null,null,null,null,null,"","",false,{"$f":"CheckIzonMoji(A739)","v":false},false,false,false,false,false,false,false,false,false,false,false,false,{"$f":"IF(Q739,IF(AND(LEN(O739)=7,COUNTIF(集荷不可!$A:$A,O739)=0),FALSE,TRUE),FALSE)","v":false},false,false]
[null,null,null,null,null,null,null,null,null,null,null,null,null,null,"","",false,{"$f":"CheckIzonMoji(A740)","v":false},false,false,false,false,false,false,false,false,false,false,false,false,{"$f":"IF(Q740,IF(AND(LEN(O740)=7,COUNTIF(集荷不可!$A:$A,O740)=0),FALSE,TRUE),FALSE)","v":false},false,false]
[null,null,null,null,null,null,null,null,null,null,null,null,null,null,"","",false,{"$f":"CheckIzonMoji(A741)","v":false},false,false,false,false,false,false,false,false,false,false,false,false,{"$f":"IF(Q741,IF(AND(LEN(O741)=7,COUNTIF(集荷不可!$A:$A,O741)=0),FALSE,TRUE),FALSE)","v":false},false,false]
[null,null,null,null,null,null,null,null,null,null,null,null,null,null,"","",false,{"$f":"CheckIzonMoji(A742)","v":false},false,false,false,false,false,false,false,false,false,false,false,false,{"$f":"IF(Q742,IF(AND(LEN(O742)=7,COUNTIF(集荷不可!$A:$A,O742)=0),FALSE,TRUE),FALSE)","v":false},false,false]
[null,null,null,null,null,null,null,null,null,null,null,null,null,null,"","",false,{"$f":"CheckIzonMoji(A743)","v":false},false,false,false,false,false,false,false,false,false,false,false,false,{"$f":"IF(Q743,IF(AND(LEN(O743)=7,COUNTIF(集荷不可!$A:$A,O743)=0),FALSE,TRUE),FALSE)","v":false},false,false]
[null,null,null,null,null,null,null,null,null,null,null,null,null,null,"","",false,{"$f":"CheckIzonMoji(A744)","v":false},false,false,false,false,false,false,false,false,false,false,false,false,{"$f":"IF(Q744,IF(AND(LEN(O744)=7,COUNTIF(集荷不可!$A:$A,O744)=0),FALSE,TRUE),FALSE)","v":false},false,false]
[null,null,null,null,null,null,null,null,null,null,null,null,null,null,"","",false,{"$f":"CheckIzonMoji(A745)","v":false},false,false,false,false,false,false,false,false,false,false,false,false,{"$f":"IF(Q745,IF(AND(LEN(O745)=7,COUNTIF(集荷不可!$A:$A,O745)=0),FALSE,TRUE),FALSE)","v":false},false,false]
[null,null,null,null,null,null,null,null,null,null,null,null,null,null,"","",false,{"$f":"CheckIzonMoji(A746)","v":false},false,false,false,false,false,false,false,false,false,false,false,false,{"$f":"IF(Q746,IF(AND(LEN(O746)=7,COUNTIF(集荷不可!$A:$A,O746)=0),FALSE,TRUE),FALSE)","v":false},false,false]
[null,null,null,null,null,null,null,null,null,null,null,null,null,null,"","",false,{"$f":"CheckIzonMoji(A747)","v":false},false,false,false,false,false,false,false,false,false,false,false,false,{"$f":"IF(Q747,IF(AND(LEN(O747)=7,COUNTIF(集荷不可!$A:$A,O747)=0),FALSE,TRUE),FALSE)","v":false},false,false]
[null,null,null,null,null,null,null,null,null,null,null,null,null,null,"","",false,{"$f":"CheckIzonMoji(A748)","v":false},false,false,false,false,false,false,false,false,false,false,false,false,{"$f":"IF(Q748,IF(AND(LEN(O748)=7,COUNTIF(集荷不可!$A:$A,O748)=0),FALSE,TRUE),FALSE)","v":false},false,false]
[null,null,null,null,null,null,null,null,null,null,null,null,null,null,"","",false,{"$f":"CheckIzonMoji(A749)","v":false},false,false,false,false,false,false,false,false,false,false,false,false,{"$f":"IF(Q749,IF(AND(LEN(O749)=7,COUNTIF(集荷不可!$A:$A,O749)=0),FALSE,TRUE),FALSE)","v":false},false,false]
[null,null,null,null,null,null,null,null,null,null,null,null,null,null,"","",false,{"$f":"CheckIzonMoji(A750)","v":false},false,false,false,false,false,false,false,false,false,false,false,false,{"$f":"IF(Q750,IF(AND(LEN(O750)=7,COUNTIF(集荷不可!$A:$A,O750)=0),FALSE,TRUE),FALSE)","v":false},false,false]
[null,null,null,null,null,null,null,null,null,null,null,null,null,null,"","",false,{"$f":"CheckIzonMoji(A751)","v":false},false,false,false,false,false,false,false,false,false,false,false,false,{"$f":"IF(Q751,IF(AND(LEN(O751)=7,COUNTIF(集荷不可!$A:$A,O751)=0),FALSE,TRUE),FALSE)","v":false},false,false]
[null,null,null,null,null,null,null,null,null,null,null,null,null,null,"","",false,{"$f":"CheckIzonMoji(A752)","v":false},false,false,false,false,false,false,false,false,false,false,false,false,{"$f":"IF(Q752,IF(AND(LEN(O752)=7,COUNTIF(集荷不可!$A:$A,O752)=0),FALSE,TRUE),FALSE)","v":false},false,false]
[null,null,null,null,null,null,null,null,null,null,null,null,null,null,"","",false,{"$f":"CheckIzonMoji(A753)","v":false},false,false,false,false,false,false,false,false,false,false,false,false,{"$f":"IF(Q753,IF(AND(LEN(O753)=7,COUNTIF(集荷不可!$A:$A,O753)=0),FALSE,TRUE),FALSE)","v":false},false,false]
[null,null,null,null,null,null,null,null,null,null,null,null,null,null,"","",false,{"$f":"CheckIzonMoji(A754)","v":false},false,false,false,false,false,false,false,false,false,false,false,false,{"$f":"IF(Q754,IF(AND(LEN(O754)=7,COUNTIF(集荷不可!$A:$A,O754)=0),FALSE,TRUE),FALSE)","v":false},false,false]
[null,null,null,null,null,null,null,null,null,null,null,null,null,null,"","",false,{"$f":"CheckIzonMoji(A755)","v":false},false,false,false,false,false,false,false,false,false,false,false,false,{"$f":"IF(Q755,IF(AND(LEN(O755)=7,COUNTIF(集荷不可!$A:$A,O755)=0),FALSE,TRUE),FALSE)","v":false},false,false]
[null,null,null,null,null,null,null,null,null,null,null,null,null,null,"","",false,{"$f":"CheckIzonMoji(A756)","v":false},false,false,false,false,false,false,false,false,false,false,false,false,{"$f":"IF(Q756,IF(AND(LEN(O756)=7,COUNTIF(集荷不可!$A:$A,O756)=0),FALSE,TRUE),FALSE)","v":false},false,false]
[null,null,null,null,null,null,null,null,null,null,null,null,null,null,"","",false,{"$f":"CheckIzonMoji(A757)","v":false},false,false,false,false,false,false,false,false,false,false,false,false,{"$f":"IF(Q757,IF(AND(LEN(O757)=7,COUNTIF(集荷不可!$A:$A,O757)=0),FALSE,TRUE),FALSE)","v":false},false,false]
[null,null,null,null,null,null,null,null,null,null,null,null,null,null,"","",false,{"$f":"CheckIzonMoji(A758)","v":false},false,false,false,false,false,false,false,false,false,false,false,false,{"$f":"IF(Q758,IF(AND(LEN(O758)=7,COUNTIF(集荷不可!$A:$A,O758)=0),FALSE,TRUE),FALSE)","v":false},false,false]
[null,null,null,null,null,null,null,null,null,null,null,null,null,null,"","",false,{"$f":"CheckIzonMoji(A759)","v":false},false,false,false,false,false,false,false,false,false,false,false,false,{"$f":"IF(Q759,IF(AND(LEN(O759)=7,COUNTIF(集荷不可!$A:$A,O759)=0),FALSE,TRUE),FALSE)","v":false},false,false]
[null,null,null,null,null,null,null,null,null,null,null,null,null,null,"","",false,{"$f":"CheckIzonMoji(A760)","v":false},false,false,false,false,false,false,false,false,false,false,false,false,{"$f":"IF(Q760,IF(AND(LEN(O760)=7,COUNTIF(集荷不可!$A:$A,O760)=0),FALSE,TRUE),FALSE)","v":false},false,false]
[null,null,null,null,null,null,null,null,null,null,null,null,null,null,"","",false,{"$f":"CheckIzonMoji(A761)","v":false},false,false,false,false,false,false,false,false,false,false,false,false,{"$f":"IF(Q761,IF(AND(LEN(O761)=7,COUNTIF(集荷不可!$A:$A,O761)=0),FALSE,TRUE),FALSE)","v":false},false,false]
[null,null,null,null,null,null,null,null,null,null,null,null,null,null,"","",false,{"$f":"CheckIzonMoji(A762)","v":false},false,false,false,false,false,false,false,false,false,false,false,false,{"$f":"IF(Q762,IF(AND(LEN(O762)=7,COUNTIF(集荷不可!$A:$A,O762)=0),FALSE,TRUE),FALSE)","v":false},false,false]
[null,null,null,null,null,null,null,null,null,null,null,null,null,null,"","",false,{"$f":"CheckIzonMoji(A763)","v":false},false,false,false,false,false,false,false,false,false,false,false,false,{"$f":"IF(Q763,IF(AND(LEN(O763)=7,COUNTIF(集荷不可!$A:$A,O763)=0),FALSE,TRUE),FALSE)","v":false},false,false]
[null,null,null,null,null,null,null,null,null,null,null,null,null,null,"","",false,{"$f":"CheckIzonMoji(A764)","v":false},false,false,false,false,false,false,false,false,false,false,false,false,{"$f":"IF(Q764,IF(AND(LEN(O764)=7,COUNTIF(集荷不可!$A:$A,O764)=0),FALSE,TRUE),FALSE)","v":false},false,false]
[null,null,null,null,null,null,null,null,null,null,null,null,null,null,"","",false,{"$f":"CheckIzonMoji(A765)","v":false},false,false,false,false,false,false,false,false,false,false,false,false,{"$f":"IF(Q765,IF(AND(LEN(O765)=7,COUNTIF(集荷不可!$A:$A,O765)=0),FALSE,TRUE),FALSE)","v":false},false,false]
[null,null,null,null,null,null,null,null,null,null,null,null,null,null,"","",false,{"$f":"CheckIzonMoji(A766)","v":false},false,false,false,false,false,false,false,false,false,false,false,false,{"$f":"IF(Q766,IF(AND(LEN(O766)=7,COUNTIF(集荷不可!$A:$A,O766)=0),FALSE,TRUE),FALSE)","v":false},false,false]
[null,null,null,null,null,null,null,null,null,null,null,null,null,null,"","",false,{"$f":"CheckIzonMoji(A767)","v":false},false,false,false,false,false,false,false,false,false,false,false,false,{"$f":"IF(Q767,IF(AND(LEN(O767)=7,COUNTIF(集荷不可!$A:$A,O767)=0),FALSE,TRUE),FALSE)","v":false},false,false]
[null,null,null,null,null,null,null,null,null,null,null,null,null,null,"","",false,{"$f":"CheckIzonMoji(A768)","v":false},false,false,false,false,false,false,false,false,false,false,false,false,{"$f":"IF(Q768,IF(AND(LEN(O768)=7,COUNTIF(集荷不可!$A:$A,O768)=0),FALSE,TRUE),FALSE)","v":false},false,false]
[null,null,null,null,null,null,null,null,null,null,null,null,null,null,"","",false,{"$f":"CheckIzonMoji(A769)","v":false},false,false,false,false,false,false,false,false,false,false,false,false,{"$f":"IF(Q769,IF(AND(LEN(O769)=7,COUNTIF(集荷不可!$A:$A,O769)=0),FALSE,TRUE),FALSE)","v":false},false,false]
[null,null,null,null,null,null,null,null,null,null,null,null,null,null,"","",false,{"$f":"CheckIzonMoji(A770)","v":false},false,false,false,false,false,false,false,false,false,false,false,false,{"$f":"IF(Q770,IF(AND(LEN(O770)=7,COUNTIF(集荷不可!$A:$A,O770)=0),FALSE,TRUE),FALSE)","v":false},false,false]
[null,null,null,null,null,null,null,null,null,null,null,null,null,null,"","",false,{"$f":"CheckIzonMoji(A771)","v":false},false,false,false,false,false,false,false,false,false,false,false,false,{"$f":"IF(Q771,IF(AND(LEN(O771)=7,COUNTIF(集荷不可!$A:$A,O771)=0),FALSE,TRUE),FALSE)","v":false},false,false]
[null,null,null,null,null,null,null,null,null,null,null,null,null,null,"","",false,{"$f":"CheckIzonMoji(A772)","v":false},false,false,false,false,false,false,false,false,false,false,false,false,{"$f":"IF(Q772,IF(AND(LEN(O772)=7,COUNTIF(集荷不可!$A:$A,O772)=0),FALSE,TRUE),FALSE)","v":false},false,false]
[null,null,null,null,null,null,null,null,null,null,null,null,null,null,"","",false,{"$f":"CheckIzonMoji(A773)","v":false},false,false,false,false,false,false,false,false,false,false,false,false,{"$f":"IF(Q773,IF(AND(LEN(O773)=7,COUNTIF(集荷不可!$A:$A,O773)=0),FALSE,TRUE),FALSE)","v":false},false,false]
[null,null,null,null,null,null,null,null,null,null,null,null,null,null,"","",false,{"$f":"CheckIzonMoji(A774)","v":false},false,false,false,false,false,false,false,false,false,false,false,false,{"$f":"IF(Q774,IF(AND(LEN(O774)=7,COUNTIF(集荷不可!$A:$A,O774)=0),FALSE,TRUE),FALSE)","v":false},false,false]
[null,null,null,null,null,null,null,null,null,null,null,null,null,null,"","",{"$f":"IF(LEN(A775&B775&C775&D775&E775&F775&G775&H775&I775&J775&K775&L775&M775&N775)=0,FALSE,TRUE)","v":false},{"$f":"CheckIzonMoji(A775)","v":false},{"$f":"IF(Q775,IF(AND(LENB(A775)>2,LENB(A775)<33),FALSE,TRUE),FALSE)","v":false},{"$f":"IF(Q775,IF(B775=\"\",TRUE,FALSE),FALSE)","v":false},{"$f":"IF(Q775,IF(OR(C775=\"\",ISERR(DAY(C775))),TRUE,FALSE),FALSE)","v":false},{"$f":"IF(Q775,IF(D775=\"\",TRUE,FALSE),FALSE)","v":false},{"$f":"IF(Q775,IF(AND(LENB(F775)>1,LENB(F775)<65),FALSE,TRUE),FALSE)","v":false},{"$f":"IF(LENB(G775)<33,FALSE,TRUE)","v":false},{"$f":"IF(LENB(H775)<51,FALSE,TRUE)","v":false},{"$f":"IF(LENB(I775)<51,FALSE,TRUE)","v":false},{"$f":"IF(Q775,IF(AND(LENB(J775)>2,LENB(J775)<16),FALSE,TRUE),FALSE)","v":false},{"$f":"IF(Q775,IF(AND(LENB(K775)<61),FALSE,TRUE),FALSE)","v":false},{"$f":"IF(Q775,IF(AND(LENB(L775)<9),FALSE,TRUE),FALSE)","v":false},{"$f":"IF(Q775,IF(N775=\"\",TRUE,FALSE),FALSE)","v":false},{"$f":"IF(Q775,IF(AND(LEN(O775)=7,COUNTIF(集荷不可!$A:$A,O775)=0),FALSE,TRUE),FALSE)","v":false},{"$f":"IF(ISERROR(FIND(\".@\",K775)),FALSE,TRUE)","v":false},{"$f":"IF(LENB(M775)<9,FALSE,TRUE)","v":false}]
[null,null,null,null,null,null,null,null,null,null,null,null,null,null,"","",false,{"$f":"CheckIzonMoji(A776)","v":false},false,false,false,false,false,false,false,false,false,false,false,false,{"$f":"IF(Q776,IF(AND(LEN(O776)=7,COUNTIF(集荷不可!$A:$A,O776)=0),FALSE,TRUE),FALSE)","v":false},false,false]
[null,null,null,null,null,null,null,null,null,null,null,null,null,null,{"$f":"SUBSTITUTE(E777,\"-\",\"\")","v":""},{"$f":"LEFT(N777,1)","v":""},false,{"$f":"CheckIzonMoji(A777)","v":false},false,false,false,false,false,false,false,false,false,false,false,false,{"$f":"IF(Q777,IF(AND(LEN(O777)=7,COUNTIF(集荷不可!$A:$A,O777)=0),FALSE,TRUE),FALSE)","v":false},false,false]
[null,null,null,null,null,null,null,null,null,null,null,null,null,null,"","",false,{"$f":"CheckIzonMoji(A778)","v":false},false,false,false,false,false,false,false,false,false,false,false,false,{"$f":"IF(Q778,IF(AND(LEN(O778)=7,COUNTIF(集荷不可!$A:$A,O778)=0),FALSE,TRUE),FALSE)","v":false},false,false]
[null,null,null,null,null,null,null,null,null,null,null,null,null,null,"","",false,{"$f":"CheckIzonMoji(A779)","v":false},false,false,false,false,false,false,false,false,false,false,false,false,{"$f":"IF(Q779,IF(AND(LEN(O779)=7,COUNTIF(集荷不可!$A:$A,O779)=0),FALSE,TRUE),FALSE)","v":false},false,false]
[null,null,null,null,null,null,null,null,null,null,null,null,null,null,"","",false,{"$f":"CheckIzonMoji(A780)","v":false},false,false,false,false,false,false,false,false,false,false,false,false,{"$f":"IF(Q780,IF(AND(LEN(O780)=7,COUNTIF(集荷不可!$A:$A,O780)=0),FALSE,TRUE),FALSE)","v":false},false,false]
[null,null,null,null,null,null,null,null,null,null,null,null,null,null,"","",false,{"$f":"CheckIzonMoji(A781)","v":false},false,false,false,false,false,false,false,false,false,false,false,false,{"$f":"IF(Q781,IF(AND(LEN(O781)=7,COUNTIF(集荷不可!$A:$A,O781)=0),FALSE,TRUE),FALSE)","v":false},false,false]
[null,null,null,null,null,null,null,null,null,null,null,null,null,null,"","",false,{"$f":"CheckIzonMoji(A782)","v":false},false,false,false,false,false,false,false,false,false,false,false,false,{"$f":"IF(Q782,IF(AND(LEN(O782)=7,COUNTIF(集荷不可!$A:$A,O782)=0),FALSE,TRUE),FALSE)","v":false},false,false]
[null,null,null,null,null,null,null,null,null,null,null,null,null,null,"","",false,{"$f":"CheckIzonMoji(A783)","v":false},false,false,false,false,false,false,false,false,false,false,false,false,{"$f":"IF(Q783,IF(AND(LEN(O783)=7,COUNTIF(集荷不可!$A:$A,O783)=0),FALSE,TRUE),FALSE)","v":false},false,false]
[null,null,null,null,null,null,null,null,null,null,null,null,null,null,"","",false,{"$f":"CheckIzonMoji(A784)","v":false},false,false,false,false,false,false,false,false,false,false,false,false,{"$f":"IF(Q784,IF(AND(LEN(O784)=7,COUNTIF(集荷不可!$A:$A,O784)=0),FALSE,TRUE),FALSE)","v":false},false,false]
[null,null,null,null,null,null,null,null,null,null,null,null,null,null,"","",false,{"$f":"CheckIzonMoji(A785)","v":false},false,false,false,false,false,false,false,false,false,false,false,false,{"$f":"IF(Q785,IF(AND(LEN(O785)=7,COUNTIF(集荷不可!$A:$A,O785)=0),FALSE,TRUE),FALSE)","v":false},false,false]
[null,null,null,null,null,null,null,null,null,null,null,null,null,null,"","",false,{"$f":"CheckIzonMoji(A786)","v":false},false,false,false,false,false,false,false,false,false,false,false,false,{"$f":"IF(Q786,IF(AND(LEN(O786)=7,COUNTIF(集荷不可!$A:$A,O786)=0),FALSE,TRUE),FALSE)","v":false},false,false]
[null,null,null,null,null,null,null,null,null,null,null,null,null,null,"","",false,{"$f":"CheckIzonMoji(A787)","v":false},false,false,false,false,false,false,false,false,false,false,false,false,{"$f":"IF(Q787,IF(AND(LEN(O787)=7,COUNTIF(集荷不可!$A:$A,O787)=0),FALSE,TRUE),FALSE)","v":false},false,false]
[null,null,null,null,null,null,null,null,null,null,null,null,null,null,"","",false,{"$f":"CheckIzonMoji(A788)","v":false},false,false,false,false,false,false,false,false,false,false,false,false,{"$f":"IF(Q788,IF(AND(LEN(O788)=7,COUNTIF(集荷不可!$A:$A,O788)=0),FALSE,TRUE),FALSE)","v":false},false,false]
[null,null,null,null,null,null,null,null,null,null,null,null,null,null,"","",false,{"$f":"CheckIzonMoji(A789)","v":false},false,false,false,false,false,false,false,false,false,false,false,false,{"$f":"IF(Q789,IF(AND(LEN(O789)=7,COUNTIF(集荷不可!$A:$A,O789)=0),FALSE,TRUE),FALSE)","v":false},false,false]
[null,null,null,null,null,null,null,null,null,null,null,null,null,null,"","",false,{"$f":"CheckIzonMoji(A790)","v":false},false,false,false,false,false,false,false,false,false,false,false,false,{"$f":"IF(Q790,IF(AND(LEN(O790)=7,COUNTIF(集荷不可!$A:$A,O790)=0),FALSE,TRUE),FALSE)","v":false},false,false]
[null,null,null,null,null,null,null,null,null,null,null,null,null,null,"","",false,{"$f":"CheckIzonMoji(A791)","v":false},false,false,false,false,false,false,false,false,false,false,false,false,{"$f":"IF(Q791,IF(AND(LEN(O791)=7,COUNTIF(集荷不可!$A:$A,O791)=0),FALSE,TRUE),FALSE)","v":false},false,false]
[null,null,null,null,null,null,null,null,null,null,null,null,null,null,"","",false,{"$f":"CheckIzonMoji(A792)","v":false},false,false,false,false,false,false,false,false,false,false,false,false,{"$f":"IF(Q792,IF(AND(LEN(O792)=7,COUNTIF(集荷不可!$A:$A,O792)=0),FALSE,TRUE),FALSE)","v":false},false,false]
[null,null,null,null,null,null,null,null,null,null,null,null,null,null,"","",false,{"$f":"CheckIzonMoji(A793)","v":false},false,false,false,false,false,false,false,false,false,false,false,false,{"$f":"IF(Q793,IF(AND(LEN(O793)=7,COUNTIF(集荷不可!$A:$A,O793)=0),FALSE,TRUE),FALSE)","v":false},false,false]
[null,null,null,null,null,null,null,null,null,null,null,null,null,null,"","",false,{"$f":"CheckIzonMoji(A794)","v":false},false,false,false,false,false,false,false,false,false,false,false,false,{"$f":"IF(Q794,IF(AND(LEN(O794)=7,COUNTIF(集荷不可!$A:$A,O794)=0),FALSE,TRUE),FALSE)","v":false},false,false]
[null,null,null,null,null,null,null,null,null,null,null,null,null,null,"","",false,{"$f":"CheckIzonMoji(A795)","v":false},false,false,false,false,false,false,false,false,false,false,false,false,{"$f":"IF(Q795,IF(AND(LEN(O795)=7,COUNTIF(集荷不可!$A:$A,O795)=0),FALSE,TRUE),FALSE)","v":false},false,false]
[null,null,null,null,null,null,null,null,null,null,null,null,null,null,"","",false,{"$f":"CheckIzonMoji(A796)","v":false},false,false,false,false,false,false,false,false,false,false,false,false,{"$f":"IF(Q796,IF(AND(LEN(O796)=7,COUNTIF(集荷不可!$A:$A,O796)=0),FALSE,TRUE),FALSE)","v":false},false,false]
[null,null,null,null,null,null,null,null,null,null,null,null,null,null,"","",false,{"$f":"CheckIzonMoji(A797)","v":false},false,false,false,false,false,false,false,false,false,false,false,false,{"$f":"IF(Q797,IF(AND(LEN(O797)=7,COUNTIF(集荷不可!$A:$A,O797)=0),FALSE,TRUE),FALSE)","v":false},false,false]
[null,null,null,null,null,null,null,null,null,null,null,null,null,null,"","",false,{"$f":"CheckIzonMoji(A798)","v":false},false,false,false,false,false,false,false,false,false,false,false,false,{"$f":"IF(Q798,IF(AND(LEN(O798)=7,COUNTIF(集荷不可!$A:$A,O798)=0),FALSE,TRUE),FALSE)","v":false},false,false]
[null,null,null,null,null,null,null,null,null,null,null,null,null,null,"","",false,{"$f":"CheckIzonMoji(A799)","v":false},false,false,false,false,false,false,false,false,false,false,false,false,{"$f":"IF(Q799,IF(AND(LEN(O799)=7,COUNTIF(集荷不可!$A:$A,O799)=0),FALSE,TRUE),FALSE)","v":false},false,false]
[null,null,null,null,null,null,null,null,null,null,null,null,null,null,"","",false,{"$f":"CheckIzonMoji(A800)","v":false},false,false,false,false,false,false,false,false,false,false,false,false,{"$f":"IF(Q800,IF(AND(LEN(O800)=7,COUNTIF(集荷不可!$A:$A,O800)=0),FALSE,TRUE),FALSE)","v":false},false,false]
[null,null,null,null,null,null,null,null,null,null,null,null,null,null,"","",false,{"$f":"CheckIzonMoji(A801)","v":false},false,false,false,false,false,false,false,false,false,false,false,false,{"$f":"IF(Q801,IF(AND(LEN(O801)=7,COUNTIF(集荷不可!$A:$A,O801)=0),FALSE,TRUE),FALSE)","v":false},false,false]
[null,null,null,null,null,null,null,null,null,null,null,null,null,null,"","",false,{"$f":"CheckIzonMoji(A802)","v":false},false,false,false,false,false,false,false,false,false,false,false,false,{"$f":"IF(Q802,IF(AND(LEN(O802)=7,COUNTIF(集荷不可!$A:$A,O802)=0),FALSE,TRUE),FALSE)","v":false},false,false]
[null,null,null,null,null,null,null,null,null,null,null,null,null,null,"","",false,{"$f":"CheckIzonMoji(A803)","v":false},false,false,false,false,false,false,false,false,false,false,false,false,{"$f":"IF(Q803,IF(AND(LEN(O803)=7,COUNTIF(集荷不可!$A:$A,O803)=0),FALSE,TRUE),FALSE)","v":false},false,false]
[null,null,null,null,null,null,null,null,null,null,null,null,null,null,"","",false,{"$f":"CheckIzonMoji(A804)","v":false},false,false,false,false,false,false,false,false,false,false,false,false,{"$f":"IF(Q804,IF(AND(LEN(O804)=7,COUNTIF(集荷不可!$A:$A,O804)=0),FALSE,TRUE),FALSE)","v":false},false,false]
[null,null,null,null,null,null,null,null,null,null,null,null,null,null,"","",false,{"$f":"CheckIzonMoji(A805)","v":false},false,false,false,false,false,false,false,false,false,false,false,false,{"$f":"IF(Q805,IF(AND(LEN(O805)=7,COUNTIF(集荷不可!$A:$A,O805)=0),FALSE,TRUE),FALSE)","v":false},false,false]
[null,null,null,null,null,null,null,null,null,null,null,null,null,null,"","",false,{"$f":"CheckIzonMoji(A806)","v":false},false,false,false,false,false,false,false,false,false,false,false,false,{"$f":"IF(Q806,IF(AND(LEN(O806)=7,COUNTIF(集荷不可!$A:$A,O806)=0),FALSE,TRUE),FALSE)","v":false},false,false]
[null,null,null,null,null,null,null,null,null,null,null,null,null,null,"","",false,{"$f":"CheckIzonMoji(A807)","v":false},false,false,false,false,false,false,false,false,false,false,false,false,{"$f":"IF(Q807,IF(AND(LEN(O807)=7,COUNTIF(集荷不可!$A:$A,O807)=0),FALSE,TRUE),FALSE)","v":false},false,false]
[null,null,null,null,null,null,null,null,null,null,null,null,null,null,"","",false,{"$f":"CheckIzonMoji(A808)","v":false},false,false,false,false,false,false,false,false,false,false,false,false,{"$f":"IF(Q808,IF(AND(LEN(O808)=7,COUNTIF(集荷不可!$A:$A,O808)=0),FALSE,TRUE),FALSE)","v":false},false,false]
[null,null,null,null,null,null,null,null,null,null,null,null,null,null,"","",false,{"$f":"CheckIzonMoji(A809)","v":false},false,false,false,false,false,false,false,false,false,false,false,false,{"$f":"IF(Q809,IF(AND(LEN(O809)=7,COUNTIF(集荷不可!$A:$A,O809)=0),FALSE,TRUE),FALSE)","v":false},false,false]
[null,null,null,null,null,null,null,null,null,null,null,null,null,null,"","",false,{"$f":"CheckIzonMoji(A810)","v":false},false,false,false,false,false,false,false,false,false,false,false,false,{"$f":"IF(Q810,IF(AND(LEN(O810)=7,COUNTIF(集荷不可!$A:$A,O810)=0),FALSE,TRUE),FALSE)","v":false},false,false]
[null,null,null,null,null,null,null,null,null,null,null,null,null,null,"","",false,{"$f":"CheckIzonMoji(A811)","v":false},false,false,false,false,false,false,false,false,false,false,false,false,{"$f":"IF(Q811,IF(AND(LEN(O811)=7,COUNTIF(集荷不可!$A:$A,O811)=0),FALSE,TRUE),FALSE)","v":false},false,false]
[null,null,null,null,null,null,null,null,null,null,null,null,null,null,"","",false,{"$f":"CheckIzonMoji(A812)","v":false},false,false,false,false,false,false,false,false,false,false,false,false,{"$f":"IF(Q812,IF(AND(LEN(O812)=7,COUNTIF(集荷不可!$A:$A,O812)=0),FALSE,TRUE),FALSE)","v":false},false,false]
[null,null,null,null,null,null,null,null,null,null,null,null,null,null,"","",false,{"$f":"CheckIzonMoji(A813)","v":false},false,false,false,false,false,false,false,false,false,false,false,false,{"$f":"IF(Q813,IF(AND(LEN(O813)=7,COUNTIF(集荷不可!$A:$A,O813)=0),FALSE,TRUE),FALSE)","v":false},false,false]
[null,null,null,null,null,null,null,null,null,null,null,null,null,null,"","",false,{"$f":"CheckIzonMoji(A814)","v":false},false,false,false,false,false,false,false,false,false,false,false,false,{"$f":"IF(Q814,IF(AND(LEN(O814)=7,COUNTIF(集荷不可!$A:$A,O814)=0),FALSE,TRUE),FALSE)","v":false},false,false]
[null,null,null,null,null,null,null,null,null,null,null,null,null,null,"","",false,{"$f":"CheckIzonMoji(A815)","v":false},false,false,false,false,false,false,false,false,false,false,false,false,{"$f":"IF(Q815,IF(AND(LEN(O815)=7,COUNTIF(集荷不可!$A:$A,O815)=0),FALSE,TRUE),FALSE)","v":false},false,false]
[null,null,null,null,null,null,null,null,null,null,null,null,null,null,"","",false,{"$f":"CheckIzonMoji(A816)","v":false},false,false,false,false,false,false,false,false,false,false,false,false,{"$f":"IF(Q816,IF(AND(LEN(O816)=7,COUNTIF(集荷不可!$A:$A,O816)=0),FALSE,TRUE),FALSE)","v":false},false,false]
[null,null,null,null,null,null,null,null,null,null,null,null,null,null,"","",false,{"$f":"CheckIzonMoji(A817)","v":false},false,false,false,false,false,false,false,false,false,false,false,false,{"$f":"IF(Q817,IF(AND(LEN(O817)=7,COUNTIF(集荷不可!$A:$A,O817)=0),FALSE,TRUE),FALSE)","v":false},false,false]
[null,null,null,null,null,null,null,null,null,null,null,null,null,null,"","",false,{"$f":"CheckIzonMoji(A818)","v":false},false,false,false,false,false,false,false,false,false,false,false,false,{"$f":"IF(Q818,IF(AND(LEN(O818)=7,COUNTIF(集荷不可!$A:$A,O818)=0),FALSE,TRUE),FALSE)","v":false},false,false]
[null,null,null,null,null,null,null,null,null,null,null,null,null,null,"","",false,{"$f":"CheckIzonMoji(A819)","v":false},false,false,false,false,false,false,false,false,false,false,false,false,{"$f":"IF(Q819,IF(AND(LEN(O819)=7,COUNTIF(集荷不可!$A:$A,O819)=0),FALSE,TRUE),FALSE)","v":false},false,false]
[null,null,null,null,null,null,null,null,null,null,null,null,null,null,"","",false,{"$f":"CheckIzonMoji(A820)","v":false},false,false,false,false,false,false,false,false,false,false,false,false,{"$f":"IF(Q820,IF(AND(LEN(O820)=7,COUNTIF(集荷不可!$A:$A,O820)=0),FALSE,TRUE),FALSE)","v":false},false,false]
[null,null,null,null,null,null,null,null,null,null,null,null,null,null,"","",false,{"$f":"CheckIzonMoji(A821)","v":false},false,false,false,false,false,false,false,false,false,false,false,false,{"$f":"IF(Q821,IF(AND(LEN(O821)=7,COUNTIF(集荷不可!$A:$A,O821)=0),FALSE,TRUE),FALSE)","v":false},false,false]
[null,null,null,null,null,null,null,null,null,null,null,null,null,null,"","",false,{"$f":"CheckIzonMoji(A822)","v":false},false,false,false,false,false,false,false,false,false,false,false,false,{"$f":"IF(Q822,IF(AND(LEN(O822)=7,COUNTIF(集荷不可!$A:$A,O822)=0),FALSE,TRUE),FALSE)","v":false},false,false]
[null,null,null,null,null,null,null,null,null,null,null,null,null,null,"","",false,{"$f":"CheckIzonMoji(A823)","v":false},false,false,false,false,false,false,false,false,false,false,false,false,{"$f":"IF(Q823,IF(AND(LEN(O823)=7,COUNTIF(集荷不可!$A:$A,O823)=0),FALSE,TRUE),FALSE)","v":false},false,false]
[null,null,null,null,null,null,null,null,null,null,null,null,null,null,"","",false,{"$f":"CheckIzonMoji(A824)","v":false},false,false,false,false,false,false,false,false,false,false,false,false,{"$f":"IF(Q824,IF(AND(LEN(O824)=7,COUNTIF(集荷不可!$A:$A,O824)=0),FALSE,TRUE),FALSE)","v":false},false,false]
[null,null,null,null,null,null,null,null,null,null,null,null,null,null,"","",false,{"$f":"CheckIzonMoji(A825)","v":false},false,false,false,false,false,false,false,false,false,false,false,false,{"$f":"IF(Q825,IF(AND(LEN(O825)=7,COUNTIF(集荷不可!$A:$A,O825)=0),FALSE,TRUE),FALSE)","v":false},false,false]
[null,null,null,null,null,null,null,null,null,null,null,null,null,null,"","",false,{"$f":"CheckIzonMoji(A826)","v":false},false,false,false,false,false,false,false,false,false,false,false,false,{"$f":"IF(Q826,IF(AND(LEN(O826)=7,COUNTIF(集荷不可!$A:$A,O826)=0),FALSE,TRUE),FALSE)","v":false},false,false]
[null,null,null,null,null,null,null,null,null,null,null,null,null,null,"","",false,{"$f":"CheckIzonMoji(A827)","v":false},false,false,false,false,false,false,false,false,false,false,false,false,{"$f":"IF(Q827,IF(AND(LEN(O827)=7,COUNTIF(集荷不可!$A:$A,O827)=0),FALSE,TRUE),FALSE)","v":false},false,false]
[null,null,null,null,null,null,null,null,null,null,null,null,null,null,"","",false,{"$f":"CheckIzonMoji(A828)","v":false},false,false,false,false,false,false,false,false,false,false,false,false,{"$f":"IF(Q828,IF(AND(LEN(O828)=7,COUNTIF(集荷不可!$A:$A,O828)=0),FALSE,TRUE),FALSE)","v":false},false,false]
[null,null,null,null,null,null,null,null,null,null,null,null,null,null,"","",false,{"$f":"CheckIzonMoji(A829)","v":false},false,false,false,false,false,false,false,false,false,false,false,false,{"$f":"IF(Q829,IF(AND(LEN(O829)=7,COUNTIF(集荷不可!$A:$A,O829)=0),FALSE,TRUE),FALSE)","v":false},false,false]
[null,null,null,null,null,null,null,null,null,null,null,null,null,null,"","",false,{"$f":"CheckIzonMoji(A830)","v":false},false,false,false,false,false,false,false,false,false,false,false,false,{"$f":"IF(Q830,IF(AND(LEN(O830)=7,COUNTIF(集荷不可!$A:$A,O830)=0),FALSE,TRUE),FALSE)","v":false},false,false]
[null,null,null,null,null,null,null,null,null,null,null,null,null,null,"","",false,{"$f":"CheckIzonMoji(A831)","v":false},false,false,false,false,false,false,false,false,false,false,false,false,{"$f":"IF(Q831,IF(AND(LEN(O831)=7,COUNTIF(集荷不可!$A:$A,O831)=0),FALSE,TRUE),FALSE)","v":false},false,false]
[null,null,null,null,null,null,null,null,null,null,null,null,null,null,"","",false,{"$f":"CheckIzonMoji(A832)","v":false},false,false,false,false,false,false,false,false,false,false,false,false,{"$f":"IF(Q832,IF(AND(LEN(O832)=7,COUNTIF(集荷不可!$A:$A,O832)=0),FALSE,TRUE),FALSE)","v":false},false,false]
[null,null,null,null,null,null,null,null,null,null,null,null,null,null,"","",false,{"$f":"CheckIzonMoji(A833)","v":false},false,false,false,false,false,false,false,false,false,false,false,false,{"$f":"IF(Q833,IF(AND(LEN(O833)=7,COUNTIF(集荷不可!$A:$A,O833)=0),FALSE,TRUE),FALSE)","v":false},false,false]
[null,null,null,null,null,null,null,null,null,null,null,null,null,null,"","",false,{"$f":"CheckIzonMoji(A834)","v":false},false,false,false,false,false,false,false,false,false,false,false,false,{"$f":"IF(Q834,IF(AND(LEN(O834)=7,COUNTIF(集荷不可!$A:$A,O834)=0),FALSE,TRUE),FALSE)","v":false},false,false]
[null,null,null,null,null,null,null,null,null,null,null,null,null,null,"","",false,{"$f":"CheckIzonMoji(A835)","v":false},false,false,false,false,false,false,false,false,false,false,false,false,{"$f":"IF(Q835,IF(AND(LEN(O835)=7,COUNTIF(集荷不可!$A:$A,O835)=0),FALSE,TRUE),FALSE)","v":false},false,false]
[null,null,null,null,null,null,null,null,null,null,null,null,null,null,"","",false,{"$f":"CheckIzonMoji(A836)","v":false},false,false,false,false,false,false,false,false,false,false,false,false,{"$f":"IF(Q836,IF(AND(LEN(O836)=7,COUNTIF(集荷不可!$A:$A,O836)=0),FALSE,TRUE),FALSE)","v":false},false,false]
[null,null,null,null,null,null,null,null,null,null,null,null,null,null,"","",false,{"$f":"CheckIzonMoji(A837)","v":false},false,false,false,false,false,false,false,false,false,false,false,false,{"$f":"IF(Q837,IF(AND(LEN(O837)=7,COUNTIF(集荷不可!$A:$A,O837)=0),FALSE,TRUE),FALSE)","v":false},false,false]
[null,null,null,null,null,null,null,null,null,null,null,null,null,null,"","",false,{"$f":"CheckIzonMoji(A838)","v":false},false,false,false,false,false,false,false,false,false,false,false,false,{"$f":"IF(Q838,IF(AND(LEN(O838)=7,COUNTIF(集荷不可!$A:$A,O838)=0),FALSE,TRUE),FALSE)","v":false},false,false]
[null,null,null,null,null,null,null,null,null,null,null,null,null,null,"","",{"$f":"IF(LEN(A839&B839&C839&D839&E839&F839&G839&H839&I839&J839&K839&L839&M839&N839)=0,FALSE,TRUE)","v":false},{"$f":"CheckIzonMoji(A839)","v":false},{"$f":"IF(Q839,IF(AND(LENB(A839)>2,LENB(A839)<33),FALSE,TRUE),FALSE)","v":false},{"$f":"IF(Q839,IF(B839=\"\",TRUE,FALSE),FALSE)","v":false},{"$f":"IF(Q839,IF(OR(C839=\"\",ISERR(DAY(C839))),TRUE,FALSE),FALSE)","v":false},{"$f":"IF(Q839,IF(D839=\"\",TRUE,FALSE),FALSE)","v":false},{"$f":"IF(Q839,IF(AND(LENB(F839)>1,LENB(F839)<65),FALSE,TRUE),FALSE)","v":false},{"$f":"IF(LENB(G839)<33,FALSE,TRUE)","v":false},{"$f":"IF(LENB(H839)<51,FALSE,TRUE)","v":false},{"$f":"IF(LENB(I839)<51,FALSE,TRUE)","v":false},{"$f":"IF(Q839,IF(AND(LENB(J839)>2,LENB(J839)<16),FALSE,TRUE),FALSE)","v":false},{"$f":"IF(Q839,IF(AND(LENB(K839)<61),FALSE,TRUE),FALSE)","v":false},{"$f":"IF(Q839,IF(AND(LENB(L839)<9),FALSE,TRUE),FALSE)","v":false},{"$f":"IF(Q839,IF(N839=\"\",TRUE,FALSE),FALSE)","v":false},{"$f":"IF(Q839,IF(AND(LEN(O839)=7,COUNTIF(集荷不可!$A:$A,O839)=0),FALSE,TRUE),FALSE)","v":false},{"$f":"IF(ISERROR(FIND(\".@\",K839)),FALSE,TRUE)","v":false},{"$f":"IF(LENB(M839)<9,FALSE,TRUE)","v":false}]
[null,null,null,null,null,null,null,null,null,null,null,null,null,null,"","",false,{"$f":"CheckIzonMoji(A840)","v":false},false,false,false,false,false,false,false,false,false,false,false,false,{"$f":"IF(Q840,IF(AND(LEN(O840)=7,COUNTIF(集荷不可!$A:$A,O840)=0),FALSE,TRUE),FALSE)","v":false},false,false]
[null,null,null,null,null,null,null,null,null,null,null,null,null,null,{"$f":"SUBSTITUTE(E841,\"-\",\"\")","v":""},{"$f":"LEFT(N841,1)","v":""},false,{"$f":"CheckIzonMoji(A841)","v":false},false,false,false,false,false,false,false,false,false,false,false,false,{"$f":"IF(Q841,IF(AND(LEN(O841)=7,COUNTIF(集荷不可!$A:$A,O841)=0),FALSE,TRUE),FALSE)","v":false},false,false]
[null,null,null,null,null,null,null,null,null,null,null,null,null,null,"","",false,{"$f":"CheckIzonMoji(A842)","v":false},false,false,false,false,false,false,false,false,false,false,false,false,{"$f":"IF(Q842,IF(AND(LEN(O842)=7,COUNTIF(集荷不可!$A:$A,O842)=0),FALSE,TRUE),FALSE)","v":false},false,false]
[null,null,null,null,null,null,null,null,null,null,null,null,null,null,"","",false,{"$f":"CheckIzonMoji(A843)","v":false},false,false,false,false,false,false,false,false,false,false,false,false,{"$f":"IF(Q843,IF(AND(LEN(O843)=7,COUNTIF(集荷不可!$A:$A,O843)=0),FALSE,TRUE),FALSE)","v":false},false,false]
[null,null,null,null,null,null,null,null,null,null,null,null,null,null,"","",false,{"$f":"CheckIzonMoji(A844)","v":false},false,false,false,false,false,false,false,false,false,false,false,false,{"$f":"IF(Q844,IF(AND(LEN(O844)=7,COUNTIF(集荷不可!$A:$A,O844)=0),FALSE,TRUE),FALSE)","v":false},false,false]
[null,null,null,null,null,null,null,null,null,null,null,null,null,null,"","",false,{"$f":"CheckIzonMoji(A845)","v":false},false,false,false,false,false,false,false,false,false,false,false,false,{"$f":"IF(Q845,IF(AND(LEN(O845)=7,COUNTIF(集荷不可!$A:$A,O845)=0),FALSE,TRUE),FALSE)","v":false},false,false]
[null,null,null,null,null,null,null,null,null,null,null,null,null,null,"","",false,{"$f":"CheckIzonMoji(A846)","v":false},false,false,false,false,false,false,false,false,false,false,false,false,{"$f":"IF(Q846,IF(AND(LEN(O846)=7,COUNTIF(集荷不可!$A:$A,O846)=0),FALSE,TRUE),FALSE)","v":false},false,false]
[null,null,null,null,null,null,null,null,null,null,null,null,null,null,"","",false,{"$f":"CheckIzonMoji(A847)","v":false},false,false,false,false,false,false,false,false,false,false,false,false,{"$f":"IF(Q847,IF(AND(LEN(O847)=7,COUNTIF(集荷不可!$A:$A,O847)=0),FALSE,TRUE),FALSE)","v":false},false,false]
[null,null,null,null,null,null,null,null,null,null,null,null,null,null,"","",false,{"$f":"CheckIzonMoji(A848)","v":false},false,false,false,false,false,false,false,false,false,false,false,false,{"$f":"IF(Q848,IF(AND(LEN(O848)=7,COUNTIF(集荷不可!$A:$A,O848)=0),FALSE,TRUE),FALSE)","v":false},false,false]
[null,null,null,null,null,null,null,null,null,null,null,null,null,null,"","",false,{"$f":"CheckIzonMoji(A849)","v":false},false,false,false,false,false,false,false,false,false,false,false,false,{"$f":"IF(Q849,IF(AND(LEN(O849)=7,COUNTIF(集荷不可!$A:$A,O849)=0),FALSE,TRUE),FALSE)","v":false},false,false]
[null,null,null,null,null,null,null,null,null,null,null,null,null,null,"","",false,{"$f":"CheckIzonMoji(A850)","v":false},false,false,false,false,false,false,false,false,false,false,false,false,{"$f":"IF(Q850,IF(AND(LEN(O850)=7,COUNTIF(集荷不可!$A:$A,O850)=0),FALSE,TRUE),FALSE)","v":false},false,false]
[null,null,null,null,null,null,null,null,null,null,null,null,null,null,"","",false,{"$f":"CheckIzonMoji(A851)","v":false},false,false,false,false,false,false,false,false,false,false,false,false,{"$f":"IF(Q851,IF(AND(LEN(O851)=7,COUNTIF(集荷不可!$A:$A,O851)=0),FALSE,TRUE),FALSE)","v":false},false,false]
[null,null,null,null,null,null,null,null,null,null,null,null,null,null,"","",false,{"$f":"CheckIzonMoji(A852)","v":false},false,false,false,false,false,false,false,false,false,false,false,false,{"$f":"IF(Q852,IF(AND(LEN(O852)=7,COUNTIF(集荷不可!$A:$A,O852)=0),FALSE,TRUE),FALSE)","v":false},false,false]
[null,null,null,null,null,null,null,null,null,null,null,null,null,null,"","",false,{"$f":"CheckIzonMoji(A853)","v":false},false,false,false,false,false,false,false,false,false,false,false,false,{"$f":"IF(Q853,IF(AND(LEN(O853)=7,COUNTIF(集荷不可!$A:$A,O853)=0),FALSE,TRUE),FALSE)","v":false},false,false]
[null,null,null,null,null,null,null,null,null,null,null,null,null,null,"","",false,{"$f":"CheckIzonMoji(A854)","v":false},false,false,false,false,false,false,false,false,false,false,false,false,{"$f":"IF(Q854,IF(AND(LEN(O854)=7,COUNTIF(集荷不可!$A:$A,O854)=0),FALSE,TRUE),FALSE)","v":false},false,false]
[null,null,null,null,null,null,null,null,null,null,null,null,null,null,"","",false,{"$f":"CheckIzonMoji(A855)","v":false},false,false,false,false,false,false,false,false,false,false,false,false,{"$f":"IF(Q855,IF(AND(LEN(O855)=7,COUNTIF(集荷不可!$A:$A,O855)=0),FALSE,TRUE),FALSE)","v":false},false,false]
[null,null,null,null,null,null,null,null,null,null,null,null,null,null,"","",false,{"$f":"CheckIzonMoji(A856)","v":false},false,false,false,false,false,false,false,false,false,false,false,false,{"$f":"IF(Q856,IF(AND(LEN(O856)=7,COUNTIF(集荷不可!$A:$A,O856)=0),FALSE,TRUE),FALSE)","v":false},false,false]
[null,null,null,null,null,null,null,null,null,null,null,null,null,null,"","",false,{"$f":"CheckIzonMoji(A857)","v":false},false,false,false,false,false,false,false,false,false,false,false,false,{"$f":"IF(Q857,IF(AND(LEN(O857)=7,COUNTIF(集荷不可!$A:$A,O857)=0),FALSE,TRUE),FALSE)","v":false},false,false]
[null,null,null,null,null,null,null,null,null,null,null,null,null,null,"","",false,{"$f":"CheckIzonMoji(A858)","v":false},false,false,false,false,false,false,false,false,false,false,false,false,{"$f":"IF(Q858,IF(AND(LEN(O858)=7,COUNTIF(集荷不可!$A:$A,O858)=0),FALSE,TRUE),FALSE)","v":false},false,false]
[null,null,null,null,null,null,null,null,null,null,null,null,null,null,"","",false,{"$f":"CheckIzonMoji(A859)","v":false},false,false,false,false,false,false,false,false,false,false,false,false,{"$f":"IF(Q859,IF(AND(LEN(O859)=7,COUNTIF(集荷不可!$A:$A,O859)=0),FALSE,TRUE),FALSE)","v":false},false,false]
[null,null,null,null,null,null,null,null,null,null,null,null,null,null,"","",false,{"$f":"CheckIzonMoji(A860)","v":false},false,false,false,false,false,false,false,false,false,false,false,false,{"$f":"IF(Q860,IF(AND(LEN(O860)=7,COUNTIF(集荷不可!$A:$A,O860)=0),FALSE,TRUE),FALSE)","v":false},false,false]
[null,null,null,null,null,null,null,null,null,null,null,null,null,null,"","",false,{"$f":"CheckIzonMoji(A861)","v":false},false,false,false,false,false,false,false,false,false,false,false,false,{"$f":"IF(Q861,IF(AND(LEN(O861)=7,COUNTIF(集荷不可!$A:$A,O861)=0),FALSE,TRUE),FALSE)","v":false},false,false]
[null,null,null,null,null,null,null,null,null,null,null,null,null,null,"","",false,{"$f":"CheckIzonMoji(A862)","v":false},false,false,false,false,false,false,false,false,false,false,false,false,{"$f":"IF(Q862,IF(AND(LEN(O862)=7,COUNTIF(集荷不可!$A:$A,O862)=0),FALSE,TRUE),FALSE)","v":false},false,false]
[null,null,null,null,null,null,null,null,null,null,null,null,null,null,"","",false,{"$f":"CheckIzonMoji(A863)","v":false},false,false,false,false,false,false,false,false,false,false,false,false,{"$f":"IF(Q863,IF(AND(LEN(O863)=7,COUNTIF(集荷不可!$A:$A,O863)=0),FALSE,TRUE),FALSE)","v":false},false,false]
[null,null,null,null,null,null,null,null,null,null,null,null,null,null,"","",false,{"$f":"CheckIzonMoji(A864)","v":false},false,false,false,false,false,false,false,false,false,false,false,false,{"$f":"IF(Q864,IF(AND(LEN(O864)=7,COUNTIF(集荷不可!$A:$A,O864)=0),FALSE,TRUE),FALSE)","v":false},false,false]
[null,null,null,null,null,null,null,null,null,null,null,null,null,null,"","",false,{"$f":"CheckIzonMoji(A865)","v":false},false,false,false,false,false,false,false,false,false,false,false,false,{"$f":"IF(Q865,IF(AND(LEN(O865)=7,COUNTIF(集荷不可!$A:$A,O865)=0),FALSE,TRUE),FALSE)","v":false},false,false]
[null,null,null,null,null,null,null,null,null,null,null,null,null,null,"","",false,{"$f":"CheckIzonMoji(A866)","v":false},false,false,false,false,false,false,false,false,false,false,false,false,{"$f":"IF(Q866,IF(AND(LEN(O866)=7,COUNTIF(集荷不可!$A:$A,O866)=0),FALSE,TRUE),FALSE)","v":false},false,false]
[null,null,null,null,null,null,null,null,null,null,null,null,null,null,"","",false,{"$f":"CheckIzonMoji(A867)","v":false},false,false,false,false,false,false,false,false,false,false,false,false,{"$f":"IF(Q867,IF(AND(LEN(O867)=7,COUNTIF(集荷不可!$A:$A,O867)=0),FALSE,TRUE),FALSE)","v":false},false,false]
[null,null,null,null,null,null,null,null,null,null,null,null,null,null,"","",false,{"$f":"CheckIzonMoji(A868)","v":false},false,false,false,false,false,false,false,false,false,false,false,false,{"$f":"IF(Q868,IF(AND(LEN(O868)=7,COUNTIF(集荷不可!$A:$A,O868)=0),FALSE,TRUE),FALSE)","v":false},false,false]
[null,null,null,null,null,null,null,null,null,null,null,null,null,null,"","",false,{"$f":"CheckIzonMoji(A869)","v":false},false,false,false,false,false,false,false,false,false,false,false,false,{"$f":"IF(Q869,IF(AND(LEN(O869)=7,COUNTIF(集荷不可!$A:$A,O869)=0),FALSE,TRUE),FALSE)","v":false},false,false]
[null,null,null,null,null,null,null,null,null,null,null,null,null,null,"","",false,{"$f":"CheckIzonMoji(A870)","v":false},false,false,false,false,false,false,false,false,false,false,false,false,{"$f":"IF(Q870,IF(AND(LEN(O870)=7,COUNTIF(集荷不可!$A:$A,O870)=0),FALSE,TRUE),FALSE)","v":false},false,false]
[null,null,null,null,null,null,null,null,null,null,null,null,null,null,"","",false,{"$f":"CheckIzonMoji(A871)","v":false},false,false,false,false,false,false,false,false,false,false,false,false,{"$f":"IF(Q871,IF(AND(LEN(O871)=7,COUNTIF(集荷不可!$A:$A,O871)=0),FALSE,TRUE),FALSE)","v":false},false,false]
[null,null,null,null,null,null,null,null,null,null,null,null,null,null,"","",false,{"$f":"CheckIzonMoji(A872)","v":false},false,false,false,false,false,false,false,false,false,false,false,false,{"$f":"IF(Q872,IF(AND(LEN(O872)=7,COUNTIF(集荷不可!$A:$A,O872)=0),FALSE,TRUE),FALSE)","v":false},false,false]
[null,null,null,null,null,null,null,null,null,null,null,null,null,null,"","",false,{"$f":"CheckIzonMoji(A873)","v":false},false,false,false,false,false,false,false,false,false,false,false,false,{"$f":"IF(Q873,IF(AND(LEN(O873)=7,COUNTIF(集荷不可!$A:$A,O873)=0),FALSE,TRUE),FALSE)","v":false},false,false]
[null,null,null,null,null,null,null,null,null,null,null,null,null,null,"","",false,{"$f":"CheckIzonMoji(A874)","v":false},false,false,false,false,false,false,false,false,false,false,false,false,{"$f":"IF(Q874,IF(AND(LEN(O874)=7,COUNTIF(集荷不可!$A:$A,O874)=0),FALSE,TRUE),FALSE)","v":false},false,false]
[null,null,null,null,null,null,null,null,null,null,null,null,null,null,"","",false,{"$f":"CheckIzonMoji(A875)","v":false},false,false,false,false,false,false,false,false,false,false,false,false,{"$f":"IF(Q875,IF(AND(LEN(O875)=7,COUNTIF(集荷不可!$A:$A,O875)=0),FALSE,TRUE),FALSE)","v":false},false,false]
[null,null,null,null,null,null,null,null,null,null,null,null,null,null,"","",false,{"$f":"CheckIzonMoji(A876)","v":false},false,false,false,false,false,false,false,false,false,false,false,false,{"$f":"IF(Q876,IF(AND(LEN(O876)=7,COUNTIF(集荷不可!$A:$A,O876)=0),FALSE,TRUE),FALSE)","v":false},false,false]
[null,null,null,null,null,null,null,null,null,null,null,null,null,null,"","",false,{"$f":"CheckIzonMoji(A877)","v":false},false,false,false,false,false,false,false,false,false,false,false,false,{"$f":"IF(Q877,IF(AND(LEN(O877)=7,COUNTIF(集荷不可!$A:$A,O877)=0),FALSE,TRUE),FALSE)","v":false},false,false]
[null,null,null,null,null,null,null,null,null,null,null,null,null,null,"","",false,{"$f":"CheckIzonMoji(A878)","v":false},false,false,false,false,false,false,false,false,false,false,false,false,{"$f":"IF(Q878,IF(AND(LEN(O878)=7,COUNTIF(集荷不可!$A:$A,O878)=0),FALSE,TRUE),FALSE)","v":false},false,false]
[null,null,null,null,null,null,null,null,null,null,null,null,null,null,"","",false,{"$f":"CheckIzonMoji(A879)","v":false},false,false,false,false,false,false,false,false,false,false,false,false,{"$f":"IF(Q879,IF(AND(LEN(O879)=7,COUNTIF(集荷不可!$A:$A,O879)=0),FALSE,TRUE),FALSE)","v":false},false,false]
[null,null,null,null,null,null,null,null,null,null,null,null,null,null,"","",false,{"$f":"CheckIzonMoji(A880)","v":false},false,false,false,false,false,false,false,false,false,false,false,false,{"$f":"IF(Q880,IF(AND(LEN(O880)=7,COUNTIF(集荷不可!$A:$A,O880)=0),FALSE,TRUE),FALSE)","v":false},false,false]
[null,null,null,null,null,null,null,null,null,null,null,null,null,null,"","",false,{"$f":"CheckIzonMoji(A881)","v":false},false,false,false,false,false,false,false,false,false,false,false,false,{"$f":"IF(Q881,IF(AND(LEN(O881)=7,COUNTIF(集荷不可!$A:$A,O881)=0),FALSE,TRUE),FALSE)","v":false},false,false]
[null,null,null,null,null,null,null,null,null,null,null,null,null,null,"","",false,{"$f":"CheckIzonMoji(A882)","v":false},false,false,false,false,false,false,false,false,false,false,false,false,{"$f":"IF(Q882,IF(AND(LEN(O882)=7,COUNTIF(集荷不可!$A:$A,O882)=0),FALSE,TRUE),FALSE)","v":false},false,false]
[null,null,null,null,null,null,null,null,null,null,null,null,null,null,"","",false,{"$f":"CheckIzonMoji(A883)","v":false},false,false,false,false,false,false,false,false,false,false,false,false,{"$f":"IF(Q883,IF(AND(LEN(O883)=7,COUNTIF(集荷不可!$A:$A,O883)=0),FALSE,TRUE),FALSE)","v":false},false,false]
[null,null,null,null,null,null,null,null,null,null,null,null,null,null,"","",false,{"$f":"CheckIzonMoji(A884)","v":false},false,false,false,false,false,false,false,false,false,false,false,false,{"$f":"IF(Q884,IF(AND(LEN(O884)=7,COUNTIF(集荷不可!$A:$A,O884)=0),FALSE,TRUE),FALSE)","v":false},false,false]
[null,null,null,null,null,null,null,null,null,null,null,null,null,null,"","",false,{"$f":"CheckIzonMoji(A885)","v":false},false,false,false,false,false,false,false,false,false,false,false,false,{"$f":"IF(Q885,IF(AND(LEN(O885)=7,COUNTIF(集荷不可!$A:$A,O885)=0),FALSE,TRUE),FALSE)","v":false},false,false]
[null,null,null,null,null,null,null,null,null,null,null,null,null,null,"","",false,{"$f":"CheckIzonMoji(A886)","v":false},false,false,false,false,false,false,false,false,false,false,false,false,{"$f":"IF(Q886,IF(AND(LEN(O886)=7,COUNTIF(集荷不可!$A:$A,O886)=0),FALSE,TRUE),FALSE)","v":false},false,false]
[null,null,null,null,null,null,null,null,null,null,null,null,null,null,"","",false,{"$f":"CheckIzonMoji(A887)","v":false},false,false,false,false,false,false,false,false,false,false,false,false,{"$f":"IF(Q887,IF(AND(LEN(O887)=7,COUNTIF(集荷不可!$A:$A,O887)=0),FALSE,TRUE),FALSE)","v":false},false,false]
[null,null,null,null,null,null,null,null,null,null,null,null,null,null,"","",false,{"$f":"CheckIzonMoji(A888)","v":false},false,false,false,false,false,false,false,false,false,false,false,false,{"$f":"IF(Q888,IF(AND(LEN(O888)=7,COUNTIF(集荷不可!$A:$A,O888)=0),FALSE,TRUE),FALSE)","v":false},false,false]
[null,null,null,null,null,null,null,null,null,null,null,null,null,null,"","",false,{"$f":"CheckIzonMoji(A889)","v":false},false,false,false,false,false,false,false,false,false,false,false,false,{"$f":"IF(Q889,IF(AND(LEN(O889)=7,COUNTIF(集荷不可!$A:$A,O889)=0),FALSE,TRUE),FALSE)","v":false},false,false]
[null,null,null,null,null,null,null,null,null,null,null,null,null,null,"","",false,{"$f":"CheckIzonMoji(A890)","v":false},false,false,false,false,false,false,false,false,false,false,false,false,{"$f":"IF(Q890,IF(AND(LEN(O890)=7,COUNTIF(集荷不可!$A:$A,O890)=0),FALSE,TRUE),FALSE)","v":false},false,false]
[null,null,null,null,null,null,null,null,null,null,null,null,null,null,"","",false,{"$f":"CheckIzonMoji(A891)","v":false},false,false,false,false,false,false,false,false,false,false,false,false,{"$f":"IF(Q891,IF(AND(LEN(O891)=7,COUNTIF(集荷不可!$A:$A,O891)=0),FALSE,TRUE),FALSE)","v":false},false,false]
[null,null,null,null,null,null,null,null,null,null,null,null,null,null,"","",false,{"$f":"CheckIzonMoji(A892)","v":false},false,false,false,false,false,false,false,false,false,false,false,false,{"$f":"IF(Q892,IF(AND(LEN(O892)=7,COUNTIF(集荷不可!$A:$A,O892)=0),FALSE,TRUE),FALSE)","v":false},false,false]
[null,null,null,null,null,null,null,null,null,null,null,null,null,null,"","",false,{"$f":"CheckIzonMoji(A893)","v":false},false,false,false,false,false,false,false,false,false,false,false,false,{"$f":"IF(Q893,IF(AND(LEN(O893)=7,COUNTIF(集荷不可!$A:$A,O893)=0),FALSE,TRUE),FALSE)","v":false},false,false]
[null,null,null,null,null,null,null,null,null,null,null,null,null,null,"","",false,{"$f":"CheckIzonMoji(A894)","v":false},false,false,false,false,false,false,false,false,false,false,false,false,{"$f":"IF(Q894,IF(AND(LEN(O894)=7,COUNTIF(集荷不可!$A:$A,O894)=0),FALSE,TRUE),FALSE)","v":false},false,false]
[null,null,null,null,null,null,null,null,null,null,null,null,null,null,"","",false,{"$f":"CheckIzonMoji(A895)","v":false},false,false,false,false,false,false,false,false,false,false,false,false,{"$f":"IF(Q895,IF(AND(LEN(O895)=7,COUNTIF(集荷不可!$A:$A,O895)=0),FALSE,TRUE),FALSE)","v":false},false,false]
[null,null,null,null,null,null,null,null,null,null,null,null,null,null,"","",false,{"$f":"CheckIzonMoji(A896)","v":false},false,false,false,false,false,false,false,false,false,false,false,false,{"$f":"IF(Q896,IF(AND(LEN(O896)=7,COUNTIF(集荷不可!$A:$A,O896)=0),FALSE,TRUE),FALSE)","v":false},false,false]
[null,null,null,null,null,null,null,null,null,null,null,null,null,null,"","",false,{"$f":"CheckIzonMoji(A897)","v":false},false,false,false,false,false,false,false,false,false,false,false,false,{"$f":"IF(Q897,IF(AND(LEN(O897)=7,COUNTIF(集荷不可!$A:$A,O897)=0),FALSE,TRUE),FALSE)","v":false},false,false]
[null,null,null,null,null,null,null,null,null,null,null,null,null,null,"","",false,{"$f":"CheckIzonMoji(A898)","v":false},false,false,false,false,false,false,false,false,false,false,false,false,{"$f":"IF(Q898,IF(AND(LEN(O898)=7,COUNTIF(集荷不可!$A:$A,O898)=0),FALSE,TRUE),FALSE)","v":false},false,false]
[null,null,null,null,null,null,null,null,null,null,null,null,null,null,"","",false,{"$f":"CheckIzonMoji(A899)","v":false},false,false,false,false,false,false,false,false,false,false,false,false,{"$f":"IF(Q899,IF(AND(LEN(O899)=7,COUNTIF(集荷不可!$A:$A,O899)=0),FALSE,TRUE),FALSE)","v":false},false,false]
[null,null,null,null,null,null,null,null,null,null,null,null,null,null,"","",false,{"$f":"CheckIzonMoji(A900)","v":false},false,false,false,false,false,false,false,false,false,false,false,false,{"$f":"IF(Q900,IF(AND(LEN(O900)=7,COUNTIF(集荷不可!$A:$A,O900)=0),FALSE,TRUE),FALSE)","v":false},false,false]
[null,null,null,null,null,null,null,null,null,null,null,null,null,null,"","",false,{"$f":"CheckIzonMoji(A901)","v":false},false,false,false,false,false,false,false,false,false,false,false,false,{"$f":"IF(Q901,IF(AND(LEN(O901)=7,COUNTIF(集荷不可!$A:$A,O901)=0),FALSE,TRUE),FALSE)","v":false},false,false]
[null,null,null,null,null,null,null,null,null,null,null,null,null,null,"","",false,{"$f":"CheckIzonMoji(A902)","v":false},false,false,false,false,false,false,false,false,false,false,false,false,{"$f":"IF(Q902,IF(AND(LEN(O902)=7,COUNTIF(集荷不可!$A:$A,O902)=0),FALSE,TRUE),FALSE)","v":false},false,false]
[null,null,null,null,null,null,null,null,null,null,null,null,null,null,"","",{"$f":"IF(LEN(A903&B903&C903&D903&E903&F903&G903&H903&I903&J903&K903&L903&M903&N903)=0,FALSE,TRUE)","v":false},{"$f":"CheckIzonMoji(A903)","v":false},{"$f":"IF(Q903,IF(AND(LENB(A903)>2,LENB(A903)<33),FALSE,TRUE),FALSE)","v":false},{"$f":"IF(Q903,IF(B903=\"\",TRUE,FALSE),FALSE)","v":false},{"$f":"IF(Q903,IF(OR(C903=\"\",ISERR(DAY(C903))),TRUE,FALSE),FALSE)","v":false},{"$f":"IF(Q903,IF(D903=\"\",TRUE,FALSE),FALSE)","v":false},{"$f":"IF(Q903,IF(AND(LENB(F903)>1,LENB(F903)<65),FALSE,TRUE),FALSE)","v":false},{"$f":"IF(LENB(G903)<33,FALSE,TRUE)","v":false},{"$f":"IF(LENB(H903)<51,FALSE,TRUE)","v":false},{"$f":"IF(LENB(I903)<51,FALSE,TRUE)","v":false},{"$f":"IF(Q903,IF(AND(LENB(J903)>2,LENB(J903)<16),FALSE,TRUE),FALSE)","v":false},{"$f":"IF(Q903,IF(AND(LENB(K903)<61),FALSE,TRUE),FALSE)","v":false},{"$f":"IF(Q903,IF(AND(LENB(L903)<9),FALSE,TRUE),FALSE)","v":false},{"$f":"IF(Q903,IF(N903=\"\",TRUE,FALSE),FALSE)","v":false},{"$f":"IF(Q903,IF(AND(LEN(O903)=7,COUNTIF(集荷不可!$A:$A,O903)=0),FALSE,TRUE),FALSE)","v":false},{"$f":"IF(ISERROR(FIND(\".@\",K903)),FALSE,TRUE)","v":false},{"$f":"IF(LENB(M903)<9,FALSE,TRUE)","v":false}]
[null,null,null,null,null,null,null,null,null,null,null,null,null,null,"","",false,{"$f":"CheckIzonMoji(A904)","v":false},false,false,false,false,false,false,false,false,false,false,false,false,{"$f":"IF(Q904,IF(AND(LEN(O904)=7,COUNTIF(集荷不可!$A:$A,O904)=0),FALSE,TRUE),FALSE)","v":false},false,false]
[null,null,null,null,null,null,null,null,null,null,null,null,null,null,{"$f":"SUBSTITUTE(E905,\"-\",\"\")","v":""},{"$f":"LEFT(N905,1)","v":""},false,{"$f":"CheckIzonMoji(A905)","v":false},false,false,false,false,false,false,false,false,false,false,false,false,{"$f":"IF(Q905,IF(AND(LEN(O905)=7,COUNTIF(集荷不可!$A:$A,O905)=0),FALSE,TRUE),FALSE)","v":false},false,false]
[null,null,null,null,null,null,null,null,null,null,null,null,null,null,"","",false,{"$f":"CheckIzonMoji(A906)","v":false},false,false,false,false,false,false,false,false,false,false,false,false,{"$f":"IF(Q906,IF(AND(LEN(O906)=7,COUNTIF(集荷不可!$A:$A,O906)=0),FALSE,TRUE),FALSE)","v":false},false,false]
[null,null,null,null,null,null,null,null,null,null,null,null,null,null,"","",false,{"$f":"CheckIzonMoji(A907)","v":false},false,false,false,false,false,false,false,false,false,false,false,false,{"$f":"IF(Q907,IF(AND(LEN(O907)=7,COUNTIF(集荷不可!$A:$A,O907)=0),FALSE,TRUE),FALSE)","v":false},false,false]
[null,null,null,null,null,null,null,null,null,null,null,null,null,null,"","",false,{"$f":"CheckIzonMoji(A908)","v":false},false,false,false,false,false,false,false,false,false,false,false,false,{"$f":"IF(Q908,IF(AND(LEN(O908)=7,COUNTIF(集荷不可!$A:$A,O908)=0),FALSE,TRUE),FALSE)","v":false},false,false]
[null,null,null,null,null,null,null,null,null,null,null,null,null,null,"","",false,{"$f":"CheckIzonMoji(A909)","v":false},false,false,false,false,false,false,false,false,false,false,false,false,{"$f":"IF(Q909,IF(AND(LEN(O909)=7,COUNTIF(集荷不可!$A:$A,O909)=0),FALSE,TRUE),FALSE)","v":false},false,false]
[null,null,null,null,null,null,null,null,null,null,null,null,null,null,"","",false,{"$f":"CheckIzonMoji(A910)","v":false},false,false,false,false,false,false,false,false,false,false,false,false,{"$f":"IF(Q910,IF(AND(LEN(O910)=7,COUNTIF(集荷不可!$A:$A,O910)=0),FALSE,TRUE),FALSE)","v":false},false,false]
[null,null,null,null,null,null,null,null,null,null,null,null,null,null,"","",false,{"$f":"CheckIzonMoji(A911)","v":false},false,false,false,false,false,false,false,false,false,false,false,false,{"$f":"IF(Q911,IF(AND(LEN(O911)=7,COUNTIF(集荷不可!$A:$A,O911)=0),FALSE,TRUE),FALSE)","v":false},false,false]
[null,null,null,null,null,null,null,null,null,null,null,null,null,null,"","",false,{"$f":"CheckIzonMoji(A912)","v":false},false,false,false,false,false,false,false,false,false,false,false,false,{"$f":"IF(Q912,IF(AND(LEN(O912)=7,COUNTIF(集荷不可!$A:$A,O912)=0),FALSE,TRUE),FALSE)","v":false},false,false]
[null,null,null,null,null,null,null,null,null,null,null,null,null,null,"","",false,{"$f":"CheckIzonMoji(A913)","v":false},false,false,false,false,false,false,false,false,false,false,false,false,{"$f":"IF(Q913,IF(AND(LEN(O913)=7,COUNTIF(集荷不可!$A:$A,O913)=0),FALSE,TRUE),FALSE)","v":false},false,false]
[null,null,null,null,null,null,null,null,null,null,null,null,null,null,"","",false,{"$f":"CheckIzonMoji(A914)","v":false},false,false,false,false,false,false,false,false,false,false,false,false,{"$f":"IF(Q914,IF(AND(LEN(O914)=7,COUNTIF(集荷不可!$A:$A,O914)=0),FALSE,TRUE),FALSE)","v":false},false,false]
[null,null,null,null,null,null,null,null,null,null,null,null,null,null,"","",false,{"$f":"CheckIzonMoji(A915)","v":false},false,false,false,false,false,false,false,false,false,false,false,false,{"$f":"IF(Q915,IF(AND(LEN(O915)=7,COUNTIF(集荷不可!$A:$A,O915)=0),FALSE,TRUE),FALSE)","v":false},false,false]
[null,null,null,null,null,null,null,null,null,null,null,null,null,null,"","",false,{"$f":"CheckIzonMoji(A916)","v":false},false,false,false,false,false,false,false,false,false,false,false,false,{"$f":"IF(Q916,IF(AND(LEN(O916)=7,COUNTIF(集荷不可!$A:$A,O916)=0),FALSE,TRUE),FALSE)","v":false},false,false]
[null,null,null,null,null,null,null,null,null,null,null,null,null,null,"","",false,{"$f":"CheckIzonMoji(A917)","v":false},false,false,false,false,false,false,false,false,false,false,false,false,{"$f":"IF(Q917,IF(AND(LEN(O917)=7,COUNTIF(集荷不可!$A:$A,O917)=0),FALSE,TRUE),FALSE)","v":false},false,false]
[null,null,null,null,null,null,null,null,null,null,null,null,null,null,"","",false,{"$f":"CheckIzonMoji(A918)","v":false},false,false,false,false,false,false,false,false,false,false,false,false,{"$f":"IF(Q918,IF(AND(LEN(O918)=7,COUNTIF(集荷不可!$A:$A,O918)=0),FALSE,TRUE),FALSE)","v":false},false,false]
[null,null,null,null,null,null,null,null,null,null,null,null,null,null,"","",false,{"$f":"CheckIzonMoji(A919)","v":false},false,false,false,false,false,false,false,false,false,false,false,false,{"$f":"IF(Q919,IF(AND(LEN(O919)=7,COUNTIF(集荷不可!$A:$A,O919)=0),FALSE,TRUE),FALSE)","v":false},false,false]
[null,null,null,null,null,null,null,null,null,null,null,null,null,null,"","",false,{"$f":"CheckIzonMoji(A920)","v":false},false,false,false,false,false,false,false,false,false,false,false,false,{"$f":"IF(Q920,IF(AND(LEN(O920)=7,COUNTIF(集荷不可!$A:$A,O920)=0),FALSE,TRUE),FALSE)","v":false},false,false]
[null,null,null,null,null,null,null,null,null,null,null,null,null,null,"","",false,{"$f":"CheckIzonMoji(A921)","v":false},false,false,false,false,false,false,false,false,false,false,false,false,{"$f":"IF(Q921,IF(AND(LEN(O921)=7,COUNTIF(集荷不可!$A:$A,O921)=0),FALSE,TRUE),FALSE)","v":false},false,false]
[null,null,null,null,null,null,null,null,null,null,null,null,null,null,"","",false,{"$f":"CheckIzonMoji(A922)","v":false},false,false,false,false,false,false,false,false,false,false,false,false,{"$f":"IF(Q922,IF(AND(LEN(O922)=7,COUNTIF(集荷不可!$A:$A,O922)=0),FALSE,TRUE),FALSE)","v":false},false,false]
[null,null,null,null,null,null,null,null,null,null,null,null,null,null,"","",false,{"$f":"CheckIzonMoji(A923)","v":false},false,false,false,false,false,false,false,false,false,false,false,false,{"$f":"IF(Q923,IF(AND(LEN(O923)=7,COUNTIF(集荷不可!$A:$A,O923)=0),FALSE,TRUE),FALSE)","v":false},false,false]
[null,null,null,null,null,null,null,null,null,null,null,null,null,null,"","",false,{"$f":"CheckIzonMoji(A924)","v":false},false,false,false,false,false,false,false,false,false,false,false,false,{"$f":"IF(Q924,IF(AND(LEN(O924)=7,COUNTIF(集荷不可!$A:$A,O924)=0),FALSE,TRUE),FALSE)","v":false},false,false]
[null,null,null,null,null,null,null,null,null,null,null,null,null,null,"","",false,{"$f":"CheckIzonMoji(A925)","v":false},false,false,false,false,false,false,false,false,false,false,false,false,{"$f":"IF(Q925,IF(AND(LEN(O925)=7,COUNTIF(集荷不可!$A:$A,O925)=0),FALSE,TRUE),FALSE)","v":false},false,false]
[null,null,null,null,null,null,null,null,null,null,null,null,null,null,"","",false,{"$f":"CheckIzonMoji(A926)","v":false},false,false,false,false,false,false,false,false,false,false,false,false,{"$f":"IF(Q926,IF(AND(LEN(O926)=7,COUNTIF(集荷不可!$A:$A,O926)=0),FALSE,TRUE),FALSE)","v":false},false,false]
[null,null,null,null,null,null,null,null,null,null,null,null,null,null,"","",false,{"$f":"CheckIzonMoji(A927)","v":false},false,false,false,false,false,false,false,false,false,false,false,false,{"$f":"IF(Q927,IF(AND(LEN(O927)=7,COUNTIF(集荷不可!$A:$A,O927)=0),FALSE,TRUE),FALSE)","v":false},false,false]
[null,null,null,null,null,null,null,null,null,null,null,null,null,null,"","",false,{"$f":"CheckIzonMoji(A928)","v":false},false,false,false,false,false,false,false,false,false,false,false,false,{"$f":"IF(Q928,IF(AND(LEN(O928)=7,COUNTIF(集荷不可!$A:$A,O928)=0),FALSE,TRUE),FALSE)","v":false},false,false]
[null,null,null,null,null,null,null,null,null,null,null,null,null,null,"","",false,{"$f":"CheckIzonMoji(A929)","v":false},false,false,false,false,false,false,false,false,false,false,false,false,{"$f":"IF(Q929,IF(AND(LEN(O929)=7,COUNTIF(集荷不可!$A:$A,O929)=0),FALSE,TRUE),FALSE)","v":false},false,false]
[null,null,null,null,null,null,null,null,null,null,null,null,null,null,"","",false,{"$f":"CheckIzonMoji(A930)","v":false},false,false,false,false,false,false,false,false,false,false,false,false,{"$f":"IF(Q930,IF(AND(LEN(O930)=7,COUNTIF(集荷不可!$A:$A,O930)=0),FALSE,TRUE),FALSE)","v":false},false,false]
[null,null,null,null,null,null,null,null,null,null,null,null,null,null,"","",false,{"$f":"CheckIzonMoji(A931)","v":false},false,false,false,false,false,false,false,false,false,false,false,false,{"$f":"IF(Q931,IF(AND(LEN(O931)=7,COUNTIF(集荷不可!$A:$A,O931)=0),FALSE,TRUE),FALSE)","v":false},false,false]
[null,null,null,null,null,null,null,null,null,null,null,null,null,null,"","",false,{"$f":"CheckIzonMoji(A932)","v":false},false,false,false,false,false,false,false,false,false,false,false,false,{"$f":"IF(Q932,IF(AND(LEN(O932)=7,COUNTIF(集荷不可!$A:$A,O932)=0),FALSE,TRUE),FALSE)","v":false},false,false]
[null,null,null,null,null,null,null,null,null,null,null,null,null,null,"","",false,{"$f":"CheckIzonMoji(A933)","v":false},false,false,false,false,false,false,false,false,false,false,false,false,{"$f":"IF(Q933,IF(AND(LEN(O933)=7,COUNTIF(集荷不可!$A:$A,O933)=0),FALSE,TRUE),FALSE)","v":false},false,false]
[null,null,null,null,null,null,null,null,null,null,null,null,null,null,"","",false,{"$f":"CheckIzonMoji(A934)","v":false},false,false,false,false,false,false,false,false,false,false,false,false,{"$f":"IF(Q934,IF(AND(LEN(O934)=7,COUNTIF(集荷不可!$A:$A,O934)=0),FALSE,TRUE),FALSE)","v":false},false,false]
[null,null,null,null,null,null,null,null,null,null,null,null,null,null,"","",false,{"$f":"CheckIzonMoji(A935)","v":false},false,false,false,false,false,false,false,false,false,false,false,false,{"$f":"IF(Q935,IF(AND(LEN(O935)=7,COUNTIF(集荷不可!$A:$A,O935)=0),FALSE,TRUE),FALSE)","v":false},false,false]
[null,null,null,null,null,null,null,null,null,null,null,null,null,null,"","",false,{"$f":"CheckIzonMoji(A936)","v":false},false,false,false,false,false,false,false,false,false,false,false,false,{"$f":"IF(Q936,IF(AND(LEN(O936)=7,COUNTIF(集荷不可!$A:$A,O936)=0),FALSE,TRUE),FALSE)","v":false},false,false]
[null,null,null,null,null,null,null,null,null,null,null,null,null,null,"","",false,{"$f":"CheckIzonMoji(A937)","v":false},false,false,false,false,false,false,false,false,false,false,false,false,{"$f":"IF(Q937,IF(AND(LEN(O937)=7,COUNTIF(集荷不可!$A:$A,O937)=0),FALSE,TRUE),FALSE)","v":false},false,false]
[null,null,null,null,null,null,null,null,null,null,null,null,null,null,"","",false,{"$f":"CheckIzonMoji(A938)","v":false},false,false,false,false,false,false,false,false,false,false,false,false,{"$f":"IF(Q938,IF(AND(LEN(O938)=7,COUNTIF(集荷不可!$A:$A,O938)=0),FALSE,TRUE),FALSE)","v":false},false,false]
[null,null,null,null,null,null,null,null,null,null,null,null,null,null,"","",false,{"$f":"CheckIzonMoji(A939)","v":false},false,false,false,false,false,false,false,false,false,false,false,false,{"$f":"IF(Q939,IF(AND(LEN(O939)=7,COUNTIF(集荷不可!$A:$A,O939)=0),FALSE,TRUE),FALSE)","v":false},false,false]
[null,null,null,null,null,null,null,null,null,null,null,null,null,null,"","",false,{"$f":"CheckIzonMoji(A940)","v":false},false,false,false,false,false,false,false,false,false,false,false,false,{"$f":"IF(Q940,IF(AND(LEN(O940)=7,COUNTIF(集荷不可!$A:$A,O940)=0),FALSE,TRUE),FALSE)","v":false},false,false]
[null,null,null,null,null,null,null,null,null,null,null,null,null,null,"","",false,{"$f":"CheckIzonMoji(A941)","v":false},false,false,false,false,false,false,false,false,false,false,false,false,{"$f":"IF(Q941,IF(AND(LEN(O941)=7,COUNTIF(集荷不可!$A:$A,O941)=0),FALSE,TRUE),FALSE)","v":false},false,false]
[null,null,null,null,null,null,null,null,null,null,null,null,null,null,"","",false,{"$f":"CheckIzonMoji(A942)","v":false},false,false,false,false,false,false,false,false,false,false,false,false,{"$f":"IF(Q942,IF(AND(LEN(O942)=7,COUNTIF(集荷不可!$A:$A,O942)=0),FALSE,TRUE),FALSE)","v":false},false,false]
[null,null,null,null,null,null,null,null,null,null,null,null,null,null,"","",false,{"$f":"CheckIzonMoji(A943)","v":false},false,false,false,false,false,false,false,false,false,false,false,false,{"$f":"IF(Q943,IF(AND(LEN(O943)=7,COUNTIF(集荷不可!$A:$A,O943)=0),FALSE,TRUE),FALSE)","v":false},false,false]
[null,null,null,null,null,null,null,null,null,null,null,null,null,null,"","",false,{"$f":"CheckIzonMoji(A944)","v":false},false,false,false,false,false,false,false,false,false,false,false,false,{"$f":"IF(Q944,IF(AND(LEN(O944)=7,COUNTIF(集荷不可!$A:$A,O944)=0),FALSE,TRUE),FALSE)","v":false},false,false]
[null,null,null,null,null,null,null,null,null,null,null,null,null,null,"","",false,{"$f":"CheckIzonMoji(A945)","v":false},false,false,false,false,false,false,false,false,false,false,false,false,{"$f":"IF(Q945,IF(AND(LEN(O945)=7,COUNTIF(集荷不可!$A:$A,O945)=0),FALSE,TRUE),FALSE)","v":false},false,false]
[null,null,null,null,null,null,null,null,null,null,null,null,null,null,"","",false,{"$f":"CheckIzonMoji(A946)","v":false},false,false,false,false,false,false,false,false,false,false,false,false,{"$f":"IF(Q946,IF(AND(LEN(O946)=7,COUNTIF(集荷不可!$A:$A,O946)=0),FALSE,TRUE),FALSE)","v":false},false,false]
[null,null,null,null,null,null,null,null,null,null,null,null,null,null,"","",false,{"$f":"CheckIzonMoji(A947)","v":false},false,false,false,false,false,false,false,false,false,false,false,false,{"$f":"IF(Q947,IF(AND(LEN(O947)=7,COUNTIF(集荷不可!$A:$A,O947)=0),FALSE,TRUE),FALSE)","v":false},false,false]
[null,null,null,null,null,null,null,null,null,null,null,null,null,null,"","",false,{"$f":"CheckIzonMoji(A948)","v":false},false,false,false,false,false,false,false,false,false,false,false,false,{"$f":"IF(Q948,IF(AND(LEN(O948)=7,COUNTIF(集荷不可!$A:$A,O948)=0),FALSE,TRUE),FALSE)","v":false},false,false]
[null,null,null,null,null,null,null,null,null,null,null,null,null,null,"","",false,{"$f":"CheckIzonMoji(A949)","v":false},false,false,false,false,false,false,false,false,false,false,false,false,{"$f":"IF(Q949,IF(AND(LEN(O949)=7,COUNTIF(集荷不可!$A:$A,O949)=0),FALSE,TRUE),FALSE)","v":false},false,false]
[null,null,null,null,null,null,null,null,null,null,null,null,null,null,"","",false,{"$f":"CheckIzonMoji(A950)","v":false},false,false,false,false,false,false,false,false,false,false,false,false,{"$f":"IF(Q950,IF(AND(LEN(O950)=7,COUNTIF(集荷不可!$A:$A,O950)=0),FALSE,TRUE),FALSE)","v":false},false,false]
[null,null,null,null,null,null,null,null,null,null,null,null,null,null,"","",false,{"$f":"CheckIzonMoji(A951)","v":false},false,false,false,false,false,false,false,false,false,false,false,false,{"$f":"IF(Q951,IF(AND(LEN(O951)=7,COUNTIF(集荷不可!$A:$A,O951)=0),FALSE,TRUE),FALSE)","v":false},false,false]
[null,null,null,null,null,null,null,null,null,null,null,null,null,null,"","",false,{"$f":"CheckIzonMoji(A952)","v":false},false,false,false,false,false,false,false,false,false,false,false,false,{"$f":"IF(Q952,IF(AND(LEN(O952)=7,COUNTIF(集荷不可!$A:$A,O952)=0),FALSE,TRUE),FALSE)","v":false},false,false]
[null,null,null,null,null,null,null,null,null,null,null,null,null,null,"","",false,{"$f":"CheckIzonMoji(A953)","v":false},false,false,false,false,false,false,false,false,false,false,false,false,{"$f":"IF(Q953,IF(AND(LEN(O953)=7,COUNTIF(集荷不可!$A:$A,O953)=0),FALSE,TRUE),FALSE)","v":false},false,false]
[null,null,null,null,null,null,null,null,null,null,null,null,null,null,"","",false,{"$f":"CheckIzonMoji(A954)","v":false},false,false,false,false,false,false,false,false,false,false,false,false,{"$f":"IF(Q954,IF(AND(LEN(O954)=7,COUNTIF(集荷不可!$A:$A,O954)=0),FALSE,TRUE),FALSE)","v":false},false,false]
[null,null,null,null,null,null,null,null,null,null,null,null,null,null,"","",false,{"$f":"CheckIzonMoji(A955)","v":false},false,false,false,false,false,false,false,false,false,false,false,false,{"$f":"IF(Q955,IF(AND(LEN(O955)=7,COUNTIF(集荷不可!$A:$A,O955)=0),FALSE,TRUE),FALSE)","v":false},false,false]
[null,null,null,null,null,null,null,null,null,null,null,null,null,null,"","",false,{"$f":"CheckIzonMoji(A956)","v":false},false,false,false,false,false,false,false,false,false,false,false,false,{"$f":"IF(Q956,IF(AND(LEN(O956)=7,COUNTIF(集荷不可!$A:$A,O956)=0),FALSE,TRUE),FALSE)","v":false},false,false]
[null,null,null,null,null,null,null,null,null,null,null,null,null,null,"","",false,{"$f":"CheckIzonMoji(A957)","v":false},false,false,false,false,false,false,false,false,false,false,false,false,{"$f":"IF(Q957,IF(AND(LEN(O957)=7,COUNTIF(集荷不可!$A:$A,O957)=0),FALSE,TRUE),FALSE)","v":false},false,false]
[null,null,null,null,null,null,null,null,null,null,null,null,null,null,"","",false,{"$f":"CheckIzonMoji(A958)","v":false},false,false,false,false,false,false,false,false,false,false,false,false,{"$f":"IF(Q958,IF(AND(LEN(O958)=7,COUNTIF(集荷不可!$A:$A,O958)=0),FALSE,TRUE),FALSE)","v":false},false,false]
[null,null,null,null,null,null,null,null,null,null,null,null,null,null,"","",false,{"$f":"CheckIzonMoji(A959)","v":false},false,false,false,false,false,false,false,false,false,false,false,false,{"$f":"IF(Q959,IF(AND(LEN(O959)=7,COUNTIF(集荷不可!$A:$A,O959)=0),FALSE,TRUE),FALSE)","v":false},false,false]
[null,null,null,null,null,null,null,null,null,null,null,null,null,null,"","",false,{"$f":"CheckIzonMoji(A960)","v":false},false,false,false,false,false,false,false,false,false,false,false,false,{"$f":"IF(Q960,IF(AND(LEN(O960)=7,COUNTIF(集荷不可!$A:$A,O960)=0),FALSE,TRUE),FALSE)","v":false},false,false]
[null,null,null,null,null,null,null,null,null,null,null,null,null,null,"","",false,{"$f":"CheckIzonMoji(A961)","v":false},false,false,false,false,false,false,false,false,false,false,false,false,{"$f":"IF(Q961,IF(AND(LEN(O961)=7,COUNTIF(集荷不可!$A:$A,O961)=0),FALSE,TRUE),FALSE)","v":false},false,false]
[null,null,null,null,null,null,null,null,null,null,null,null,null,null,"","",false,{"$f":"CheckIzonMoji(A962)","v":false},false,false,false,false,false,false,false,false,false,false,false,false,{"$f":"IF(Q962,IF(AND(LEN(O962)=7,COUNTIF(集荷不可!$A:$A,O962)=0),FALSE,TRUE),FALSE)","v":false},false,false]
[null,null,null,null,null,null,null,null,null,null,null,null,null,null,"","",false,{"$f":"CheckIzonMoji(A963)","v":false},false,false,false,false,false,false,false,false,false,false,false,false,{"$f":"IF(Q963,IF(AND(LEN(O963)=7,COUNTIF(集荷不可!$A:$A,O963)=0),FALSE,TRUE),FALSE)","v":false},false,false]
[null,null,null,null,null,null,null,null,null,null,null,null,null,null,"","",false,{"$f":"CheckIzonMoji(A964)","v":false},false,false,false,false,false,false,false,false,false,false,false,false,{"$f":"IF(Q964,IF(AND(LEN(O964)=7,COUNTIF(集荷不可!$A:$A,O964)=0),FALSE,TRUE),FALSE)","v":false},false,false]
[null,null,null,null,null,null,null,null,null,null,null,null,null,null,"","",false,{"$f":"CheckIzonMoji(A965)","v":false},false,false,false,false,false,false,false,false,false,false,false,false,{"$f":"IF(Q965,IF(AND(LEN(O965)=7,COUNTIF(集荷不可!$A:$A,O965)=0),FALSE,TRUE),FALSE)","v":false},false,false]
[null,null,null,null,null,null,null,null,null,null,null,null,null,null,"","",false,{"$f":"CheckIzonMoji(A966)","v":false},false,false,false,false,false,false,false,false,false,false,false,false,{"$f":"IF(Q966,IF(AND(LEN(O966)=7,COUNTIF(集荷不可!$A:$A,O966)=0),FALSE,TRUE),FALSE)","v":false},false,false]
[null,null,null,null,null,null,null,null,null,null,null,null,null,null,"","",{"$f":"IF(LEN(A967&B967&C967&D967&E967&F967&G967&H967&I967&J967&K967&L967&M967&N967)=0,FALSE,TRUE)","v":false},{"$f":"CheckIzonMoji(A967)","v":false},{"$f":"IF(Q967,IF(AND(LENB(A967)>2,LENB(A967)<33),FALSE,TRUE),FALSE)","v":false},{"$f":"IF(Q967,IF(B967=\"\",TRUE,FALSE),FALSE)","v":false},{"$f":"IF(Q967,IF(OR(C967=\"\",ISERR(DAY(C967))),TRUE,FALSE),FALSE)","v":false},{"$f":"IF(Q967,IF(D967=\"\",TRUE,FALSE),FALSE)","v":false},{"$f":"IF(Q967,IF(AND(LENB(F967)>1,LENB(F967)<65),FALSE,TRUE),FALSE)","v":false},{"$f":"IF(LENB(G967)<33,FALSE,TRUE)","v":false},{"$f":"IF(LENB(H967)<51,FALSE,TRUE)","v":false},{"$f":"IF(LENB(I967)<51,FALSE,TRUE)","v":false},{"$f":"IF(Q967,IF(AND(LENB(J967)>2,LENB(J967)<16),FALSE,TRUE),FALSE)","v":false},{"$f":"IF(Q967,IF(AND(LENB(K967)<61),FALSE,TRUE),FALSE)","v":false},{"$f":"IF(Q967,IF(AND(LENB(L967)<9),FALSE,TRUE),FALSE)","v":false},{"$f":"IF(Q967,IF(N967=\"\",TRUE,FALSE),FALSE)","v":false},{"$f":"IF(Q967,IF(AND(LEN(O967)=7,COUNTIF(集荷不可!$A:$A,O967)=0),FALSE,TRUE),FALSE)","v":false},{"$f":"IF(ISERROR(FIND(\".@\",K967)),FALSE,TRUE)","v":false},{"$f":"IF(LENB(M967)<9,FALSE,TRUE)","v":false}]
[null,null,null,null,null,null,null,null,null,null,null,null,null,null,"","",false,{"$f":"CheckIzonMoji(A968)","v":false},false,false,false,false,false,false,false,false,false,false,false,false,{"$f":"IF(Q968,IF(AND(LEN(O968)=7,COUNTIF(集荷不可!$A:$A,O968)=0),FALSE,TRUE),FALSE)","v":false},false,false]
[null,null,null,null,null,null,null,null,null,null,null,null,null,null,{"$f":"SUBSTITUTE(E969,\"-\",\"\")","v":""},{"$f":"LEFT(N969,1)","v":""},false,{"$f":"CheckIzonMoji(A969)","v":false},false,false,false,false,false,false,false,false,false,false,false,false,{"$f":"IF(Q969,IF(AND(LEN(O969)=7,COUNTIF(集荷不可!$A:$A,O969)=0),FALSE,TRUE),FALSE)","v":false},false,false]
[null,null,null,null,null,null,null,null,null,null,null,null,null,null,"","",false,{"$f":"CheckIzonMoji(A970)","v":false},false,false,false,false,false,false,false,false,false,false,false,false,{"$f":"IF(Q970,IF(AND(LEN(O970)=7,COUNTIF(集荷不可!$A:$A,O970)=0),FALSE,TRUE),FALSE)","v":false},false,false]
[null,null,null,null,null,null,null,null,null,null,null,null,null,null,"","",false,{"$f":"CheckIzonMoji(A971)","v":false},false,false,false,false,false,false,false,false,false,false,false,false,{"$f":"IF(Q971,IF(AND(LEN(O971)=7,COUNTIF(集荷不可!$A:$A,O971)=0),FALSE,TRUE),FALSE)","v":false},false,false]
[null,null,null,null,null,null,null,null,null,null,null,null,null,null,"","",false,{"$f":"CheckIzonMoji(A972)","v":false},false,false,false,false,false,false,false,false,false,false,false,false,{"$f":"IF(Q972,IF(AND(LEN(O972)=7,COUNTIF(集荷不可!$A:$A,O972)=0),FALSE,TRUE),FALSE)","v":false},false,false]
[null,null,null,null,null,null,null,null,null,null,null,null,null,null,"","",false,{"$f":"CheckIzonMoji(A973)","v":false},false,false,false,false,false,false,false,false,false,false,false,false,{"$f":"IF(Q973,IF(AND(LEN(O973)=7,COUNTIF(集荷不可!$A:$A,O973)=0),FALSE,TRUE),FALSE)","v":false},false,false]
[null,null,null,null,null,null,null,null,null,null,null,null,null,null,"","",false,{"$f":"CheckIzonMoji(A974)","v":false},false,false,false,false,false,false,false,false,false,false,false,false,{"$f":"IF(Q974,IF(AND(LEN(O974)=7,COUNTIF(集荷不可!$A:$A,O974)=0),FALSE,TRUE),FALSE)","v":false},false,false]
[null,null,null,null,null,null,null,null,null,null,null,null,null,null,"","",false,{"$f":"CheckIzonMoji(A975)","v":false},false,false,false,false,false,false,false,false,false,false,false,false,{"$f":"IF(Q975,IF(AND(LEN(O975)=7,COUNTIF(集荷不可!$A:$A,O975)=0),FALSE,TRUE),FALSE)","v":false},false,false]
[null,null,null,null,null,null,null,null,null,null,null,null,null,null,"","",false,{"$f":"CheckIzonMoji(A976)","v":false},false,false,false,false,false,false,false,false,false,false,false,false,{"$f":"IF(Q976,IF(AND(LEN(O976)=7,COUNTIF(集荷不可!$A:$A,O976)=0),FALSE,TRUE),FALSE)","v":false},false,false]
[null,null,null,null,null,null,null,null,null,null,null,null,null,null,"","",false,{"$f":"CheckIzonMoji(A977)","v":false},false,false,false,false,false,false,false,false,false,false,false,false,{"$f":"IF(Q977,IF(AND(LEN(O977)=7,COUNTIF(集荷不可!$A:$A,O977)=0),FALSE,TRUE),FALSE)","v":false},false,false]
[null,null,null,null,null,null,null,null,null,null,null,null,null,null,"","",false,{"$f":"CheckIzonMoji(A978)","v":false},false,false,false,false,false,false,false,false,false,false,false,false,{"$f":"IF(Q978,IF(AND(LEN(O978)=7,COUNTIF(集荷不可!$A:$A,O978)=0),FALSE,TRUE),FALSE)","v":false},false,false]
[null,null,null,null,null,null,null,null,null,null,null,null,null,null,"","",false,{"$f":"CheckIzonMoji(A979)","v":false},false,false,false,false,false,false,false,false,false,false,false,false,{"$f":"IF(Q979,IF(AND(LEN(O979)=7,COUNTIF(集荷不可!$A:$A,O979)=0),FALSE,TRUE),FALSE)","v":false},false,false]
[null,null,null,null,null,null,null,null,null,null,null,null,null,null,"","",false,{"$f":"CheckIzonMoji(A980)","v":false},false,false,false,false,false,false,false,false,false,false,false,false,{"$f":"IF(Q980,IF(AND(LEN(O980)=7,COUNTIF(集荷不可!$A:$A,O980)=0),FALSE,TRUE),FALSE)","v":false},false,false]
[null,null,null,null,null,null,null,null,null,null,null,null,null,null,"","",false,{"$f":"CheckIzonMoji(A981)","v":false},false,false,false,false,false,false,false,false,false,false,false,false,{"$f":"IF(Q981,IF(AND(LEN(O981)=7,COUNTIF(集荷不可!$A:$A,O981)=0),FALSE,TRUE),FALSE)","v":false},false,false]
[null,null,null,null,null,null,null,null,null,null,null,null,null,null,"","",false,{"$f":"CheckIzonMoji(A982)","v":false},false,false,false,false,false,false,false,false,false,false,false,false,{"$f":"IF(Q982,IF(AND(LEN(O982)=7,COUNTIF(集荷不可!$A:$A,O982)=0),FALSE,TRUE),FALSE)","v":false},false,false]
[null,null,null,null,null,null,null,null,null,null,null,null,null,null,"","",false,{"$f":"CheckIzonMoji(A983)","v":false},false,false,false,false,false,false,false,false,false,false,false,false,{"$f":"IF(Q983,IF(AND(LEN(O983)=7,COUNTIF(集荷不可!$A:$A,O983)=0),FALSE,TRUE),FALSE)","v":false},false,false]
[null,null,null,null,null,null,null,null,null,null,null,null,null,null,"","",false,{"$f":"CheckIzonMoji(A984)","v":false},false,false,false,false,false,false,false,false,false,false,false,false,{"$f":"IF(Q984,IF(AND(LEN(O984)=7,COUNTIF(集荷不可!$A:$A,O984)=0),FALSE,TRUE),FALSE)","v":false},false,false]
[null,null,null,null,null,null,null,null,null,null,null,null,null,null,"","",false,{"$f":"CheckIzonMoji(A985)","v":false},false,false,false,false,false,false,false,false,false,false,false,false,{"$f":"IF(Q985,IF(AND(LEN(O985)=7,COUNTIF(集荷不可!$A:$A,O985)=0),FALSE,TRUE),FALSE)","v":false},false,false]
[null,null,null,null,null,null,null,null,null,null,null,null,null,null,"","",false,{"$f":"CheckIzonMoji(A986)","v":false},false,false,false,false,false,false,false,false,false,false,false,false,{"$f":"IF(Q986,IF(AND(LEN(O986)=7,COUNTIF(集荷不可!$A:$A,O986)=0),FALSE,TRUE),FALSE)","v":false},false,false]
[null,null,null,null,null,null,null,null,null,null,null,null,null,null,"","",false,{"$f":"CheckIzonMoji(A987)","v":false},false,false,false,false,false,false,false,false,false,false,false,false,{"$f":"IF(Q987,IF(AND(LEN(O987)=7,COUNTIF(集荷不可!$A:$A,O987)=0),FALSE,TRUE),FALSE)","v":false},false,false]
[null,null,null,null,null,null,null,null,null,null,null,null,null,null,"","",false,{"$f":"CheckIzonMoji(A988)","v":false},false,false,false,false,false,false,false,false,false,false,false,false,{"$f":"IF(Q988,IF(AND(LEN(O988)=7,COUNTIF(集荷不可!$A:$A,O988)=0),FALSE,TRUE),FALSE)","v":false},false,false]
[null,null,null,null,null,null,null,null,null,null,null,null,null,null,"","",false,{"$f":"CheckIzonMoji(A989)","v":false},false,false,false,false,false,false,false,false,false,false,false,false,{"$f":"IF(Q989,IF(AND(LEN(O989)=7,COUNTIF(集荷不可!$A:$A,O989)=0),FALSE,TRUE),FALSE)","v":false},false,false]
[null,null,null,null,null,null,null,null,null,null,null,null,null,null,"","",false,{"$f":"CheckIzonMoji(A990)","v":false},false,false,false,false,false,false,false,false,false,false,false,false,{"$f":"IF(Q990,IF(AND(LEN(O990)=7,COUNTIF(集荷不可!$A:$A,O990)=0),FALSE,TRUE),FALSE)","v":false},false,false]
[null,null,null,null,null,null,null,null,null,null,null,null,null,null,"","",false,{"$f":"CheckIzonMoji(A991)","v":false},false,false,false,false,false,false,false,false,false,false,false,false,{"$f":"IF(Q991,IF(AND(LEN(O991)=7,COUNTIF(集荷不可!$A:$A,O991)=0),FALSE,TRUE),FALSE)","v":false},false,false]
[null,null,null,null,null,null,null,null,null,null,null,null,null,null,"","",false,{"$f":"CheckIzonMoji(A992)","v":false},false,false,false,false,false,false,false,false,false,false,false,false,{"$f":"IF(Q992,IF(AND(LEN(O992)=7,COUNTIF(集荷不可!$A:$A,O992)=0),FALSE,TRUE),FALSE)","v":false},false,false]
[null,null,null,null,null,null,null,null,null,null,null,null,null,null,"","",false,{"$f":"CheckIzonMoji(A993)","v":false},false,false,false,false,false,false,false,false,false,false,false,false,{"$f":"IF(Q993,IF(AND(LEN(O993)=7,COUNTIF(集荷不可!$A:$A,O993)=0),FALSE,TRUE),FALSE)","v":false},false,false]
[null,null,null,null,null,null,null,null,null,null,null,null,null,null,"","",false,{"$f":"CheckIzonMoji(A994)","v":false},false,false,false,false,false,false,false,false,false,false,false,false,{"$f":"IF(Q994,IF(AND(LEN(O994)=7,COUNTIF(集荷不可!$A:$A,O994)=0),FALSE,TRUE),FALSE)","v":false},false,false]
[null,null,null,null,null,null,null,null,null,null,null,null,null,null,"","",false,{"$f":"CheckIzonMoji(A995)","v":false},false,false,false,false,false,false,false,false,false,false,false,false,{"$f":"IF(Q995,IF(AND(LEN(O995)=7,COUNTIF(集荷不可!$A:$A,O995)=0),FALSE,TRUE),FALSE)","v":false},false,false]
[null,null,null,null,null,null,null,null,null,null,null,null,null,null,"","",false,{"$f":"CheckIzonMoji(A996)","v":false},false,false,false,false,false,false,false,false,false,false,false,false,{"$f":"IF(Q996,IF(AND(LEN(O996)=7,COUNTIF(集荷不可!$A:$A,O996)=0),FALSE,TRUE),FALSE)","v":false},false,false]
[null,null,null,null,null,null,null,null,null,null,null,null,null,null,"","",false,{"$f":"CheckIzonMoji(A997)","v":false},false,false,false,false,false,false,false,false,false,false,false,false,{"$f":"IF(Q997,IF(AND(LEN(O997)=7,COUNTIF(集荷不可!$A:$A,O997)=0),FALSE,TRUE),FALSE)","v":false},false,false]
[null,null,null,null,null,null,null,null,null,null,null,null,null,null,"","",false,{"$f":"CheckIzonMoji(A998)","v":false},false,false,false,false,false,false,false,false,false,false,false,false,{"$f":"IF(Q998,IF(AND(LEN(O998)=7,COUNTIF(集荷不可!$A:$A,O998)=0),FALSE,TRUE),FALSE)","v":false},false,false]
[null,null,null,null,null,null,null,null,null,null,null,null,null,null,"","",false,{"$f":"CheckIzonMoji(A999)","v":false},false,false,false,false,false,false,false,false,false,false,false,false,{"$f":"IF(Q999,IF(AND(LEN(O999)=7,COUNTIF(集荷不可!$A:$A,O999)=0),FALSE,TRUE),FALSE)","v":false},false,false]
[null,null,null,null,null,null,null,null,null,null,null,null,null,null,"","",false,{"$f":"CheckIzonMoji(A1000)","v":false},false,false,false,false,false,false,false,false,false,false,false,false,{"$f":"IF(Q1000,IF(AND(LEN(O1000)=7,COUNTIF(集荷不可!$A:$A,O1000)=0),FALSE,TRUE),FALSE)","v":false},false,false]
[null,null,null,null,null,null,null,null,null,null,null,null,null,null,"","",false,{"$f":"CheckIzonMoji(A1001)","v":false},false,false,false,false,false,false,false,false,false,false,false,false,{"$f":"IF(Q1001,IF(AND(LEN(O1001)=7,COUNTIF(集荷不可!$A:$A,O1001)=0),FALSE,TRUE),FALSE)","v":false},false,false]
[null,null,null,null,null,null,null,null,null,null,null,null,null,null,"","",false,{"$f":"CheckIzonMoji(A1002)","v":false},false,false,false,false,false,false,false,false,false,false,false,false,{"$f":"IF(Q1002,IF(AND(LEN(O1002)=7,COUNTIF(集荷不可!$A:$A,O1002)=0),FALSE,TRUE),FALSE)","v":false},false,false]
[null,null,null,null,null,null,null,null,null,null,null,null,null,null,"","",false,{"$f":"CheckIzonMoji(A1003)","v":false},false,false,false,false,false,false,false,false,false,false,false,false,{"$f":"IF(Q1003,IF(AND(LEN(O1003)=7,COUNTIF(集荷不可!$A:$A,O1003)=0),FALSE,TRUE),FALSE)","v":false},false,false]
[null,null,null,null,null,null,null,null,null,null,null,null,null,null,"","",false,{"$f":"CheckIzonMoji(A1004)","v":false},false,false,false,false,false,false,false,false,false,false,false,false,{"$f":"IF(Q1004,IF(AND(LEN(O1004)=7,COUNTIF(集荷不可!$A:$A,O1004)=0),FALSE,TRUE),FALSE)","v":false},false,false]

{"sheet":"サリバ取込","index":1,"n_rows":1000,"n_cols":13,"rows_kept":1000,"cut":false,"hidden":true,"merged":[]}
["氏名","性別","生年月日","郵便番号","住所1","住所2","部門１","部門２","TEL","メール","保険証記号","保険証番号","本人・家族"]
[{"$f":"IF(入力シート!A6=\"\",\"\",入力シート!A6)","v":""},{"$f":"IF(入力シート!B6=\"\",\"\",入力シート!B6)","v":""},{"$f":"IF(入力シート!C6=\"\",\"\",TEXT(入力シート!C6,\"yyyy-mm-dd\"))","v":""},{"$f":"IF(入力シート!O6=\"\",\"\",TEXT(入力シート!O6,\"000-0000\"))","v":""},{"$f":"IF(入力シート!F6=\"\",\"\",入力シート!F6)","v":""},{"$f":"IF(入力シート!G6=\"\",\"\",入力シート!G6)","v":""},{"$f":"IF(入力シート!H6=\"\",\"\",入力シート!H6)","v":""},{"$f":"IF(入力シート!I6=\"\",\"\",入力シート!I6)","v":""},{"$f":"IF(入力シート!J6=\"\",\"\",入力シート!J6)","v":""},{"$f":"IF(入力シート!K6=\"\",\"\",ASC(入力シート!K6))","v":""},{"$f":"IF(入力シート!L6=\"\",\"\",入力シート!L6)","v":""},{"$f":"IF(入力シート!M6=\"\",\"\",入力シート!M6)","v":""},{"$f":"IF(入力シート!N6=\"\",\"\",入力シート!P6)","v":""}]
[{"$f":"IF(入力シート!A7=\"\",\"\",入力シート!A7)","v":""},{"$f":"IF(入力シート!B7=\"\",\"\",入力シート!B7)","v":""},{"$f":"IF(入力シート!C7=\"\",\"\",TEXT(入力シート!C7,\"yyyy-mm-dd\"))","v":""},{"$f":"IF(入力シート!O7=\"\",\"\",TEXT(入力シート!O7,\"000-0000\"))","v":""},{"$f":"IF(入力シート!F7=\"\",\"\",入力シート!F7)","v":""},{"$f":"IF(入力シート!G7=\"\",\"\",入力シート!G7)","v":""},{"$f":"IF(入力シート!H7=\"\",\"\",入力シート!H7)","v":""},{"$f":"IF(入力シート!I7=\"\",\"\",入力シート!I7)","v":""},{"$f":"IF(入力シート!J7=\"\",\"\",入力シート!J7)","v":""},{"$f":"IF(入力シート!K7=\"\",\"\",入力シート!K7)","v":""},{"$f":"IF(入力シート!L7=\"\",\"\",入力シート!L7)","v":""},{"$f":"IF(入力シート!M7=\"\",\"\",入力シート!M7)","v":""},{"$f":"IF(入力シート!N7=\"\",\"\",入力シート!P7)","v":""}]
[{"$f":"IF(入力シート!A8=\"\",\"\",入力シート!A8)","v":""},{"$f":"IF(入力シート!B8=\"\",\"\",入力シート!B8)","v":""},{"$f":"IF(入力シート!C8=\"\",\"\",TEXT(入力シート!C8,\"yyyy-mm-dd\"))","v":""},{"$f":"IF(入力シート!O8=\"\",\"\",TEXT(入力シート!O8,\"000-0000\"))","v":""},{"$f":"IF(入力シート!F8=\"\",\"\",入力シート!F8)","v":""},{"$f":"IF(入力シート!G8=\"\",\"\",入力シート!G8)","v":""},{"$f":"IF(入力シート!H8=\"\",\"\",入力シート!H8)","v":""},{"$f":"IF(入力シート!I8=\"\",\"\",入力シート!I8)","v":""},{"$f":"IF(入力シート!J8=\"\",\"\",入力シート!J8)","v":""},{"$f":"IF(入力シート!K8=\"\",\"\",入力シート!K8)","v":""},{"$f":"IF(入力シート!L8=\"\",\"\",入力シート!L8)","v":""},{"$f":"IF(入力シート!M8=\"\",\"\",入力シート!M8)","v":""},{"$f":"IF(入力シート!N8=\"\",\"\",入力シート!P8)","v":""}]
[{"$f":"IF(入力シート!A9=\"\",\"\",入力シート!A9)","v":""},{"$f":"IF(入力シート!B9=\"\",\"\",入力シート!B9)","v":""},{"$f":"IF(入力シート!C9=\"\",\"\",TEXT(入力シート!C9,\"yyyy-mm-dd\"))","v":""},{"$f":"IF(入力シート!O9=\"\",\"\",TEXT(入力シート!O9,\"000-0000\"))","v":""},{"$f":"IF(入力シート!F9=\"\",\"\",入力シート!F9)","v":""},{"$f":"IF(入力シート!G9=\"\",\"\",入力シート!G9)","v":""},{"$f":"IF(入力シート!H9=\"\",\"\",入力シート!H9)","v":""},{"$f":"IF(入力シート!I9=\"\",\"\",入力シート!I9)","v":""},{"$f":"IF(入力シート!J9=\"\",\"\",入力シート!J9)","v":""},{"$f":"IF(入力シート!K9=\"\",\"\",入力シート!K9)","v":""},{"$f":"IF(入力シート!L9=\"\",\"\",入力シート!L9)","v":""},{"$f":"IF(入力シート!M9=\"\",\"\",入力シート!M9)","v":""},{"$f":"IF(入力シート!N9=\"\",\"\",入力シート!P9)","v":""}]
[{"$f":"IF(入力シート!A10=\"\",\"\",入力シート!A10)","v":""},{"$f":"IF(入力シート!B10=\"\",\"\",入力シート!B10)","v":""},{"$f":"IF(入力シート!C10=\"\",\"\",TEXT(入力シート!C10,\"yyyy-mm-dd\"))","v":""},{"$f":"IF(入力シート!O10=\"\",\"\",TEXT(入力シート!O10,\"000-0000\"))","v":""},{"$f":"IF(入力シート!F10=\"\",\"\",入力シート!F10)","v":""},{"$f":"IF(入力シート!G10=\"\",\"\",入力シート!G10)","v":""},{"$f":"IF(入力シート!H10=\"\",\"\",入力シート!H10)","v":""},{"$f":"IF(入力シート!I10=\"\",\"\",入力シート!I10)","v":""},{"$f":"IF(入力シート!J10=\"\",\"\",入力シート!J10)","v":""},{"$f":"IF(入力シート!K10=\"\",\"\",入力シート!K10)","v":""},{"$f":"IF(入力シート!L10=\"\",\"\",入力シート!L10)","v":""},{"$f":"IF(入力シート!M10=\"\",\"\",入力シート!M10)","v":""},{"$f":"IF(入力シート!N10=\"\",\"\",入力シート!P10)","v":""}]
[{"$f":"IF(入力シート!A11=\"\",\"\",入力シート!A11)","v":""},{"$f":"IF(入力シート!B11=\"\",\"\",入力シート!B11)","v":""},{"$f":"IF(入力シート!C11=\"\",\"\",TEXT(入力シート!C11,\"yyyy-mm-dd\"))","v":""},{"$f":"IF(入力シート!O11=\"\",\"\",TEXT(入力シート!O11,\"000-0000\"))","v":""},{"$f":"IF(入力シート!F11=\"\",\"\",入力シート!F11)","v":""},{"$f":"IF(入力シート!G11=\"\",\"\",入力シート!G11)","v":""},{"$f":"IF(入力シート!H11=\"\",\"\",入力シート!H11)","v":""},{"$f":"IF(入力シート!I11=\"\",\"\",入力シート!I11)","v":""},{"$f":"IF(入力シート!J11=\"\",\"\",入力シート!J11)","v":""},{"$f":"IF(入力シート!K11=\"\",\"\",入力シート!K11)","v":""},{"$f":"IF(入力シート!L11=\"\",\"\",入力シート!L11)","v":""},{"$f":"IF(入力シート!M11=\"\",\"\",入力シート!M11)","v":""},{"$f":"IF(入力シート!N11=\"\",\"\",入力シート!P11)","v":""}]
[{"$f":"IF(入力シート!A12=\"\",\"\",入力シート!A12)","v":""},{"$f":"IF(入力シート!B12=\"\",\"\",入力シート!B12)","v":""},{"$f":"IF(入力シート!C12=\"\",\"\",TEXT(入力シート!C12,\"yyyy-mm-dd\"))","v":""},{"$f":"IF(入力シート!O12=\"\",\"\",TEXT(入力シート!O12,\"000-0000\"))","v":""},{"$f":"IF(入力シート!F12=\"\",\"\",入力シート!F12)","v":""},{"$f":"IF(入力シート!G12=\"\",\"\",入力シート!G12)","v":""},{"$f":"IF(入力シート!H12=\"\",\"\",入力シート!H12)","v":""},{"$f":"IF(入力シート!I12=\"\",\"\",入力シート!I12)","v":""},{"$f":"IF(入力シート!J12=\"\",\"\",入力シート!J12)","v":""},{"$f":"IF(入力シート!K12=\"\",\"\",入力シート!K12)","v":""},{"$f":"IF(入力シート!L12=\"\",\"\",入力シート!L12)","v":""},{"$f":"IF(入力シート!M12=\"\",\"\",入力シート!M12)","v":""},{"$f":"IF(入力シート!N12=\"\",\"\",入力シート!P12)","v":""}]
[{"$f":"IF(入力シート!A13=\"\",\"\",入力シート!A13)","v":""},{"$f":"IF(入力シート!B13=\"\",\"\",入力シート!B13)","v":""},{"$f":"IF(入力シート!C13=\"\",\"\",TEXT(入力シート!C13,\"yyyy-mm-dd\"))","v":""},{"$f":"IF(入力シート!O13=\"\",\"\",TEXT(入力シート!O13,\"000-0000\"))","v":""},{"$f":"IF(入力シート!F13=\"\",\"\",入力シート!F13)","v":""},{"$f":"IF(入力シート!G13=\"\",\"\",入力シート!G13)","v":""},{"$f":"IF(入力シート!H13=\"\",\"\",入力シート!H13)","v":""},{"$f":"IF(入力シート!I13=\"\",\"\",入力シート!I13)","v":""},{"$f":"IF(入力シート!J13=\"\",\"\",入力シート!J13)","v":""},{"$f":"IF(入力シート!K13=\"\",\"\",入力シート!K13)","v":""},{"$f":"IF(入力シート!L13=\"\",\"\",入力シート!L13)","v":""},{"$f":"IF(入力シート!M13=\"\",\"\",入力シート!M13)","v":""},{"$f":"IF(入力シート!N13=\"\",\"\",入力シート!P13)","v":""}]
[{"$f":"IF(入力シート!A14=\"\",\"\",入力シート!A14)","v":""},{"$f":"IF(入力シート!B14=\"\",\"\",入力シート!B14)","v":""},{"$f":"IF(入力シート!C14=\"\",\"\",TEXT(入力シート!C14,\"yyyy-mm-dd\"))","v":""},{"$f":"IF(入力シート!O14=\"\",\"\",TEXT(入力シート!O14,\"000-0000\"))","v":""},{"$f":"IF(入力シート!F14=\"\",\"\",入力シート!F14)","v":""},{"$f":"IF(入力シート!G14=\"\",\"\",入力シート!G14)","v":""},{"$f":"IF(入力シート!H14=\"\",\"\",入力シート!H14)","v":""},{"$f":"IF(入力シート!I14=\"\",\"\",入力シート!I14)","v":""},{"$f":"IF(入力シート!J14=\"\",\"\",入力シート!J14)","v":""},{"$f":"IF(入力シート!K14=\"\",\"\",入力シート!K14)","v":""},{"$f":"IF(入力シート!L14=\"\",\"\",入力シート!L14)","v":""},{"$f":"IF(入力シート!M14=\"\",\"\",入力シート!M14)","v":""},{"$f":"IF(入力シート!N14=\"\",\"\",入力シート!P14)","v":""}]
[{"$f":"IF(入力シート!A15=\"\",\"\",入力シート!A15)","v":""},{"$f":"IF(入力シート!B15=\"\",\"\",入力シート!B15)","v":""},{"$f":"IF(入力シート!C15=\"\",\"\",TEXT(入力シート!C15,\"yyyy-mm-dd\"))","v":""},{"$f":"IF(入力シート!O15=\"\",\"\",TEXT(入力シート!O15,\"000-0000\"))","v":""},{"$f":"IF(入力シート!F15=\"\",\"\",入力シート!F15)","v":""},{"$f":"IF(入力シート!G15=\"\",\"\",入力シート!G15)","v":""},{"$f":"IF(入力シート!H15=\"\",\"\",入力シート!H15)","v":""},{"$f":"IF(入力シート!I15=\"\",\"\",入力シート!I15)","v":""},{"$f":"IF(入力シート!J15=\"\",\"\",入力シート!J15)","v":""},{"$f":"IF(入力シート!K15=\"\",\"\",入力シート!K15)","v":""},{"$f":"IF(入力シート!L15=\"\",\"\",入力シート!L15)","v":""},{"$f":"IF(入力シート!M15=\"\",\"\",入力シート!M15)","v":""},{"$f":"IF(入力シート!N15=\"\",\"\",入力シート!P15)","v":""}]
[{"$f":"IF(入力シート!A16=\"\",\"\",入力シート!A16)","v":""},{"$f":"IF(入力シート!B16=\"\",\"\",入力シート!B16)","v":""},{"$f":"IF(入力シート!C16=\"\",\"\",TEXT(入力シート!C16,\"yyyy-mm-dd\"))","v":""},{"$f":"IF(入力シート!O16=\"\",\"\",TEXT(入力シート!O16,\"000-0000\"))","v":""},{"$f":"IF(入力シート!F16=\"\",\"\",入力シート!F16)","v":""},{"$f":"IF(入力シート!G16=\"\",\"\",入力シート!G16)","v":""},{"$f":"IF(入力シート!H16=\"\",\"\",入力シート!H16)","v":""},{"$f":"IF(入力シート!I16=\"\",\"\",入力シート!I16)","v":""},{"$f":"IF(入力シート!J16=\"\",\"\",入力シート!J16)","v":""},{"$f":"IF(入力シート!K16=\"\",\"\",入力シート!K16)","v":""},{"$f":"IF(入力シート!L16=\"\",\"\",入力シート!L16)","v":""},{"$f":"IF(入力シート!M16=\"\",\"\",入力シート!M16)","v":""},{"$f":"IF(入力シート!N16=\"\",\"\",入力シート!P16)","v":""}]
[{"$f":"IF(入力シート!A17=\"\",\"\",入力シート!A17)","v":""},{"$f":"IF(入力シート!B17=\"\",\"\",入力シート!B17)","v":""},{"$f":"IF(入力シート!C17=\"\",\"\",TEXT(入力シート!C17,\"yyyy-mm-dd\"))","v":""},{"$f":"IF(入力シート!O17=\"\",\"\",TEXT(入力シート!O17,\"000-0000\"))","v":""},{"$f":"IF(入力シート!F17=\"\",\"\",入力シート!F17)","v":""},{"$f":"IF(入力シート!G17=\"\",\"\",入力シート!G17)","v":""},{"$f":"IF(入力シート!H17=\"\",\"\",入力シート!H17)","v":""},{"$f":"IF(入力シート!I17=\"\",\"\",入力シート!I17)","v":""},{"$f":"IF(入力シート!J17=\"\",\"\",入力シート!J17)","v":""},{"$f":"IF(入力シート!K17=\"\",\"\",入力シート!K17)","v":""},{"$f":"IF(入力シート!L17=\"\",\"\",入力シート!L17)","v":""},{"$f":"IF(入力シート!M17=\"\",\"\",入力シート!M17)","v":""},{"$f":"IF(入力シート!N17=\"\",\"\",入力シート!P17)","v":""}]
[{"$f":"IF(入力シート!A18=\"\",\"\",入力シート!A18)","v":""},{"$f":"IF(入力シート!B18=\"\",\"\",入力シート!B18)","v":""},{"$f":"IF(入力シート!C18=\"\",\"\",TEXT(入力シート!C18,\"yyyy-mm-dd\"))","v":""},{"$f":"IF(入力シート!O18=\"\",\"\",TEXT(入力シート!O18,\"000-0000\"))","v":""},{"$f":"IF(入力シート!F18=\"\",\"\",入力シート!F18)","v":""},{"$f":"IF(入力シート!G18=\"\",\"\",入力シート!G18)","v":""},{"$f":"IF(入力シート!H18=\"\",\"\",入力シート!H18)","v":""},{"$f":"IF(入力シート!I18=\"\",\"\",入力シート!I18)","v":""},{"$f":"IF(入力シート!J18=\"\",\"\",入力シート!J18)","v":""},{"$f":"IF(入力シート!K18=\"\",\"\",入力シート!K18)","v":""},{"$f":"IF(入力シート!L18=\"\",\"\",入力シート!L18)","v":""},{"$f":"IF(入力シート!M18=\"\",\"\",入力シート!M18)","v":""},{"$f":"IF(入力シート!N18=\"\",\"\",入力シート!P18)","v":""}]
[{"$f":"IF(入力シート!A19=\"\",\"\",入力シート!A19)","v":""},{"$f":"IF(入力シート!B19=\"\",\"\",入力シート!B19)","v":""},{"$f":"IF(入力シート!C19=\"\",\"\",TEXT(入力シート!C19,\"yyyy-mm-dd\"))","v":""},{"$f":"IF(入力シート!O19=\"\",\"\",TEXT(入力シート!O19,\"000-0000\"))","v":""},{"$f":"IF(入力シート!F19=\"\",\"\",入力シート!F19)","v":""},{"$f":"IF(入力シート!G19=\"\",\"\",入力シート!G19)","v":""},{"$f":"IF(入力シート!H19=\"\",\"\",入力シート!H19)","v":""},{"$f":"IF(入力シート!I19=\"\",\"\",入力シート!I19)","v":""},{"$f":"IF(入力シート!J19=\"\",\"\",入力シート!J19)","v":""},{"$f":"IF(入力シート!K19=\"\",\"\",入力シート!K19)","v":""},{"$f":"IF(入力シート!L19=\"\",\"\",入力シート!L19)","v":""},{"$f":"IF(入力シート!M19=\"\",\"\",入力シート!M19)","v":""},{"$f":"IF(入力シート!N19=\"\",\"\",入力シート!P19)","v":""}]
[{"$f":"IF(入力シート!A20=\"\",\"\",入力シート!A20)","v":""},{"$f":"IF(入力シート!B20=\"\",\"\",入力シート!B20)","v":""},{"$f":"IF(入力シート!C20=\"\",\"\",TEXT(入力シート!C20,\"yyyy-mm-dd\"))","v":""},{"$f":"IF(入力シート!O20=\"\",\"\",TEXT(入力シート!O20,\"000-0000\"))","v":""},{"$f":"IF(入力シート!F20=\"\",\"\",入力シート!F20)","v":""},{"$f":"IF(入力シート!G20=\"\",\"\",入力シート!G20)","v":""},{"$f":"IF(入力シート!H20=\"\",\"\",入力シート!H20)","v":""},{"$f":"IF(入力シート!I20=\"\",\"\",入力シート!I20)","v":""},{"$f":"IF(入力シート!J20=\"\",\"\",入力シート!J20)","v":""},{"$f":"IF(入力シート!K20=\"\",\"\",入力シート!K20)","v":""},{"$f":"IF(入力シート!L20=\"\",\"\",入力シート!L20)","v":""},{"$f":"IF(入力シート!M20=\"\",\"\",入力シート!M20)","v":""},{"$f":"IF(入力シート!N20=\"\",\"\",入力シート!P20)","v":""}]
[{"$f":"IF(入力シート!A21=\"\",\"\",入力シート!A21)","v":""},{"$f":"IF(入力シート!B21=\"\",\"\",入力シート!B21)","v":""},{"$f":"IF(入力シート!C21=\"\",\"\",TEXT(入力シート!C21,\"yyyy-mm-dd\"))","v":""},{"$f":"IF(入力シート!O21=\"\",\"\",TEXT(入力シート!O21,\"000-0000\"))","v":""},{"$f":"IF(入力シート!F21=\"\",\"\",入力シート!F21)","v":""},{"$f":"IF(入力シート!G21=\"\",\"\",入力シート!G21)","v":""},{"$f":"IF(入力シート!H21=\"\",\"\",入力シート!H21)","v":""},{"$f":"IF(入力シート!I21=\"\",\"\",入力シート!I21)","v":""},{"$f":"IF(入力シート!J21=\"\",\"\",入力シート!J21)","v":""},{"$f":"IF(入力シート!K21=\"\",\"\",入力シート!K21)","v":""},{"$f":"IF(入力シート!L21=\"\",\"\",入力シート!L21)","v":""},{"$f":"IF(入力シート!M21=\"\",\"\",入力シート!M21)","v":""},{"$f":"IF(入力シート!N21=\"\",\"\",入力シート!P21)","v":""}]
[{"$f":"IF(入力シート!A22=\"\",\"\",入力シート!A22)","v":""},{"$f":"IF(入力シート!B22=\"\",\"\",入力シート!B22)","v":""},{"$f":"IF(入力シート!C22=\"\",\"\",TEXT(入力シート!C22,\"yyyy-mm-dd\"))","v":""},{"$f":"IF(入力シート!O22=\"\",\"\",TEXT(入力シート!O22,\"000-0000\"))","v":""},{"$f":"IF(入力シート!F22=\"\",\"\",入力シート!F22)","v":""},{"$f":"IF(入力シート!G22=\"\",\"\",入力シート!G22)","v":""},{"$f":"IF(入力シート!H22=\"\",\"\",入力シート!H22)","v":""},{"$f":"IF(入力シート!I22=\"\",\"\",入力シート!I22)","v":""},{"$f":"IF(入力シート!J22=\"\",\"\",入力シート!J22)","v":""},{"$f":"IF(入力シート!K22=\"\",\"\",入力シート!K22)","v":""},{"$f":"IF(入力シート!L22=\"\",\"\",入力シート!L22)","v":""},{"$f":"IF(入力シート!M22=\"\",\"\",入力シート!M22)","v":""},{"$f":"IF(入力シート!N22=\"\",\"\",入力シート!P22)","v":""}]
[{"$f":"IF(入力シート!A23=\"\",\"\",入力シート!A23)","v":""},{"$f":"IF(入力シート!B23=\"\",\"\",入力シート!B23)","v":""},{"$f":"IF(入力シート!C23=\"\",\"\",TEXT(入力シート!C23,\"yyyy-mm-dd\"))","v":""},{"$f":"IF(入力シート!O23=\"\",\"\",TEXT(入力シート!O23,\"000-0000\"))","v":""},{"$f":"IF(入力シート!F23=\"\",\"\",入力シート!F23)","v":""},{"$f":"IF(入力シート!G23=\"\",\"\",入力シート!G23)","v":""},{"$f":"IF(入力シート!H23=\"\",\"\",入力シート!H23)","v":""},{"$f":"IF(入力シート!I23=\"\",\"\",入力シート!I23)","v":""},{"$f":"IF(入力シート!J23=\"\",\"\",入力シート!J23)","v":""},{"$f":"IF(入力シート!K23=\"\",\"\",入力シート!K23)","v":""},{"$f":"IF(入力シート!L23=\"\",\"\",入力シート!L23)","v":""},{"$f":"IF(入力シート!M23=\"\",\"\",入力シート!M23)","v":""},{"$f":"IF(入力シート!N23=\"\",\"\",入力シート!P23)","v":""}]
[{"$f":"IF(入力シート!A24=\"\",\"\",入力シート!A24)","v":""},{"$f":"IF(入力シート!B24=\"\",\"\",入力シート!B24)","v":""},{"$f":"IF(入力シート!C24=\"\",\"\",TEXT(入力シート!C24,\"yyyy-mm-dd\"))","v":""},{"$f":"IF(入力シート!O24=\"\",\"\",TEXT(入力シート!O24,\"000-0000\"))","v":""},{"$f":"IF(入力シート!F24=\"\",\"\",入力シート!F24)","v":""},{"$f":"IF(入力シート!G24=\"\",\"\",入力シート!G24)","v":""},{"$f":"IF(入力シート!H24=\"\",\"\",入力シート!H24)","v":""},{"$f":"IF(入力シート!I24=\"\",\"\",入力シート!I24)","v":""},{"$f":"IF(入力シート!J24=\"\",\"\",入力シート!J24)","v":""},{"$f":"IF(入力シート!K24=\"\",\"\",入力シート!K24)","v":""},{"$f":"IF(入力シート!L24=\"\",\"\",入力シート!L24)","v":""},{"$f":"IF(入力シート!M24=\"\",\"\",入力シート!M24)","v":""},{"$f":"IF(入力シート!N24=\"\",\"\",入力シート!P24)","v":""}]
[{"$f":"IF(入力シート!A25=\"\",\"\",入力シート!A25)","v":""},{"$f":"IF(入力シート!B25=\"\",\"\",入力シート!B25)","v":""},{"$f":"IF(入力シート!C25=\"\",\"\",TEXT(入力シート!C25,\"yyyy-mm-dd\"))","v":""},{"$f":"IF(入力シート!O25=\"\",\"\",TEXT(入力シート!O25,\"000-0000\"))","v":""},{"$f":"IF(入力シート!F25=\"\",\"\",入力シート!F25)","v":""},{"$f":"IF(入力シート!G25=\"\",\"\",入力シート!G25)","v":""},{"$f":"IF(入力シート!H25=\"\",\"\",入力シート!H25)","v":""},{"$f":"IF(入力シート!I25=\"\",\"\",入力シート!I25)","v":""},{"$f":"IF(入力シート!J25=\"\",\"\",入力シート!J25)","v":""},{"$f":"IF(入力シート!K25=\"\",\"\",入力シート!K25)","v":""},{"$f":"IF(入力シート!L25=\"\",\"\",入力シート!L25)","v":""},{"$f":"IF(入力シート!M25=\"\",\"\",入力シート!M25)","v":""},{"$f":"IF(入力シート!N25=\"\",\"\",入力シート!P25)","v":""}]
[{"$f":"IF(入力シート!A26=\"\",\"\",入力シート!A26)","v":""},{"$f":"IF(入力シート!B26=\"\",\"\",入力シート!B26)","v":""},{"$f":"IF(入力シート!C26=\"\",\"\",TEXT(入力シート!C26,\"yyyy-mm-dd\"))","v":""},{"$f":"IF(入力シート!O26=\"\",\"\",TEXT(入力シート!O26,\"000-0000\"))","v":""},{"$f":"IF(入力シート!F26=\"\",\"\",入力シート!F26)","v":""},{"$f":"IF(入力シート!G26=\"\",\"\",入力シート!G26)","v":""},{"$f":"IF(入力シート!H26=\"\",\"\",入力シート!H26)","v":""},{"$f":"IF(入力シート!I26=\"\",\"\",入力シート!I26)","v":""},{"$f":"IF(入力シート!J26=\"\",\"\",入力シート!J26)","v":""},{"$f":"IF(入力シート!K26=\"\",\"\",入力シート!K26)","v":""},{"$f":"IF(入力シート!L26=\"\",\"\",入力シート!L26)","v":""},{"$f":"IF(入力シート!M26=\"\",\"\",入力シート!M26)","v":""},{"$f":"IF(入力シート!N26=\"\",\"\",入力シート!P26)","v":""}]
[{"$f":"IF(入力シート!A27=\"\",\"\",入力シート!A27)","v":""},{"$f":"IF(入力シート!B27=\"\",\"\",入力シート!B27)","v":""},{"$f":"IF(入力シート!C27=\"\",\"\",TEXT(入力シート!C27,\"yyyy-mm-dd\"))","v":""},{"$f":"IF(入力シート!O27=\"\",\"\",TEXT(入力シート!O27,\"000-0000\"))","v":""},{"$f":"IF(入力シート!F27=\"\",\"\",入力シート!F27)","v":""},{"$f":"IF(入力シート!G27=\"\",\"\",入力シート!G27)","v":""},{"$f":"IF(入力シート!H27=\"\",\"\",入力シート!H27)","v":""},{"$f":"IF(入力シート!I27=\"\",\"\",入力シート!I27)","v":""},{"$f":"IF(入力シート!J27=\"\",\"\",入力シート!J27)","v":""},{"$f":"IF(入力シート!K27=\"\",\"\",入力シート!K27)","v":""},{"$f":"IF(入力シート!L27=\"\",\"\",入力シート!L27)","v":""},{"$f":"IF(入力シート!M27=\"\",\"\",入力シート!M27)","v":""},{"$f":"IF(入力シート!N27=\"\",\"\",入力シート!P27)","v":""}]
[{"$f":"IF(入力シート!A28=\"\",\"\",入力シート!A28)","v":""},{"$f":"IF(入力シート!B28=\"\",\"\",入力シート!B28)","v":""},{"$f":"IF(入力シート!C28=\"\",\"\",TEXT(入力シート!C28,\"yyyy-mm-dd\"))","v":""},{"$f":"IF(入力シート!O28=\"\",\"\",TEXT(入力シート!O28,\"000-0000\"))","v":""},{"$f":"IF(入力シート!F28=\"\",\"\",入力シート!F28)","v":""},{"$f":"IF(入力シート!G28=\"\",\"\",入力シート!G28)","v":""},{"$f":"IF(入力シート!H28=\"\",\"\",入力シート!H28)","v":""},{"$f":"IF(入力シート!I28=\"\",\"\",入力シート!I28)","v":""},{"$f":"IF(入力シート!J28=\"\",\"\",入力シート!J28)","v":""},{"$f":"IF(入力シート!K28=\"\",\"\",入力シート!K28)","v":""},{"$f":"IF(入力シート!L28=\"\",\"\",入力シート!L28)","v":""},{"$f":"IF(入力シート!M28=\"\",\"\",入力シート!M28)","v":""},{"$f":"IF(入力シート!N28=\"\",\"\",入力シート!P28)","v":""}]
[{"$f":"IF(入力シート!A29=\"\",\"\",入力シート!A29)","v":""},{"$f":"IF(入力シート!B29=\"\",\"\",入力シート!B29)","v":""},{"$f":"IF(入力シート!C29=\"\",\"\",TEXT(入力シート!C29,\"yyyy-mm-dd\"))","v":""},{"$f":"IF(入力シート!O29=\"\",\"\",TEXT(入力シート!O29,\"000-0000\"))","v":""},{"$f":"IF(入力シート!F29=\"\",\"\",入力シート!F29)","v":""},{"$f":"IF(入力シート!G29=\"\",\"\",入力シート!G29)","v":""},{"$f":"IF(入力シート!H29=\"\",\"\",入力シート!H29)","v":""},{"$f":"IF(入力シート!I29=\"\",\"\",入力シート!I29)","v":""},{"$f":"IF(入力シート!J29=\"\",\"\",入力シート!J29)","v":""},{"$f":"IF(入力シート!K29=\"\",\"\",入力シート!K29)","v":""},{"$f":"IF(入力シート!L29=\"\",\"\",入力シート!L29)","v":""},{"$f":"IF(入力シート!M29=\"\",\"\",入力シート!M29)","v":""},{"$f":"IF(入力シート!N29=\"\",\"\",入力シート!P29)","v":""}]
[{"$f":"IF(入力シート!A30=\"\",\"\",入力シート!A30)","v":""},{"$f":"IF(入力シート!B30=\"\",\"\",入力シート!B30)","v":""},{"$f":"IF(入力シート!C30=\"\",\"\",TEXT(入力シート!C30,\"yyyy-mm-dd\"))","v":""},{"$f":"IF(入力シート!O30=\"\",\"\",TEXT(入力シート!O30,\"000-0000\"))","v":""},{"$f":"IF(入力シート!F30=\"\",\"\",入力シート!F30)","v":""},{"$f":"IF(入力シート!G30=\"\",\"\",入力シート!G30)","v":""},{"$f":"IF(入力シート!H30=\"\",\"\",入力シート!H30)","v":""},{"$f":"IF(入力シート!I30=\"\",\"\",入力シート!I30)","v":""},{"$f":"IF(入力シート!J30=\"\",\"\",入力シート!J30)","v":""},{"$f":"IF(入力シート!K30=\"\",\"\",入力シート!K30)","v":""},{"$f":"IF(入力シート!L30=\"\",\"\",入力シート!L30)","v":""},{"$f":"IF(入力シート!M30=\"\",\"\",入力シート!M30)","v":""},{"$f":"IF(入力シート!N30=\"\",\"\",入力シート!P30)","v":""}]
[{"$f":"IF(入力シート!A31=\"\",\"\",入力シート!A31)","v":""},{"$f":"IF(入力シート!B31=\"\",\"\",入力シート!B31)","v":""},{"$f":"IF(入力シート!C31=\"\",\"\",TEXT(入力シート!C31,\"yyyy-mm-dd\"))","v":""},{"$f":"IF(入力シート!O31=\"\",\"\",TEXT(入力シート!O31,\"000-0000\"))","v":""},{"$f":"IF(入力シート!F31=\"\",\"\",入力シート!F31)","v":""},{"$f":"IF(入力シート!G31=\"\",\"\",入力シート!G31)","v":""},{"$f":"IF(入力シート!H31=\"\",\"\",入力シート!H31)","v":""},{"$f":"IF(入力シート!I31=\"\",\"\",入力シート!I31)","v":""},{"$f":"IF(入力シート!J31=\"\",\"\",入力シート!J31)","v":""},{"$f":"IF(入力シート!K31=\"\",\"\",入力シート!K31)","v":""},{"$f":"IF(入力シート!L31=\"\",\"\",入力シート!L31)","v":""},{"$f":"IF(入力シート!M31=\"\",\"\",入力シート!M31)","v":""},{"$f":"IF(入力シート!N31=\"\",\"\",入力シート!P31)","v":""}]
[{"$f":"IF(入力シート!A32=\"\",\"\",入力シート!A32)","v":""},{"$f":"IF(入力シート!B32=\"\",\"\",入力シート!B32)","v":""},{"$f":"IF(入力シート!C32=\"\",\"\",TEXT(入力シート!C32,\"yyyy-mm-dd\"))","v":""},{"$f":"IF(入力シート!O32=\"\",\"\",TEXT(入力シート!O32,\"000-0000\"))","v":""},{"$f":"IF(入力シート!F32=\"\",\"\",入力シート!F32)","v":""},{"$f":"IF(入力シート!G32=\"\",\"\",入力シート!G32)","v":""},{"$f":"IF(入力シート!H32=\"\",\"\",入力シート!H32)","v":""},{"$f":"IF(入力シート!I32=\"\",\"\",入力シート!I32)","v":""},{"$f":"IF(入力シート!J32=\"\",\"\",入力シート!J32)","v":""},{"$f":"IF(入力シート!K32=\"\",\"\",入力シート!K32)","v":""},{"$f":"IF(入力シート!L32=\"\",\"\",入力シート!L32)","v":""},{"$f":"IF(入力シート!M32=\"\",\"\",入力シート!M32)","v":""},{"$f":"IF(入力シート!N32=\"\",\"\",入力シート!P32)","v":""}]
[{"$f":"IF(入力シート!A33=\"\",\"\",入力シート!A33)","v":""},{"$f":"IF(入力シート!B33=\"\",\"\",入力シート!B33)","v":""},{"$f":"IF(入力シート!C33=\"\",\"\",TEXT(入力シート!C33,\"yyyy-mm-dd\"))","v":""},{"$f":"IF(入力シート!O33=\"\",\"\",TEXT(入力シート!O33,\"000-0000\"))","v":""},{"$f":"IF(入力シート!F33=\"\",\"\",入力シート!F33)","v":""},{"$f":"IF(入力シート!G33=\"\",\"\",入力シート!G33)","v":""},{"$f":"IF(入力シート!H33=\"\",\"\",入力シート!H33)","v":""},{"$f":"IF(入力シート!I33=\"\",\"\",入力シート!I33)","v":""},{"$f":"IF(入力シート!J33=\"\",\"\",入力シート!J33)","v":""},{"$f":"IF(入力シート!K33=\"\",\"\",入力シート!K33)","v":""},{"$f":"IF(入力シート!L33=\"\",\"\",入力シート!L33)","v":""},{"$f":"IF(入力シート!M33=\"\",\"\",入力シート!M33)","v":""},{"$f":"IF(入力シート!N33=\"\",\"\",入力シート!P33)","v":""}]
[{"$f":"IF(入力シート!A34=\"\",\"\",入力シート!A34)","v":""},{"$f":"IF(入力シート!B34=\"\",\"\",入力シート!B34)","v":""},{"$f":"IF(入力シート!C34=\"\",\"\",TEXT(入力シート!C34,\"yyyy-mm-dd\"))","v":""},{"$f":"IF(入力シート!O34=\"\",\"\",TEXT(入力シート!O34,\"000-0000\"))","v":""},{"$f":"IF(入力シート!F34=\"\",\"\",入力シート!F34)","v":""},{"$f":"IF(入力シート!G34=\"\",\"\",入力シート!G34)","v":""},{"$f":"IF(入力シート!H34=\"\",\"\",入力シート!H34)","v":""},{"$f":"IF(入力シート!I34=\"\",\"\",入力シート!I34)","v":""},{"$f":"IF(入力シート!J34=\"\",\"\",入力シート!J34)","v":""},{"$f":"IF(入力シート!K34=\"\",\"\",入力シート!K34)","v":""},{"$f":"IF(入力シート!L34=\"\",\"\",入力シート!L34)","v":""},{"$f":"IF(入力シート!M34=\"\",\"\",入力シート!M34)","v":""},{"$f":"IF(入力シート!N34=\"\",\"\",入力シート!P34)","v":""}]
[{"$f":"IF(入力シート!A35=\"\",\"\",入力シート!A35)","v":""},{"$f":"IF(入力シート!B35=\"\",\"\",入力シート!B35)","v":""},{"$f":"IF(入力シート!C35=\"\",\"\",TEXT(入力シート!C35,\"yyyy-mm-dd\"))","v":""},{"$f":"IF(入力シート!O35=\"\",\"\",TEXT(入力シート!O35,\"000-0000\"))","v":""},{"$f":"IF(入力シート!F35=\"\",\"\",入力シート!F35)","v":""},{"$f":"IF(入力シート!G35=\"\",\"\",入力シート!G35)","v":""},{"$f":"IF(入力シート!H35=\"\",\"\",入力シート!H35)","v":""},{"$f":"IF(入力シート!I35=\"\",\"\",入力シート!I35)","v":""},{"$f":"IF(入力シート!J35=\"\",\"\",入力シート!J35)","v":""},{"$f":"IF(入力シート!K35=\"\",\"\",入力シート!K35)","v":""},{"$f":"IF(入力シート!L35=\"\",\"\",入力シート!L35)","v":""},{"$f":"IF(入力シート!M35=\"\",\"\",入力シート!M35)","v":""},{"$f":"IF(入力シート!N35=\"\",\"\",入力シート!P35)","v":""}]
[{"$f":"IF(入力シート!A36=\"\",\"\",入力シート!A36)","v":""},{"$f":"IF(入力シート!B36=\"\",\"\",入力シート!B36)","v":""},{"$f":"IF(入力シート!C36=\"\",\"\",TEXT(入力シート!C36,\"yyyy-mm-dd\"))","v":""},{"$f":"IF(入力シート!O36=\"\",\"\",TEXT(入力シート!O36,\"000-0000\"))","v":""},{"$f":"IF(入力シート!F36=\"\",\"\",入力シート!F36)","v":""},{"$f":"IF(入力シート!G36=\"\",\"\",入力シート!G36)","v":""},{"$f":"IF(入力シート!H36=\"\",\"\",入力シート!H36)","v":""},{"$f":"IF(入力シート!I36=\"\",\"\",入力シート!I36)","v":""},{"$f":"IF(入力シート!J36=\"\",\"\",入力シート!J36)","v":""},{"$f":"IF(入力シート!K36=\"\",\"\",入力シート!K36)","v":""},{"$f":"IF(入力シート!L36=\"\",\"\",入力シート!L36)","v":""},{"$f":"IF(入力シート!M36=\"\",\"\",入力シート!M36)","v":""},{"$f":"IF(入力シート!N36=\"\",\"\",入力シート!P36)","v":""}]
[{"$f":"IF(入力シート!A37=\"\",\"\",入力シート!A37)","v":""},{"$f":"IF(入力シート!B37=\"\",\"\",入力シート!B37)","v":""},{"$f":"IF(入力シート!C37=\"\",\"\",TEXT(入力シート!C37,\"yyyy-mm-dd\"))","v":""},{"$f":"IF(入力シート!O37=\"\",\"\",TEXT(入力シート!O37,\"000-0000\"))","v":""},{"$f":"IF(入力シート!F37=\"\",\"\",入力シート!F37)","v":""},{"$f":"IF(入力シート!G37=\"\",\"\",入力シート!G37)","v":""},{"$f":"IF(入力シート!H37=\"\",\"\",入力シート!H37)","v":""},{"$f":"IF(入力シート!I37=\"\",\"\",入力シート!I37)","v":""},{"$f":"IF(入力シート!J37=\"\",\"\",入力シート!J37)","v":""},{"$f":"IF(入力シート!K37=\"\",\"\",入力シート!K37)","v":""},{"$f":"IF(入力シート!L37=\"\",\"\",入力シート!L37)","v":""},{"$f":"IF(入力シート!M37=\"\",\"\",入力シート!M37)","v":""},{"$f":"IF(入力シート!N37=\"\",\"\",入力シート!P37)","v":""}]
[{"$f":"IF(入力シート!A38=\"\",\"\",入力シート!A38)","v":""},{"$f":"IF(入力シート!B38=\"\",\"\",入力シート!B38)","v":""},{"$f":"IF(入力シート!C38=\"\",\"\",TEXT(入力シート!C38,\"yyyy-mm-dd\"))","v":""},{"$f":"IF(入力シート!O38=\"\",\"\",TEXT(入力シート!O38,\"000-0000\"))","v":""},{"$f":"IF(入力シート!F38=\"\",\"\",入力シート!F38)","v":""},{"$f":"IF(入力シート!G38=\"\",\"\",入力シート!G38)","v":""},{"$f":"IF(入力シート!H38=\"\",\"\",入力シート!H38)","v":""},{"$f":"IF(入力シート!I38=\"\",\"\",入力シート!I38)","v":""},{"$f":"IF(入力シート!J38=\"\",\"\",入力シート!J38)","v":""},{"$f":"IF(入力シート!K38=\"\",\"\",入力シート!K38)","v":""},{"$f":"IF(入力シート!L38=\"\",\"\",入力シート!L38)","v":""},{"$f":"IF(入力シート!M38=\"\",\"\",入力シート!M38)","v":""},{"$f":"IF(入力シート!N38=\"\",\"\",入力シート!P38)","v":""}]
[{"$f":"IF(入力シート!A39=\"\",\"\",入力シート!A39)","v":""},{"$f":"IF(入力シート!B39=\"\",\"\",入力シート!B39)","v":""},{"$f":"IF(入力シート!C39=\"\",\"\",TEXT(入力シート!C39,\"yyyy-mm-dd\"))","v":""},{"$f":"IF(入力シート!O39=\"\",\"\",TEXT(入力シート!O39,\"000-0000\"))","v":""},{"$f":"IF(入力シート!F39=\"\",\"\",入力シート!F39)","v":""},{"$f":"IF(入力シート!G39=\"\",\"\",入力シート!G39)","v":""},{"$f":"IF(入力シート!H39=\"\",\"\",入力シート!H39)","v":""},{"$f":"IF(入力シート!I39=\"\",\"\",入力シート!I39)","v":""},{"$f":"IF(入力シート!J39=\"\",\"\",入力シート!J39)","v":""},{"$f":"IF(入力シート!K39=\"\",\"\",入力シート!K39)","v":""},{"$f":"IF(入力シート!L39=\"\",\"\",入力シート!L39)","v":""},{"$f":"IF(入力シート!M39=\"\",\"\",入力シート!M39)","v":""},{"$f":"IF(入力シート!N39=\"\",\"\",入力シート!P39)","v":""}]
[{"$f":"IF(入力シート!A40=\"\",\"\",入力シート!A40)","v":""},{"$f":"IF(入力シート!B40=\"\",\"\",入力シート!B40)","v":""},{"$f":"IF(入力シート!C40=\"\",\"\",TEXT(入力シート!C40,\"yyyy-mm-dd\"))","v":""},{"$f":"IF(入力シート!O40=\"\",\"\",TEXT(入力シート!O40,\"000-0000\"))","v":""},{"$f":"IF(入力シート!F40=\"\",\"\",入力シート!F40)","v":""},{"$f":"IF(入力シート!G40=\"\",\"\",入力シート!G40)","v":""},{"$f":"IF(入力シート!H40=\"\",\"\",入力シート!H40)","v":""},{"$f":"IF(入力シート!I40=\"\",\"\",入力シート!I40)","v":""},{"$f":"IF(入力シート!J40=\"\",\"\",入力シート!J40)","v":""},{"$f":"IF(入力シート!K40=\"\",\"\",入力シート!K40)","v":""},{"$f":"IF(入力シート!L40=\"\",\"\",入力シート!L40)","v":""},{"$f":"IF(入力シート!M40=\"\",\"\",入力シート!M40)","v":""},{"$f":"IF(入力シート!N40=\"\",\"\",入力シート!P40)","v":""}]
[{"$f":"IF(入力シート!A41=\"\",\"\",入力シート!A41)","v":""},{"$f":"IF(入力シート!B41=\"\",\"\",入力シート!B41)","v":""},{"$f":"IF(入力シート!C41=\"\",\"\",TEXT(入力シート!C41,\"yyyy-mm-dd\"))","v":""},{"$f":"IF(入力シート!O41=\"\",\"\",TEXT(入力シート!O41,\"000-0000\"))","v":""},{"$f":"IF(入力シート!F41=\"\",\"\",入力シート!F41)","v":""},{"$f":"IF(入力シート!G41=\"\",\"\",入力シート!G41)","v":""},{"$f":"IF(入力シート!H41=\"\",\"\",入力シート!H41)","v":""},{"$f":"IF(入力シート!I41=\"\",\"\",入力シート!I41)","v":""},{"$f":"IF(入力シート!J41=\"\",\"\",入力シート!J41)","v":""},{"$f":"IF(入力シート!K41=\"\",\"\",入力シート!K41)","v":""},{"$f":"IF(入力シート!L41=\"\",\"\",入力シート!L41)","v":""},{"$f":"IF(入力シート!M41=\"\",\"\",入力シート!M41)","v":""},{"$f":"IF(入力シート!N41=\"\",\"\",入力シート!P41)","v":""}]
[{"$f":"IF(入力シート!A42=\"\",\"\",入力シート!A42)","v":""},{"$f":"IF(入力シート!B42=\"\",\"\",入力シート!B42)","v":""},{"$f":"IF(入力シート!C42=\"\",\"\",TEXT(入力シート!C42,\"yyyy-mm-dd\"))","v":""},{"$f":"IF(入力シート!O42=\"\",\"\",TEXT(入力シート!O42,\"000-0000\"))","v":""},{"$f":"IF(入力シート!F42=\"\",\"\",入力シート!F42)","v":""},{"$f":"IF(入力シート!G42=\"\",\"\",入力シート!G42)","v":""},{"$f":"IF(入力シート!H42=\"\",\"\",入力シート!H42)","v":""},{"$f":"IF(入力シート!I42=\"\",\"\",入力シート!I42)","v":""},{"$f":"IF(入力シート!J42=\"\",\"\",入力シート!J42)","v":""},{"$f":"IF(入力シート!K42=\"\",\"\",入力シート!K42)","v":""},{"$f":"IF(入力シート!L42=\"\",\"\",入力シート!L42)","v":""},{"$f":"IF(入力シート!M42=\"\",\"\",入力シート!M42)","v":""},{"$f":"IF(入力シート!N42=\"\",\"\",入力シート!P42)","v":""}]
[{"$f":"IF(入力シート!A43=\"\",\"\",入力シート!A43)","v":""},{"$f":"IF(入力シート!B43=\"\",\"\",入力シート!B43)","v":""},{"$f":"IF(入力シート!C43=\"\",\"\",TEXT(入力シート!C43,\"yyyy-mm-dd\"))","v":""},{"$f":"IF(入力シート!O43=\"\",\"\",TEXT(入力シート!O43,\"000-0000\"))","v":""},{"$f":"IF(入力シート!F43=\"\",\"\",入力シート!F43)","v":""},{"$f":"IF(入力シート!G43=\"\",\"\",入力シート!G43)","v":""},{"$f":"IF(入力シート!H43=\"\",\"\",入力シート!H43)","v":""},{"$f":"IF(入力シート!I43=\"\",\"\",入力シート!I43)","v":""},{"$f":"IF(入力シート!J43=\"\",\"\",入力シート!J43)","v":""},{"$f":"IF(入力シート!K43=\"\",\"\",入力シート!K43)","v":""},{"$f":"IF(入力シート!L43=\"\",\"\",入力シート!L43)","v":""},{"$f":"IF(入力シート!M43=\"\",\"\",入力シート!M43)","v":""},{"$f":"IF(入力シート!N43=\"\",\"\",入力シート!P43)","v":""}]
[{"$f":"IF(入力シート!A44=\"\",\"\",入力シート!A44)","v":""},{"$f":"IF(入力シート!B44=\"\",\"\",入力シート!B44)","v":""},{"$f":"IF(入力シート!C44=\"\",\"\",TEXT(入力シート!C44,\"yyyy-mm-dd\"))","v":""},{"$f":"IF(入力シート!O44=\"\",\"\",TEXT(入力シート!O44,\"000-0000\"))","v":""},{"$f":"IF(入力シート!F44=\"\",\"\",入力シート!F44)","v":""},{"$f":"IF(入力シート!G44=\"\",\"\",入力シート!G44)","v":""},{"$f":"IF(入力シート!H44=\"\",\"\",入力シート!H44)","v":""},{"$f":"IF(入力シート!I44=\"\",\"\",入力シート!I44)","v":""},{"$f":"IF(入力シート!J44=\"\",\"\",入力シート!J44)","v":""},{"$f":"IF(入力シート!K44=\"\",\"\",入力シート!K44)","v":""},{"$f":"IF(入力シート!L44=\"\",\"\",入力シート!L44)","v":""},{"$f":"IF(入力シート!M44=\"\",\"\",入力シート!M44)","v":""},{"$f":"IF(入力シート!N44=\"\",\"\",入力シート!P44)","v":""}]
[{"$f":"IF(入力シート!A45=\"\",\"\",入力シート!A45)","v":""},{"$f":"IF(入力シート!B45=\"\",\"\",入力シート!B45)","v":""},{"$f":"IF(入力シート!C45=\"\",\"\",TEXT(入力シート!C45,\"yyyy-mm-dd\"))","v":""},{"$f":"IF(入力シート!O45=\"\",\"\",TEXT(入力シート!O45,\"000-0000\"))","v":""},{"$f":"IF(入力シート!F45=\"\",\"\",入力シート!F45)","v":""},{"$f":"IF(入力シート!G45=\"\",\"\",入力シート!G45)","v":""},{"$f":"IF(入力シート!H45=\"\",\"\",入力シート!H45)","v":""},{"$f":"IF(入力シート!I45=\"\",\"\",入力シート!I45)","v":""},{"$f":"IF(入力シート!J45=\"\",\"\",入力シート!J45)","v":""},{"$f":"IF(入力シート!K45=\"\",\"\",入力シート!K45)","v":""},{"$f":"IF(入力シート!L45=\"\",\"\",入力シート!L45)","v":""},{"$f":"IF(入力シート!M45=\"\",\"\",入力シート!M45)","v":""},{"$f":"IF(入力シート!N45=\"\",\"\",入力シート!P45)","v":""}]
[{"$f":"IF(入力シート!A46=\"\",\"\",入力シート!A46)","v":""},{"$f":"IF(入力シート!B46=\"\",\"\",入力シート!B46)","v":""},{"$f":"IF(入力シート!C46=\"\",\"\",TEXT(入力シート!C46,\"yyyy-mm-dd\"))","v":""},{"$f":"IF(入力シート!O46=\"\",\"\",TEXT(入力シート!O46,\"000-0000\"))","v":""},{"$f":"IF(入力シート!F46=\"\",\"\",入力シート!F46)","v":""},{"$f":"IF(入力シート!G46=\"\",\"\",入力シート!G46)","v":""},{"$f":"IF(入力シート!H46=\"\",\"\",入力シート!H46)","v":""},{"$f":"IF(入力シート!I46=\"\",\"\",入力シート!I46)","v":""},{"$f":"IF(入力シート!J46=\"\",\"\",入力シート!J46)","v":""},{"$f":"IF(入力シート!K46=\"\",\"\",入力シート!K46)","v":""},{"$f":"IF(入力シート!L46=\"\",\"\",入力シート!L46)","v":""},{"$f":"IF(入力シート!M46=\"\",\"\",入力シート!M46)","v":""},{"$f":"IF(入力シート!N46=\"\",\"\",入力シート!P46)","v":""}]
[{"$f":"IF(入力シート!A47=\"\",\"\",入力シート!A47)","v":""},{"$f":"IF(入力シート!B47=\"\",\"\",入力シート!B47)","v":""},{"$f":"IF(入力シート!C47=\"\",\"\",TEXT(入力シート!C47,\"yyyy-mm-dd\"))","v":""},{"$f":"IF(入力シート!O47=\"\",\"\",TEXT(入力シート!O47,\"000-0000\"))","v":""},{"$f":"IF(入力シート!F47=\"\",\"\",入力シート!F47)","v":""},{"$f":"IF(入力シート!G47=\"\",\"\",入力シート!G47)","v":""},{"$f":"IF(入力シート!H47=\"\",\"\",入力シート!H47)","v":""},{"$f":"IF(入力シート!I47=\"\",\"\",入力シート!I47)","v":""},{"$f":"IF(入力シート!J47=\"\",\"\",入力シート!J47)","v":""},{"$f":"IF(入力シート!K47=\"\",\"\",入力シート!K47)","v":""},{"$f":"IF(入力シート!L47=\"\",\"\",入力シート!L47)","v":""},{"$f":"IF(入力シート!M47=\"\",\"\",入力シート!M47)","v":""},{"$f":"IF(入力シート!N47=\"\",\"\",入力シート!P47)","v":""}]
[{"$f":"IF(入力シート!A48=\"\",\"\",入力シート!A48)","v":""},{"$f":"IF(入力シート!B48=\"\",\"\",入力シート!B48)","v":""},{"$f":"IF(入力シート!C48=\"\",\"\",TEXT(入力シート!C48,\"yyyy-mm-dd\"))","v":""},{"$f":"IF(入力シート!O48=\"\",\"\",TEXT(入力シート!O48,\"000-0000\"))","v":""},{"$f":"IF(入力シート!F48=\"\",\"\",入力シート!F48)","v":""},{"$f":"IF(入力シート!G48=\"\",\"\",入力シート!G48)","v":""},{"$f":"IF(入力シート!H48=\"\",\"\",入力シート!H48)","v":""},{"$f":"IF(入力シート!I48=\"\",\"\",入力シート!I48)","v":""},{"$f":"IF(入力シート!J48=\"\",\"\",入力シート!J48)","v":""},{"$f":"IF(入力シート!K48=\"\",\"\",入力シート!K48)","v":""},{"$f":"IF(入力シート!L48=\"\",\"\",入力シート!L48)","v":""},{"$f":"IF(入力シート!M48=\"\",\"\",入力シート!M48)","v":""},{"$f":"IF(入力シート!N48=\"\",\"\",入力シート!P48)","v":""}]
[{"$f":"IF(入力シート!A49=\"\",\"\",入力シート!A49)","v":""},{"$f":"IF(入力シート!B49=\"\",\"\",入力シート!B49)","v":""},{"$f":"IF(入力シート!C49=\"\",\"\",TEXT(入力シート!C49,\"yyyy-mm-dd\"))","v":""},{"$f":"IF(入力シート!O49=\"\",\"\",TEXT(入力シート!O49,\"000-0000\"))","v":""},{"$f":"IF(入力シート!F49=\"\",\"\",入力シート!F49)","v":""},{"$f":"IF(入力シート!G49=\"\",\"\",入力シート!G49)","v":""},{"$f":"IF(入力シート!H49=\"\",\"\",入力シート!H49)","v":""},{"$f":"IF(入力シート!I49=\"\",\"\",入力シート!I49)","v":""},{"$f":"IF(入力シート!J49=\"\",\"\",入力シート!J49)","v":""},{"$f":"IF(入力シート!K49=\"\",\"\",入力シート!K49)","v":""},{"$f":"IF(入力シート!L49=\"\",\"\",入力シート!L49)","v":""},{"$f":"IF(入力シート!M49=\"\",\"\",入力シート!M49)","v":""},{"$f":"IF(入力シート!N49=\"\",\"\",入力シート!P49)","v":""}]
[{"$f":"IF(入力シート!A50=\"\",\"\",入力シート!A50)","v":""},{"$f":"IF(入力シート!B50=\"\",\"\",入力シート!B50)","v":""},{"$f":"IF(入力シート!C50=\"\",\"\",TEXT(入力シート!C50,\"yyyy-mm-dd\"))","v":""},{"$f":"IF(入力シート!O50=\"\",\"\",TEXT(入力シート!O50,\"000-0000\"))","v":""},{"$f":"IF(入力シート!F50=\"\",\"\",入力シート!F50)","v":""},{"$f":"IF(入力シート!G50=\"\",\"\",入力シート!G50)","v":""},{"$f":"IF(入力シート!H50=\"\",\"\",入力シート!H50)","v":""},{"$f":"IF(入力シート!I50=\"\",\"\",入力シート!I50)","v":""},{"$f":"IF(入力シート!J50=\"\",\"\",入力シート!J50)","v":""},{"$f":"IF(入力シート!K50=\"\",\"\",入力シート!K50)","v":""},{"$f":"IF(入力シート!L50=\"\",\"\",入力シート!L50)","v":""},{"$f":"IF(入力シート!M50=\"\",\"\",入力シート!M50)","v":""},{"$f":"IF(入力シート!N50=\"\",\"\",入力シート!P50)","v":""}]
[{"$f":"IF(入力シート!A51=\"\",\"\",入力シート!A51)","v":""},{"$f":"IF(入力シート!B51=\"\",\"\",入力シート!B51)","v":""},{"$f":"IF(入力シート!C51=\"\",\"\",TEXT(入力シート!C51,\"yyyy-mm-dd\"))","v":""},{"$f":"IF(入力シート!O51=\"\",\"\",TEXT(入力シート!O51,\"000-0000\"))","v":""},{"$f":"IF(入力シート!F51=\"\",\"\",入力シート!F51)","v":""},{"$f":"IF(入力シート!G51=\"\",\"\",入力シート!G51)","v":""},{"$f":"IF(入力シート!H51=\"\",\"\",入力シート!H51)","v":""},{"$f":"IF(入力シート!I51=\"\",\"\",入力シート!I51)","v":""},{"$f":"IF(入力シート!J51=\"\",\"\",入力シート!J51)","v":""},{"$f":"IF(入力シート!K51=\"\",\"\",入力シート!K51)","v":""},{"$f":"IF(入力シート!L51=\"\",\"\",入力シート!L51)","v":""},{"$f":"IF(入力シート!M51=\"\",\"\",入力シート!M51)","v":""},{"$f":"IF(入力シート!N51=\"\",\"\",入力シート!P51)","v":""}]
[{"$f":"IF(入力シート!A52=\"\",\"\",入力シート!A52)","v":""},{"$f":"IF(入力シート!B52=\"\",\"\",入力シート!B52)","v":""},{"$f":"IF(入力シート!C52=\"\",\"\",TEXT(入力シート!C52,\"yyyy-mm-dd\"))","v":""},{"$f":"IF(入力シート!O52=\"\",\"\",TEXT(入力シート!O52,\"000-0000\"))","v":""},{"$f":"IF(入力シート!F52=\"\",\"\",入力シート!F52)","v":""},{"$f":"IF(入力シート!G52=\"\",\"\",入力シート!G52)","v":""},{"$f":"IF(入力シート!H52=\"\",\"\",入力シート!H52)","v":""},{"$f":"IF(入力シート!I52=\"\",\"\",入力シート!I52)","v":""},{"$f":"IF(入力シート!J52=\"\",\"\",入力シート!J52)","v":""},{"$f":"IF(入力シート!K52=\"\",\"\",入力シート!K52)","v":""},{"$f":"IF(入力シート!L52=\"\",\"\",入力シート!L52)","v":""},{"$f":"IF(入力シート!M52=\"\",\"\",入力シート!M52)","v":""},{"$f":"IF(入力シート!N52=\"\",\"\",入力シート!P52)","v":""}]
[{"$f":"IF(入力シート!A53=\"\",\"\",入力シート!A53)","v":""},{"$f":"IF(入力シート!B53=\"\",\"\",入力シート!B53)","v":""},{"$f":"IF(入力シート!C53=\"\",\"\",TEXT(入力シート!C53,\"yyyy-mm-dd\"))","v":""},{"$f":"IF(入力シート!O53=\"\",\"\",TEXT(入力シート!O53,\"000-0000\"))","v":""},{"$f":"IF(入力シート!F53=\"\",\"\",入力シート!F53)","v":""},{"$f":"IF(入力シート!G53=\"\",\"\",入力シート!G53)","v":""},{"$f":"IF(入力シート!H53=\"\",\"\",入力シート!H53)","v":""},{"$f":"IF(入力シート!I53=\"\",\"\",入力シート!I53)","v":""},{"$f":"IF(入力シート!J53=\"\",\"\",入力シート!J53)","v":""},{"$f":"IF(入力シート!K53=\"\",\"\",入力シート!K53)","v":""},{"$f":"IF(入力シート!L53=\"\",\"\",入力シート!L53)","v":""},{"$f":"IF(入力シート!M53=\"\",\"\",入力シート!M53)","v":""},{"$f":"IF(入力シート!N53=\"\",\"\",入力シート!P53)","v":""}]
[{"$f":"IF(入力シート!A54=\"\",\"\",入力シート!A54)","v":""},{"$f":"IF(入力シート!B54=\"\",\"\",入力シート!B54)","v":""},{"$f":"IF(入力シート!C54=\"\",\"\",TEXT(入力シート!C54,\"yyyy-mm-dd\"))","v":""},{"$f":"IF(入力シート!O54=\"\",\"\",TEXT(入力シート!O54,\"000-0000\"))","v":""},{"$f":"IF(入力シート!F54=\"\",\"\",入力シート!F54)","v":""},{"$f":"IF(入力シート!G54=\"\",\"\",入力シート!G54)","v":""},{"$f":"IF(入力シート!H54=\"\",\"\",入力シート!H54)","v":""},{"$f":"IF(入力シート!I54=\"\",\"\",入力シート!I54)","v":""},{"$f":"IF(入力シート!J54=\"\",\"\",入力シート!J54)","v":""},{"$f":"IF(入力シート!K54=\"\",\"\",入力シート!K54)","v":""},{"$f":"IF(入力シート!L54=\"\",\"\",入力シート!L54)","v":""},{"$f":"IF(入力シート!M54=\"\",\"\",入力シート!M54)","v":""},{"$f":"IF(入力シート!N54=\"\",\"\",入力シート!P54)","v":""}]
[{"$f":"IF(入力シート!A55=\"\",\"\",入力シート!A55)","v":""},{"$f":"IF(入力シート!B55=\"\",\"\",入力シート!B55)","v":""},{"$f":"IF(入力シート!C55=\"\",\"\",TEXT(入力シート!C55,\"yyyy-mm-dd\"))","v":""},{"$f":"IF(入力シート!O55=\"\",\"\",TEXT(入力シート!O55,\"000-0000\"))","v":""},{"$f":"IF(入力シート!F55=\"\",\"\",入力シート!F55)","v":""},{"$f":"IF(入力シート!G55=\"\",\"\",入力シート!G55)","v":""},{"$f":"IF(入力シート!H55=\"\",\"\",入力シート!H55)","v":""},{"$f":"IF(入力シート!I55=\"\",\"\",入力シート!I55)","v":""},{"$f":"IF(入力シート!J55=\"\",\"\",入力シート!J55)","v":""},{"$f":"IF(入力シート!K55=\"\",\"\",入力シート!K55)","v":""},{"$f":"IF(入力シート!L55=\"\",\"\",入力シート!L55)","v":""},{"$f":"IF(入力シート!M55=\"\",\"\",入力シート!M55)","v":""},{"$f":"IF(入力シート!N55=\"\",\"\",入力シート!P55)","v":""}]
[{"$f":"IF(入力シート!A56=\"\",\"\",入力シート!A56)","v":""},{"$f":"IF(入力シート!B56=\"\",\"\",入力シート!B56)","v":""},{"$f":"IF(入力シート!C56=\"\",\"\",TEXT(入力シート!C56,\"yyyy-mm-dd\"))","v":""},{"$f":"IF(入力シート!O56=\"\",\"\",TEXT(入力シート!O56,\"000-0000\"))","v":""},{"$f":"IF(入力シート!F56=\"\",\"\",入力シート!F56)","v":""},{"$f":"IF(入力シート!G56=\"\",\"\",入力シート!G56)","v":""},{"$f":"IF(入力シート!H56=\"\",\"\",入力シート!H56)","v":""},{"$f":"IF(入力シート!I56=\"\",\"\",入力シート!I56)","v":""},{"$f":"IF(入力シート!J56=\"\",\"\",入力シート!J56)","v":""},{"$f":"IF(入力シート!K56=\"\",\"\",入力シート!K56)","v":""},{"$f":"IF(入力シート!L56=\"\",\"\",入力シート!L56)","v":""},{"$f":"IF(入力シート!M56=\"\",\"\",入力シート!M56)","v":""},{"$f":"IF(入力シート!N56=\"\",\"\",入力シート!P56)","v":""}]
[{"$f":"IF(入力シート!A57=\"\",\"\",入力シート!A57)","v":""},{"$f":"IF(入力シート!B57=\"\",\"\",入力シート!B57)","v":""},{"$f":"IF(入力シート!C57=\"\",\"\",TEXT(入力シート!C57,\"yyyy-mm-dd\"))","v":""},{"$f":"IF(入力シート!O57=\"\",\"\",TEXT(入力シート!O57,\"000-0000\"))","v":""},{"$f":"IF(入力シート!F57=\"\",\"\",入力シート!F57)","v":""},{"$f":"IF(入力シート!G57=\"\",\"\",入力シート!G57)","v":""},{"$f":"IF(入力シート!H57=\"\",\"\",入力シート!H57)","v":""},{"$f":"IF(入力シート!I57=\"\",\"\",入力シート!I57)","v":""},{"$f":"IF(入力シート!J57=\"\",\"\",入力シート!J57)","v":""},{"$f":"IF(入力シート!K57=\"\",\"\",入力シート!K57)","v":""},{"$f":"IF(入力シート!L57=\"\",\"\",入力シート!L57)","v":""},{"$f":"IF(入力シート!M57=\"\",\"\",入力シート!M57)","v":""},{"$f":"IF(入力シート!N57=\"\",\"\",入力シート!P57)","v":""}]
[{"$f":"IF(入力シート!A58=\"\",\"\",入力シート!A58)","v":""},{"$f":"IF(入力シート!B58=\"\",\"\",入力シート!B58)","v":""},{"$f":"IF(入力シート!C58=\"\",\"\",TEXT(入力シート!C58,\"yyyy-mm-dd\"))","v":""},{"$f":"IF(入力シート!O58=\"\",\"\",TEXT(入力シート!O58,\"000-0000\"))","v":""},{"$f":"IF(入力シート!F58=\"\",\"\",入力シート!F58)","v":""},{"$f":"IF(入力シート!G58=\"\",\"\",入力シート!G58)","v":""},{"$f":"IF(入力シート!H58=\"\",\"\",入力シート!H58)","v":""},{"$f":"IF(入力シート!I58=\"\",\"\",入力シート!I58)","v":""},{"$f":"IF(入力シート!J58=\"\",\"\",入力シート!J58)","v":""},{"$f":"IF(入力シート!K58=\"\",\"\",入力シート!K58)","v":""},{"$f":"IF(入力シート!L58=\"\",\"\",入力シート!L58)","v":""},{"$f":"IF(入力シート!M58=\"\",\"\",入力シート!M58)","v":""},{"$f":"IF(入力シート!N58=\"\",\"\",入力シート!P58)","v":""}]
[{"$f":"IF(入力シート!A59=\"\",\"\",入力シート!A59)","v":""},{"$f":"IF(入力シート!B59=\"\",\"\",入力シート!B59)","v":""},{"$f":"IF(入力シート!C59=\"\",\"\",TEXT(入力シート!C59,\"yyyy-mm-dd\"))","v":""},{"$f":"IF(入力シート!O59=\"\",\"\",TEXT(入力シート!O59,\"000-0000\"))","v":""},{"$f":"IF(入力シート!F59=\"\",\"\",入力シート!F59)","v":""},{"$f":"IF(入力シート!G59=\"\",\"\",入力シート!G59)","v":""},{"$f":"IF(入力シート!H59=\"\",\"\",入力シート!H59)","v":""},{"$f":"IF(入力シート!I59=\"\",\"\",入力シート!I59)","v":""},{"$f":"IF(入力シート!J59=\"\",\"\",入力シート!J59)","v":""},{"$f":"IF(入力シート!K59=\"\",\"\",入力シート!K59)","v":""},{"$f":"IF(入力シート!L59=\"\",\"\",入力シート!L59)","v":""},{"$f":"IF(入力シート!M59=\"\",\"\",入力シート!M59)","v":""},{"$f":"IF(入力シート!N59=\"\",\"\",入力シート!P59)","v":""}]
[{"$f":"IF(入力シート!A60=\"\",\"\",入力シート!A60)","v":""},{"$f":"IF(入力シート!B60=\"\",\"\",入力シート!B60)","v":""},{"$f":"IF(入力シート!C60=\"\",\"\",TEXT(入力シート!C60,\"yyyy-mm-dd\"))","v":""},{"$f":"IF(入力シート!O60=\"\",\"\",TEXT(入力シート!O60,\"000-0000\"))","v":""},{"$f":"IF(入力シート!F60=\"\",\"\",入力シート!F60)","v":""},{"$f":"IF(入力シート!G60=\"\",\"\",入力シート!G60)","v":""},{"$f":"IF(入力シート!H60=\"\",\"\",入力シート!H60)","v":""},{"$f":"IF(入力シート!I60=\"\",\"\",入力シート!I60)","v":""},{"$f":"IF(入力シート!J60=\"\",\"\",入力シート!J60)","v":""},{"$f":"IF(入力シート!K60=\"\",\"\",入力シート!K60)","v":""},{"$f":"IF(入力シート!L60=\"\",\"\",入力シート!L60)","v":""},{"$f":"IF(入力シート!M60=\"\",\"\",入力シート!M60)","v":""},{"$f":"IF(入力シート!N60=\"\",\"\",入力シート!P60)","v":""}]
[{"$f":"IF(入力シート!A61=\"\",\"\",入力シート!A61)","v":""},{"$f":"IF(入力シート!B61=\"\",\"\",入力シート!B61)","v":""},{"$f":"IF(入力シート!C61=\"\",\"\",TEXT(入力シート!C61,\"yyyy-mm-dd\"))","v":""},{"$f":"IF(入力シート!O61=\"\",\"\",TEXT(入力シート!O61,\"000-0000\"))","v":""},{"$f":"IF(入力シート!F61=\"\",\"\",入力シート!F61)","v":""},{"$f":"IF(入力シート!G61=\"\",\"\",入力シート!G61)","v":""},{"$f":"IF(入力シート!H61=\"\",\"\",入力シート!H61)","v":""},{"$f":"IF(入力シート!I61=\"\",\"\",入力シート!I61)","v":""},{"$f":"IF(入力シート!J61=\"\",\"\",入力シート!J61)","v":""},{"$f":"IF(入力シート!K61=\"\",\"\",入力シート!K61)","v":""},{"$f":"IF(入力シート!L61=\"\",\"\",入力シート!L61)","v":""},{"$f":"IF(入力シート!M61=\"\",\"\",入力シート!M61)","v":""},{"$f":"IF(入力シート!N61=\"\",\"\",入力シート!P61)","v":""}]
[{"$f":"IF(入力シート!A62=\"\",\"\",入力シート!A62)","v":""},{"$f":"IF(入力シート!B62=\"\",\"\",入力シート!B62)","v":""},{"$f":"IF(入力シート!C62=\"\",\"\",TEXT(入力シート!C62,\"yyyy-mm-dd\"))","v":""},{"$f":"IF(入力シート!O62=\"\",\"\",TEXT(入力シート!O62,\"000-0000\"))","v":""},{"$f":"IF(入力シート!F62=\"\",\"\",入力シート!F62)","v":""},{"$f":"IF(入力シート!G62=\"\",\"\",入力シート!G62)","v":""},{"$f":"IF(入力シート!H62=\"\",\"\",入力シート!H62)","v":""},{"$f":"IF(入力シート!I62=\"\",\"\",入力シート!I62)","v":""},{"$f":"IF(入力シート!J62=\"\",\"\",入力シート!J62)","v":""},{"$f":"IF(入力シート!K62=\"\",\"\",入力シート!K62)","v":""},{"$f":"IF(入力シート!L62=\"\",\"\",入力シート!L62)","v":""},{"$f":"IF(入力シート!M62=\"\",\"\",入力シート!M62)","v":""},{"$f":"IF(入力シート!N62=\"\",\"\",入力シート!P62)","v":""}]
[{"$f":"IF(入力シート!A63=\"\",\"\",入力シート!A63)","v":""},{"$f":"IF(入力シート!B63=\"\",\"\",入力シート!B63)","v":""},{"$f":"IF(入力シート!C63=\"\",\"\",TEXT(入力シート!C63,\"yyyy-mm-dd\"))","v":""},{"$f":"IF(入力シート!O63=\"\",\"\",TEXT(入力シート!O63,\"000-0000\"))","v":""},{"$f":"IF(入力シート!F63=\"\",\"\",入力シート!F63)","v":""},{"$f":"IF(入力シート!G63=\"\",\"\",入力シート!G63)","v":""},{"$f":"IF(入力シート!H63=\"\",\"\",入力シート!H63)","v":""},{"$f":"IF(入力シート!I63=\"\",\"\",入力シート!I63)","v":""},{"$f":"IF(入力シート!J63=\"\",\"\",入力シート!J63)","v":""},{"$f":"IF(入力シート!K63=\"\",\"\",入力シート!K63)","v":""},{"$f":"IF(入力シート!L63=\"\",\"\",入力シート!L63)","v":""},{"$f":"IF(入力シート!M63=\"\",\"\",入力シート!M63)","v":""},{"$f":"IF(入力シート!N63=\"\",\"\",入力シート!P63)","v":""}]
[{"$f":"IF(入力シート!A64=\"\",\"\",入力シート!A64)","v":""},{"$f":"IF(入力シート!B64=\"\",\"\",入力シート!B64)","v":""},{"$f":"IF(入力シート!C64=\"\",\"\",TEXT(入力シート!C64,\"yyyy-mm-dd\"))","v":""},{"$f":"IF(入力シート!O64=\"\",\"\",TEXT(入力シート!O64,\"000-0000\"))","v":""},{"$f":"IF(入力シート!F64=\"\",\"\",入力シート!F64)","v":""},{"$f":"IF(入力シート!G64=\"\",\"\",入力シート!G64)","v":""},{"$f":"IF(入力シート!H64=\"\",\"\",入力シート!H64)","v":""},{"$f":"IF(入力シート!I64=\"\",\"\",入力シート!I64)","v":""},{"$f":"IF(入力シート!J64=\"\",\"\",入力シート!J64)","v":""},{"$f":"IF(入力シート!K64=\"\",\"\",入力シート!K64)","v":""},{"$f":"IF(入力シート!L64=\"\",\"\",入力シート!L64)","v":""},{"$f":"IF(入力シート!M64=\"\",\"\",入力シート!M64)","v":""},{"$f":"IF(入力シート!N64=\"\",\"\",入力シート!P64)","v":""}]
[{"$f":"IF(入力シート!A65=\"\",\"\",入力シート!A65)","v":""},{"$f":"IF(入力シート!B65=\"\",\"\",入力シート!B65)","v":""},{"$f":"IF(入力シート!C65=\"\",\"\",TEXT(入力シート!C65,\"yyyy-mm-dd\"))","v":""},{"$f":"IF(入力シート!O65=\"\",\"\",TEXT(入力シート!O65,\"000-0000\"))","v":""},{"$f":"IF(入力シート!F65=\"\",\"\",入力シート!F65)","v":""},{"$f":"IF(入力シート!G65=\"\",\"\",入力シート!G65)","v":""},{"$f":"IF(入力シート!H65=\"\",\"\",入力シート!H65)","v":""},{"$f":"IF(入力シート!I65=\"\",\"\",入力シート!I65)","v":""},{"$f":"IF(入力シート!J65=\"\",\"\",入力シート!J65)","v":""},{"$f":"IF(入力シート!K65=\"\",\"\",入力シート!K65)","v":""},{"$f":"IF(入力シート!L65=\"\",\"\",入力シート!L65)","v":""},{"$f":"IF(入力シート!M65=\"\",\"\",入力シート!M65)","v":""},{"$f":"IF(入力シート!N65=\"\",\"\",入力シート!P65)","v":""}]
[{"$f":"IF(入力シート!A66=\"\",\"\",入力シート!A66)","v":""},{"$f":"IF(入力シート!B66=\"\",\"\",入力シート!B66)","v":""},{"$f":"IF(入力シート!C66=\"\",\"\",TEXT(入力シート!C66,\"yyyy-mm-dd\"))","v":""},{"$f":"IF(入力シート!O66=\"\",\"\",TEXT(入力シート!O66,\"000-0000\"))","v":""},{"$f":"IF(入力シート!F66=\"\",\"\",入力シート!F66)","v":""},{"$f":"IF(入力シート!G66=\"\",\"\",入力シート!G66)","v":""},{"$f":"IF(入力シート!H66=\"\",\"\",入力シート!H66)","v":""},{"$f":"IF(入力シート!I66=\"\",\"\",入力シート!I66)","v":""},{"$f":"IF(入力シート!J66=\"\",\"\",入力シート!J66)","v":""},{"$f":"IF(入力シート!K66=\"\",\"\",入力シート!K66)","v":""},{"$f":"IF(入力シート!L66=\"\",\"\",入力シート!L66)","v":""},{"$f":"IF(入力シート!M66=\"\",\"\",入力シート!M66)","v":""},{"$f":"IF(入力シート!N66=\"\",\"\",入力シート!P66)","v":""}]
[{"$f":"IF(入力シート!A67=\"\",\"\",入力シート!A67)","v":""},{"$f":"IF(入力シート!B67=\"\",\"\",入力シート!B67)","v":""},{"$f":"IF(入力シート!C67=\"\",\"\",TEXT(入力シート!C67,\"yyyy-mm-dd\"))","v":""},{"$f":"IF(入力シート!O67=\"\",\"\",TEXT(入力シート!O67,\"000-0000\"))","v":""},{"$f":"IF(入力シート!F67=\"\",\"\",入力シート!F67)","v":""},{"$f":"IF(入力シート!G67=\"\",\"\",入力シート!G67)","v":""},{"$f":"IF(入力シート!H67=\"\",\"\",入力シート!H67)","v":""},{"$f":"IF(入力シート!I67=\"\",\"\",入力シート!I67)","v":""},{"$f":"IF(入力シート!J67=\"\",\"\",入力シート!J67)","v":""},{"$f":"IF(入力シート!K67=\"\",\"\",入力シート!K67)","v":""},{"$f":"IF(入力シート!L67=\"\",\"\",入力シート!L67)","v":""},{"$f":"IF(入力シート!M67=\"\",\"\",入力シート!M67)","v":""},{"$f":"IF(入力シート!N67=\"\",\"\",入力シート!P67)","v":""}]
[{"$f":"IF(入力シート!A68=\"\",\"\",入力シート!A68)","v":""},{"$f":"IF(入力シート!B68=\"\",\"\",入力シート!B68)","v":""},{"$f":"IF(入力シート!C68=\"\",\"\",TEXT(入力シート!C68,\"yyyy-mm-dd\"))","v":""},{"$f":"IF(入力シート!O68=\"\",\"\",TEXT(入力シート!O68,\"000-0000\"))","v":""},{"$f":"IF(入力シート!F68=\"\",\"\",入力シート!F68)","v":""},{"$f":"IF(入力シート!G68=\"\",\"\",入力シート!G68)","v":""},{"$f":"IF(入力シート!H68=\"\",\"\",入力シート!H68)","v":""},{"$f":"IF(入力シート!I68=\"\",\"\",入力シート!I68)","v":""},{"$f":"IF(入力シート!J68=\"\",\"\",入力シート!J68)","v":""},{"$f":"IF(入力シート!K68=\"\",\"\",入力シート!K68)","v":""},{"$f":"IF(入力シート!L68=\"\",\"\",入力シート!L68)","v":""},{"$f":"IF(入力シート!M68=\"\",\"\",入力シート!M68)","v":""},{"$f":"IF(入力シート!N68=\"\",\"\",入力シート!P68)","v":""}]
[{"$f":"IF(入力シート!A69=\"\",\"\",入力シート!A69)","v":""},{"$f":"IF(入力シート!B69=\"\",\"\",入力シート!B69)","v":""},{"$f":"IF(入力シート!C69=\"\",\"\",TEXT(入力シート!C69,\"yyyy-mm-dd\"))","v":""},{"$f":"IF(入力シート!O69=\"\",\"\",TEXT(入力シート!O69,\"000-0000\"))","v":""},{"$f":"IF(入力シート!F69=\"\",\"\",入力シート!F69)","v":""},{"$f":"IF(入力シート!G69=\"\",\"\",入力シート!G69)","v":""},{"$f":"IF(入力シート!H69=\"\",\"\",入力シート!H69)","v":""},{"$f":"IF(入力シート!I69=\"\",\"\",入力シート!I69)","v":""},{"$f":"IF(入力シート!J69=\"\",\"\",入力シート!J69)","v":""},{"$f":"IF(入力シート!K69=\"\",\"\",入力シート!K69)","v":""},{"$f":"IF(入力シート!L69=\"\",\"\",入力シート!L69)","v":""},{"$f":"IF(入力シート!M69=\"\",\"\",入力シート!M69)","v":""},{"$f":"IF(入力シート!N69=\"\",\"\",入力シート!P69)","v":""}]
[{"$f":"IF(入力シート!A70=\"\",\"\",入力シート!A70)","v":""},{"$f":"IF(入力シート!B70=\"\",\"\",入力シート!B70)","v":""},{"$f":"IF(入力シート!C70=\"\",\"\",TEXT(入力シート!C70,\"yyyy-mm-dd\"))","v":""},{"$f":"IF(入力シート!O70=\"\",\"\",TEXT(入力シート!O70,\"000-0000\"))","v":""},{"$f":"IF(入力シート!F70=\"\",\"\",入力シート!F70)","v":""},{"$f":"IF(入力シート!G70=\"\",\"\",入力シート!G70)","v":""},{"$f":"IF(入力シート!H70=\"\",\"\",入力シート!H70)","v":""},{"$f":"IF(入力シート!I70=\"\",\"\",入力シート!I70)","v":""},{"$f":"IF(入力シート!J70=\"\",\"\",入力シート!J70)","v":""},{"$f":"IF(入力シート!K70=\"\",\"\",入力シート!K70)","v":""},{"$f":"IF(入力シート!L70=\"\",\"\",入力シート!L70)","v":""},{"$f":"IF(入力シート!M70=\"\",\"\",入力シート!M70)","v":""},{"$f":"IF(入力シート!N70=\"\",\"\",入力シート!P70)","v":""}]
[{"$f":"IF(入力シート!A71=\"\",\"\",入力シート!A71)","v":""},{"$f":"IF(入力シート!B71=\"\",\"\",入力シート!B71)","v":""},{"$f":"IF(入力シート!C71=\"\",\"\",TEXT(入力シート!C71,\"yyyy-mm-dd\"))","v":""},{"$f":"IF(入力シート!O71=\"\",\"\",TEXT(入力シート!O71,\"000-0000\"))","v":""},{"$f":"IF(入力シート!F71=\"\",\"\",入力シート!F71)","v":""},{"$f":"IF(入力シート!G71=\"\",\"\",入力シート!G71)","v":""},{"$f":"IF(入力シート!H71=\"\",\"\",入力シート!H71)","v":""},{"$f":"IF(入力シート!I71=\"\",\"\",入力シート!I71)","v":""},{"$f":"IF(入力シート!J71=\"\",\"\",入力シート!J71)","v":""},{"$f":"IF(入力シート!K71=\"\",\"\",入力シート!K71)","v":""},{"$f":"IF(入力シート!L71=\"\",\"\",入力シート!L71)","v":""},{"$f":"IF(入力シート!M71=\"\",\"\",入力シート!M71)","v":""},{"$f":"IF(入力シート!N71=\"\",\"\",入力シート!P71)","v":""}]
[{"$f":"IF(入力シート!A72=\"\",\"\",入力シート!A72)","v":""},{"$f":"IF(入力シート!B72=\"\",\"\",入力シート!B72)","v":""},{"$f":"IF(入力シート!C72=\"\",\"\",TEXT(入力シート!C72,\"yyyy-mm-dd\"))","v":""},{"$f":"IF(入力シート!O72=\"\",\"\",TEXT(入力シート!O72,\"000-0000\"))","v":""},{"$f":"IF(入力シート!F72=\"\",\"\",入力シート!F72)","v":""},{"$f":"IF(入力シート!G72=\"\",\"\",入力シート!G72)","v":""},{"$f":"IF(入力シート!H72=\"\",\"\",入力シート!H72)","v":""},{"$f":"IF(入力シート!I72=\"\",\"\",入力シート!I72)","v":""},{"$f":"IF(入力シート!J72=\"\",\"\",入力シート!J72)","v":""},{"$f":"IF(入力シート!K72=\"\",\"\",入力シート!K72)","v":""},{"$f":"IF(入力シート!L72=\"\",\"\",入力シート!L72)","v":""},{"$f":"IF(入力シート!M72=\"\",\"\",入力シート!M72)","v":""},{"$f":"IF(入力シート!N72=\"\",\"\",入力シート!P72)","v":""}]
[{"$f":"IF(入力シート!A73=\"\",\"\",入力シート!A73)","v":""},{"$f":"IF(入力シート!B73=\"\",\"\",入力シート!B73)","v":""},{"$f":"IF(入力シート!C73=\"\",\"\",TEXT(入力シート!C73,\"yyyy-mm-dd\"))","v":""},{"$f":"IF(入力シート!O73=\"\",\"\",TEXT(入力シート!O73,\"000-0000\"))","v":""},{"$f":"IF(入力シート!F73=\"\",\"\",入力シート!F73)","v":""},{"$f":"IF(入力シート!G73=\"\",\"\",入力シート!G73)","v":""},{"$f":"IF(入力シート!H73=\"\",\"\",入力シート!H73)","v":""},{"$f":"IF(入力シート!I73=\"\",\"\",入力シート!I73)","v":""},{"$f":"IF(入力シート!J73=\"\",\"\",入力シート!J73)","v":""},{"$f":"IF(入力シート!K73=\"\",\"\",入力シート!K73)","v":""},{"$f":"IF(入力シート!L73=\"\",\"\",入力シート!L73)","v":""},{"$f":"IF(入力シート!M73=\"\",\"\",入力シート!M73)","v":""},{"$f":"IF(入力シート!N73=\"\",\"\",入力シート!P73)","v":""}]
[{"$f":"IF(入力シート!A74=\"\",\"\",入力シート!A74)","v":""},{"$f":"IF(入力シート!B74=\"\",\"\",入力シート!B74)","v":""},{"$f":"IF(入力シート!C74=\"\",\"\",TEXT(入力シート!C74,\"yyyy-mm-dd\"))","v":""},{"$f":"IF(入力シート!O74=\"\",\"\",TEXT(入力シート!O74,\"000-0000\"))","v":""},{"$f":"IF(入力シート!F74=\"\",\"\",入力シート!F74)","v":""},{"$f":"IF(入力シート!G74=\"\",\"\",入力シート!G74)","v":""},{"$f":"IF(入力シート!H74=\"\",\"\",入力シート!H74)","v":""},{"$f":"IF(入力シート!I74=\"\",\"\",入力シート!I74)","v":""},{"$f":"IF(入力シート!J74=\"\",\"\",入力シート!J74)","v":""},{"$f":"IF(入力シート!K74=\"\",\"\",入力シート!K74)","v":""},{"$f":"IF(入力シート!L74=\"\",\"\",入力シート!L74)","v":""},{"$f":"IF(入力シート!M74=\"\",\"\",入力シート!M74)","v":""},{"$f":"IF(入力シート!N74=\"\",\"\",入力シート!P74)","v":""}]
[{"$f":"IF(入力シート!A75=\"\",\"\",入力シート!A75)","v":""},{"$f":"IF(入力シート!B75=\"\",\"\",入力シート!B75)","v":""},{"$f":"IF(入力シート!C75=\"\",\"\",TEXT(入力シート!C75,\"yyyy-mm-dd\"))","v":""},{"$f":"IF(入力シート!O75=\"\",\"\",TEXT(入力シート!O75,\"000-0000\"))","v":""},{"$f":"IF(入力シート!F75=\"\",\"\",入力シート!F75)","v":""},{"$f":"IF(入力シート!G75=\"\",\"\",入力シート!G75)","v":""},{"$f":"IF(入力シート!H75=\"\",\"\",入力シート!H75)","v":""},{"$f":"IF(入力シート!I75=\"\",\"\",入力シート!I75)","v":""},{"$f":"IF(入力シート!J75=\"\",\"\",入力シート!J75)","v":""},{"$f":"IF(入力シート!K75=\"\",\"\",入力シート!K75)","v":""},{"$f":"IF(入力シート!L75=\"\",\"\",入力シート!L75)","v":""},{"$f":"IF(入力シート!M75=\"\",\"\",入力シート!M75)","v":""},{"$f":"IF(入力シート!N75=\"\",\"\",入力シート!P75)","v":""}]
[{"$f":"IF(入力シート!A76=\"\",\"\",入力シート!A76)","v":""},{"$f":"IF(入力シート!B76=\"\",\"\",入力シート!B76)","v":""},{"$f":"IF(入力シート!C76=\"\",\"\",TEXT(入力シート!C76,\"yyyy-mm-dd\"))","v":""},{"$f":"IF(入力シート!O76=\"\",\"\",TEXT(入力シート!O76,\"000-0000\"))","v":""},{"$f":"IF(入力シート!F76=\"\",\"\",入力シート!F76)","v":""},{"$f":"IF(入力シート!G76=\"\",\"\",入力シート!G76)","v":""},{"$f":"IF(入力シート!H76=\"\",\"\",入力シート!H76)","v":""},{"$f":"IF(入力シート!I76=\"\",\"\",入力シート!I76)","v":""},{"$f":"IF(入力シート!J76=\"\",\"\",入力シート!J76)","v":""},{"$f":"IF(入力シート!K76=\"\",\"\",入力シート!K76)","v":""},{"$f":"IF(入力シート!L76=\"\",\"\",入力シート!L76)","v":""},{"$f":"IF(入力シート!M76=\"\",\"\",入力シート!M76)","v":""},{"$f":"IF(入力シート!N76=\"\",\"\",入力シート!P76)","v":""}]
[{"$f":"IF(入力シート!A77=\"\",\"\",入力シート!A77)","v":""},{"$f":"IF(入力シート!B77=\"\",\"\",入力シート!B77)","v":""},{"$f":"IF(入力シート!C77=\"\",\"\",TEXT(入力シート!C77,\"yyyy-mm-dd\"))","v":""},{"$f":"IF(入力シート!O77=\"\",\"\",TEXT(入力シート!O77,\"000-0000\"))","v":""},{"$f":"IF(入力シート!F77=\"\",\"\",入力シート!F77)","v":""},{"$f":"IF(入力シート!G77=\"\",\"\",入力シート!G77)","v":""},{"$f":"IF(入力シート!H77=\"\",\"\",入力シート!H77)","v":""},{"$f":"IF(入力シート!I77=\"\",\"\",入力シート!I77)","v":""},{"$f":"IF(入力シート!J77=\"\",\"\",入力シート!J77)","v":""},{"$f":"IF(入力シート!K77=\"\",\"\",入力シート!K77)","v":""},{"$f":"IF(入力シート!L77=\"\",\"\",入力シート!L77)","v":""},{"$f":"IF(入力シート!M77=\"\",\"\",入力シート!M77)","v":""},{"$f":"IF(入力シート!N77=\"\",\"\",入力シート!P77)","v":""}]
[{"$f":"IF(入力シート!A78=\"\",\"\",入力シート!A78)","v":""},{"$f":"IF(入力シート!B78=\"\",\"\",入力シート!B78)","v":""},{"$f":"IF(入力シート!C78=\"\",\"\",TEXT(入力シート!C78,\"yyyy-mm-dd\"))","v":""},{"$f":"IF(入力シート!O78=\"\",\"\",TEXT(入力シート!O78,\"000-0000\"))","v":""},{"$f":"IF(入力シート!F78=\"\",\"\",入力シート!F78)","v":""},{"$f":"IF(入力シート!G78=\"\",\"\",入力シート!G78)","v":""},{"$f":"IF(入力シート!H78=\"\",\"\",入力シート!H78)","v":""},{"$f":"IF(入力シート!I78=\"\",\"\",入力シート!I78)","v":""},{"$f":"IF(入力シート!J78=\"\",\"\",入力シート!J78)","v":""},{"$f":"IF(入力シート!K78=\"\",\"\",入力シート!K78)","v":""},{"$f":"IF(入力シート!L78=\"\",\"\",入力シート!L78)","v":""},{"$f":"IF(入力シート!M78=\"\",\"\",入力シート!M78)","v":""},{"$f":"IF(入力シート!N78=\"\",\"\",入力シート!P78)","v":""}]
[{"$f":"IF(入力シート!A79=\"\",\"\",入力シート!A79)","v":""},{"$f":"IF(入力シート!B79=\"\",\"\",入力シート!B79)","v":""},{"$f":"IF(入力シート!C79=\"\",\"\",TEXT(入力シート!C79,\"yyyy-mm-dd\"))","v":""},{"$f":"IF(入力シート!O79=\"\",\"\",TEXT(入力シート!O79,\"000-0000\"))","v":""},{"$f":"IF(入力シート!F79=\"\",\"\",入力シート!F79)","v":""},{"$f":"IF(入力シート!G79=\"\",\"\",入力シート!G79)","v":""},{"$f":"IF(入力シート!H79=\"\",\"\",入力シート!H79)","v":""},{"$f":"IF(入力シート!I79=\"\",\"\",入力シート!I79)","v":""},{"$f":"IF(入力シート!J79=\"\",\"\",入力シート!J79)","v":""},{"$f":"IF(入力シート!K79=\"\",\"\",入力シート!K79)","v":""},{"$f":"IF(入力シート!L79=\"\",\"\",入力シート!L79)","v":""},{"$f":"IF(入力シート!M79=\"\",\"\",入力シート!M79)","v":""},{"$f":"IF(入力シート!N79=\"\",\"\",入力シート!P79)","v":""}]
[{"$f":"IF(入力シート!A80=\"\",\"\",入力シート!A80)","v":""},{"$f":"IF(入力シート!B80=\"\",\"\",入力シート!B80)","v":""},{"$f":"IF(入力シート!C80=\"\",\"\",TEXT(入力シート!C80,\"yyyy-mm-dd\"))","v":""},{"$f":"IF(入力シート!O80=\"\",\"\",TEXT(入力シート!O80,\"000-0000\"))","v":""},{"$f":"IF(入力シート!F80=\"\",\"\",入力シート!F80)","v":""},{"$f":"IF(入力シート!G80=\"\",\"\",入力シート!G80)","v":""},{"$f":"IF(入力シート!H80=\"\",\"\",入力シート!H80)","v":""},{"$f":"IF(入力シート!I80=\"\",\"\",入力シート!I80)","v":""},{"$f":"IF(入力シート!J80=\"\",\"\",入力シート!J80)","v":""},{"$f":"IF(入力シート!K80=\"\",\"\",入力シート!K80)","v":""},{"$f":"IF(入力シート!L80=\"\",\"\",入力シート!L80)","v":""},{"$f":"IF(入力シート!M80=\"\",\"\",入力シート!M80)","v":""},{"$f":"IF(入力シート!N80=\"\",\"\",入力シート!P80)","v":""}]
[{"$f":"IF(入力シート!A81=\"\",\"\",入力シート!A81)","v":""},{"$f":"IF(入力シート!B81=\"\",\"\",入力シート!B81)","v":""},{"$f":"IF(入力シート!C81=\"\",\"\",TEXT(入力シート!C81,\"yyyy-mm-dd\"))","v":""},{"$f":"IF(入力シート!O81=\"\",\"\",TEXT(入力シート!O81,\"000-0000\"))","v":""},{"$f":"IF(入力シート!F81=\"\",\"\",入力シート!F81)","v":""},{"$f":"IF(入力シート!G81=\"\",\"\",入力シート!G81)","v":""},{"$f":"IF(入力シート!H81=\"\",\"\",入力シート!H81)","v":""},{"$f":"IF(入力シート!I81=\"\",\"\",入力シート!I81)","v":""},{"$f":"IF(入力シート!J81=\"\",\"\",入力シート!J81)","v":""},{"$f":"IF(入力シート!K81=\"\",\"\",入力シート!K81)","v":""},{"$f":"IF(入力シート!L81=\"\",\"\",入力シート!L81)","v":""},{"$f":"IF(入力シート!M81=\"\",\"\",入力シート!M81)","v":""},{"$f":"IF(入力シート!N81=\"\",\"\",入力シート!P81)","v":""}]
[{"$f":"IF(入力シート!A82=\"\",\"\",入力シート!A82)","v":""},{"$f":"IF(入力シート!B82=\"\",\"\",入力シート!B82)","v":""},{"$f":"IF(入力シート!C82=\"\",\"\",TEXT(入力シート!C82,\"yyyy-mm-dd\"))","v":""},{"$f":"IF(入力シート!O82=\"\",\"\",TEXT(入力シート!O82,\"000-0000\"))","v":""},{"$f":"IF(入力シート!F82=\"\",\"\",入力シート!F82)","v":""},{"$f":"IF(入力シート!G82=\"\",\"\",入力シート!G82)","v":""},{"$f":"IF(入力シート!H82=\"\",\"\",入力シート!H82)","v":""},{"$f":"IF(入力シート!I82=\"\",\"\",入力シート!I82)","v":""},{"$f":"IF(入力シート!J82=\"\",\"\",入力シート!J82)","v":""},{"$f":"IF(入力シート!K82=\"\",\"\",入力シート!K82)","v":""},{"$f":"IF(入力シート!L82=\"\",\"\",入力シート!L82)","v":""},{"$f":"IF(入力シート!M82=\"\",\"\",入力シート!M82)","v":""},{"$f":"IF(入力シート!N82=\"\",\"\",入力シート!P82)","v":""}]
[{"$f":"IF(入力シート!A83=\"\",\"\",入力シート!A83)","v":""},{"$f":"IF(入力シート!B83=\"\",\"\",入力シート!B83)","v":""},{"$f":"IF(入力シート!C83=\"\",\"\",TEXT(入力シート!C83,\"yyyy-mm-dd\"))","v":""},{"$f":"IF(入力シート!O83=\"\",\"\",TEXT(入力シート!O83,\"000-0000\"))","v":""},{"$f":"IF(入力シート!F83=\"\",\"\",入力シート!F83)","v":""},{"$f":"IF(入力シート!G83=\"\",\"\",入力シート!G83)","v":""},{"$f":"IF(入力シート!H83=\"\",\"\",入力シート!H83)","v":""},{"$f":"IF(入力シート!I83=\"\",\"\",入力シート!I83)","v":""},{"$f":"IF(入力シート!J83=\"\",\"\",入力シート!J83)","v":""},{"$f":"IF(入力シート!K83=\"\",\"\",入力シート!K83)","v":""},{"$f":"IF(入力シート!L83=\"\",\"\",入力シート!L83)","v":""},{"$f":"IF(入力シート!M83=\"\",\"\",入力シート!M83)","v":""},{"$f":"IF(入力シート!N83=\"\",\"\",入力シート!P83)","v":""}]
[{"$f":"IF(入力シート!A84=\"\",\"\",入力シート!A84)","v":""},{"$f":"IF(入力シート!B84=\"\",\"\",入力シート!B84)","v":""},{"$f":"IF(入力シート!C84=\"\",\"\",TEXT(入力シート!C84,\"yyyy-mm-dd\"))","v":""},{"$f":"IF(入力シート!O84=\"\",\"\",TEXT(入力シート!O84,\"000-0000\"))","v":""},{"$f":"IF(入力シート!F84=\"\",\"\",入力シート!F84)","v":""},{"$f":"IF(入力シート!G84=\"\",\"\",入力シート!G84)","v":""},{"$f":"IF(入力シート!H84=\"\",\"\",入力シート!H84)","v":""},{"$f":"IF(入力シート!I84=\"\",\"\",入力シート!I84)","v":""},{"$f":"IF(入力シート!J84=\"\",\"\",入力シート!J84)","v":""},{"$f":"IF(入力シート!K84=\"\",\"\",入力シート!K84)","v":""},{"$f":"IF(入力シート!L84=\"\",\"\",入力シート!L84)","v":""},{"$f":"IF(入力シート!M84=\"\",\"\",入力シート!M84)","v":""},{"$f":"IF(入力シート!N84=\"\",\"\",入力シート!P84)","v":""}]
[{"$f":"IF(入力シート!A85=\"\",\"\",入力シート!A85)","v":""},{"$f":"IF(入力シート!B85=\"\",\"\",入力シート!B85)","v":""},{"$f":"IF(入力シート!C85=\"\",\"\",TEXT(入力シート!C85,\"yyyy-mm-dd\"))","v":""},{"$f":"IF(入力シート!O85=\"\",\"\",TEXT(入力シート!O85,\"000-0000\"))","v":""},{"$f":"IF(入力シート!F85=\"\",\"\",入力シート!F85)","v":""},{"$f":"IF(入力シート!G85=\"\",\"\",入力シート!G85)","v":""},{"$f":"IF(入力シート!H85=\"\",\"\",入力シート!H85)","v":""},{"$f":"IF(入力シート!I85=\"\",\"\",入力シート!I85)","v":""},{"$f":"IF(入力シート!J85=\"\",\"\",入力シート!J85)","v":""},{"$f":"IF(入力シート!K85=\"\",\"\",入力シート!K85)","v":""},{"$f":"IF(入力シート!L85=\"\",\"\",入力シート!L85)","v":""},{"$f":"IF(入力シート!M85=\"\",\"\",入力シート!M85)","v":""},{"$f":"IF(入力シート!N85=\"\",\"\",入力シート!P85)","v":""}]
[{"$f":"IF(入力シート!A86=\"\",\"\",入力シート!A86)","v":""},{"$f":"IF(入力シート!B86=\"\",\"\",入力シート!B86)","v":""},{"$f":"IF(入力シート!C86=\"\",\"\",TEXT(入力シート!C86,\"yyyy-mm-dd\"))","v":""},{"$f":"IF(入力シート!O86=\"\",\"\",TEXT(入力シート!O86,\"000-0000\"))","v":""},{"$f":"IF(入力シート!F86=\"\",\"\",入力シート!F86)","v":""},{"$f":"IF(入力シート!G86=\"\",\"\",入力シート!G86)","v":""},{"$f":"IF(入力シート!H86=\"\",\"\",入力シート!H86)","v":""},{"$f":"IF(入力シート!I86=\"\",\"\",入力シート!I86)","v":""},{"$f":"IF(入力シート!J86=\"\",\"\",入力シート!J86)","v":""},{"$f":"IF(入力シート!K86=\"\",\"\",入力シート!K86)","v":""},{"$f":"IF(入力シート!L86=\"\",\"\",入力シート!L86)","v":""},{"$f":"IF(入力シート!M86=\"\",\"\",入力シート!M86)","v":""},{"$f":"IF(入力シート!N86=\"\",\"\",入力シート!P86)","v":""}]
[{"$f":"IF(入力シート!A87=\"\",\"\",入力シート!A87)","v":""},{"$f":"IF(入力シート!B87=\"\",\"\",入力シート!B87)","v":""},{"$f":"IF(入力シート!C87=\"\",\"\",TEXT(入力シート!C87,\"yyyy-mm-dd\"))","v":""},{"$f":"IF(入力シート!O87=\"\",\"\",TEXT(入力シート!O87,\"000-0000\"))","v":""},{"$f":"IF(入力シート!F87=\"\",\"\",入力シート!F87)","v":""},{"$f":"IF(入力シート!G87=\"\",\"\",入力シート!G87)","v":""},{"$f":"IF(入力シート!H87=\"\",\"\",入力シート!H87)","v":""},{"$f":"IF(入力シート!I87=\"\",\"\",入力シート!I87)","v":""},{"$f":"IF(入力シート!J87=\"\",\"\",入力シート!J87)","v":""},{"$f":"IF(入力シート!K87=\"\",\"\",入力シート!K87)","v":""},{"$f":"IF(入力シート!L87=\"\",\"\",入力シート!L87)","v":""},{"$f":"IF(入力シート!M87=\"\",\"\",入力シート!M87)","v":""},{"$f":"IF(入力シート!N87=\"\",\"\",入力シート!P87)","v":""}]
[{"$f":"IF(入力シート!A88=\"\",\"\",入力シート!A88)","v":""},{"$f":"IF(入力シート!B88=\"\",\"\",入力シート!B88)","v":""},{"$f":"IF(入力シート!C88=\"\",\"\",TEXT(入力シート!C88,\"yyyy-mm-dd\"))","v":""},{"$f":"IF(入力シート!O88=\"\",\"\",TEXT(入力シート!O88,\"000-0000\"))","v":""},{"$f":"IF(入力シート!F88=\"\",\"\",入力シート!F88)","v":""},{"$f":"IF(入力シート!G88=\"\",\"\",入力シート!G88)","v":""},{"$f":"IF(入力シート!H88=\"\",\"\",入力シート!H88)","v":""},{"$f":"IF(入力シート!I88=\"\",\"\",入力シート!I88)","v":""},{"$f":"IF(入力シート!J88=\"\",\"\",入力シート!J88)","v":""},{"$f":"IF(入力シート!K88=\"\",\"\",入力シート!K88)","v":""},{"$f":"IF(入力シート!L88=\"\",\"\",入力シート!L88)","v":""},{"$f":"IF(入力シート!M88=\"\",\"\",入力シート!M88)","v":""},{"$f":"IF(入力シート!N88=\"\",\"\",入力シート!P88)","v":""}]
[{"$f":"IF(入力シート!A89=\"\",\"\",入力シート!A89)","v":""},{"$f":"IF(入力シート!B89=\"\",\"\",入力シート!B89)","v":""},{"$f":"IF(入力シート!C89=\"\",\"\",TEXT(入力シート!C89,\"yyyy-mm-dd\"))","v":""},{"$f":"IF(入力シート!O89=\"\",\"\",TEXT(入力シート!O89,\"000-0000\"))","v":""},{"$f":"IF(入力シート!F89=\"\",\"\",入力シート!F89)","v":""},{"$f":"IF(入力シート!G89=\"\",\"\",入力シート!G89)","v":""},{"$f":"IF(入力シート!H89=\"\",\"\",入力シート!H89)","v":""},{"$f":"IF(入力シート!I89=\"\",\"\",入力シート!I89)","v":""},{"$f":"IF(入力シート!J89=\"\",\"\",入力シート!J89)","v":""},{"$f":"IF(入力シート!K89=\"\",\"\",入力シート!K89)","v":""},{"$f":"IF(入力シート!L89=\"\",\"\",入力シート!L89)","v":""},{"$f":"IF(入力シート!M89=\"\",\"\",入力シート!M89)","v":""},{"$f":"IF(入力シート!N89=\"\",\"\",入力シート!P89)","v":""}]
[{"$f":"IF(入力シート!A90=\"\",\"\",入力シート!A90)","v":""},{"$f":"IF(入力シート!B90=\"\",\"\",入力シート!B90)","v":""},{"$f":"IF(入力シート!C90=\"\",\"\",TEXT(入力シート!C90,\"yyyy-mm-dd\"))","v":""},{"$f":"IF(入力シート!O90=\"\",\"\",TEXT(入力シート!O90,\"000-0000\"))","v":""},{"$f":"IF(入力シート!F90=\"\",\"\",入力シート!F90)","v":""},{"$f":"IF(入力シート!G90=\"\",\"\",入力シート!G90)","v":""},{"$f":"IF(入力シート!H90=\"\",\"\",入力シート!H90)","v":""},{"$f":"IF(入力シート!I90=\"\",\"\",入力シート!I90)","v":""},{"$f":"IF(入力シート!J90=\"\",\"\",入力シート!J90)","v":""},{"$f":"IF(入力シート!K90=\"\",\"\",入力シート!K90)","v":""},{"$f":"IF(入力シート!L90=\"\",\"\",入力シート!L90)","v":""},{"$f":"IF(入力シート!M90=\"\",\"\",入力シート!M90)","v":""},{"$f":"IF(入力シート!N90=\"\",\"\",入力シート!P90)","v":""}]
[{"$f":"IF(入力シート!A91=\"\",\"\",入力シート!A91)","v":""},{"$f":"IF(入力シート!B91=\"\",\"\",入力シート!B91)","v":""},{"$f":"IF(入力シート!C91=\"\",\"\",TEXT(入力シート!C91,\"yyyy-mm-dd\"))","v":""},{"$f":"IF(入力シート!O91=\"\",\"\",TEXT(入力シート!O91,\"000-0000\"))","v":""},{"$f":"IF(入力シート!F91=\"\",\"\",入力シート!F91)","v":""},{"$f":"IF(入力シート!G91=\"\",\"\",入力シート!G91)","v":""},{"$f":"IF(入力シート!H91=\"\",\"\",入力シート!H91)","v":""},{"$f":"IF(入力シート!I91=\"\",\"\",入力シート!I91)","v":""},{"$f":"IF(入力シート!J91=\"\",\"\",入力シート!J91)","v":""},{"$f":"IF(入力シート!K91=\"\",\"\",入力シート!K91)","v":""},{"$f":"IF(入力シート!L91=\"\",\"\",入力シート!L91)","v":""},{"$f":"IF(入力シート!M91=\"\",\"\",入力シート!M91)","v":""},{"$f":"IF(入力シート!N91=\"\",\"\",入力シート!P91)","v":""}]
[{"$f":"IF(入力シート!A92=\"\",\"\",入力シート!A92)","v":""},{"$f":"IF(入力シート!B92=\"\",\"\",入力シート!B92)","v":""},{"$f":"IF(入力シート!C92=\"\",\"\",TEXT(入力シート!C92,\"yyyy-mm-dd\"))","v":""},{"$f":"IF(入力シート!O92=\"\",\"\",TEXT(入力シート!O92,\"000-0000\"))","v":""},{"$f":"IF(入力シート!F92=\"\",\"\",入力シート!F92)","v":""},{"$f":"IF(入力シート!G92=\"\",\"\",入力シート!G92)","v":""},{"$f":"IF(入力シート!H92=\"\",\"\",入力シート!H92)","v":""},{"$f":"IF(入力シート!I92=\"\",\"\",入力シート!I92)","v":""},{"$f":"IF(入力シート!J92=\"\",\"\",入力シート!J92)","v":""},{"$f":"IF(入力シート!K92=\"\",\"\",入力シート!K92)","v":""},{"$f":"IF(入力シート!L92=\"\",\"\",入力シート!L92)","v":""},{"$f":"IF(入力シート!M92=\"\",\"\",入力シート!M92)","v":""},{"$f":"IF(入力シート!N92=\"\",\"\",入力シート!P92)","v":""}]
[{"$f":"IF(入力シート!A93=\"\",\"\",入力シート!A93)","v":""},{"$f":"IF(入力シート!B93=\"\",\"\",入力シート!B93)","v":""},{"$f":"IF(入力シート!C93=\"\",\"\",TEXT(入力シート!C93,\"yyyy-mm-dd\"))","v":""},{"$f":"IF(入力シート!O93=\"\",\"\",TEXT(入力シート!O93,\"000-0000\"))","v":""},{"$f":"IF(入力シート!F93=\"\",\"\",入力シート!F93)","v":""},{"$f":"IF(入力シート!G93=\"\",\"\",入力シート!G93)","v":""},{"$f":"IF(入力シート!H93=\"\",\"\",入力シート!H93)","v":""},{"$f":"IF(入力シート!I93=\"\",\"\",入力シート!I93)","v":""},{"$f":"IF(入力シート!J93=\"\",\"\",入力シート!J93)","v":""},{"$f":"IF(入力シート!K93=\"\",\"\",入力シート!K93)","v":""},{"$f":"IF(入力シート!L93=\"\",\"\",入力シート!L93)","v":""},{"$f":"IF(入力シート!M93=\"\",\"\",入力シート!M93)","v":""},{"$f":"IF(入力シート!N93=\"\",\"\",入力シート!P93)","v":""}]
[{"$f":"IF(入力シート!A94=\"\",\"\",入力シート!A94)","v":""},{"$f":"IF(入力シート!B94=\"\",\"\",入力シート!B94)","v":""},{"$f":"IF(入力シート!C94=\"\",\"\",TEXT(入力シート!C94,\"yyyy-mm-dd\"))","v":""},{"$f":"IF(入力シート!O94=\"\",\"\",TEXT(入力シート!O94,\"000-0000\"))","v":""},{"$f":"IF(入力シート!F94=\"\",\"\",入力シート!F94)","v":""},{"$f":"IF(入力シート!G94=\"\",\"\",入力シート!G94)","v":""},{"$f":"IF(入力シート!H94=\"\",\"\",入力シート!H94)","v":""},{"$f":"IF(入力シート!I94=\"\",\"\",入力シート!I94)","v":""},{"$f":"IF(入力シート!J94=\"\",\"\",入力シート!J94)","v":""},{"$f":"IF(入力シート!K94=\"\",\"\",入力シート!K94)","v":""},{"$f":"IF(入力シート!L94=\"\",\"\",入力シート!L94)","v":""},{"$f":"IF(入力シート!M94=\"\",\"\",入力シート!M94)","v":""},{"$f":"IF(入力シート!N94=\"\",\"\",入力シート!P94)","v":""}]
[{"$f":"IF(入力シート!A95=\"\",\"\",入力シート!A95)","v":""},{"$f":"IF(入力シート!B95=\"\",\"\",入力シート!B95)","v":""},{"$f":"IF(入力シート!C95=\"\",\"\",TEXT(入力シート!C95,\"yyyy-mm-dd\"))","v":""},{"$f":"IF(入力シート!O95=\"\",\"\",TEXT(入力シート!O95,\"000-0000\"))","v":""},{"$f":"IF(入力シート!F95=\"\",\"\",入力シート!F95)","v":""},{"$f":"IF(入力シート!G95=\"\",\"\",入力シート!G95)","v":""},{"$f":"IF(入力シート!H95=\"\",\"\",入力シート!H95)","v":""},{"$f":"IF(入力シート!I95=\"\",\"\",入力シート!I95)","v":""},{"$f":"IF(入力シート!J95=\"\",\"\",入力シート!J95)","v":""},{"$f":"IF(入力シート!K95=\"\",\"\",入力シート!K95)","v":""},{"$f":"IF(入力シート!L95=\"\",\"\",入力シート!L95)","v":""},{"$f":"IF(入力シート!M95=\"\",\"\",入力シート!M95)","v":""},{"$f":"IF(入力シート!N95=\"\",\"\",入力シート!P95)","v":""}]
[{"$f":"IF(入力シート!A96=\"\",\"\",入力シート!A96)","v":""},{"$f":"IF(入力シート!B96=\"\",\"\",入力シート!B96)","v":""},{"$f":"IF(入力シート!C96=\"\",\"\",TEXT(入力シート!C96,\"yyyy-mm-dd\"))","v":""},{"$f":"IF(入力シート!O96=\"\",\"\",TEXT(入力シート!O96,\"000-0000\"))","v":""},{"$f":"IF(入力シート!F96=\"\",\"\",入力シート!F96)","v":""},{"$f":"IF(入力シート!G96=\"\",\"\",入力シート!G96)","v":""},{"$f":"IF(入力シート!H96=\"\",\"\",入力シート!H96)","v":""},{"$f":"IF(入力シート!I96=\"\",\"\",入力シート!I96)","v":""},{"$f":"IF(入力シート!J96=\"\",\"\",入力シート!J96)","v":""},{"$f":"IF(入力シート!K96=\"\",\"\",入力シート!K96)","v":""},{"$f":"IF(入力シート!L96=\"\",\"\",入力シート!L96)","v":""},{"$f":"IF(入力シート!M96=\"\",\"\",入力シート!M96)","v":""},{"$f":"IF(入力シート!N96=\"\",\"\",入力シート!P96)","v":""}]
[{"$f":"IF(入力シート!A97=\"\",\"\",入力シート!A97)","v":""},{"$f":"IF(入力シート!B97=\"\",\"\",入力シート!B97)","v":""},{"$f":"IF(入力シート!C97=\"\",\"\",TEXT(入力シート!C97,\"yyyy-mm-dd\"))","v":""},{"$f":"IF(入力シート!O97=\"\",\"\",TEXT(入力シート!O97,\"000-0000\"))","v":""},{"$f":"IF(入力シート!F97=\"\",\"\",入力シート!F97)","v":""},{"$f":"IF(入力シート!G97=\"\",\"\",入力シート!G97)","v":""},{"$f":"IF(入力シート!H97=\"\",\"\",入力シート!H97)","v":""},{"$f":"IF(入力シート!I97=\"\",\"\",入力シート!I97)","v":""},{"$f":"IF(入力シート!J97=\"\",\"\",入力シート!J97)","v":""},{"$f":"IF(入力シート!K97=\"\",\"\",入力シート!K97)","v":""},{"$f":"IF(入力シート!L97=\"\",\"\",入力シート!L97)","v":""},{"$f":"IF(入力シート!M97=\"\",\"\",入力シート!M97)","v":""},{"$f":"IF(入力シート!N97=\"\",\"\",入力シート!P97)","v":""}]
[{"$f":"IF(入力シート!A98=\"\",\"\",入力シート!A98)","v":""},{"$f":"IF(入力シート!B98=\"\",\"\",入力シート!B98)","v":""},{"$f":"IF(入力シート!C98=\"\",\"\",TEXT(入力シート!C98,\"yyyy-mm-dd\"))","v":""},{"$f":"IF(入力シート!O98=\"\",\"\",TEXT(入力シート!O98,\"000-0000\"))","v":""},{"$f":"IF(入力シート!F98=\"\",\"\",入力シート!F98)","v":""},{"$f":"IF(入力シート!G98=\"\",\"\",入力シート!G98)","v":""},{"$f":"IF(入力シート!H98=\"\",\"\",入力シート!H98)","v":""},{"$f":"IF(入力シート!I98=\"\",\"\",入力シート!I98)","v":""},{"$f":"IF(入力シート!J98=\"\",\"\",入力シート!J98)","v":""},{"$f":"IF(入力シート!K98=\"\",\"\",入力シート!K98)","v":""},{"$f":"IF(入力シート!L98=\"\",\"\",入力シート!L98)","v":""},{"$f":"IF(入力シート!M98=\"\",\"\",入力シート!M98)","v":""},{"$f":"IF(入力シート!N98=\"\",\"\",入力シート!P98)","v":""}]
[{"$f":"IF(入力シート!A99=\"\",\"\",入力シート!A99)","v":""},{"$f":"IF(入力シート!B99=\"\",\"\",入力シート!B99)","v":""},{"$f":"IF(入力シート!C99=\"\",\"\",TEXT(入力シート!C99,\"yyyy-mm-dd\"))","v":""},{"$f":"IF(入力シート!O99=\"\",\"\",TEXT(入力シート!O99,\"000-0000\"))","v":""},{"$f":"IF(入力シート!F99=\"\",\"\",入力シート!F99)","v":""},{"$f":"IF(入力シート!G99=\"\",\"\",入力シート!G99)","v":""},{"$f":"IF(入力シート!H99=\"\",\"\",入力シート!H99)","v":""},{"$f":"IF(入力シート!I99=\"\",\"\",入力シート!I99)","v":""},{"$f":"IF(入力シート!J99=\"\",\"\",入力シート!J99)","v":""},{"$f":"IF(入力シート!K99=\"\",\"\",入力シート!K99)","v":""},{"$f":"IF(入力シート!L99=\"\",\"\",入力シート!L99)","v":""},{"$f":"IF(入力シート!M99=\"\",\"\",入力シート!M99)","v":""},{"$f":"IF(入力シート!N99=\"\",\"\",入力シート!P99)","v":""}]
[{"$f":"IF(入力シート!A100=\"\",\"\",入力シート!A100)","v":""},{"$f":"IF(入力シート!B100=\"\",\"\",入力シート!B100)","v":""},{"$f":"IF(入力シート!C100=\"\",\"\",TEXT(入力シート!C100,\"yyyy-mm-dd\"))","v":""},{"$f":"IF(入力シート!O100=\"\",\"\",TEXT(入力シート!O100,\"000-0000\"))","v":""},{"$f":"IF(入力シート!F100=\"\",\"\",入力シート!F100)","v":""},{"$f":"IF(入力シート!G100=\"\",\"\",入力シート!G100)","v":""},{"$f":"IF(入力シート!H100=\"\",\"\",入力シート!H100)","v":""},{"$f":"IF(入力シート!I100=\"\",\"\",入力シート!I100)","v":""},{"$f":"IF(入力シート!J100=\"\",\"\",入力シート!J100)","v":""},{"$f":"IF(入力シート!K100=\"\",\"\",入力シート!K100)","v":""},{"$f":"IF(入力シート!L100=\"\",\"\",入力シート!L100)","v":""},{"$f":"IF(入力シート!M100=\"\",\"\",入力シート!M100)","v":""},{"$f":"IF(入力シート!N100=\"\",\"\",入力シート!P100)","v":""}]
[{"$f":"IF(入力シート!A101=\"\",\"\",入力シート!A101)","v":""},{"$f":"IF(入力シート!B101=\"\",\"\",入力シート!B101)","v":""},{"$f":"IF(入力シート!C101=\"\",\"\",TEXT(入力シート!C101,\"yyyy-mm-dd\"))","v":""},{"$f":"IF(入力シート!O101=\"\",\"\",TEXT(入力シート!O101,\"000-0000\"))","v":""},{"$f":"IF(入力シート!F101=\"\",\"\",入力シート!F101)","v":""},{"$f":"IF(入力シート!G101=\"\",\"\",入力シート!G101)","v":""},{"$f":"IF(入力シート!H101=\"\",\"\",入力シート!H101)","v":""},{"$f":"IF(入力シート!I101=\"\",\"\",入力シート!I101)","v":""},{"$f":"IF(入力シート!J101=\"\",\"\",入力シート!J101)","v":""},{"$f":"IF(入力シート!K101=\"\",\"\",入力シート!K101)","v":""},{"$f":"IF(入力シート!L101=\"\",\"\",入力シート!L101)","v":""},{"$f":"IF(入力シート!M101=\"\",\"\",入力シート!M101)","v":""},{"$f":"IF(入力シート!N101=\"\",\"\",入力シート!P101)","v":""}]
[{"$f":"IF(入力シート!A102=\"\",\"\",入力シート!A102)","v":""},{"$f":"IF(入力シート!B102=\"\",\"\",入力シート!B102)","v":""},{"$f":"IF(入力シート!C102=\"\",\"\",TEXT(入力シート!C102,\"yyyy-mm-dd\"))","v":""},{"$f":"IF(入力シート!O102=\"\",\"\",TEXT(入力シート!O102,\"000-0000\"))","v":""},{"$f":"IF(入力シート!F102=\"\",\"\",入力シート!F102)","v":""},{"$f":"IF(入力シート!G102=\"\",\"\",入力シート!G102)","v":""},{"$f":"IF(入力シート!H102=\"\",\"\",入力シート!H102)","v":""},{"$f":"IF(入力シート!I102=\"\",\"\",入力シート!I102)","v":""},{"$f":"IF(入力シート!J102=\"\",\"\",入力シート!J102)","v":""},{"$f":"IF(入力シート!K102=\"\",\"\",入力シート!K102)","v":""},{"$f":"IF(入力シート!L102=\"\",\"\",入力シート!L102)","v":""},{"$f":"IF(入力シート!M102=\"\",\"\",入力シート!M102)","v":""},{"$f":"IF(入力シート!N102=\"\",\"\",入力シート!P102)","v":""}]
[{"$f":"IF(入力シート!A103=\"\",\"\",入力シート!A103)","v":""},{"$f":"IF(入力シート!B103=\"\",\"\",入力シート!B103)","v":""},{"$f":"IF(入力シート!C103=\"\",\"\",TEXT(入力シート!C103,\"yyyy-mm-dd\"))","v":""},{"$f":"IF(入力シート!O103=\"\",\"\",TEXT(入力シート!O103,\"000-0000\"))","v":""},{"$f":"IF(入力シート!F103=\"\",\"\",入力シート!F103)","v":""},{"$f":"IF(入力シート!G103=\"\",\"\",入力シート!G103)","v":""},{"$f":"IF(入力シート!H103=\"\",\"\",入力シート!H103)","v":""},{"$f":"IF(入力シート!I103=\"\",\"\",入力シート!I103)","v":""},{"$f":"IF(入力シート!J103=\"\",\"\",入力シート!J103)","v":""},{"$f":"IF(入力シート!K103=\"\",\"\",入力シート!K103)","v":""},{"$f":"IF(入力シート!L103=\"\",\"\",入力シート!L103)","v":""},{"$f":"IF(入力シート!M103=\"\",\"\",入力シート!M103)","v":""},{"$f":"IF(入力シート!N103=\"\",\"\",入力シート!P103)","v":""}]
[{"$f":"IF(入力シート!A104=\"\",\"\",入力シート!A104)","v":""},{"$f":"IF(入力シート!B104=\"\",\"\",入力シート!B104)","v":""},{"$f":"IF(入力シート!C104=\"\",\"\",TEXT(入力シート!C104,\"yyyy-mm-dd\"))","v":""},{"$f":"IF(入力シート!O104=\"\",\"\",TEXT(入力シート!O104,\"000-0000\"))","v":""},{"$f":"IF(入力シート!F104=\"\",\"\",入力シート!F104)","v":""},{"$f":"IF(入力シート!G104=\"\",\"\",入力シート!G104)","v":""},{"$f":"IF(入力シート!H104=\"\",\"\",入力シート!H104)","v":""},{"$f":"IF(入力シート!I104=\"\",\"\",入力シート!I104)","v":""},{"$f":"IF(入力シート!J104=\"\",\"\",入力シート!J104)","v":""},{"$f":"IF(入力シート!K104=\"\",\"\",入力シート!K104)","v":""},{"$f":"IF(入力シート!L104=\"\",\"\",入力シート!L104)","v":""},{"$f":"IF(入力シート!M104=\"\",\"\",入力シート!M104)","v":""},{"$f":"IF(入力シート!N104=\"\",\"\",入力シート!P104)","v":""}]
[{"$f":"IF(入力シート!A105=\"\",\"\",入力シート!A105)","v":""},{"$f":"IF(入力シート!B105=\"\",\"\",入力シート!B105)","v":""},{"$f":"IF(入力シート!C105=\"\",\"\",TEXT(入力シート!C105,\"yyyy-mm-dd\"))","v":""},{"$f":"IF(入力シート!O105=\"\",\"\",TEXT(入力シート!O105,\"000-0000\"))","v":""},{"$f":"IF(入力シート!F105=\"\",\"\",入力シート!F105)","v":""},{"$f":"IF(入力シート!G105=\"\",\"\",入力シート!G105)","v":""},{"$f":"IF(入力シート!H105=\"\",\"\",入力シート!H105)","v":""},{"$f":"IF(入力シート!I105=\"\",\"\",入力シート!I105)","v":""},{"$f":"IF(入力シート!J105=\"\",\"\",入力シート!J105)","v":""},{"$f":"IF(入力シート!K105=\"\",\"\",入力シート!K105)","v":""},{"$f":"IF(入力シート!L105=\"\",\"\",入力シート!L105)","v":""},{"$f":"IF(入力シート!M105=\"\",\"\",入力シート!M105)","v":""},{"$f":"IF(入力シート!N105=\"\",\"\",入力シート!P105)","v":""}]
[{"$f":"IF(入力シート!A106=\"\",\"\",入力シート!A106)","v":""},{"$f":"IF(入力シート!B106=\"\",\"\",入力シート!B106)","v":""},{"$f":"IF(入力シート!C106=\"\",\"\",TEXT(入力シート!C106,\"yyyy-mm-dd\"))","v":""},{"$f":"IF(入力シート!O106=\"\",\"\",TEXT(入力シート!O106,\"000-0000\"))","v":""},{"$f":"IF(入力シート!F106=\"\",\"\",入力シート!F106)","v":""},{"$f":"IF(入力シート!G106=\"\",\"\",入力シート!G106)","v":""},{"$f":"IF(入力シート!H106=\"\",\"\",入力シート!H106)","v":""},{"$f":"IF(入力シート!I106=\"\",\"\",入力シート!I106)","v":""},{"$f":"IF(入力シート!J106=\"\",\"\",入力シート!J106)","v":""},{"$f":"IF(入力シート!K106=\"\",\"\",入力シート!K106)","v":""},{"$f":"IF(入力シート!L106=\"\",\"\",入力シート!L106)","v":""},{"$f":"IF(入力シート!M106=\"\",\"\",入力シート!M106)","v":""},{"$f":"IF(入力シート!N106=\"\",\"\",入力シート!P106)","v":""}]
[{"$f":"IF(入力シート!A107=\"\",\"\",入力シート!A107)","v":""},{"$f":"IF(入力シート!B107=\"\",\"\",入力シート!B107)","v":""},{"$f":"IF(入力シート!C107=\"\",\"\",TEXT(入力シート!C107,\"yyyy-mm-dd\"))","v":""},{"$f":"IF(入力シート!O107=\"\",\"\",TEXT(入力シート!O107,\"000-0000\"))","v":""},{"$f":"IF(入力シート!F107=\"\",\"\",入力シート!F107)","v":""},{"$f":"IF(入力シート!G107=\"\",\"\",入力シート!G107)","v":""},{"$f":"IF(入力シート!H107=\"\",\"\",入力シート!H107)","v":""},{"$f":"IF(入力シート!I107=\"\",\"\",入力シート!I107)","v":""},{"$f":"IF(入力シート!J107=\"\",\"\",入力シート!J107)","v":""},{"$f":"IF(入力シート!K107=\"\",\"\",入力シート!K107)","v":""},{"$f":"IF(入力シート!L107=\"\",\"\",入力シート!L107)","v":""},{"$f":"IF(入力シート!M107=\"\",\"\",入力シート!M107)","v":""},{"$f":"IF(入力シート!N107=\"\",\"\",入力シート!P107)","v":""}]
[{"$f":"IF(入力シート!A108=\"\",\"\",入力シート!A108)","v":""},{"$f":"IF(入力シート!B108=\"\",\"\",入力シート!B108)","v":""},{"$f":"IF(入力シート!C108=\"\",\"\",TEXT(入力シート!C108,\"yyyy-mm-dd\"))","v":""},{"$f":"IF(入力シート!O108=\"\",\"\",TEXT(入力シート!O108,\"000-0000\"))","v":""},{"$f":"IF(入力シート!F108=\"\",\"\",入力シート!F108)","v":""},{"$f":"IF(入力シート!G108=\"\",\"\",入力シート!G108)","v":""},{"$f":"IF(入力シート!H108=\"\",\"\",入力シート!H108)","v":""},{"$f":"IF(入力シート!I108=\"\",\"\",入力シート!I108)","v":""},{"$f":"IF(入力シート!J108=\"\",\"\",入力シート!J108)","v":""},{"$f":"IF(入力シート!K108=\"\",\"\",入力シート!K108)","v":""},{"$f":"IF(入力シート!L108=\"\",\"\",入力シート!L108)","v":""},{"$f":"IF(入力シート!M108=\"\",\"\",入力シート!M108)","v":""},{"$f":"IF(入力シート!N108=\"\",\"\",入力シート!P108)","v":""}]
[{"$f":"IF(入力シート!A109=\"\",\"\",入力シート!A109)","v":""},{"$f":"IF(入力シート!B109=\"\",\"\",入力シート!B109)","v":""},{"$f":"IF(入力シート!C109=\"\",\"\",TEXT(入力シート!C109,\"yyyy-mm-dd\"))","v":""},{"$f":"IF(入力シート!O109=\"\",\"\",TEXT(入力シート!O109,\"000-0000\"))","v":""},{"$f":"IF(入力シート!F109=\"\",\"\",入力シート!F109)","v":""},{"$f":"IF(入力シート!G109=\"\",\"\",入力シート!G109)","v":""},{"$f":"IF(入力シート!H109=\"\",\"\",入力シート!H109)","v":""},{"$f":"IF(入力シート!I109=\"\",\"\",入力シート!I109)","v":""},{"$f":"IF(入力シート!J109=\"\",\"\",入力シート!J109)","v":""},{"$f":"IF(入力シート!K109=\"\",\"\",入力シート!K109)","v":""},{"$f":"IF(入力シート!L109=\"\",\"\",入力シート!L109)","v":""},{"$f":"IF(入力シート!M109=\"\",\"\",入力シート!M109)","v":""},{"$f":"IF(入力シート!N109=\"\",\"\",入力シート!P109)","v":""}]
[{"$f":"IF(入力シート!A110=\"\",\"\",入力シート!A110)","v":""},{"$f":"IF(入力シート!B110=\"\",\"\",入力シート!B110)","v":""},{"$f":"IF(入力シート!C110=\"\",\"\",TEXT(入力シート!C110,\"yyyy-mm-dd\"))","v":""},{"$f":"IF(入力シート!O110=\"\",\"\",TEXT(入力シート!O110,\"000-0000\"))","v":""},{"$f":"IF(入力シート!F110=\"\",\"\",入力シート!F110)","v":""},{"$f":"IF(入力シート!G110=\"\",\"\",入力シート!G110)","v":""},{"$f":"IF(入力シート!H110=\"\",\"\",入力シート!H110)","v":""},{"$f":"IF(入力シート!I110=\"\",\"\",入力シート!I110)","v":""},{"$f":"IF(入力シート!J110=\"\",\"\",入力シート!J110)","v":""},{"$f":"IF(入力シート!K110=\"\",\"\",入力シート!K110)","v":""},{"$f":"IF(入力シート!L110=\"\",\"\",入力シート!L110)","v":""},{"$f":"IF(入力シート!M110=\"\",\"\",入力シート!M110)","v":""},{"$f":"IF(入力シート!N110=\"\",\"\",入力シート!P110)","v":""}]
[{"$f":"IF(入力シート!A111=\"\",\"\",入力シート!A111)","v":""},{"$f":"IF(入力シート!B111=\"\",\"\",入力シート!B111)","v":""},{"$f":"IF(入力シート!C111=\"\",\"\",TEXT(入力シート!C111,\"yyyy-mm-dd\"))","v":""},{"$f":"IF(入力シート!O111=\"\",\"\",TEXT(入力シート!O111,\"000-0000\"))","v":""},{"$f":"IF(入力シート!F111=\"\",\"\",入力シート!F111)","v":""},{"$f":"IF(入力シート!G111=\"\",\"\",入力シート!G111)","v":""},{"$f":"IF(入力シート!H111=\"\",\"\",入力シート!H111)","v":""},{"$f":"IF(入力シート!I111=\"\",\"\",入力シート!I111)","v":""},{"$f":"IF(入力シート!J111=\"\",\"\",入力シート!J111)","v":""},{"$f":"IF(入力シート!K111=\"\",\"\",入力シート!K111)","v":""},{"$f":"IF(入力シート!L111=\"\",\"\",入力シート!L111)","v":""},{"$f":"IF(入力シート!M111=\"\",\"\",入力シート!M111)","v":""},{"$f":"IF(入力シート!N111=\"\",\"\",入力シート!P111)","v":""}]
[{"$f":"IF(入力シート!A112=\"\",\"\",入力シート!A112)","v":""},{"$f":"IF(入力シート!B112=\"\",\"\",入力シート!B112)","v":""},{"$f":"IF(入力シート!C112=\"\",\"\",TEXT(入力シート!C112,\"yyyy-mm-dd\"))","v":""},{"$f":"IF(入力シート!O112=\"\",\"\",TEXT(入力シート!O112,\"000-0000\"))","v":""},{"$f":"IF(入力シート!F112=\"\",\"\",入力シート!F112)","v":""},{"$f":"IF(入力シート!G112=\"\",\"\",入力シート!G112)","v":""},{"$f":"IF(入力シート!H112=\"\",\"\",入力シート!H112)","v":""},{"$f":"IF(入力シート!I112=\"\",\"\",入力シート!I112)","v":""},{"$f":"IF(入力シート!J112=\"\",\"\",入力シート!J112)","v":""},{"$f":"IF(入力シート!K112=\"\",\"\",入力シート!K112)","v":""},{"$f":"IF(入力シート!L112=\"\",\"\",入力シート!L112)","v":""},{"$f":"IF(入力シート!M112=\"\",\"\",入力シート!M112)","v":""},{"$f":"IF(入力シート!N112=\"\",\"\",入力シート!P112)","v":""}]
[{"$f":"IF(入力シート!A113=\"\",\"\",入力シート!A113)","v":""},{"$f":"IF(入力シート!B113=\"\",\"\",入力シート!B113)","v":""},{"$f":"IF(入力シート!C113=\"\",\"\",TEXT(入力シート!C113,\"yyyy-mm-dd\"))","v":""},{"$f":"IF(入力シート!O113=\"\",\"\",TEXT(入力シート!O113,\"000-0000\"))","v":""},{"$f":"IF(入力シート!F113=\"\",\"\",入力シート!F113)","v":""},{"$f":"IF(入力シート!G113=\"\",\"\",入力シート!G113)","v":""},{"$f":"IF(入力シート!H113=\"\",\"\",入力シート!H113)","v":""},{"$f":"IF(入力シート!I113=\"\",\"\",入力シート!I113)","v":""},{"$f":"IF(入力シート!J113=\"\",\"\",入力シート!J113)","v":""},{"$f":"IF(入力シート!K113=\"\",\"\",入力シート!K113)","v":""},{"$f":"IF(入力シート!L113=\"\",\"\",入力シート!L113)","v":""},{"$f":"IF(入力シート!M113=\"\",\"\",入力シート!M113)","v":""},{"$f":"IF(入力シート!N113=\"\",\"\",入力シート!P113)","v":""}]
[{"$f":"IF(入力シート!A114=\"\",\"\",入力シート!A114)","v":""},{"$f":"IF(入力シート!B114=\"\",\"\",入力シート!B114)","v":""},{"$f":"IF(入力シート!C114=\"\",\"\",TEXT(入力シート!C114,\"yyyy-mm-dd\"))","v":""},{"$f":"IF(入力シート!O114=\"\",\"\",TEXT(入力シート!O114,\"000-0000\"))","v":""},{"$f":"IF(入力シート!F114=\"\",\"\",入力シート!F114)","v":""},{"$f":"IF(入力シート!G114=\"\",\"\",入力シート!G114)","v":""},{"$f":"IF(入力シート!H114=\"\",\"\",入力シート!H114)","v":""},{"$f":"IF(入力シート!I114=\"\",\"\",入力シート!I114)","v":""},{"$f":"IF(入力シート!J114=\"\",\"\",入力シート!J114)","v":""},{"$f":"IF(入力シート!K114=\"\",\"\",入力シート!K114)","v":""},{"$f":"IF(入力シート!L114=\"\",\"\",入力シート!L114)","v":""},{"$f":"IF(入力シート!M114=\"\",\"\",入力シート!M114)","v":""},{"$f":"IF(入力シート!N114=\"\",\"\",入力シート!P114)","v":""}]
[{"$f":"IF(入力シート!A115=\"\",\"\",入力シート!A115)","v":""},{"$f":"IF(入力シート!B115=\"\",\"\",入力シート!B115)","v":""},{"$f":"IF(入力シート!C115=\"\",\"\",TEXT(入力シート!C115,\"yyyy-mm-dd\"))","v":""},{"$f":"IF(入力シート!O115=\"\",\"\",TEXT(入力シート!O115,\"000-0000\"))","v":""},{"$f":"IF(入力シート!F115=\"\",\"\",入力シート!F115)","v":""},{"$f":"IF(入力シート!G115=\"\",\"\",入力シート!G115)","v":""},{"$f":"IF(入力シート!H115=\"\",\"\",入力シート!H115)","v":""},{"$f":"IF(入力シート!I115=\"\",\"\",入力シート!I115)","v":""},{"$f":"IF(入力シート!J115=\"\",\"\",入力シート!J115)","v":""},{"$f":"IF(入力シート!K115=\"\",\"\",入力シート!K115)","v":""},{"$f":"IF(入力シート!L115=\"\",\"\",入力シート!L115)","v":""},{"$f":"IF(入力シート!M115=\"\",\"\",入力シート!M115)","v":""},{"$f":"IF(入力シート!N115=\"\",\"\",入力シート!P115)","v":""}]
[{"$f":"IF(入力シート!A116=\"\",\"\",入力シート!A116)","v":""},{"$f":"IF(入力シート!B116=\"\",\"\",入力シート!B116)","v":""},{"$f":"IF(入力シート!C116=\"\",\"\",TEXT(入力シート!C116,\"yyyy-mm-dd\"))","v":""},{"$f":"IF(入力シート!O116=\"\",\"\",TEXT(入力シート!O116,\"000-0000\"))","v":""},{"$f":"IF(入力シート!F116=\"\",\"\",入力シート!F116)","v":""},{"$f":"IF(入力シート!G116=\"\",\"\",入力シート!G116)","v":""},{"$f":"IF(入力シート!H116=\"\",\"\",入力シート!H116)","v":""},{"$f":"IF(入力シート!I116=\"\",\"\",入力シート!I116)","v":""},{"$f":"IF(入力シート!J116=\"\",\"\",入力シート!J116)","v":""},{"$f":"IF(入力シート!K116=\"\",\"\",入力シート!K116)","v":""},{"$f":"IF(入力シート!L116=\"\",\"\",入力シート!L116)","v":""},{"$f":"IF(入力シート!M116=\"\",\"\",入力シート!M116)","v":""},{"$f":"IF(入力シート!N116=\"\",\"\",入力シート!P116)","v":""}]
[{"$f":"IF(入力シート!A117=\"\",\"\",入力シート!A117)","v":""},{"$f":"IF(入力シート!B117=\"\",\"\",入力シート!B117)","v":""},{"$f":"IF(入力シート!C117=\"\",\"\",TEXT(入力シート!C117,\"yyyy-mm-dd\"))","v":""},{"$f":"IF(入力シート!O117=\"\",\"\",TEXT(入力シート!O117,\"000-0000\"))","v":""},{"$f":"IF(入力シート!F117=\"\",\"\",入力シート!F117)","v":""},{"$f":"IF(入力シート!G117=\"\",\"\",入力シート!G117)","v":""},{"$f":"IF(入力シート!H117=\"\",\"\",入力シート!H117)","v":""},{"$f":"IF(入力シート!I117=\"\",\"\",入力シート!I117)","v":""},{"$f":"IF(入力シート!J117=\"\",\"\",入力シート!J117)","v":""},{"$f":"IF(入力シート!K117=\"\",\"\",入力シート!K117)","v":""},{"$f":"IF(入力シート!L117=\"\",\"\",入力シート!L117)","v":""},{"$f":"IF(入力シート!M117=\"\",\"\",入力シート!M117)","v":""},{"$f":"IF(入力シート!N117=\"\",\"\",入力シート!P117)","v":""}]
[{"$f":"IF(入力シート!A118=\"\",\"\",入力シート!A118)","v":""},{"$f":"IF(入力シート!B118=\"\",\"\",入力シート!B118)","v":""},{"$f":"IF(入力シート!C118=\"\",\"\",TEXT(入力シート!C118,\"yyyy-mm-dd\"))","v":""},{"$f":"IF(入力シート!O118=\"\",\"\",TEXT(入力シート!O118,\"000-0000\"))","v":""},{"$f":"IF(入力シート!F118=\"\",\"\",入力シート!F118)","v":""},{"$f":"IF(入力シート!G118=\"\",\"\",入力シート!G118)","v":""},{"$f":"IF(入力シート!H118=\"\",\"\",入力シート!H118)","v":""},{"$f":"IF(入力シート!I118=\"\",\"\",入力シート!I118)","v":""},{"$f":"IF(入力シート!J118=\"\",\"\",入力シート!J118)","v":""},{"$f":"IF(入力シート!K118=\"\",\"\",入力シート!K118)","v":""},{"$f":"IF(入力シート!L118=\"\",\"\",入力シート!L118)","v":""},{"$f":"IF(入力シート!M118=\"\",\"\",入力シート!M118)","v":""},{"$f":"IF(入力シート!N118=\"\",\"\",入力シート!P118)","v":""}]
[{"$f":"IF(入力シート!A119=\"\",\"\",入力シート!A119)","v":""},{"$f":"IF(入力シート!B119=\"\",\"\",入力シート!B119)","v":""},{"$f":"IF(入力シート!C119=\"\",\"\",TEXT(入力シート!C119,\"yyyy-mm-dd\"))","v":""},{"$f":"IF(入力シート!O119=\"\",\"\",TEXT(入力シート!O119,\"000-0000\"))","v":""},{"$f":"IF(入力シート!F119=\"\",\"\",入力シート!F119)","v":""},{"$f":"IF(入力シート!G119=\"\",\"\",入力シート!G119)","v":""},{"$f":"IF(入力シート!H119=\"\",\"\",入力シート!H119)","v":""},{"$f":"IF(入力シート!I119=\"\",\"\",入力シート!I119)","v":""},{"$f":"IF(入力シート!J119=\"\",\"\",入力シート!J119)","v":""},{"$f":"IF(入力シート!K119=\"\",\"\",入力シート!K119)","v":""},{"$f":"IF(入力シート!L119=\"\",\"\",入力シート!L119)","v":""},{"$f":"IF(入力シート!M119=\"\",\"\",入力シート!M119)","v":""},{"$f":"IF(入力シート!N119=\"\",\"\",入力シート!P119)","v":""}]
[{"$f":"IF(入力シート!A120=\"\",\"\",入力シート!A120)","v":""},{"$f":"IF(入力シート!B120=\"\",\"\",入力シート!B120)","v":""},{"$f":"IF(入力シート!C120=\"\",\"\",TEXT(入力シート!C120,\"yyyy-mm-dd\"))","v":""},{"$f":"IF(入力シート!O120=\"\",\"\",TEXT(入力シート!O120,\"000-0000\"))","v":""},{"$f":"IF(入力シート!F120=\"\",\"\",入力シート!F120)","v":""},{"$f":"IF(入力シート!G120=\"\",\"\",入力シート!G120)","v":""},{"$f":"IF(入力シート!H120=\"\",\"\",入力シート!H120)","v":""},{"$f":"IF(入力シート!I120=\"\",\"\",入力シート!I120)","v":""},{"$f":"IF(入力シート!J120=\"\",\"\",入力シート!J120)","v":""},{"$f":"IF(入力シート!K120=\"\",\"\",入力シート!K120)","v":""},{"$f":"IF(入力シート!L120=\"\",\"\",入力シート!L120)","v":""},{"$f":"IF(入力シート!M120=\"\",\"\",入力シート!M120)","v":""},{"$f":"IF(入力シート!N120=\"\",\"\",入力シート!P120)","v":""}]
[{"$f":"IF(入力シート!A121=\"\",\"\",入力シート!A121)","v":""},{"$f":"IF(入力シート!B121=\"\",\"\",入力シート!B121)","v":""},{"$f":"IF(入力シート!C121=\"\",\"\",TEXT(入力シート!C121,\"yyyy-mm-dd\"))","v":""},{"$f":"IF(入力シート!O121=\"\",\"\",TEXT(入力シート!O121,\"000-0000\"))","v":""},{"$f":"IF(入力シート!F121=\"\",\"\",入力シート!F121)","v":""},{"$f":"IF(入力シート!G121=\"\",\"\",入力シート!G121)","v":""},{"$f":"IF(入力シート!H121=\"\",\"\",入力シート!H121)","v":""},{"$f":"IF(入力シート!I121=\"\",\"\",入力シート!I121)","v":""},{"$f":"IF(入力シート!J121=\"\",\"\",入力シート!J121)","v":""},{"$f":"IF(入力シート!K121=\"\",\"\",入力シート!K121)","v":""},{"$f":"IF(入力シート!L121=\"\",\"\",入力シート!L121)","v":""},{"$f":"IF(入力シート!M121=\"\",\"\",入力シート!M121)","v":""},{"$f":"IF(入力シート!N121=\"\",\"\",入力シート!P121)","v":""}]
[{"$f":"IF(入力シート!A122=\"\",\"\",入力シート!A122)","v":""},{"$f":"IF(入力シート!B122=\"\",\"\",入力シート!B122)","v":""},{"$f":"IF(入力シート!C122=\"\",\"\",TEXT(入力シート!C122,\"yyyy-mm-dd\"))","v":""},{"$f":"IF(入力シート!O122=\"\",\"\",TEXT(入力シート!O122,\"000-0000\"))","v":""},{"$f":"IF(入力シート!F122=\"\",\"\",入力シート!F122)","v":""},{"$f":"IF(入力シート!G122=\"\",\"\",入力シート!G122)","v":""},{"$f":"IF(入力シート!H122=\"\",\"\",入力シート!H122)","v":""},{"$f":"IF(入力シート!I122=\"\",\"\",入力シート!I122)","v":""},{"$f":"IF(入力シート!J122=\"\",\"\",入力シート!J122)","v":""},{"$f":"IF(入力シート!K122=\"\",\"\",入力シート!K122)","v":""},{"$f":"IF(入力シート!L122=\"\",\"\",入力シート!L122)","v":""},{"$f":"IF(入力シート!M122=\"\",\"\",入力シート!M122)","v":""},{"$f":"IF(入力シート!N122=\"\",\"\",入力シート!P122)","v":""}]
[{"$f":"IF(入力シート!A123=\"\",\"\",入力シート!A123)","v":""},{"$f":"IF(入力シート!B123=\"\",\"\",入力シート!B123)","v":""},{"$f":"IF(入力シート!C123=\"\",\"\",TEXT(入力シート!C123,\"yyyy-mm-dd\"))","v":""},{"$f":"IF(入力シート!O123=\"\",\"\",TEXT(入力シート!O123,\"000-0000\"))","v":""},{"$f":"IF(入力シート!F123=\"\",\"\",入力シート!F123)","v":""},{"$f":"IF(入力シート!G123=\"\",\"\",入力シート!G123)","v":""},{"$f":"IF(入力シート!H123=\"\",\"\",入力シート!H123)","v":""},{"$f":"IF(入力シート!I123=\"\",\"\",入力シート!I123)","v":""},{"$f":"IF(入力シート!J123=\"\",\"\",入力シート!J123)","v":""},{"$f":"IF(入力シート!K123=\"\",\"\",入力シート!K123)","v":""},{"$f":"IF(入力シート!L123=\"\",\"\",入力シート!L123)","v":""},{"$f":"IF(入力シート!M123=\"\",\"\",入力シート!M123)","v":""},{"$f":"IF(入力シート!N123=\"\",\"\",入力シート!P123)","v":""}]
[{"$f":"IF(入力シート!A124=\"\",\"\",入力シート!A124)","v":""},{"$f":"IF(入力シート!B124=\"\",\"\",入力シート!B124)","v":""},{"$f":"IF(入力シート!C124=\"\",\"\",TEXT(入力シート!C124,\"yyyy-mm-dd\"))","v":""},{"$f":"IF(入力シート!O124=\"\",\"\",TEXT(入力シート!O124,\"000-0000\"))","v":""},{"$f":"IF(入力シート!F124=\"\",\"\",入力シート!F124)","v":""},{"$f":"IF(入力シート!G124=\"\",\"\",入力シート!G124)","v":""},{"$f":"IF(入力シート!H124=\"\",\"\",入力シート!H124)","v":""},{"$f":"IF(入力シート!I124=\"\",\"\",入力シート!I124)","v":""},{"$f":"IF(入力シート!J124=\"\",\"\",入力シート!J124)","v":""},{"$f":"IF(入力シート!K124=\"\",\"\",入力シート!K124)","v":""},{"$f":"IF(入力シート!L124=\"\",\"\",入力シート!L124)","v":""},{"$f":"IF(入力シート!M124=\"\",\"\",入力シート!M124)","v":""},{"$f":"IF(入力シート!N124=\"\",\"\",入力シート!P124)","v":""}]
[{"$f":"IF(入力シート!A125=\"\",\"\",入力シート!A125)","v":""},{"$f":"IF(入力シート!B125=\"\",\"\",入力シート!B125)","v":""},{"$f":"IF(入力シート!C125=\"\",\"\",TEXT(入力シート!C125,\"yyyy-mm-dd\"))","v":""},{"$f":"IF(入力シート!O125=\"\",\"\",TEXT(入力シート!O125,\"000-0000\"))","v":""},{"$f":"IF(入力シート!F125=\"\",\"\",入力シート!F125)","v":""},{"$f":"IF(入力シート!G125=\"\",\"\",入力シート!G125)","v":""},{"$f":"IF(入力シート!H125=\"\",\"\",入力シート!H125)","v":""},{"$f":"IF(入力シート!I125=\"\",\"\",入力シート!I125)","v":""},{"$f":"IF(入力シート!J125=\"\",\"\",入力シート!J125)","v":""},{"$f":"IF(入力シート!K125=\"\",\"\",入力シート!K125)","v":""},{"$f":"IF(入力シート!L125=\"\",\"\",入力シート!L125)","v":""},{"$f":"IF(入力シート!M125=\"\",\"\",入力シート!M125)","v":""},{"$f":"IF(入力シート!N125=\"\",\"\",入力シート!P125)","v":""}]
[{"$f":"IF(入力シート!A126=\"\",\"\",入力シート!A126)","v":""},{"$f":"IF(入力シート!B126=\"\",\"\",入力シート!B126)","v":""},{"$f":"IF(入力シート!C126=\"\",\"\",TEXT(入力シート!C126,\"yyyy-mm-dd\"))","v":""},{"$f":"IF(入力シート!O126=\"\",\"\",TEXT(入力シート!O126,\"000-0000\"))","v":""},{"$f":"IF(入力シート!F126=\"\",\"\",入力シート!F126)","v":""},{"$f":"IF(入力シート!G126=\"\",\"\",入力シート!G126)","v":""},{"$f":"IF(入力シート!H126=\"\",\"\",入力シート!H126)","v":""},{"$f":"IF(入力シート!I126=\"\",\"\",入力シート!I126)","v":""},{"$f":"IF(入力シート!J126=\"\",\"\",入力シート!J126)","v":""},{"$f":"IF(入力シート!K126=\"\",\"\",入力シート!K126)","v":""},{"$f":"IF(入力シート!L126=\"\",\"\",入力シート!L126)","v":""},{"$f":"IF(入力シート!M126=\"\",\"\",入力シート!M126)","v":""},{"$f":"IF(入力シート!N126=\"\",\"\",入力シート!P126)","v":""}]
[{"$f":"IF(入力シート!A127=\"\",\"\",入力シート!A127)","v":""},{"$f":"IF(入力シート!B127=\"\",\"\",入力シート!B127)","v":""},{"$f":"IF(入力シート!C127=\"\",\"\",TEXT(入力シート!C127,\"yyyy-mm-dd\"))","v":""},{"$f":"IF(入力シート!O127=\"\",\"\",TEXT(入力シート!O127,\"000-0000\"))","v":""},{"$f":"IF(入力シート!F127=\"\",\"\",入力シート!F127)","v":""},{"$f":"IF(入力シート!G127=\"\",\"\",入力シート!G127)","v":""},{"$f":"IF(入力シート!H127=\"\",\"\",入力シート!H127)","v":""},{"$f":"IF(入力シート!I127=\"\",\"\",入力シート!I127)","v":""},{"$f":"IF(入力シート!J127=\"\",\"\",入力シート!J127)","v":""},{"$f":"IF(入力シート!K127=\"\",\"\",入力シート!K127)","v":""},{"$f":"IF(入力シート!L127=\"\",\"\",入力シート!L127)","v":""},{"$f":"IF(入力シート!M127=\"\",\"\",入力シート!M127)","v":""},{"$f":"IF(入力シート!N127=\"\",\"\",入力シート!P127)","v":""}]
[{"$f":"IF(入力シート!A128=\"\",\"\",入力シート!A128)","v":""},{"$f":"IF(入力シート!B128=\"\",\"\",入力シート!B128)","v":""},{"$f":"IF(入力シート!C128=\"\",\"\",TEXT(入力シート!C128,\"yyyy-mm-dd\"))","v":""},{"$f":"IF(入力シート!O128=\"\",\"\",TEXT(入力シート!O128,\"000-0000\"))","v":""},{"$f":"IF(入力シート!F128=\"\",\"\",入力シート!F128)","v":""},{"$f":"IF(入力シート!G128=\"\",\"\",入力シート!G128)","v":""},{"$f":"IF(入力シート!H128=\"\",\"\",入力シート!H128)","v":""},{"$f":"IF(入力シート!I128=\"\",\"\",入力シート!I128)","v":""},{"$f":"IF(入力シート!J128=\"\",\"\",入力シート!J128)","v":""},{"$f":"IF(入力シート!K128=\"\",\"\",入力シート!K128)","v":""},{"$f":"IF(入力シート!L128=\"\",\"\",入力シート!L128)","v":""},{"$f":"IF(入力シート!M128=\"\",\"\",入力シート!M128)","v":""},{"$f":"IF(入力シート!N128=\"\",\"\",入力シート!P128)","v":""}]
[{"$f":"IF(入力シート!A129=\"\",\"\",入力シート!A129)","v":""},{"$f":"IF(入力シート!B129=\"\",\"\",入力シート!B129)","v":""},{"$f":"IF(入力シート!C129=\"\",\"\",TEXT(入力シート!C129,\"yyyy-mm-dd\"))","v":""},{"$f":"IF(入力シート!O129=\"\",\"\",TEXT(入力シート!O129,\"000-0000\"))","v":""},{"$f":"IF(入力シート!F129=\"\",\"\",入力シート!F129)","v":""},{"$f":"IF(入力シート!G129=\"\",\"\",入力シート!G129)","v":""},{"$f":"IF(入力シート!H129=\"\",\"\",入力シート!H129)","v":""},{"$f":"IF(入力シート!I129=\"\",\"\",入力シート!I129)","v":""},{"$f":"IF(入力シート!J129=\"\",\"\",入力シート!J129)","v":""},{"$f":"IF(入力シート!K129=\"\",\"\",入力シート!K129)","v":""},{"$f":"IF(入力シート!L129=\"\",\"\",入力シート!L129)","v":""},{"$f":"IF(入力シート!M129=\"\",\"\",入力シート!M129)","v":""},{"$f":"IF(入力シート!N129=\"\",\"\",入力シート!P129)","v":""}]
[{"$f":"IF(入力シート!A130=\"\",\"\",入力シート!A130)","v":""},{"$f":"IF(入力シート!B130=\"\",\"\",入力シート!B130)","v":""},{"$f":"IF(入力シート!C130=\"\",\"\",TEXT(入力シート!C130,\"yyyy-mm-dd\"))","v":""},{"$f":"IF(入力シート!O130=\"\",\"\",TEXT(入力シート!O130,\"000-0000\"))","v":""},{"$f":"IF(入力シート!F130=\"\",\"\",入力シート!F130)","v":""},{"$f":"IF(入力シート!G130=\"\",\"\",入力シート!G130)","v":""},{"$f":"IF(入力シート!H130=\"\",\"\",入力シート!H130)","v":""},{"$f":"IF(入力シート!I130=\"\",\"\",入力シート!I130)","v":""},{"$f":"IF(入力シート!J130=\"\",\"\",入力シート!J130)","v":""},{"$f":"IF(入力シート!K130=\"\",\"\",入力シート!K130)","v":""},{"$f":"IF(入力シート!L130=\"\",\"\",入力シート!L130)","v":""},{"$f":"IF(入力シート!M130=\"\",\"\",入力シート!M130)","v":""},{"$f":"IF(入力シート!N130=\"\",\"\",入力シート!P130)","v":""}]
[{"$f":"IF(入力シート!A131=\"\",\"\",入力シート!A131)","v":""},{"$f":"IF(入力シート!B131=\"\",\"\",入力シート!B131)","v":""},{"$f":"IF(入力シート!C131=\"\",\"\",TEXT(入力シート!C131,\"yyyy-mm-dd\"))","v":""},{"$f":"IF(入力シート!O131=\"\",\"\",TEXT(入力シート!O131,\"000-0000\"))","v":""},{"$f":"IF(入力シート!F131=\"\",\"\",入力シート!F131)","v":""},{"$f":"IF(入力シート!G131=\"\",\"\",入力シート!G131)","v":""},{"$f":"IF(入力シート!H131=\"\",\"\",入力シート!H131)","v":""},{"$f":"IF(入力シート!I131=\"\",\"\",入力シート!I131)","v":""},{"$f":"IF(入力シート!J131=\"\",\"\",入力シート!J131)","v":""},{"$f":"IF(入力シート!K131=\"\",\"\",入力シート!K131)","v":""},{"$f":"IF(入力シート!L131=\"\",\"\",入力シート!L131)","v":""},{"$f":"IF(入力シート!M131=\"\",\"\",入力シート!M131)","v":""},{"$f":"IF(入力シート!N131=\"\",\"\",入力シート!P131)","v":""}]
[{"$f":"IF(入力シート!A132=\"\",\"\",入力シート!A132)","v":""},{"$f":"IF(入力シート!B132=\"\",\"\",入力シート!B132)","v":""},{"$f":"IF(入力シート!C132=\"\",\"\",TEXT(入力シート!C132,\"yyyy-mm-dd\"))","v":""},{"$f":"IF(入力シート!O132=\"\",\"\",TEXT(入力シート!O132,\"000-0000\"))","v":""},{"$f":"IF(入力シート!F132=\"\",\"\",入力シート!F132)","v":""},{"$f":"IF(入力シート!G132=\"\",\"\",入力シート!G132)","v":""},{"$f":"IF(入力シート!H132=\"\",\"\",入力シート!H132)","v":""},{"$f":"IF(入力シート!I132=\"\",\"\",入力シート!I132)","v":""},{"$f":"IF(入力シート!J132=\"\",\"\",入力シート!J132)","v":""},{"$f":"IF(入力シート!K132=\"\",\"\",入力シート!K132)","v":""},{"$f":"IF(入力シート!L132=\"\",\"\",入力シート!L132)","v":""},{"$f":"IF(入力シート!M132=\"\",\"\",入力シート!M132)","v":""},{"$f":"IF(入力シート!N132=\"\",\"\",入力シート!P132)","v":""}]
[{"$f":"IF(入力シート!A133=\"\",\"\",入力シート!A133)","v":""},{"$f":"IF(入力シート!B133=\"\",\"\",入力シート!B133)","v":""},{"$f":"IF(入力シート!C133=\"\",\"\",TEXT(入力シート!C133,\"yyyy-mm-dd\"))","v":""},{"$f":"IF(入力シート!O133=\"\",\"\",TEXT(入力シート!O133,\"000-0000\"))","v":""},{"$f":"IF(入力シート!F133=\"\",\"\",入力シート!F133)","v":""},{"$f":"IF(入力シート!G133=\"\",\"\",入力シート!G133)","v":""},{"$f":"IF(入力シート!H133=\"\",\"\",入力シート!H133)","v":""},{"$f":"IF(入力シート!I133=\"\",\"\",入力シート!I133)","v":""},{"$f":"IF(入力シート!J133=\"\",\"\",入力シート!J133)","v":""},{"$f":"IF(入力シート!K133=\"\",\"\",入力シート!K133)","v":""},{"$f":"IF(入力シート!L133=\"\",\"\",入力シート!L133)","v":""},{"$f":"IF(入力シート!M133=\"\",\"\",入力シート!M133)","v":""},{"$f":"IF(入力シート!N133=\"\",\"\",入力シート!P133)","v":""}]
[{"$f":"IF(入力シート!A134=\"\",\"\",入力シート!A134)","v":""},{"$f":"IF(入力シート!B134=\"\",\"\",入力シート!B134)","v":""},{"$f":"IF(入力シート!C134=\"\",\"\",TEXT(入力シート!C134,\"yyyy-mm-dd\"))","v":""},{"$f":"IF(入力シート!O134=\"\",\"\",TEXT(入力シート!O134,\"000-0000\"))","v":""},{"$f":"IF(入力シート!F134=\"\",\"\",入力シート!F134)","v":""},{"$f":"IF(入力シート!G134=\"\",\"\",入力シート!G134)","v":""},{"$f":"IF(入力シート!H134=\"\",\"\",入力シート!H134)","v":""},{"$f":"IF(入力シート!I134=\"\",\"\",入力シート!I134)","v":""},{"$f":"IF(入力シート!J134=\"\",\"\",入力シート!J134)","v":""},{"$f":"IF(入力シート!K134=\"\",\"\",入力シート!K134)","v":""},{"$f":"IF(入力シート!L134=\"\",\"\",入力シート!L134)","v":""},{"$f":"IF(入力シート!M134=\"\",\"\",入力シート!M134)","v":""},{"$f":"IF(入力シート!N134=\"\",\"\",入力シート!P134)","v":""}]
[{"$f":"IF(入力シート!A135=\"\",\"\",入力シート!A135)","v":""},{"$f":"IF(入力シート!B135=\"\",\"\",入力シート!B135)","v":""},{"$f":"IF(入力シート!C135=\"\",\"\",TEXT(入力シート!C135,\"yyyy-mm-dd\"))","v":""},{"$f":"IF(入力シート!O135=\"\",\"\",TEXT(入力シート!O135,\"000-0000\"))","v":""},{"$f":"IF(入力シート!F135=\"\",\"\",入力シート!F135)","v":""},{"$f":"IF(入力シート!G135=\"\",\"\",入力シート!G135)","v":""},{"$f":"IF(入力シート!H135=\"\",\"\",入力シート!H135)","v":""},{"$f":"IF(入力シート!I135=\"\",\"\",入力シート!I135)","v":""},{"$f":"IF(入力シート!J135=\"\",\"\",入力シート!J135)","v":""},{"$f":"IF(入力シート!K135=\"\",\"\",入力シート!K135)","v":""},{"$f":"IF(入力シート!L135=\"\",\"\",入力シート!L135)","v":""},{"$f":"IF(入力シート!M135=\"\",\"\",入力シート!M135)","v":""},{"$f":"IF(入力シート!N135=\"\",\"\",入力シート!P135)","v":""}]
[{"$f":"IF(入力シート!A136=\"\",\"\",入力シート!A136)","v":""},{"$f":"IF(入力シート!B136=\"\",\"\",入力シート!B136)","v":""},{"$f":"IF(入力シート!C136=\"\",\"\",TEXT(入力シート!C136,\"yyyy-mm-dd\"))","v":""},{"$f":"IF(入力シート!O136=\"\",\"\",TEXT(入力シート!O136,\"000-0000\"))","v":""},{"$f":"IF(入力シート!F136=\"\",\"\",入力シート!F136)","v":""},{"$f":"IF(入力シート!G136=\"\",\"\",入力シート!G136)","v":""},{"$f":"IF(入力シート!H136=\"\",\"\",入力シート!H136)","v":""},{"$f":"IF(入力シート!I136=\"\",\"\",入力シート!I136)","v":""},{"$f":"IF(入力シート!J136=\"\",\"\",入力シート!J136)","v":""},{"$f":"IF(入力シート!K136=\"\",\"\",入力シート!K136)","v":""},{"$f":"IF(入力シート!L136=\"\",\"\",入力シート!L136)","v":""},{"$f":"IF(入力シート!M136=\"\",\"\",入力シート!M136)","v":""},{"$f":"IF(入力シート!N136=\"\",\"\",入力シート!P136)","v":""}]
[{"$f":"IF(入力シート!A137=\"\",\"\",入力シート!A137)","v":""},{"$f":"IF(入力シート!B137=\"\",\"\",入力シート!B137)","v":""},{"$f":"IF(入力シート!C137=\"\",\"\",TEXT(入力シート!C137,\"yyyy-mm-dd\"))","v":""},{"$f":"IF(入力シート!O137=\"\",\"\",TEXT(入力シート!O137,\"000-0000\"))","v":""},{"$f":"IF(入力シート!F137=\"\",\"\",入力シート!F137)","v":""},{"$f":"IF(入力シート!G137=\"\",\"\",入力シート!G137)","v":""},{"$f":"IF(入力シート!H137=\"\",\"\",入力シート!H137)","v":""},{"$f":"IF(入力シート!I137=\"\",\"\",入力シート!I137)","v":""},{"$f":"IF(入力シート!J137=\"\",\"\",入力シート!J137)","v":""},{"$f":"IF(入力シート!K137=\"\",\"\",入力シート!K137)","v":""},{"$f":"IF(入力シート!L137=\"\",\"\",入力シート!L137)","v":""},{"$f":"IF(入力シート!M137=\"\",\"\",入力シート!M137)","v":""},{"$f":"IF(入力シート!N137=\"\",\"\",入力シート!P137)","v":""}]
[{"$f":"IF(入力シート!A138=\"\",\"\",入力シート!A138)","v":""},{"$f":"IF(入力シート!B138=\"\",\"\",入力シート!B138)","v":""},{"$f":"IF(入力シート!C138=\"\",\"\",TEXT(入力シート!C138,\"yyyy-mm-dd\"))","v":""},{"$f":"IF(入力シート!O138=\"\",\"\",TEXT(入力シート!O138,\"000-0000\"))","v":""},{"$f":"IF(入力シート!F138=\"\",\"\",入力シート!F138)","v":""},{"$f":"IF(入力シート!G138=\"\",\"\",入力シート!G138)","v":""},{"$f":"IF(入力シート!H138=\"\",\"\",入力シート!H138)","v":""},{"$f":"IF(入力シート!I138=\"\",\"\",入力シート!I138)","v":""},{"$f":"IF(入力シート!J138=\"\",\"\",入力シート!J138)","v":""},{"$f":"IF(入力シート!K138=\"\",\"\",入力シート!K138)","v":""},{"$f":"IF(入力シート!L138=\"\",\"\",入力シート!L138)","v":""},{"$f":"IF(入力シート!M138=\"\",\"\",入力シート!M138)","v":""},{"$f":"IF(入力シート!N138=\"\",\"\",入力シート!P138)","v":""}]
[{"$f":"IF(入力シート!A139=\"\",\"\",入力シート!A139)","v":""},{"$f":"IF(入力シート!B139=\"\",\"\",入力シート!B139)","v":""},{"$f":"IF(入力シート!C139=\"\",\"\",TEXT(入力シート!C139,\"yyyy-mm-dd\"))","v":""},{"$f":"IF(入力シート!O139=\"\",\"\",TEXT(入力シート!O139,\"000-0000\"))","v":""},{"$f":"IF(入力シート!F139=\"\",\"\",入力シート!F139)","v":""},{"$f":"IF(入力シート!G139=\"\",\"\",入力シート!G139)","v":""},{"$f":"IF(入力シート!H139=\"\",\"\",入力シート!H139)","v":""},{"$f":"IF(入力シート!I139=\"\",\"\",入力シート!I139)","v":""},{"$f":"IF(入力シート!J139=\"\",\"\",入力シート!J139)","v":""},{"$f":"IF(入力シート!K139=\"\",\"\",入力シート!K139)","v":""},{"$f":"IF(入力シート!L139=\"\",\"\",入力シート!L139)","v":""},{"$f":"IF(入力シート!M139=\"\",\"\",入力シート!M139)","v":""},{"$f":"IF(入力シート!N139=\"\",\"\",入力シート!P139)","v":""}]
[{"$f":"IF(入力シート!A140=\"\",\"\",入力シート!A140)","v":""},{"$f":"IF(入力シート!B140=\"\",\"\",入力シート!B140)","v":""},{"$f":"IF(入力シート!C140=\"\",\"\",TEXT(入力シート!C140,\"yyyy-mm-dd\"))","v":""},{"$f":"IF(入力シート!O140=\"\",\"\",TEXT(入力シート!O140,\"000-0000\"))","v":""},{"$f":"IF(入力シート!F140=\"\",\"\",入力シート!F140)","v":""},{"$f":"IF(入力シート!G140=\"\",\"\",入力シート!G140)","v":""},{"$f":"IF(入力シート!H140=\"\",\"\",入力シート!H140)","v":""},{"$f":"IF(入力シート!I140=\"\",\"\",入力シート!I140)","v":""},{"$f":"IF(入力シート!J140=\"\",\"\",入力シート!J140)","v":""},{"$f":"IF(入力シート!K140=\"\",\"\",入力シート!K140)","v":""},{"$f":"IF(入力シート!L140=\"\",\"\",入力シート!L140)","v":""},{"$f":"IF(入力シート!M140=\"\",\"\",入力シート!M140)","v":""},{"$f":"IF(入力シート!N140=\"\",\"\",入力シート!P140)","v":""}]
[{"$f":"IF(入力シート!A141=\"\",\"\",入力シート!A141)","v":""},{"$f":"IF(入力シート!B141=\"\",\"\",入力シート!B141)","v":""},{"$f":"IF(入力シート!C141=\"\",\"\",TEXT(入力シート!C141,\"yyyy-mm-dd\"))","v":""},{"$f":"IF(入力シート!O141=\"\",\"\",TEXT(入力シート!O141,\"000-0000\"))","v":""},{"$f":"IF(入力シート!F141=\"\",\"\",入力シート!F141)","v":""},{"$f":"IF(入力シート!G141=\"\",\"\",入力シート!G141)","v":""},{"$f":"IF(入力シート!H141=\"\",\"\",入力シート!H141)","v":""},{"$f":"IF(入力シート!I141=\"\",\"\",入力シート!I141)","v":""},{"$f":"IF(入力シート!J141=\"\",\"\",入力シート!J141)","v":""},{"$f":"IF(入力シート!K141=\"\",\"\",入力シート!K141)","v":""},{"$f":"IF(入力シート!L141=\"\",\"\",入力シート!L141)","v":""},{"$f":"IF(入力シート!M141=\"\",\"\",入力シート!M141)","v":""},{"$f":"IF(入力シート!N141=\"\",\"\",入力シート!P141)","v":""}]
[{"$f":"IF(入力シート!A142=\"\",\"\",入力シート!A142)","v":""},{"$f":"IF(入力シート!B142=\"\",\"\",入力シート!B142)","v":""},{"$f":"IF(入力シート!C142=\"\",\"\",TEXT(入力シート!C142,\"yyyy-mm-dd\"))","v":""},{"$f":"IF(入力シート!O142=\"\",\"\",TEXT(入力シート!O142,\"000-0000\"))","v":""},{"$f":"IF(入力シート!F142=\"\",\"\",入力シート!F142)","v":""},{"$f":"IF(入力シート!G142=\"\",\"\",入力シート!G142)","v":""},{"$f":"IF(入力シート!H142=\"\",\"\",入力シート!H142)","v":""},{"$f":"IF(入力シート!I142=\"\",\"\",入力シート!I142)","v":""},{"$f":"IF(入力シート!J142=\"\",\"\",入力シート!J142)","v":""},{"$f":"IF(入力シート!K142=\"\",\"\",入力シート!K142)","v":""},{"$f":"IF(入力シート!L142=\"\",\"\",入力シート!L142)","v":""},{"$f":"IF(入力シート!M142=\"\",\"\",入力シート!M142)","v":""},{"$f":"IF(入力シート!N142=\"\",\"\",入力シート!P142)","v":""}]
[{"$f":"IF(入力シート!A143=\"\",\"\",入力シート!A143)","v":""},{"$f":"IF(入力シート!B143=\"\",\"\",入力シート!B143)","v":""},{"$f":"IF(入力シート!C143=\"\",\"\",TEXT(入力シート!C143,\"yyyy-mm-dd\"))","v":""},{"$f":"IF(入力シート!O143=\"\",\"\",TEXT(入力シート!O143,\"000-0000\"))","v":""},{"$f":"IF(入力シート!F143=\"\",\"\",入力シート!F143)","v":""},{"$f":"IF(入力シート!G143=\"\",\"\",入力シート!G143)","v":""},{"$f":"IF(入力シート!H143=\"\",\"\",入力シート!H143)","v":""},{"$f":"IF(入力シート!I143=\"\",\"\",入力シート!I143)","v":""},{"$f":"IF(入力シート!J143=\"\",\"\",入力シート!J143)","v":""},{"$f":"IF(入力シート!K143=\"\",\"\",入力シート!K143)","v":""},{"$f":"IF(入力シート!L143=\"\",\"\",入力シート!L143)","v":""},{"$f":"IF(入力シート!M143=\"\",\"\",入力シート!M143)","v":""},{"$f":"IF(入力シート!N143=\"\",\"\",入力シート!P143)","v":""}]
[{"$f":"IF(入力シート!A144=\"\",\"\",入力シート!A144)","v":""},{"$f":"IF(入力シート!B144=\"\",\"\",入力シート!B144)","v":""},{"$f":"IF(入力シート!C144=\"\",\"\",TEXT(入力シート!C144,\"yyyy-mm-dd\"))","v":""},{"$f":"IF(入力シート!O144=\"\",\"\",TEXT(入力シート!O144,\"000-0000\"))","v":""},{"$f":"IF(入力シート!F144=\"\",\"\",入力シート!F144)","v":""},{"$f":"IF(入力シート!G144=\"\",\"\",入力シート!G144)","v":""},{"$f":"IF(入力シート!H144=\"\",\"\",入力シート!H144)","v":""},{"$f":"IF(入力シート!I144=\"\",\"\",入力シート!I144)","v":""},{"$f":"IF(入力シート!J144=\"\",\"\",入力シート!J144)","v":""},{"$f":"IF(入力シート!K144=\"\",\"\",入力シート!K144)","v":""},{"$f":"IF(入力シート!L144=\"\",\"\",入力シート!L144)","v":""},{"$f":"IF(入力シート!M144=\"\",\"\",入力シート!M144)","v":""},{"$f":"IF(入力シート!N144=\"\",\"\",入力シート!P144)","v":""}]
[{"$f":"IF(入力シート!A145=\"\",\"\",入力シート!A145)","v":""},{"$f":"IF(入力シート!B145=\"\",\"\",入力シート!B145)","v":""},{"$f":"IF(入力シート!C145=\"\",\"\",TEXT(入力シート!C145,\"yyyy-mm-dd\"))","v":""},{"$f":"IF(入力シート!O145=\"\",\"\",TEXT(入力シート!O145,\"000-0000\"))","v":""},{"$f":"IF(入力シート!F145=\"\",\"\",入力シート!F145)","v":""},{"$f":"IF(入力シート!G145=\"\",\"\",入力シート!G145)","v":""},{"$f":"IF(入力シート!H145=\"\",\"\",入力シート!H145)","v":""},{"$f":"IF(入力シート!I145=\"\",\"\",入力シート!I145)","v":""},{"$f":"IF(入力シート!J145=\"\",\"\",入力シート!J145)","v":""},{"$f":"IF(入力シート!K145=\"\",\"\",入力シート!K145)","v":""},{"$f":"IF(入力シート!L145=\"\",\"\",入力シート!L145)","v":""},{"$f":"IF(入力シート!M145=\"\",\"\",入力シート!M145)","v":""},{"$f":"IF(入力シート!N145=\"\",\"\",入力シート!P145)","v":""}]
[{"$f":"IF(入力シート!A146=\"\",\"\",入力シート!A146)","v":""},{"$f":"IF(入力シート!B146=\"\",\"\",入力シート!B146)","v":""},{"$f":"IF(入力シート!C146=\"\",\"\",TEXT(入力シート!C146,\"yyyy-mm-dd\"))","v":""},{"$f":"IF(入力シート!O146=\"\",\"\",TEXT(入力シート!O146,\"000-0000\"))","v":""},{"$f":"IF(入力シート!F146=\"\",\"\",入力シート!F146)","v":""},{"$f":"IF(入力シート!G146=\"\",\"\",入力シート!G146)","v":""},{"$f":"IF(入力シート!H146=\"\",\"\",入力シート!H146)","v":""},{"$f":"IF(入力シート!I146=\"\",\"\",入力シート!I146)","v":""},{"$f":"IF(入力シート!J146=\"\",\"\",入力シート!J146)","v":""},{"$f":"IF(入力シート!K146=\"\",\"\",入力シート!K146)","v":""},{"$f":"IF(入力シート!L146=\"\",\"\",入力シート!L146)","v":""},{"$f":"IF(入力シート!M146=\"\",\"\",入力シート!M146)","v":""},{"$f":"IF(入力シート!N146=\"\",\"\",入力シート!P146)","v":""}]
[{"$f":"IF(入力シート!A147=\"\",\"\",入力シート!A147)","v":""},{"$f":"IF(入力シート!B147=\"\",\"\",入力シート!B147)","v":""},{"$f":"IF(入力シート!C147=\"\",\"\",TEXT(入力シート!C147,\"yyyy-mm-dd\"))","v":""},{"$f":"IF(入力シート!O147=\"\",\"\",TEXT(入力シート!O147,\"000-0000\"))","v":""},{"$f":"IF(入力シート!F147=\"\",\"\",入力シート!F147)","v":""},{"$f":"IF(入力シート!G147=\"\",\"\",入力シート!G147)","v":""},{"$f":"IF(入力シート!H147=\"\",\"\",入力シート!H147)","v":""},{"$f":"IF(入力シート!I147=\"\",\"\",入力シート!I147)","v":""},{"$f":"IF(入力シート!J147=\"\",\"\",入力シート!J147)","v":""},{"$f":"IF(入力シート!K147=\"\",\"\",入力シート!K147)","v":""},{"$f":"IF(入力シート!L147=\"\",\"\",入力シート!L147)","v":""},{"$f":"IF(入力シート!M147=\"\",\"\",入力シート!M147)","v":""},{"$f":"IF(入力シート!N147=\"\",\"\",入力シート!P147)","v":""}]
[{"$f":"IF(入力シート!A148=\"\",\"\",入力シート!A148)","v":""},{"$f":"IF(入力シート!B148=\"\",\"\",入力シート!B148)","v":""},{"$f":"IF(入力シート!C148=\"\",\"\",TEXT(入力シート!C148,\"yyyy-mm-dd\"))","v":""},{"$f":"IF(入力シート!O148=\"\",\"\",TEXT(入力シート!O148,\"000-0000\"))","v":""},{"$f":"IF(入力シート!F148=\"\",\"\",入力シート!F148)","v":""},{"$f":"IF(入力シート!G148=\"\",\"\",入力シート!G148)","v":""},{"$f":"IF(入力シート!H148=\"\",\"\",入力シート!H148)","v":""},{"$f":"IF(入力シート!I148=\"\",\"\",入力シート!I148)","v":""},{"$f":"IF(入力シート!J148=\"\",\"\",入力シート!J148)","v":""},{"$f":"IF(入力シート!K148=\"\",\"\",入力シート!K148)","v":""},{"$f":"IF(入力シート!L148=\"\",\"\",入力シート!L148)","v":""},{"$f":"IF(入力シート!M148=\"\",\"\",入力シート!M148)","v":""},{"$f":"IF(入力シート!N148=\"\",\"\",入力シート!P148)","v":""}]
[{"$f":"IF(入力シート!A149=\"\",\"\",入力シート!A149)","v":""},{"$f":"IF(入力シート!B149=\"\",\"\",入力シート!B149)","v":""},{"$f":"IF(入力シート!C149=\"\",\"\",TEXT(入力シート!C149,\"yyyy-mm-dd\"))","v":""},{"$f":"IF(入力シート!O149=\"\",\"\",TEXT(入力シート!O149,\"000-0000\"))","v":""},{"$f":"IF(入力シート!F149=\"\",\"\",入力シート!F149)","v":""},{"$f":"IF(入力シート!G149=\"\",\"\",入力シート!G149)","v":""},{"$f":"IF(入力シート!H149=\"\",\"\",入力シート!H149)","v":""},{"$f":"IF(入力シート!I149=\"\",\"\",入力シート!I149)","v":""},{"$f":"IF(入力シート!J149=\"\",\"\",入力シート!J149)","v":""},{"$f":"IF(入力シート!K149=\"\",\"\",入力シート!K149)","v":""},{"$f":"IF(入力シート!L149=\"\",\"\",入力シート!L149)","v":""},{"$f":"IF(入力シート!M149=\"\",\"\",入力シート!M149)","v":""},{"$f":"IF(入力シート!N149=\"\",\"\",入力シート!P149)","v":""}]
[{"$f":"IF(入力シート!A150=\"\",\"\",入力シート!A150)","v":""},{"$f":"IF(入力シート!B150=\"\",\"\",入力シート!B150)","v":""},{"$f":"IF(入力シート!C150=\"\",\"\",TEXT(入力シート!C150,\"yyyy-mm-dd\"))","v":""},{"$f":"IF(入力シート!O150=\"\",\"\",TEXT(入力シート!O150,\"000-0000\"))","v":""},{"$f":"IF(入力シート!F150=\"\",\"\",入力シート!F150)","v":""},{"$f":"IF(入力シート!G150=\"\",\"\",入力シート!G150)","v":""},{"$f":"IF(入力シート!H150=\"\",\"\",入力シート!H150)","v":""},{"$f":"IF(入力シート!I150=\"\",\"\",入力シート!I150)","v":""},{"$f":"IF(入力シート!J150=\"\",\"\",入力シート!J150)","v":""},{"$f":"IF(入力シート!K150=\"\",\"\",入力シート!K150)","v":""},{"$f":"IF(入力シート!L150=\"\",\"\",入力シート!L150)","v":""},{"$f":"IF(入力シート!M150=\"\",\"\",入力シート!M150)","v":""},{"$f":"IF(入力シート!N150=\"\",\"\",入力シート!P150)","v":""}]
[{"$f":"IF(入力シート!A151=\"\",\"\",入力シート!A151)","v":""},{"$f":"IF(入力シート!B151=\"\",\"\",入力シート!B151)","v":""},{"$f":"IF(入力シート!C151=\"\",\"\",TEXT(入力シート!C151,\"yyyy-mm-dd\"))","v":""},{"$f":"IF(入力シート!O151=\"\",\"\",TEXT(入力シート!O151,\"000-0000\"))","v":""},{"$f":"IF(入力シート!F151=\"\",\"\",入力シート!F151)","v":""},{"$f":"IF(入力シート!G151=\"\",\"\",入力シート!G151)","v":""},{"$f":"IF(入力シート!H151=\"\",\"\",入力シート!H151)","v":""},{"$f":"IF(入力シート!I151=\"\",\"\",入力シート!I151)","v":""},{"$f":"IF(入力シート!J151=\"\",\"\",入力シート!J151)","v":""},{"$f":"IF(入力シート!K151=\"\",\"\",入力シート!K151)","v":""},{"$f":"IF(入力シート!L151=\"\",\"\",入力シート!L151)","v":""},{"$f":"IF(入力シート!M151=\"\",\"\",入力シート!M151)","v":""},{"$f":"IF(入力シート!N151=\"\",\"\",入力シート!P151)","v":""}]
[{"$f":"IF(入力シート!A152=\"\",\"\",入力シート!A152)","v":""},{"$f":"IF(入力シート!B152=\"\",\"\",入力シート!B152)","v":""},{"$f":"IF(入力シート!C152=\"\",\"\",TEXT(入力シート!C152,\"yyyy-mm-dd\"))","v":""},{"$f":"IF(入力シート!O152=\"\",\"\",TEXT(入力シート!O152,\"000-0000\"))","v":""},{"$f":"IF(入力シート!F152=\"\",\"\",入力シート!F152)","v":""},{"$f":"IF(入力シート!G152=\"\",\"\",入力シート!G152)","v":""},{"$f":"IF(入力シート!H152=\"\",\"\",入力シート!H152)","v":""},{"$f":"IF(入力シート!I152=\"\",\"\",入力シート!I152)","v":""},{"$f":"IF(入力シート!J152=\"\",\"\",入力シート!J152)","v":""},{"$f":"IF(入力シート!K152=\"\",\"\",入力シート!K152)","v":""},{"$f":"IF(入力シート!L152=\"\",\"\",入力シート!L152)","v":""},{"$f":"IF(入力シート!M152=\"\",\"\",入力シート!M152)","v":""},{"$f":"IF(入力シート!N152=\"\",\"\",入力シート!P152)","v":""}]
[{"$f":"IF(入力シート!A153=\"\",\"\",入力シート!A153)","v":""},{"$f":"IF(入力シート!B153=\"\",\"\",入力シート!B153)","v":""},{"$f":"IF(入力シート!C153=\"\",\"\",TEXT(入力シート!C153,\"yyyy-mm-dd\"))","v":""},{"$f":"IF(入力シート!O153=\"\",\"\",TEXT(入力シート!O153,\"000-0000\"))","v":""},{"$f":"IF(入力シート!F153=\"\",\"\",入力シート!F153)","v":""},{"$f":"IF(入力シート!G153=\"\",\"\",入力シート!G153)","v":""},{"$f":"IF(入力シート!H153=\"\",\"\",入力シート!H153)","v":""},{"$f":"IF(入力シート!I153=\"\",\"\",入力シート!I153)","v":""},{"$f":"IF(入力シート!J153=\"\",\"\",入力シート!J153)","v":""},{"$f":"IF(入力シート!K153=\"\",\"\",入力シート!K153)","v":""},{"$f":"IF(入力シート!L153=\"\",\"\",入力シート!L153)","v":""},{"$f":"IF(入力シート!M153=\"\",\"\",入力シート!M153)","v":""},{"$f":"IF(入力シート!N153=\"\",\"\",入力シート!P153)","v":""}]
[{"$f":"IF(入力シート!A154=\"\",\"\",入力シート!A154)","v":""},{"$f":"IF(入力シート!B154=\"\",\"\",入力シート!B154)","v":""},{"$f":"IF(入力シート!C154=\"\",\"\",TEXT(入力シート!C154,\"yyyy-mm-dd\"))","v":""},{"$f":"IF(入力シート!O154=\"\",\"\",TEXT(入力シート!O154,\"000-0000\"))","v":""},{"$f":"IF(入力シート!F154=\"\",\"\",入力シート!F154)","v":""},{"$f":"IF(入力シート!G154=\"\",\"\",入力シート!G154)","v":""},{"$f":"IF(入力シート!H154=\"\",\"\",入力シート!H154)","v":""},{"$f":"IF(入力シート!I154=\"\",\"\",入力シート!I154)","v":""},{"$f":"IF(入力シート!J154=\"\",\"\",入力シート!J154)","v":""},{"$f":"IF(入力シート!K154=\"\",\"\",入力シート!K154)","v":""},{"$f":"IF(入力シート!L154=\"\",\"\",入力シート!L154)","v":""},{"$f":"IF(入力シート!M154=\"\",\"\",入力シート!M154)","v":""},{"$f":"IF(入力シート!N154=\"\",\"\",入力シート!P154)","v":""}]
[{"$f":"IF(入力シート!A155=\"\",\"\",入力シート!A155)","v":""},{"$f":"IF(入力シート!B155=\"\",\"\",入力シート!B155)","v":""},{"$f":"IF(入力シート!C155=\"\",\"\",TEXT(入力シート!C155,\"yyyy-mm-dd\"))","v":""},{"$f":"IF(入力シート!O155=\"\",\"\",TEXT(入力シート!O155,\"000-0000\"))","v":""},{"$f":"IF(入力シート!F155=\"\",\"\",入力シート!F155)","v":""},{"$f":"IF(入力シート!G155=\"\",\"\",入力シート!G155)","v":""},{"$f":"IF(入力シート!H155=\"\",\"\",入力シート!H155)","v":""},{"$f":"IF(入力シート!I155=\"\",\"\",入力シート!I155)","v":""},{"$f":"IF(入力シート!J155=\"\",\"\",入力シート!J155)","v":""},{"$f":"IF(入力シート!K155=\"\",\"\",入力シート!K155)","v":""},{"$f":"IF(入力シート!L155=\"\",\"\",入力シート!L155)","v":""},{"$f":"IF(入力シート!M155=\"\",\"\",入力シート!M155)","v":""},{"$f":"IF(入力シート!N155=\"\",\"\",入力シート!P155)","v":""}]
[{"$f":"IF(入力シート!A156=\"\",\"\",入力シート!A156)","v":""},{"$f":"IF(入力シート!B156=\"\",\"\",入力シート!B156)","v":""},{"$f":"IF(入力シート!C156=\"\",\"\",TEXT(入力シート!C156,\"yyyy-mm-dd\"))","v":""},{"$f":"IF(入力シート!O156=\"\",\"\",TEXT(入力シート!O156,\"000-0000\"))","v":""},{"$f":"IF(入力シート!F156=\"\",\"\",入力シート!F156)","v":""},{"$f":"IF(入力シート!G156=\"\",\"\",入力シート!G156)","v":""},{"$f":"IF(入力シート!H156=\"\",\"\",入力シート!H156)","v":""},{"$f":"IF(入力シート!I156=\"\",\"\",入力シート!I156)","v":""},{"$f":"IF(入力シート!J156=\"\",\"\",入力シート!J156)","v":""},{"$f":"IF(入力シート!K156=\"\",\"\",入力シート!K156)","v":""},{"$f":"IF(入力シート!L156=\"\",\"\",入力シート!L156)","v":""},{"$f":"IF(入力シート!M156=\"\",\"\",入力シート!M156)","v":""},{"$f":"IF(入力シート!N156=\"\",\"\",入力シート!P156)","v":""}]
[{"$f":"IF(入力シート!A157=\"\",\"\",入力シート!A157)","v":""},{"$f":"IF(入力シート!B157=\"\",\"\",入力シート!B157)","v":""},{"$f":"IF(入力シート!C157=\"\",\"\",TEXT(入力シート!C157,\"yyyy-mm-dd\"))","v":""},{"$f":"IF(入力シート!O157=\"\",\"\",TEXT(入力シート!O157,\"000-0000\"))","v":""},{"$f":"IF(入力シート!F157=\"\",\"\",入力シート!F157)","v":""},{"$f":"IF(入力シート!G157=\"\",\"\",入力シート!G157)","v":""},{"$f":"IF(入力シート!H157=\"\",\"\",入力シート!H157)","v":""},{"$f":"IF(入力シート!I157=\"\",\"\",入力シート!I157)","v":""},{"$f":"IF(入力シート!J157=\"\",\"\",入力シート!J157)","v":""},{"$f":"IF(入力シート!K157=\"\",\"\",入力シート!K157)","v":""},{"$f":"IF(入力シート!L157=\"\",\"\",入力シート!L157)","v":""},{"$f":"IF(入力シート!M157=\"\",\"\",入力シート!M157)","v":""},{"$f":"IF(入力シート!N157=\"\",\"\",入力シート!P157)","v":""}]
[{"$f":"IF(入力シート!A158=\"\",\"\",入力シート!A158)","v":""},{"$f":"IF(入力シート!B158=\"\",\"\",入力シート!B158)","v":""},{"$f":"IF(入力シート!C158=\"\",\"\",TEXT(入力シート!C158,\"yyyy-mm-dd\"))","v":""},{"$f":"IF(入力シート!O158=\"\",\"\",TEXT(入力シート!O158,\"000-0000\"))","v":""},{"$f":"IF(入力シート!F158=\"\",\"\",入力シート!F158)","v":""},{"$f":"IF(入力シート!G158=\"\",\"\",入力シート!G158)","v":""},{"$f":"IF(入力シート!H158=\"\",\"\",入力シート!H158)","v":""},{"$f":"IF(入力シート!I158=\"\",\"\",入力シート!I158)","v":""},{"$f":"IF(入力シート!J158=\"\",\"\",入力シート!J158)","v":""},{"$f":"IF(入力シート!K158=\"\",\"\",入力シート!K158)","v":""},{"$f":"IF(入力シート!L158=\"\",\"\",入力シート!L158)","v":""},{"$f":"IF(入力シート!M158=\"\",\"\",入力シート!M158)","v":""},{"$f":"IF(入力シート!N158=\"\",\"\",入力シート!P158)","v":""}]
[{"$f":"IF(入力シート!A159=\"\",\"\",入力シート!A159)","v":""},{"$f":"IF(入力シート!B159=\"\",\"\",入力シート!B159)","v":""},{"$f":"IF(入力シート!C159=\"\",\"\",TEXT(入力シート!C159,\"yyyy-mm-dd\"))","v":""},{"$f":"IF(入力シート!O159=\"\",\"\",TEXT(入力シート!O159,\"000-0000\"))","v":""},{"$f":"IF(入力シート!F159=\"\",\"\",入力シート!F159)","v":""},{"$f":"IF(入力シート!G159=\"\",\"\",入力シート!G159)","v":""},{"$f":"IF(入力シート!H159=\"\",\"\",入力シート!H159)","v":""},{"$f":"IF(入力シート!I159=\"\",\"\",入力シート!I159)","v":""},{"$f":"IF(入力シート!J159=\"\",\"\",入力シート!J159)","v":""},{"$f":"IF(入力シート!K159=\"\",\"\",入力シート!K159)","v":""},{"$f":"IF(入力シート!L159=\"\",\"\",入力シート!L159)","v":""},{"$f":"IF(入力シート!M159=\"\",\"\",入力シート!M159)","v":""},{"$f":"IF(入力シート!N159=\"\",\"\",入力シート!P159)","v":""}]
[{"$f":"IF(入力シート!A160=\"\",\"\",入力シート!A160)","v":""},{"$f":"IF(入力シート!B160=\"\",\"\",入力シート!B160)","v":""},{"$f":"IF(入力シート!C160=\"\",\"\",TEXT(入力シート!C160,\"yyyy-mm-dd\"))","v":""},{"$f":"IF(入力シート!O160=\"\",\"\",TEXT(入力シート!O160,\"000-0000\"))","v":""},{"$f":"IF(入力シート!F160=\"\",\"\",入力シート!F160)","v":""},{"$f":"IF(入力シート!G160=\"\",\"\",入力シート!G160)","v":""},{"$f":"IF(入力シート!H160=\"\",\"\",入力シート!H160)","v":""},{"$f":"IF(入力シート!I160=\"\",\"\",入力シート!I160)","v":""},{"$f":"IF(入力シート!J160=\"\",\"\",入力シート!J160)","v":""},{"$f":"IF(入力シート!K160=\"\",\"\",入力シート!K160)","v":""},{"$f":"IF(入力シート!L160=\"\",\"\",入力シート!L160)","v":""},{"$f":"IF(入力シート!M160=\"\",\"\",入力シート!M160)","v":""},{"$f":"IF(入力シート!N160=\"\",\"\",入力シート!P160)","v":""}]
[{"$f":"IF(入力シート!A161=\"\",\"\",入力シート!A161)","v":""},{"$f":"IF(入力シート!B161=\"\",\"\",入力シート!B161)","v":""},{"$f":"IF(入力シート!C161=\"\",\"\",TEXT(入力シート!C161,\"yyyy-mm-dd\"))","v":""},{"$f":"IF(入力シート!O161=\"\",\"\",TEXT(入力シート!O161,\"000-0000\"))","v":""},{"$f":"IF(入力シート!F161=\"\",\"\",入力シート!F161)","v":""},{"$f":"IF(入力シート!G161=\"\",\"\",入力シート!G161)","v":""},{"$f":"IF(入力シート!H161=\"\",\"\",入力シート!H161)","v":""},{"$f":"IF(入力シート!I161=\"\",\"\",入力シート!I161)","v":""},{"$f":"IF(入力シート!J161=\"\",\"\",入力シート!J161)","v":""},{"$f":"IF(入力シート!K161=\"\",\"\",入力シート!K161)","v":""},{"$f":"IF(入力シート!L161=\"\",\"\",入力シート!L161)","v":""},{"$f":"IF(入力シート!M161=\"\",\"\",入力シート!M161)","v":""},{"$f":"IF(入力シート!N161=\"\",\"\",入力シート!P161)","v":""}]
[{"$f":"IF(入力シート!A162=\"\",\"\",入力シート!A162)","v":""},{"$f":"IF(入力シート!B162=\"\",\"\",入力シート!B162)","v":""},{"$f":"IF(入力シート!C162=\"\",\"\",TEXT(入力シート!C162,\"yyyy-mm-dd\"))","v":""},{"$f":"IF(入力シート!O162=\"\",\"\",TEXT(入力シート!O162,\"000-0000\"))","v":""},{"$f":"IF(入力シート!F162=\"\",\"\",入力シート!F162)","v":""},{"$f":"IF(入力シート!G162=\"\",\"\",入力シート!G162)","v":""},{"$f":"IF(入力シート!H162=\"\",\"\",入力シート!H162)","v":""},{"$f":"IF(入力シート!I162=\"\",\"\",入力シート!I162)","v":""},{"$f":"IF(入力シート!J162=\"\",\"\",入力シート!J162)","v":""},{"$f":"IF(入力シート!K162=\"\",\"\",入力シート!K162)","v":""},{"$f":"IF(入力シート!L162=\"\",\"\",入力シート!L162)","v":""},{"$f":"IF(入力シート!M162=\"\",\"\",入力シート!M162)","v":""},{"$f":"IF(入力シート!N162=\"\",\"\",入力シート!P162)","v":""}]
[{"$f":"IF(入力シート!A163=\"\",\"\",入力シート!A163)","v":""},{"$f":"IF(入力シート!B163=\"\",\"\",入力シート!B163)","v":""},{"$f":"IF(入力シート!C163=\"\",\"\",TEXT(入力シート!C163,\"yyyy-mm-dd\"))","v":""},{"$f":"IF(入力シート!O163=\"\",\"\",TEXT(入力シート!O163,\"000-0000\"))","v":""},{"$f":"IF(入力シート!F163=\"\",\"\",入力シート!F163)","v":""},{"$f":"IF(入力シート!G163=\"\",\"\",入力シート!G163)","v":""},{"$f":"IF(入力シート!H163=\"\",\"\",入力シート!H163)","v":""},{"$f":"IF(入力シート!I163=\"\",\"\",入力シート!I163)","v":""},{"$f":"IF(入力シート!J163=\"\",\"\",入力シート!J163)","v":""},{"$f":"IF(入力シート!K163=\"\",\"\",入力シート!K163)","v":""},{"$f":"IF(入力シート!L163=\"\",\"\",入力シート!L163)","v":""},{"$f":"IF(入力シート!M163=\"\",\"\",入力シート!M163)","v":""},{"$f":"IF(入力シート!N163=\"\",\"\",入力シート!P163)","v":""}]
[{"$f":"IF(入力シート!A164=\"\",\"\",入力シート!A164)","v":""},{"$f":"IF(入力シート!B164=\"\",\"\",入力シート!B164)","v":""},{"$f":"IF(入力シート!C164=\"\",\"\",TEXT(入力シート!C164,\"yyyy-mm-dd\"))","v":""},{"$f":"IF(入力シート!O164=\"\",\"\",TEXT(入力シート!O164,\"000-0000\"))","v":""},{"$f":"IF(入力シート!F164=\"\",\"\",入力シート!F164)","v":""},{"$f":"IF(入力シート!G164=\"\",\"\",入力シート!G164)","v":""},{"$f":"IF(入力シート!H164=\"\",\"\",入力シート!H164)","v":""},{"$f":"IF(入力シート!I164=\"\",\"\",入力シート!I164)","v":""},{"$f":"IF(入力シート!J164=\"\",\"\",入力シート!J164)","v":""},{"$f":"IF(入力シート!K164=\"\",\"\",入力シート!K164)","v":""},{"$f":"IF(入力シート!L164=\"\",\"\",入力シート!L164)","v":""},{"$f":"IF(入力シート!M164=\"\",\"\",入力シート!M164)","v":""},{"$f":"IF(入力シート!N164=\"\",\"\",入力シート!P164)","v":""}]
[{"$f":"IF(入力シート!A165=\"\",\"\",入力シート!A165)","v":""},{"$f":"IF(入力シート!B165=\"\",\"\",入力シート!B165)","v":""},{"$f":"IF(入力シート!C165=\"\",\"\",TEXT(入力シート!C165,\"yyyy-mm-dd\"))","v":""},{"$f":"IF(入力シート!O165=\"\",\"\",TEXT(入力シート!O165,\"000-0000\"))","v":""},{"$f":"IF(入力シート!F165=\"\",\"\",入力シート!F165)","v":""},{"$f":"IF(入力シート!G165=\"\",\"\",入力シート!G165)","v":""},{"$f":"IF(入力シート!H165=\"\",\"\",入力シート!H165)","v":""},{"$f":"IF(入力シート!I165=\"\",\"\",入力シート!I165)","v":""},{"$f":"IF(入力シート!J165=\"\",\"\",入力シート!J165)","v":""},{"$f":"IF(入力シート!K165=\"\",\"\",入力シート!K165)","v":""},{"$f":"IF(入力シート!L165=\"\",\"\",入力シート!L165)","v":""},{"$f":"IF(入力シート!M165=\"\",\"\",入力シート!M165)","v":""},{"$f":"IF(入力シート!N165=\"\",\"\",入力シート!P165)","v":""}]
[{"$f":"IF(入力シート!A166=\"\",\"\",入力シート!A166)","v":""},{"$f":"IF(入力シート!B166=\"\",\"\",入力シート!B166)","v":""},{"$f":"IF(入力シート!C166=\"\",\"\",TEXT(入力シート!C166,\"yyyy-mm-dd\"))","v":""},{"$f":"IF(入力シート!O166=\"\",\"\",TEXT(入力シート!O166,\"000-0000\"))","v":""},{"$f":"IF(入力シート!F166=\"\",\"\",入力シート!F166)","v":""},{"$f":"IF(入力シート!G166=\"\",\"\",入力シート!G166)","v":""},{"$f":"IF(入力シート!H166=\"\",\"\",入力シート!H166)","v":""},{"$f":"IF(入力シート!I166=\"\",\"\",入力シート!I166)","v":""},{"$f":"IF(入力シート!J166=\"\",\"\",入力シート!J166)","v":""},{"$f":"IF(入力シート!K166=\"\",\"\",入力シート!K166)","v":""},{"$f":"IF(入力シート!L166=\"\",\"\",入力シート!L166)","v":""},{"$f":"IF(入力シート!M166=\"\",\"\",入力シート!M166)","v":""},{"$f":"IF(入力シート!N166=\"\",\"\",入力シート!P166)","v":""}]
[{"$f":"IF(入力シート!A167=\"\",\"\",入力シート!A167)","v":""},{"$f":"IF(入力シート!B167=\"\",\"\",入力シート!B167)","v":""},{"$f":"IF(入力シート!C167=\"\",\"\",TEXT(入力シート!C167,\"yyyy-mm-dd\"))","v":""},{"$f":"IF(入力シート!O167=\"\",\"\",TEXT(入力シート!O167,\"000-0000\"))","v":""},{"$f":"IF(入力シート!F167=\"\",\"\",入力シート!F167)","v":""},{"$f":"IF(入力シート!G167=\"\",\"\",入力シート!G167)","v":""},{"$f":"IF(入力シート!H167=\"\",\"\",入力シート!H167)","v":""},{"$f":"IF(入力シート!I167=\"\",\"\",入力シート!I167)","v":""},{"$f":"IF(入力シート!J167=\"\",\"\",入力シート!J167)","v":""},{"$f":"IF(入力シート!K167=\"\",\"\",入力シート!K167)","v":""},{"$f":"IF(入力シート!L167=\"\",\"\",入力シート!L167)","v":""},{"$f":"IF(入力シート!M167=\"\",\"\",入力シート!M167)","v":""},{"$f":"IF(入力シート!N167=\"\",\"\",入力シート!P167)","v":""}]
[{"$f":"IF(入力シート!A168=\"\",\"\",入力シート!A168)","v":""},{"$f":"IF(入力シート!B168=\"\",\"\",入力シート!B168)","v":""},{"$f":"IF(入力シート!C168=\"\",\"\",TEXT(入力シート!C168,\"yyyy-mm-dd\"))","v":""},{"$f":"IF(入力シート!O168=\"\",\"\",TEXT(入力シート!O168,\"000-0000\"))","v":""},{"$f":"IF(入力シート!F168=\"\",\"\",入力シート!F168)","v":""},{"$f":"IF(入力シート!G168=\"\",\"\",入力シート!G168)","v":""},{"$f":"IF(入力シート!H168=\"\",\"\",入力シート!H168)","v":""},{"$f":"IF(入力シート!I168=\"\",\"\",入力シート!I168)","v":""},{"$f":"IF(入力シート!J168=\"\",\"\",入力シート!J168)","v":""},{"$f":"IF(入力シート!K168=\"\",\"\",入力シート!K168)","v":""},{"$f":"IF(入力シート!L168=\"\",\"\",入力シート!L168)","v":""},{"$f":"IF(入力シート!M168=\"\",\"\",入力シート!M168)","v":""},{"$f":"IF(入力シート!N168=\"\",\"\",入力シート!P168)","v":""}]
[{"$f":"IF(入力シート!A169=\"\",\"\",入力シート!A169)","v":""},{"$f":"IF(入力シート!B169=\"\",\"\",入力シート!B169)","v":""},{"$f":"IF(入力シート!C169=\"\",\"\",TEXT(入力シート!C169,\"yyyy-mm-dd\"))","v":""},{"$f":"IF(入力シート!O169=\"\",\"\",TEXT(入力シート!O169,\"000-0000\"))","v":""},{"$f":"IF(入力シート!F169=\"\",\"\",入力シート!F169)","v":""},{"$f":"IF(入力シート!G169=\"\",\"\",入力シート!G169)","v":""},{"$f":"IF(入力シート!H169=\"\",\"\",入力シート!H169)","v":""},{"$f":"IF(入力シート!I169=\"\",\"\",入力シート!I169)","v":""},{"$f":"IF(入力シート!J169=\"\",\"\",入力シート!J169)","v":""},{"$f":"IF(入力シート!K169=\"\",\"\",入力シート!K169)","v":""},{"$f":"IF(入力シート!L169=\"\",\"\",入力シート!L169)","v":""},{"$f":"IF(入力シート!M169=\"\",\"\",入力シート!M169)","v":""},{"$f":"IF(入力シート!N169=\"\",\"\",入力シート!P169)","v":""}]
[{"$f":"IF(入力シート!A170=\"\",\"\",入力シート!A170)","v":""},{"$f":"IF(入力シート!B170=\"\",\"\",入力シート!B170)","v":""},{"$f":"IF(入力シート!C170=\"\",\"\",TEXT(入力シート!C170,\"yyyy-mm-dd\"))","v":""},{"$f":"IF(入力シート!O170=\"\",\"\",TEXT(入力シート!O170,\"000-0000\"))","v":""},{"$f":"IF(入力シート!F170=\"\",\"\",入力シート!F170)","v":""},{"$f":"IF(入力シート!G170=\"\",\"\",入力シート!G170)","v":""},{"$f":"IF(入力シート!H170=\"\",\"\",入力シート!H170)","v":""},{"$f":"IF(入力シート!I170=\"\",\"\",入力シート!I170)","v":""},{"$f":"IF(入力シート!J170=\"\",\"\",入力シート!J170)","v":""},{"$f":"IF(入力シート!K170=\"\",\"\",入力シート!K170)","v":""},{"$f":"IF(入力シート!L170=\"\",\"\",入力シート!L170)","v":""},{"$f":"IF(入力シート!M170=\"\",\"\",入力シート!M170)","v":""},{"$f":"IF(入力シート!N170=\"\",\"\",入力シート!P170)","v":""}]
[{"$f":"IF(入力シート!A171=\"\",\"\",入力シート!A171)","v":""},{"$f":"IF(入力シート!B171=\"\",\"\",入力シート!B171)","v":""},{"$f":"IF(入力シート!C171=\"\",\"\",TEXT(入力シート!C171,\"yyyy-mm-dd\"))","v":""},{"$f":"IF(入力シート!O171=\"\",\"\",TEXT(入力シート!O171,\"000-0000\"))","v":""},{"$f":"IF(入力シート!F171=\"\",\"\",入力シート!F171)","v":""},{"$f":"IF(入力シート!G171=\"\",\"\",入力シート!G171)","v":""},{"$f":"IF(入力シート!H171=\"\",\"\",入力シート!H171)","v":""},{"$f":"IF(入力シート!I171=\"\",\"\",入力シート!I171)","v":""},{"$f":"IF(入力シート!J171=\"\",\"\",入力シート!J171)","v":""},{"$f":"IF(入力シート!K171=\"\",\"\",入力シート!K171)","v":""},{"$f":"IF(入力シート!L171=\"\",\"\",入力シート!L171)","v":""},{"$f":"IF(入力シート!M171=\"\",\"\",入力シート!M171)","v":""},{"$f":"IF(入力シート!N171=\"\",\"\",入力シート!P171)","v":""}]
[{"$f":"IF(入力シート!A172=\"\",\"\",入力シート!A172)","v":""},{"$f":"IF(入力シート!B172=\"\",\"\",入力シート!B172)","v":""},{"$f":"IF(入力シート!C172=\"\",\"\",TEXT(入力シート!C172,\"yyyy-mm-dd\"))","v":""},{"$f":"IF(入力シート!O172=\"\",\"\",TEXT(入力シート!O172,\"000-0000\"))","v":""},{"$f":"IF(入力シート!F172=\"\",\"\",入力シート!F172)","v":""},{"$f":"IF(入力シート!G172=\"\",\"\",入力シート!G172)","v":""},{"$f":"IF(入力シート!H172=\"\",\"\",入力シート!H172)","v":""},{"$f":"IF(入力シート!I172=\"\",\"\",入力シート!I172)","v":""},{"$f":"IF(入力シート!J172=\"\",\"\",入力シート!J172)","v":""},{"$f":"IF(入力シート!K172=\"\",\"\",入力シート!K172)","v":""},{"$f":"IF(入力シート!L172=\"\",\"\",入力シート!L172)","v":""},{"$f":"IF(入力シート!M172=\"\",\"\",入力シート!M172)","v":""},{"$f":"IF(入力シート!N172=\"\",\"\",入力シート!P172)","v":""}]
[{"$f":"IF(入力シート!A173=\"\",\"\",入力シート!A173)","v":""},{"$f":"IF(入力シート!B173=\"\",\"\",入力シート!B173)","v":""},{"$f":"IF(入力シート!C173=\"\",\"\",TEXT(入力シート!C173,\"yyyy-mm-dd\"))","v":""},{"$f":"IF(入力シート!O173=\"\",\"\",TEXT(入力シート!O173,\"000-0000\"))","v":""},{"$f":"IF(入力シート!F173=\"\",\"\",入力シート!F173)","v":""},{"$f":"IF(入力シート!G173=\"\",\"\",入力シート!G173)","v":""},{"$f":"IF(入力シート!H173=\"\",\"\",入力シート!H173)","v":""},{"$f":"IF(入力シート!I173=\"\",\"\",入力シート!I173)","v":""},{"$f":"IF(入力シート!J173=\"\",\"\",入力シート!J173)","v":""},{"$f":"IF(入力シート!K173=\"\",\"\",入力シート!K173)","v":""},{"$f":"IF(入力シート!L173=\"\",\"\",入力シート!L173)","v":""},{"$f":"IF(入力シート!M173=\"\",\"\",入力シート!M173)","v":""},{"$f":"IF(入力シート!N173=\"\",\"\",入力シート!P173)","v":""}]
[{"$f":"IF(入力シート!A174=\"\",\"\",入力シート!A174)","v":""},{"$f":"IF(入力シート!B174=\"\",\"\",入力シート!B174)","v":""},{"$f":"IF(入力シート!C174=\"\",\"\",TEXT(入力シート!C174,\"yyyy-mm-dd\"))","v":""},{"$f":"IF(入力シート!O174=\"\",\"\",TEXT(入力シート!O174,\"000-0000\"))","v":""},{"$f":"IF(入力シート!F174=\"\",\"\",入力シート!F174)","v":""},{"$f":"IF(入力シート!G174=\"\",\"\",入力シート!G174)","v":""},{"$f":"IF(入力シート!H174=\"\",\"\",入力シート!H174)","v":""},{"$f":"IF(入力シート!I174=\"\",\"\",入力シート!I174)","v":""},{"$f":"IF(入力シート!J174=\"\",\"\",入力シート!J174)","v":""},{"$f":"IF(入力シート!K174=\"\",\"\",入力シート!K174)","v":""},{"$f":"IF(入力シート!L174=\"\",\"\",入力シート!L174)","v":""},{"$f":"IF(入力シート!M174=\"\",\"\",入力シート!M174)","v":""},{"$f":"IF(入力シート!N174=\"\",\"\",入力シート!P174)","v":""}]
[{"$f":"IF(入力シート!A175=\"\",\"\",入力シート!A175)","v":""},{"$f":"IF(入力シート!B175=\"\",\"\",入力シート!B175)","v":""},{"$f":"IF(入力シート!C175=\"\",\"\",TEXT(入力シート!C175,\"yyyy-mm-dd\"))","v":""},{"$f":"IF(入力シート!O175=\"\",\"\",TEXT(入力シート!O175,\"000-0000\"))","v":""},{"$f":"IF(入力シート!F175=\"\",\"\",入力シート!F175)","v":""},{"$f":"IF(入力シート!G175=\"\",\"\",入力シート!G175)","v":""},{"$f":"IF(入力シート!H175=\"\",\"\",入力シート!H175)","v":""},{"$f":"IF(入力シート!I175=\"\",\"\",入力シート!I175)","v":""},{"$f":"IF(入力シート!J175=\"\",\"\",入力シート!J175)","v":""},{"$f":"IF(入力シート!K175=\"\",\"\",入力シート!K175)","v":""},{"$f":"IF(入力シート!L175=\"\",\"\",入力シート!L175)","v":""},{"$f":"IF(入力シート!M175=\"\",\"\",入力シート!M175)","v":""},{"$f":"IF(入力シート!N175=\"\",\"\",入力シート!P175)","v":""}]
[{"$f":"IF(入力シート!A176=\"\",\"\",入力シート!A176)","v":""},{"$f":"IF(入力シート!B176=\"\",\"\",入力シート!B176)","v":""},{"$f":"IF(入力シート!C176=\"\",\"\",TEXT(入力シート!C176,\"yyyy-mm-dd\"))","v":""},{"$f":"IF(入力シート!O176=\"\",\"\",TEXT(入力シート!O176,\"000-0000\"))","v":""},{"$f":"IF(入力シート!F176=\"\",\"\",入力シート!F176)","v":""},{"$f":"IF(入力シート!G176=\"\",\"\",入力シート!G176)","v":""},{"$f":"IF(入力シート!H176=\"\",\"\",入力シート!H176)","v":""},{"$f":"IF(入力シート!I176=\"\",\"\",入力シート!I176)","v":""},{"$f":"IF(入力シート!J176=\"\",\"\",入力シート!J176)","v":""},{"$f":"IF(入力シート!K176=\"\",\"\",入力シート!K176)","v":""},{"$f":"IF(入力シート!L176=\"\",\"\",入力シート!L176)","v":""},{"$f":"IF(入力シート!M176=\"\",\"\",入力シート!M176)","v":""},{"$f":"IF(入力シート!N176=\"\",\"\",入力シート!P176)","v":""}]
[{"$f":"IF(入力シート!A177=\"\",\"\",入力シート!A177)","v":""},{"$f":"IF(入力シート!B177=\"\",\"\",入力シート!B177)","v":""},{"$f":"IF(入力シート!C177=\"\",\"\",TEXT(入力シート!C177,\"yyyy-mm-dd\"))","v":""},{"$f":"IF(入力シート!O177=\"\",\"\",TEXT(入力シート!O177,\"000-0000\"))","v":""},{"$f":"IF(入力シート!F177=\"\",\"\",入力シート!F177)","v":""},{"$f":"IF(入力シート!G177=\"\",\"\",入力シート!G177)","v":""},{"$f":"IF(入力シート!H177=\"\",\"\",入力シート!H177)","v":""},{"$f":"IF(入力シート!I177=\"\",\"\",入力シート!I177)","v":""},{"$f":"IF(入力シート!J177=\"\",\"\",入力シート!J177)","v":""},{"$f":"IF(入力シート!K177=\"\",\"\",入力シート!K177)","v":""},{"$f":"IF(入力シート!L177=\"\",\"\",入力シート!L177)","v":""},{"$f":"IF(入力シート!M177=\"\",\"\",入力シート!M177)","v":""},{"$f":"IF(入力シート!N177=\"\",\"\",入力シート!P177)","v":""}]
[{"$f":"IF(入力シート!A178=\"\",\"\",入力シート!A178)","v":""},{"$f":"IF(入力シート!B178=\"\",\"\",入力シート!B178)","v":""},{"$f":"IF(入力シート!C178=\"\",\"\",TEXT(入力シート!C178,\"yyyy-mm-dd\"))","v":""},{"$f":"IF(入力シート!O178=\"\",\"\",TEXT(入力シート!O178,\"000-0000\"))","v":""},{"$f":"IF(入力シート!F178=\"\",\"\",入力シート!F178)","v":""},{"$f":"IF(入力シート!G178=\"\",\"\",入力シート!G178)","v":""},{"$f":"IF(入力シート!H178=\"\",\"\",入力シート!H178)","v":""},{"$f":"IF(入力シート!I178=\"\",\"\",入力シート!I178)","v":""},{"$f":"IF(入力シート!J178=\"\",\"\",入力シート!J178)","v":""},{"$f":"IF(入力シート!K178=\"\",\"\",入力シート!K178)","v":""},{"$f":"IF(入力シート!L178=\"\",\"\",入力シート!L178)","v":""},{"$f":"IF(入力シート!M178=\"\",\"\",入力シート!M178)","v":""},{"$f":"IF(入力シート!N178=\"\",\"\",入力シート!P178)","v":""}]
[{"$f":"IF(入力シート!A179=\"\",\"\",入力シート!A179)","v":""},{"$f":"IF(入力シート!B179=\"\",\"\",入力シート!B179)","v":""},{"$f":"IF(入力シート!C179=\"\",\"\",TEXT(入力シート!C179,\"yyyy-mm-dd\"))","v":""},{"$f":"IF(入力シート!O179=\"\",\"\",TEXT(入力シート!O179,\"000-0000\"))","v":""},{"$f":"IF(入力シート!F179=\"\",\"\",入力シート!F179)","v":""},{"$f":"IF(入力シート!G179=\"\",\"\",入力シート!G179)","v":""},{"$f":"IF(入力シート!H179=\"\",\"\",入力シート!H179)","v":""},{"$f":"IF(入力シート!I179=\"\",\"\",入力シート!I179)","v":""},{"$f":"IF(入力シート!J179=\"\",\"\",入力シート!J179)","v":""},{"$f":"IF(入力シート!K179=\"\",\"\",入力シート!K179)","v":""},{"$f":"IF(入力シート!L179=\"\",\"\",入力シート!L179)","v":""},{"$f":"IF(入力シート!M179=\"\",\"\",入力シート!M179)","v":""},{"$f":"IF(入力シート!N179=\"\",\"\",入力シート!P179)","v":""}]
[{"$f":"IF(入力シート!A180=\"\",\"\",入力シート!A180)","v":""},{"$f":"IF(入力シート!B180=\"\",\"\",入力シート!B180)","v":""},{"$f":"IF(入力シート!C180=\"\",\"\",TEXT(入力シート!C180,\"yyyy-mm-dd\"))","v":""},{"$f":"IF(入力シート!O180=\"\",\"\",TEXT(入力シート!O180,\"000-0000\"))","v":""},{"$f":"IF(入力シート!F180=\"\",\"\",入力シート!F180)","v":""},{"$f":"IF(入力シート!G180=\"\",\"\",入力シート!G180)","v":""},{"$f":"IF(入力シート!H180=\"\",\"\",入力シート!H180)","v":""},{"$f":"IF(入力シート!I180=\"\",\"\",入力シート!I180)","v":""},{"$f":"IF(入力シート!J180=\"\",\"\",入力シート!J180)","v":""},{"$f":"IF(入力シート!K180=\"\",\"\",入力シート!K180)","v":""},{"$f":"IF(入力シート!L180=\"\",\"\",入力シート!L180)","v":""},{"$f":"IF(入力シート!M180=\"\",\"\",入力シート!M180)","v":""},{"$f":"IF(入力シート!N180=\"\",\"\",入力シート!P180)","v":""}]
[{"$f":"IF(入力シート!A181=\"\",\"\",入力シート!A181)","v":""},{"$f":"IF(入力シート!B181=\"\",\"\",入力シート!B181)","v":""},{"$f":"IF(入力シート!C181=\"\",\"\",TEXT(入力シート!C181,\"yyyy-mm-dd\"))","v":""},{"$f":"IF(入力シート!O181=\"\",\"\",TEXT(入力シート!O181,\"000-0000\"))","v":""},{"$f":"IF(入力シート!F181=\"\",\"\",入力シート!F181)","v":""},{"$f":"IF(入力シート!G181=\"\",\"\",入力シート!G181)","v":""},{"$f":"IF(入力シート!H181=\"\",\"\",入力シート!H181)","v":""},{"$f":"IF(入力シート!I181=\"\",\"\",入力シート!I181)","v":""},{"$f":"IF(入力シート!J181=\"\",\"\",入力シート!J181)","v":""},{"$f":"IF(入力シート!K181=\"\",\"\",入力シート!K181)","v":""},{"$f":"IF(入力シート!L181=\"\",\"\",入力シート!L181)","v":""},{"$f":"IF(入力シート!M181=\"\",\"\",入力シート!M181)","v":""},{"$f":"IF(入力シート!N181=\"\",\"\",入力シート!P181)","v":""}]
[{"$f":"IF(入力シート!A182=\"\",\"\",入力シート!A182)","v":""},{"$f":"IF(入力シート!B182=\"\",\"\",入力シート!B182)","v":""},{"$f":"IF(入力シート!C182=\"\",\"\",TEXT(入力シート!C182,\"yyyy-mm-dd\"))","v":""},{"$f":"IF(入力シート!O182=\"\",\"\",TEXT(入力シート!O182,\"000-0000\"))","v":""},{"$f":"IF(入力シート!F182=\"\",\"\",入力シート!F182)","v":""},{"$f":"IF(入力シート!G182=\"\",\"\",入力シート!G182)","v":""},{"$f":"IF(入力シート!H182=\"\",\"\",入力シート!H182)","v":""},{"$f":"IF(入力シート!I182=\"\",\"\",入力シート!I182)","v":""},{"$f":"IF(入力シート!J182=\"\",\"\",入力シート!J182)","v":""},{"$f":"IF(入力シート!K182=\"\",\"\",入力シート!K182)","v":""},{"$f":"IF(入力シート!L182=\"\",\"\",入力シート!L182)","v":""},{"$f":"IF(入力シート!M182=\"\",\"\",入力シート!M182)","v":""},{"$f":"IF(入力シート!N182=\"\",\"\",入力シート!P182)","v":""}]
[{"$f":"IF(入力シート!A183=\"\",\"\",入力シート!A183)","v":""},{"$f":"IF(入力シート!B183=\"\",\"\",入力シート!B183)","v":""},{"$f":"IF(入力シート!C183=\"\",\"\",TEXT(入力シート!C183,\"yyyy-mm-dd\"))","v":""},{"$f":"IF(入力シート!O183=\"\",\"\",TEXT(入力シート!O183,\"000-0000\"))","v":""},{"$f":"IF(入力シート!F183=\"\",\"\",入力シート!F183)","v":""},{"$f":"IF(入力シート!G183=\"\",\"\",入力シート!G183)","v":""},{"$f":"IF(入力シート!H183=\"\",\"\",入力シート!H183)","v":""},{"$f":"IF(入力シート!I183=\"\",\"\",入力シート!I183)","v":""},{"$f":"IF(入力シート!J183=\"\",\"\",入力シート!J183)","v":""},{"$f":"IF(入力シート!K183=\"\",\"\",入力シート!K183)","v":""},{"$f":"IF(入力シート!L183=\"\",\"\",入力シート!L183)","v":""},{"$f":"IF(入力シート!M183=\"\",\"\",入力シート!M183)","v":""},{"$f":"IF(入力シート!N183=\"\",\"\",入力シート!P183)","v":""}]
[{"$f":"IF(入力シート!A184=\"\",\"\",入力シート!A184)","v":""},{"$f":"IF(入力シート!B184=\"\",\"\",入力シート!B184)","v":""},{"$f":"IF(入力シート!C184=\"\",\"\",TEXT(入力シート!C184,\"yyyy-mm-dd\"))","v":""},{"$f":"IF(入力シート!O184=\"\",\"\",TEXT(入力シート!O184,\"000-0000\"))","v":""},{"$f":"IF(入力シート!F184=\"\",\"\",入力シート!F184)","v":""},{"$f":"IF(入力シート!G184=\"\",\"\",入力シート!G184)","v":""},{"$f":"IF(入力シート!H184=\"\",\"\",入力シート!H184)","v":""},{"$f":"IF(入力シート!I184=\"\",\"\",入力シート!I184)","v":""},{"$f":"IF(入力シート!J184=\"\",\"\",入力シート!J184)","v":""},{"$f":"IF(入力シート!K184=\"\",\"\",入力シート!K184)","v":""},{"$f":"IF(入力シート!L184=\"\",\"\",入力シート!L184)","v":""},{"$f":"IF(入力シート!M184=\"\",\"\",入力シート!M184)","v":""},{"$f":"IF(入力シート!N184=\"\",\"\",入力シート!P184)","v":""}]
[{"$f":"IF(入力シート!A185=\"\",\"\",入力シート!A185)","v":""},{"$f":"IF(入力シート!B185=\"\",\"\",入力シート!B185)","v":""},{"$f":"IF(入力シート!C185=\"\",\"\",TEXT(入力シート!C185,\"yyyy-mm-dd\"))","v":""},{"$f":"IF(入力シート!O185=\"\",\"\",TEXT(入力シート!O185,\"000-0000\"))","v":""},{"$f":"IF(入力シート!F185=\"\",\"\",入力シート!F185)","v":""},{"$f":"IF(入力シート!G185=\"\",\"\",入力シート!G185)","v":""},{"$f":"IF(入力シート!H185=\"\",\"\",入力シート!H185)","v":""},{"$f":"IF(入力シート!I185=\"\",\"\",入力シート!I185)","v":""},{"$f":"IF(入力シート!J185=\"\",\"\",入力シート!J185)","v":""},{"$f":"IF(入力シート!K185=\"\",\"\",入力シート!K185)","v":""},{"$f":"IF(入力シート!L185=\"\",\"\",入力シート!L185)","v":""},{"$f":"IF(入力シート!M185=\"\",\"\",入力シート!M185)","v":""},{"$f":"IF(入力シート!N185=\"\",\"\",入力シート!P185)","v":""}]
[{"$f":"IF(入力シート!A186=\"\",\"\",入力シート!A186)","v":""},{"$f":"IF(入力シート!B186=\"\",\"\",入力シート!B186)","v":""},{"$f":"IF(入力シート!C186=\"\",\"\",TEXT(入力シート!C186,\"yyyy-mm-dd\"))","v":""},{"$f":"IF(入力シート!O186=\"\",\"\",TEXT(入力シート!O186,\"000-0000\"))","v":""},{"$f":"IF(入力シート!F186=\"\",\"\",入力シート!F186)","v":""},{"$f":"IF(入力シート!G186=\"\",\"\",入力シート!G186)","v":""},{"$f":"IF(入力シート!H186=\"\",\"\",入力シート!H186)","v":""},{"$f":"IF(入力シート!I186=\"\",\"\",入力シート!I186)","v":""},{"$f":"IF(入力シート!J186=\"\",\"\",入力シート!J186)","v":""},{"$f":"IF(入力シート!K186=\"\",\"\",入力シート!K186)","v":""},{"$f":"IF(入力シート!L186=\"\",\"\",入力シート!L186)","v":""},{"$f":"IF(入力シート!M186=\"\",\"\",入力シート!M186)","v":""},{"$f":"IF(入力シート!N186=\"\",\"\",入力シート!P186)","v":""}]
[{"$f":"IF(入力シート!A187=\"\",\"\",入力シート!A187)","v":""},{"$f":"IF(入力シート!B187=\"\",\"\",入力シート!B187)","v":""},{"$f":"IF(入力シート!C187=\"\",\"\",TEXT(入力シート!C187,\"yyyy-mm-dd\"))","v":""},{"$f":"IF(入力シート!O187=\"\",\"\",TEXT(入力シート!O187,\"000-0000\"))","v":""},{"$f":"IF(入力シート!F187=\"\",\"\",入力シート!F187)","v":""},{"$f":"IF(入力シート!G187=\"\",\"\",入力シート!G187)","v":""},{"$f":"IF(入力シート!H187=\"\",\"\",入力シート!H187)","v":""},{"$f":"IF(入力シート!I187=\"\",\"\",入力シート!I187)","v":""},{"$f":"IF(入力シート!J187=\"\",\"\",入力シート!J187)","v":""},{"$f":"IF(入力シート!K187=\"\",\"\",入力シート!K187)","v":""},{"$f":"IF(入力シート!L187=\"\",\"\",入力シート!L187)","v":""},{"$f":"IF(入力シート!M187=\"\",\"\",入力シート!M187)","v":""},{"$f":"IF(入力シート!N187=\"\",\"\",入力シート!P187)","v":""}]
[{"$f":"IF(入力シート!A188=\"\",\"\",入力シート!A188)","v":""},{"$f":"IF(入力シート!B188=\"\",\"\",入力シート!B188)","v":""},{"$f":"IF(入力シート!C188=\"\",\"\",TEXT(入力シート!C188,\"yyyy-mm-dd\"))","v":""},{"$f":"IF(入力シート!O188=\"\",\"\",TEXT(入力シート!O188,\"000-0000\"))","v":""},{"$f":"IF(入力シート!F188=\"\",\"\",入力シート!F188)","v":""},{"$f":"IF(入力シート!G188=\"\",\"\",入力シート!G188)","v":""},{"$f":"IF(入力シート!H188=\"\",\"\",入力シート!H188)","v":""},{"$f":"IF(入力シート!I188=\"\",\"\",入力シート!I188)","v":""},{"$f":"IF(入力シート!J188=\"\",\"\",入力シート!J188)","v":""},{"$f":"IF(入力シート!K188=\"\",\"\",入力シート!K188)","v":""},{"$f":"IF(入力シート!L188=\"\",\"\",入力シート!L188)","v":""},{"$f":"IF(入力シート!M188=\"\",\"\",入力シート!M188)","v":""},{"$f":"IF(入力シート!N188=\"\",\"\",入力シート!P188)","v":""}]
[{"$f":"IF(入力シート!A189=\"\",\"\",入力シート!A189)","v":""},{"$f":"IF(入力シート!B189=\"\",\"\",入力シート!B189)","v":""},{"$f":"IF(入力シート!C189=\"\",\"\",TEXT(入力シート!C189,\"yyyy-mm-dd\"))","v":""},{"$f":"IF(入力シート!O189=\"\",\"\",TEXT(入力シート!O189,\"000-0000\"))","v":""},{"$f":"IF(入力シート!F189=\"\",\"\",入力シート!F189)","v":""},{"$f":"IF(入力シート!G189=\"\",\"\",入力シート!G189)","v":""},{"$f":"IF(入力シート!H189=\"\",\"\",入力シート!H189)","v":""},{"$f":"IF(入力シート!I189=\"\",\"\",入力シート!I189)","v":""},{"$f":"IF(入力シート!J189=\"\",\"\",入力シート!J189)","v":""},{"$f":"IF(入力シート!K189=\"\",\"\",入力シート!K189)","v":""},{"$f":"IF(入力シート!L189=\"\",\"\",入力シート!L189)","v":""},{"$f":"IF(入力シート!M189=\"\",\"\",入力シート!M189)","v":""},{"$f":"IF(入力シート!N189=\"\",\"\",入力シート!P189)","v":""}]
[{"$f":"IF(入力シート!A190=\"\",\"\",入力シート!A190)","v":""},{"$f":"IF(入力シート!B190=\"\",\"\",入力シート!B190)","v":""},{"$f":"IF(入力シート!C190=\"\",\"\",TEXT(入力シート!C190,\"yyyy-mm-dd\"))","v":""},{"$f":"IF(入力シート!O190=\"\",\"\",TEXT(入力シート!O190,\"000-0000\"))","v":""},{"$f":"IF(入力シート!F190=\"\",\"\",入力シート!F190)","v":""},{"$f":"IF(入力シート!G190=\"\",\"\",入力シート!G190)","v":""},{"$f":"IF(入力シート!H190=\"\",\"\",入力シート!H190)","v":""},{"$f":"IF(入力シート!I190=\"\",\"\",入力シート!I190)","v":""},{"$f":"IF(入力シート!J190=\"\",\"\",入力シート!J190)","v":""},{"$f":"IF(入力シート!K190=\"\",\"\",入力シート!K190)","v":""},{"$f":"IF(入力シート!L190=\"\",\"\",入力シート!L190)","v":""},{"$f":"IF(入力シート!M190=\"\",\"\",入力シート!M190)","v":""},{"$f":"IF(入力シート!N190=\"\",\"\",入力シート!P190)","v":""}]
[{"$f":"IF(入力シート!A191=\"\",\"\",入力シート!A191)","v":""},{"$f":"IF(入力シート!B191=\"\",\"\",入力シート!B191)","v":""},{"$f":"IF(入力シート!C191=\"\",\"\",TEXT(入力シート!C191,\"yyyy-mm-dd\"))","v":""},{"$f":"IF(入力シート!O191=\"\",\"\",TEXT(入力シート!O191,\"000-0000\"))","v":""},{"$f":"IF(入力シート!F191=\"\",\"\",入力シート!F191)","v":""},{"$f":"IF(入力シート!G191=\"\",\"\",入力シート!G191)","v":""},{"$f":"IF(入力シート!H191=\"\",\"\",入力シート!H191)","v":""},{"$f":"IF(入力シート!I191=\"\",\"\",入力シート!I191)","v":""},{"$f":"IF(入力シート!J191=\"\",\"\",入力シート!J191)","v":""},{"$f":"IF(入力シート!K191=\"\",\"\",入力シート!K191)","v":""},{"$f":"IF(入力シート!L191=\"\",\"\",入力シート!L191)","v":""},{"$f":"IF(入力シート!M191=\"\",\"\",入力シート!M191)","v":""},{"$f":"IF(入力シート!N191=\"\",\"\",入力シート!P191)","v":""}]
[{"$f":"IF(入力シート!A192=\"\",\"\",入力シート!A192)","v":""},{"$f":"IF(入力シート!B192=\"\",\"\",入力シート!B192)","v":""},{"$f":"IF(入力シート!C192=\"\",\"\",TEXT(入力シート!C192,\"yyyy-mm-dd\"))","v":""},{"$f":"IF(入力シート!O192=\"\",\"\",TEXT(入力シート!O192,\"000-0000\"))","v":""},{"$f":"IF(入力シート!F192=\"\",\"\",入力シート!F192)","v":""},{"$f":"IF(入力シート!G192=\"\",\"\",入力シート!G192)","v":""},{"$f":"IF(入力シート!H192=\"\",\"\",入力シート!H192)","v":""},{"$f":"IF(入力シート!I192=\"\",\"\",入力シート!I192)","v":""},{"$f":"IF(入力シート!J192=\"\",\"\",入力シート!J192)","v":""},{"$f":"IF(入力シート!K192=\"\",\"\",入力シート!K192)","v":""},{"$f":"IF(入力シート!L192=\"\",\"\",入力シート!L192)","v":""},{"$f":"IF(入力シート!M192=\"\",\"\",入力シート!M192)","v":""},{"$f":"IF(入力シート!N192=\"\",\"\",入力シート!P192)","v":""}]
[{"$f":"IF(入力シート!A193=\"\",\"\",入力シート!A193)","v":""},{"$f":"IF(入力シート!B193=\"\",\"\",入力シート!B193)","v":""},{"$f":"IF(入力シート!C193=\"\",\"\",TEXT(入力シート!C193,\"yyyy-mm-dd\"))","v":""},{"$f":"IF(入力シート!O193=\"\",\"\",TEXT(入力シート!O193,\"000-0000\"))","v":""},{"$f":"IF(入力シート!F193=\"\",\"\",入力シート!F193)","v":""},{"$f":"IF(入力シート!G193=\"\",\"\",入力シート!G193)","v":""},{"$f":"IF(入力シート!H193=\"\",\"\",入力シート!H193)","v":""},{"$f":"IF(入力シート!I193=\"\",\"\",入力シート!I193)","v":""},{"$f":"IF(入力シート!J193=\"\",\"\",入力シート!J193)","v":""},{"$f":"IF(入力シート!K193=\"\",\"\",入力シート!K193)","v":""},{"$f":"IF(入力シート!L193=\"\",\"\",入力シート!L193)","v":""},{"$f":"IF(入力シート!M193=\"\",\"\",入力シート!M193)","v":""},{"$f":"IF(入力シート!N193=\"\",\"\",入力シート!P193)","v":""}]
[{"$f":"IF(入力シート!A194=\"\",\"\",入力シート!A194)","v":""},{"$f":"IF(入力シート!B194=\"\",\"\",入力シート!B194)","v":""},{"$f":"IF(入力シート!C194=\"\",\"\",TEXT(入力シート!C194,\"yyyy-mm-dd\"))","v":""},{"$f":"IF(入力シート!O194=\"\",\"\",TEXT(入力シート!O194,\"000-0000\"))","v":""},{"$f":"IF(入力シート!F194=\"\",\"\",入力シート!F194)","v":""},{"$f":"IF(入力シート!G194=\"\",\"\",入力シート!G194)","v":""},{"$f":"IF(入力シート!H194=\"\",\"\",入力シート!H194)","v":""},{"$f":"IF(入力シート!I194=\"\",\"\",入力シート!I194)","v":""},{"$f":"IF(入力シート!J194=\"\",\"\",入力シート!J194)","v":""},{"$f":"IF(入力シート!K194=\"\",\"\",入力シート!K194)","v":""},{"$f":"IF(入力シート!L194=\"\",\"\",入力シート!L194)","v":""},{"$f":"IF(入力シート!M194=\"\",\"\",入力シート!M194)","v":""},{"$f":"IF(入力シート!N194=\"\",\"\",入力シート!P194)","v":""}]
[{"$f":"IF(入力シート!A195=\"\",\"\",入力シート!A195)","v":""},{"$f":"IF(入力シート!B195=\"\",\"\",入力シート!B195)","v":""},{"$f":"IF(入力シート!C195=\"\",\"\",TEXT(入力シート!C195,\"yyyy-mm-dd\"))","v":""},{"$f":"IF(入力シート!O195=\"\",\"\",TEXT(入力シート!O195,\"000-0000\"))","v":""},{"$f":"IF(入力シート!F195=\"\",\"\",入力シート!F195)","v":""},{"$f":"IF(入力シート!G195=\"\",\"\",入力シート!G195)","v":""},{"$f":"IF(入力シート!H195=\"\",\"\",入力シート!H195)","v":""},{"$f":"IF(入力シート!I195=\"\",\"\",入力シート!I195)","v":""},{"$f":"IF(入力シート!J195=\"\",\"\",入力シート!J195)","v":""},{"$f":"IF(入力シート!K195=\"\",\"\",入力シート!K195)","v":""},{"$f":"IF(入力シート!L195=\"\",\"\",入力シート!L195)","v":""},{"$f":"IF(入力シート!M195=\"\",\"\",入力シート!M195)","v":""},{"$f":"IF(入力シート!N195=\"\",\"\",入力シート!P195)","v":""}]
[{"$f":"IF(入力シート!A196=\"\",\"\",入力シート!A196)","v":""},{"$f":"IF(入力シート!B196=\"\",\"\",入力シート!B196)","v":""},{"$f":"IF(入力シート!C196=\"\",\"\",TEXT(入力シート!C196,\"yyyy-mm-dd\"))","v":""},{"$f":"IF(入力シート!O196=\"\",\"\",TEXT(入力シート!O196,\"000-0000\"))","v":""},{"$f":"IF(入力シート!F196=\"\",\"\",入力シート!F196)","v":""},{"$f":"IF(入力シート!G196=\"\",\"\",入力シート!G196)","v":""},{"$f":"IF(入力シート!H196=\"\",\"\",入力シート!H196)","v":""},{"$f":"IF(入力シート!I196=\"\",\"\",入力シート!I196)","v":""},{"$f":"IF(入力シート!J196=\"\",\"\",入力シート!J196)","v":""},{"$f":"IF(入力シート!K196=\"\",\"\",入力シート!K196)","v":""},{"$f":"IF(入力シート!L196=\"\",\"\",入力シート!L196)","v":""},{"$f":"IF(入力シート!M196=\"\",\"\",入力シート!M196)","v":""},{"$f":"IF(入力シート!N196=\"\",\"\",入力シート!P196)","v":""}]
[{"$f":"IF(入力シート!A197=\"\",\"\",入力シート!A197)","v":""},{"$f":"IF(入力シート!B197=\"\",\"\",入力シート!B197)","v":""},{"$f":"IF(入力シート!C197=\"\",\"\",TEXT(入力シート!C197,\"yyyy-mm-dd\"))","v":""},{"$f":"IF(入力シート!O197=\"\",\"\",TEXT(入力シート!O197,\"000-0000\"))","v":""},{"$f":"IF(入力シート!F197=\"\",\"\",入力シート!F197)","v":""},{"$f":"IF(入力シート!G197=\"\",\"\",入力シート!G197)","v":""},{"$f":"IF(入力シート!H197=\"\",\"\",入力シート!H197)","v":""},{"$f":"IF(入力シート!I197=\"\",\"\",入力シート!I197)","v":""},{"$f":"IF(入力シート!J197=\"\",\"\",入力シート!J197)","v":""},{"$f":"IF(入力シート!K197=\"\",\"\",入力シート!K197)","v":""},{"$f":"IF(入力シート!L197=\"\",\"\",入力シート!L197)","v":""},{"$f":"IF(入力シート!M197=\"\",\"\",入力シート!M197)","v":""},{"$f":"IF(入力シート!N197=\"\",\"\",入力シート!P197)","v":""}]
[{"$f":"IF(入力シート!A198=\"\",\"\",入力シート!A198)","v":""},{"$f":"IF(入力シート!B198=\"\",\"\",入力シート!B198)","v":""},{"$f":"IF(入力シート!C198=\"\",\"\",TEXT(入力シート!C198,\"yyyy-mm-dd\"))","v":""},{"$f":"IF(入力シート!O198=\"\",\"\",TEXT(入力シート!O198,\"000-0000\"))","v":""},{"$f":"IF(入力シート!F198=\"\",\"\",入力シート!F198)","v":""},{"$f":"IF(入力シート!G198=\"\",\"\",入力シート!G198)","v":""},{"$f":"IF(入力シート!H198=\"\",\"\",入力シート!H198)","v":""},{"$f":"IF(入力シート!I198=\"\",\"\",入力シート!I198)","v":""},{"$f":"IF(入力シート!J198=\"\",\"\",入力シート!J198)","v":""},{"$f":"IF(入力シート!K198=\"\",\"\",入力シート!K198)","v":""},{"$f":"IF(入力シート!L198=\"\",\"\",入力シート!L198)","v":""},{"$f":"IF(入力シート!M198=\"\",\"\",入力シート!M198)","v":""},{"$f":"IF(入力シート!N198=\"\",\"\",入力シート!P198)","v":""}]
[{"$f":"IF(入力シート!A199=\"\",\"\",入力シート!A199)","v":""},{"$f":"IF(入力シート!B199=\"\",\"\",入力シート!B199)","v":""},{"$f":"IF(入力シート!C199=\"\",\"\",TEXT(入力シート!C199,\"yyyy-mm-dd\"))","v":""},{"$f":"IF(入力シート!O199=\"\",\"\",TEXT(入力シート!O199,\"000-0000\"))","v":""},{"$f":"IF(入力シート!F199=\"\",\"\",入力シート!F199)","v":""},{"$f":"IF(入力シート!G199=\"\",\"\",入力シート!G199)","v":""},{"$f":"IF(入力シート!H199=\"\",\"\",入力シート!H199)","v":""},{"$f":"IF(入力シート!I199=\"\",\"\",入力シート!I199)","v":""},{"$f":"IF(入力シート!J199=\"\",\"\",入力シート!J199)","v":""},{"$f":"IF(入力シート!K199=\"\",\"\",入力シート!K199)","v":""},{"$f":"IF(入力シート!L199=\"\",\"\",入力シート!L199)","v":""},{"$f":"IF(入力シート!M199=\"\",\"\",入力シート!M199)","v":""},{"$f":"IF(入力シート!N199=\"\",\"\",入力シート!P199)","v":""}]
[{"$f":"IF(入力シート!A200=\"\",\"\",入力シート!A200)","v":""},{"$f":"IF(入力シート!B200=\"\",\"\",入力シート!B200)","v":""},{"$f":"IF(入力シート!C200=\"\",\"\",TEXT(入力シート!C200,\"yyyy-mm-dd\"))","v":""},{"$f":"IF(入力シート!O200=\"\",\"\",TEXT(入力シート!O200,\"000-0000\"))","v":""},{"$f":"IF(入力シート!F200=\"\",\"\",入力シート!F200)","v":""},{"$f":"IF(入力シート!G200=\"\",\"\",入力シート!G200)","v":""},{"$f":"IF(入力シート!H200=\"\",\"\",入力シート!H200)","v":""},{"$f":"IF(入力シート!I200=\"\",\"\",入力シート!I200)","v":""},{"$f":"IF(入力シート!J200=\"\",\"\",入力シート!J200)","v":""},{"$f":"IF(入力シート!K200=\"\",\"\",入力シート!K200)","v":""},{"$f":"IF(入力シート!L200=\"\",\"\",入力シート!L200)","v":""},{"$f":"IF(入力シート!M200=\"\",\"\",入力シート!M200)","v":""},{"$f":"IF(入力シート!N200=\"\",\"\",入力シート!P200)","v":""}]
[{"$f":"IF(入力シート!A201=\"\",\"\",入力シート!A201)","v":""},{"$f":"IF(入力シート!B201=\"\",\"\",入力シート!B201)","v":""},{"$f":"IF(入力シート!C201=\"\",\"\",TEXT(入力シート!C201,\"yyyy-mm-dd\"))","v":""},{"$f":"IF(入力シート!O201=\"\",\"\",TEXT(入力シート!O201,\"000-0000\"))","v":""},{"$f":"IF(入力シート!F201=\"\",\"\",入力シート!F201)","v":""},{"$f":"IF(入力シート!G201=\"\",\"\",入力シート!G201)","v":""},{"$f":"IF(入力シート!H201=\"\",\"\",入力シート!H201)","v":""},{"$f":"IF(入力シート!I201=\"\",\"\",入力シート!I201)","v":""},{"$f":"IF(入力シート!J201=\"\",\"\",入力シート!J201)","v":""},{"$f":"IF(入力シート!K201=\"\",\"\",入力シート!K201)","v":""},{"$f":"IF(入力シート!L201=\"\",\"\",入力シート!L201)","v":""},{"$f":"IF(入力シート!M201=\"\",\"\",入力シート!M201)","v":""},{"$f":"IF(入力シート!N201=\"\",\"\",入力シート!P201)","v":""}]
[{"$f":"IF(入力シート!A202=\"\",\"\",入力シート!A202)","v":""},{"$f":"IF(入力シート!B202=\"\",\"\",入力シート!B202)","v":""},{"$f":"IF(入力シート!C202=\"\",\"\",TEXT(入力シート!C202,\"yyyy-mm-dd\"))","v":""},{"$f":"IF(入力シート!O202=\"\",\"\",TEXT(入力シート!O202,\"000-0000\"))","v":""},{"$f":"IF(入力シート!F202=\"\",\"\",入力シート!F202)","v":""},{"$f":"IF(入力シート!G202=\"\",\"\",入力シート!G202)","v":""},{"$f":"IF(入力シート!H202=\"\",\"\",入力シート!H202)","v":""},{"$f":"IF(入力シート!I202=\"\",\"\",入力シート!I202)","v":""},{"$f":"IF(入力シート!J202=\"\",\"\",入力シート!J202)","v":""},{"$f":"IF(入力シート!K202=\"\",\"\",入力シート!K202)","v":""},{"$f":"IF(入力シート!L202=\"\",\"\",入力シート!L202)","v":""},{"$f":"IF(入力シート!M202=\"\",\"\",入力シート!M202)","v":""},{"$f":"IF(入力シート!N202=\"\",\"\",入力シート!P202)","v":""}]
[{"$f":"IF(入力シート!A203=\"\",\"\",入力シート!A203)","v":""},{"$f":"IF(入力シート!B203=\"\",\"\",入力シート!B203)","v":""},{"$f":"IF(入力シート!C203=\"\",\"\",TEXT(入力シート!C203,\"yyyy-mm-dd\"))","v":""},{"$f":"IF(入力シート!O203=\"\",\"\",TEXT(入力シート!O203,\"000-0000\"))","v":""},{"$f":"IF(入力シート!F203=\"\",\"\",入力シート!F203)","v":""},{"$f":"IF(入力シート!G203=\"\",\"\",入力シート!G203)","v":""},{"$f":"IF(入力シート!H203=\"\",\"\",入力シート!H203)","v":""},{"$f":"IF(入力シート!I203=\"\",\"\",入力シート!I203)","v":""},{"$f":"IF(入力シート!J203=\"\",\"\",入力シート!J203)","v":""},{"$f":"IF(入力シート!K203=\"\",\"\",入力シート!K203)","v":""},{"$f":"IF(入力シート!L203=\"\",\"\",入力シート!L203)","v":""},{"$f":"IF(入力シート!M203=\"\",\"\",入力シート!M203)","v":""},{"$f":"IF(入力シート!N203=\"\",\"\",入力シート!P203)","v":""}]
[{"$f":"IF(入力シート!A204=\"\",\"\",入力シート!A204)","v":""},{"$f":"IF(入力シート!B204=\"\",\"\",入力シート!B204)","v":""},{"$f":"IF(入力シート!C204=\"\",\"\",TEXT(入力シート!C204,\"yyyy-mm-dd\"))","v":""},{"$f":"IF(入力シート!O204=\"\",\"\",TEXT(入力シート!O204,\"000-0000\"))","v":""},{"$f":"IF(入力シート!F204=\"\",\"\",入力シート!F204)","v":""},{"$f":"IF(入力シート!G204=\"\",\"\",入力シート!G204)","v":""},{"$f":"IF(入力シート!H204=\"\",\"\",入力シート!H204)","v":""},{"$f":"IF(入力シート!I204=\"\",\"\",入力シート!I204)","v":""},{"$f":"IF(入力シート!J204=\"\",\"\",入力シート!J204)","v":""},{"$f":"IF(入力シート!K204=\"\",\"\",入力シート!K204)","v":""},{"$f":"IF(入力シート!L204=\"\",\"\",入力シート!L204)","v":""},{"$f":"IF(入力シート!M204=\"\",\"\",入力シート!M204)","v":""},{"$f":"IF(入力シート!N204=\"\",\"\",入力シート!P204)","v":""}]
[{"$f":"IF(入力シート!A205=\"\",\"\",入力シート!A205)","v":""},{"$f":"IF(入力シート!B205=\"\",\"\",入力シート!B205)","v":""},{"$f":"IF(入力シート!C205=\"\",\"\",TEXT(入力シート!C205,\"yyyy-mm-dd\"))","v":""},{"$f":"IF(入力シート!O205=\"\",\"\",TEXT(入力シート!O205,\"000-0000\"))","v":""},{"$f":"IF(入力シート!F205=\"\",\"\",入力シート!F205)","v":""},{"$f":"IF(入力シート!G205=\"\",\"\",入力シート!G205)","v":""},{"$f":"IF(入力シート!H205=\"\",\"\",入力シート!H205)","v":""},{"$f":"IF(入力シート!I205=\"\",\"\",入力シート!I205)","v":""},{"$f":"IF(入力シート!J205=\"\",\"\",入力シート!J205)","v":""},{"$f":"IF(入力シート!K205=\"\",\"\",入力シート!K205)","v":""},{"$f":"IF(入力シート!L205=\"\",\"\",入力シート!L205)","v":""},{"$f":"IF(入力シート!M205=\"\",\"\",入力シート!M205)","v":""},{"$f":"IF(入力シート!N205=\"\",\"\",入力シート!P205)","v":""}]
[{"$f":"IF(入力シート!A206=\"\",\"\",入力シート!A206)","v":""},{"$f":"IF(入力シート!B206=\"\",\"\",入力シート!B206)","v":""},{"$f":"IF(入力シート!C206=\"\",\"\",TEXT(入力シート!C206,\"yyyy-mm-dd\"))","v":""},{"$f":"IF(入力シート!O206=\"\",\"\",TEXT(入力シート!O206,\"000-0000\"))","v":""},{"$f":"IF(入力シート!F206=\"\",\"\",入力シート!F206)","v":""},{"$f":"IF(入力シート!G206=\"\",\"\",入力シート!G206)","v":""},{"$f":"IF(入力シート!H206=\"\",\"\",入力シート!H206)","v":""},{"$f":"IF(入力シート!I206=\"\",\"\",入力シート!I206)","v":""},{"$f":"IF(入力シート!J206=\"\",\"\",入力シート!J206)","v":""},{"$f":"IF(入力シート!K206=\"\",\"\",入力シート!K206)","v":""},{"$f":"IF(入力シート!L206=\"\",\"\",入力シート!L206)","v":""},{"$f":"IF(入力シート!M206=\"\",\"\",入力シート!M206)","v":""},{"$f":"IF(入力シート!N206=\"\",\"\",入力シート!P206)","v":""}]
[{"$f":"IF(入力シート!A207=\"\",\"\",入力シート!A207)","v":""},{"$f":"IF(入力シート!B207=\"\",\"\",入力シート!B207)","v":""},{"$f":"IF(入力シート!C207=\"\",\"\",TEXT(入力シート!C207,\"yyyy-mm-dd\"))","v":""},{"$f":"IF(入力シート!O207=\"\",\"\",TEXT(入力シート!O207,\"000-0000\"))","v":""},{"$f":"IF(入力シート!F207=\"\",\"\",入力シート!F207)","v":""},{"$f":"IF(入力シート!G207=\"\",\"\",入力シート!G207)","v":""},{"$f":"IF(入力シート!H207=\"\",\"\",入力シート!H207)","v":""},{"$f":"IF(入力シート!I207=\"\",\"\",入力シート!I207)","v":""},{"$f":"IF(入力シート!J207=\"\",\"\",入力シート!J207)","v":""},{"$f":"IF(入力シート!K207=\"\",\"\",入力シート!K207)","v":""},{"$f":"IF(入力シート!L207=\"\",\"\",入力シート!L207)","v":""},{"$f":"IF(入力シート!M207=\"\",\"\",入力シート!M207)","v":""},{"$f":"IF(入力シート!N207=\"\",\"\",入力シート!P207)","v":""}]
[{"$f":"IF(入力シート!A208=\"\",\"\",入力シート!A208)","v":""},{"$f":"IF(入力シート!B208=\"\",\"\",入力シート!B208)","v":""},{"$f":"IF(入力シート!C208=\"\",\"\",TEXT(入力シート!C208,\"yyyy-mm-dd\"))","v":""},{"$f":"IF(入力シート!O208=\"\",\"\",TEXT(入力シート!O208,\"000-0000\"))","v":""},{"$f":"IF(入力シート!F208=\"\",\"\",入力シート!F208)","v":""},{"$f":"IF(入力シート!G208=\"\",\"\",入力シート!G208)","v":""},{"$f":"IF(入力シート!H208=\"\",\"\",入力シート!H208)","v":""},{"$f":"IF(入力シート!I208=\"\",\"\",入力シート!I208)","v":""},{"$f":"IF(入力シート!J208=\"\",\"\",入力シート!J208)","v":""},{"$f":"IF(入力シート!K208=\"\",\"\",入力シート!K208)","v":""},{"$f":"IF(入力シート!L208=\"\",\"\",入力シート!L208)","v":""},{"$f":"IF(入力シート!M208=\"\",\"\",入力シート!M208)","v":""},{"$f":"IF(入力シート!N208=\"\",\"\",入力シート!P208)","v":""}]
[{"$f":"IF(入力シート!A209=\"\",\"\",入力シート!A209)","v":""},{"$f":"IF(入力シート!B209=\"\",\"\",入力シート!B209)","v":""},{"$f":"IF(入力シート!C209=\"\",\"\",TEXT(入力シート!C209,\"yyyy-mm-dd\"))","v":""},{"$f":"IF(入力シート!O209=\"\",\"\",TEXT(入力シート!O209,\"000-0000\"))","v":""},{"$f":"IF(入力シート!F209=\"\",\"\",入力シート!F209)","v":""},{"$f":"IF(入力シート!G209=\"\",\"\",入力シート!G209)","v":""},{"$f":"IF(入力シート!H209=\"\",\"\",入力シート!H209)","v":""},{"$f":"IF(入力シート!I209=\"\",\"\",入力シート!I209)","v":""},{"$f":"IF(入力シート!J209=\"\",\"\",入力シート!J209)","v":""},{"$f":"IF(入力シート!K209=\"\",\"\",入力シート!K209)","v":""},{"$f":"IF(入力シート!L209=\"\",\"\",入力シート!L209)","v":""},{"$f":"IF(入力シート!M209=\"\",\"\",入力シート!M209)","v":""},{"$f":"IF(入力シート!N209=\"\",\"\",入力シート!P209)","v":""}]
[{"$f":"IF(入力シート!A210=\"\",\"\",入力シート!A210)","v":""},{"$f":"IF(入力シート!B210=\"\",\"\",入力シート!B210)","v":""},{"$f":"IF(入力シート!C210=\"\",\"\",TEXT(入力シート!C210,\"yyyy-mm-dd\"))","v":""},{"$f":"IF(入力シート!O210=\"\",\"\",TEXT(入力シート!O210,\"000-0000\"))","v":""},{"$f":"IF(入力シート!F210=\"\",\"\",入力シート!F210)","v":""},{"$f":"IF(入力シート!G210=\"\",\"\",入力シート!G210)","v":""},{"$f":"IF(入力シート!H210=\"\",\"\",入力シート!H210)","v":""},{"$f":"IF(入力シート!I210=\"\",\"\",入力シート!I210)","v":""},{"$f":"IF(入力シート!J210=\"\",\"\",入力シート!J210)","v":""},{"$f":"IF(入力シート!K210=\"\",\"\",入力シート!K210)","v":""},{"$f":"IF(入力シート!L210=\"\",\"\",入力シート!L210)","v":""},{"$f":"IF(入力シート!M210=\"\",\"\",入力シート!M210)","v":""},{"$f":"IF(入力シート!N210=\"\",\"\",入力シート!P210)","v":""}]
[{"$f":"IF(入力シート!A211=\"\",\"\",入力シート!A211)","v":""},{"$f":"IF(入力シート!B211=\"\",\"\",入力シート!B211)","v":""},{"$f":"IF(入力シート!C211=\"\",\"\",TEXT(入力シート!C211,\"yyyy-mm-dd\"))","v":""},{"$f":"IF(入力シート!O211=\"\",\"\",TEXT(入力シート!O211,\"000-0000\"))","v":""},{"$f":"IF(入力シート!F211=\"\",\"\",入力シート!F211)","v":""},{"$f":"IF(入力シート!G211=\"\",\"\",入力シート!G211)","v":""},{"$f":"IF(入力シート!H211=\"\",\"\",入力シート!H211)","v":""},{"$f":"IF(入力シート!I211=\"\",\"\",入力シート!I211)","v":""},{"$f":"IF(入力シート!J211=\"\",\"\",入力シート!J211)","v":""},{"$f":"IF(入力シート!K211=\"\",\"\",入力シート!K211)","v":""},{"$f":"IF(入力シート!L211=\"\",\"\",入力シート!L211)","v":""},{"$f":"IF(入力シート!M211=\"\",\"\",入力シート!M211)","v":""},{"$f":"IF(入力シート!N211=\"\",\"\",入力シート!P211)","v":""}]
[{"$f":"IF(入力シート!A212=\"\",\"\",入力シート!A212)","v":""},{"$f":"IF(入力シート!B212=\"\",\"\",入力シート!B212)","v":""},{"$f":"IF(入力シート!C212=\"\",\"\",TEXT(入力シート!C212,\"yyyy-mm-dd\"))","v":""},{"$f":"IF(入力シート!O212=\"\",\"\",TEXT(入力シート!O212,\"000-0000\"))","v":""},{"$f":"IF(入力シート!F212=\"\",\"\",入力シート!F212)","v":""},{"$f":"IF(入力シート!G212=\"\",\"\",入力シート!G212)","v":""},{"$f":"IF(入力シート!H212=\"\",\"\",入力シート!H212)","v":""},{"$f":"IF(入力シート!I212=\"\",\"\",入力シート!I212)","v":""},{"$f":"IF(入力シート!J212=\"\",\"\",入力シート!J212)","v":""},{"$f":"IF(入力シート!K212=\"\",\"\",入力シート!K212)","v":""},{"$f":"IF(入力シート!L212=\"\",\"\",入力シート!L212)","v":""},{"$f":"IF(入力シート!M212=\"\",\"\",入力シート!M212)","v":""},{"$f":"IF(入力シート!N212=\"\",\"\",入力シート!P212)","v":""}]
[{"$f":"IF(入力シート!A213=\"\",\"\",入力シート!A213)","v":""},{"$f":"IF(入力シート!B213=\"\",\"\",入力シート!B213)","v":""},{"$f":"IF(入力シート!C213=\"\",\"\",TEXT(入力シート!C213,\"yyyy-mm-dd\"))","v":""},{"$f":"IF(入力シート!O213=\"\",\"\",TEXT(入力シート!O213,\"000-0000\"))","v":""},{"$f":"IF(入力シート!F213=\"\",\"\",入力シート!F213)","v":""},{"$f":"IF(入力シート!G213=\"\",\"\",入力シート!G213)","v":""},{"$f":"IF(入力シート!H213=\"\",\"\",入力シート!H213)","v":""},{"$f":"IF(入力シート!I213=\"\",\"\",入力シート!I213)","v":""},{"$f":"IF(入力シート!J213=\"\",\"\",入力シート!J213)","v":""},{"$f":"IF(入力シート!K213=\"\",\"\",入力シート!K213)","v":""},{"$f":"IF(入力シート!L213=\"\",\"\",入力シート!L213)","v":""},{"$f":"IF(入力シート!M213=\"\",\"\",入力シート!M213)","v":""},{"$f":"IF(入力シート!N213=\"\",\"\",入力シート!P213)","v":""}]
[{"$f":"IF(入力シート!A214=\"\",\"\",入力シート!A214)","v":""},{"$f":"IF(入力シート!B214=\"\",\"\",入力シート!B214)","v":""},{"$f":"IF(入力シート!C214=\"\",\"\",TEXT(入力シート!C214,\"yyyy-mm-dd\"))","v":""},{"$f":"IF(入力シート!O214=\"\",\"\",TEXT(入力シート!O214,\"000-0000\"))","v":""},{"$f":"IF(入力シート!F214=\"\",\"\",入力シート!F214)","v":""},{"$f":"IF(入力シート!G214=\"\",\"\",入力シート!G214)","v":""},{"$f":"IF(入力シート!H214=\"\",\"\",入力シート!H214)","v":""},{"$f":"IF(入力シート!I214=\"\",\"\",入力シート!I214)","v":""},{"$f":"IF(入力シート!J214=\"\",\"\",入力シート!J214)","v":""},{"$f":"IF(入力シート!K214=\"\",\"\",入力シート!K214)","v":""},{"$f":"IF(入力シート!L214=\"\",\"\",入力シート!L214)","v":""},{"$f":"IF(入力シート!M214=\"\",\"\",入力シート!M214)","v":""},{"$f":"IF(入力シート!N214=\"\",\"\",入力シート!P214)","v":""}]
[{"$f":"IF(入力シート!A215=\"\",\"\",入力シート!A215)","v":""},{"$f":"IF(入力シート!B215=\"\",\"\",入力シート!B215)","v":""},{"$f":"IF(入力シート!C215=\"\",\"\",TEXT(入力シート!C215,\"yyyy-mm-dd\"))","v":""},{"$f":"IF(入力シート!O215=\"\",\"\",TEXT(入力シート!O215,\"000-0000\"))","v":""},{"$f":"IF(入力シート!F215=\"\",\"\",入力シート!F215)","v":""},{"$f":"IF(入力シート!G215=\"\",\"\",入力シート!G215)","v":""},{"$f":"IF(入力シート!H215=\"\",\"\",入力シート!H215)","v":""},{"$f":"IF(入力シート!I215=\"\",\"\",入力シート!I215)","v":""},{"$f":"IF(入力シート!J215=\"\",\"\",入力シート!J215)","v":""},{"$f":"IF(入力シート!K215=\"\",\"\",入力シート!K215)","v":""},{"$f":"IF(入力シート!L215=\"\",\"\",入力シート!L215)","v":""},{"$f":"IF(入力シート!M215=\"\",\"\",入力シート!M215)","v":""},{"$f":"IF(入力シート!N215=\"\",\"\",入力シート!P215)","v":""}]
[{"$f":"IF(入力シート!A216=\"\",\"\",入力シート!A216)","v":""},{"$f":"IF(入力シート!B216=\"\",\"\",入力シート!B216)","v":""},{"$f":"IF(入力シート!C216=\"\",\"\",TEXT(入力シート!C216,\"yyyy-mm-dd\"))","v":""},{"$f":"IF(入力シート!O216=\"\",\"\",TEXT(入力シート!O216,\"000-0000\"))","v":""},{"$f":"IF(入力シート!F216=\"\",\"\",入力シート!F216)","v":""},{"$f":"IF(入力シート!G216=\"\",\"\",入力シート!G216)","v":""},{"$f":"IF(入力シート!H216=\"\",\"\",入力シート!H216)","v":""},{"$f":"IF(入力シート!I216=\"\",\"\",入力シート!I216)","v":""},{"$f":"IF(入力シート!J216=\"\",\"\",入力シート!J216)","v":""},{"$f":"IF(入力シート!K216=\"\",\"\",入力シート!K216)","v":""},{"$f":"IF(入力シート!L216=\"\",\"\",入力シート!L216)","v":""},{"$f":"IF(入力シート!M216=\"\",\"\",入力シート!M216)","v":""},{"$f":"IF(入力シート!N216=\"\",\"\",入力シート!P216)","v":""}]
[{"$f":"IF(入力シート!A217=\"\",\"\",入力シート!A217)","v":""},{"$f":"IF(入力シート!B217=\"\",\"\",入力シート!B217)","v":""},{"$f":"IF(入力シート!C217=\"\",\"\",TEXT(入力シート!C217,\"yyyy-mm-dd\"))","v":""},{"$f":"IF(入力シート!O217=\"\",\"\",TEXT(入力シート!O217,\"000-0000\"))","v":""},{"$f":"IF(入力シート!F217=\"\",\"\",入力シート!F217)","v":""},{"$f":"IF(入力シート!G217=\"\",\"\",入力シート!G217)","v":""},{"$f":"IF(入力シート!H217=\"\",\"\",入力シート!H217)","v":""},{"$f":"IF(入力シート!I217=\"\",\"\",入力シート!I217)","v":""},{"$f":"IF(入力シート!J217=\"\",\"\",入力シート!J217)","v":""},{"$f":"IF(入力シート!K217=\"\",\"\",入力シート!K217)","v":""},{"$f":"IF(入力シート!L217=\"\",\"\",入力シート!L217)","v":""},{"$f":"IF(入力シート!M217=\"\",\"\",入力シート!M217)","v":""},{"$f":"IF(入力シート!N217=\"\",\"\",入力シート!P217)","v":""}]
[{"$f":"IF(入力シート!A218=\"\",\"\",入力シート!A218)","v":""},{"$f":"IF(入力シート!B218=\"\",\"\",入力シート!B218)","v":""},{"$f":"IF(入力シート!C218=\"\",\"\",TEXT(入力シート!C218,\"yyyy-mm-dd\"))","v":""},{"$f":"IF(入力シート!O218=\"\",\"\",TEXT(入力シート!O218,\"000-0000\"))","v":""},{"$f":"IF(入力シート!F218=\"\",\"\",入力シート!F218)","v":""},{"$f":"IF(入力シート!G218=\"\",\"\",入力シート!G218)","v":""},{"$f":"IF(入力シート!H218=\"\",\"\",入力シート!H218)","v":""},{"$f":"IF(入力シート!I218=\"\",\"\",入力シート!I218)","v":""},{"$f":"IF(入力シート!J218=\"\",\"\",入力シート!J218)","v":""},{"$f":"IF(入力シート!K218=\"\",\"\",入力シート!K218)","v":""},{"$f":"IF(入力シート!L218=\"\",\"\",入力シート!L218)","v":""},{"$f":"IF(入力シート!M218=\"\",\"\",入力シート!M218)","v":""},{"$f":"IF(入力シート!N218=\"\",\"\",入力シート!P218)","v":""}]
[{"$f":"IF(入力シート!A219=\"\",\"\",入力シート!A219)","v":""},{"$f":"IF(入力シート!B219=\"\",\"\",入力シート!B219)","v":""},{"$f":"IF(入力シート!C219=\"\",\"\",TEXT(入力シート!C219,\"yyyy-mm-dd\"))","v":""},{"$f":"IF(入力シート!O219=\"\",\"\",TEXT(入力シート!O219,\"000-0000\"))","v":""},{"$f":"IF(入力シート!F219=\"\",\"\",入力シート!F219)","v":""},{"$f":"IF(入力シート!G219=\"\",\"\",入力シート!G219)","v":""},{"$f":"IF(入力シート!H219=\"\",\"\",入力シート!H219)","v":""},{"$f":"IF(入力シート!I219=\"\",\"\",入力シート!I219)","v":""},{"$f":"IF(入力シート!J219=\"\",\"\",入力シート!J219)","v":""},{"$f":"IF(入力シート!K219=\"\",\"\",入力シート!K219)","v":""},{"$f":"IF(入力シート!L219=\"\",\"\",入力シート!L219)","v":""},{"$f":"IF(入力シート!M219=\"\",\"\",入力シート!M219)","v":""},{"$f":"IF(入力シート!N219=\"\",\"\",入力シート!P219)","v":""}]
[{"$f":"IF(入力シート!A220=\"\",\"\",入力シート!A220)","v":""},{"$f":"IF(入力シート!B220=\"\",\"\",入力シート!B220)","v":""},{"$f":"IF(入力シート!C220=\"\",\"\",TEXT(入力シート!C220,\"yyyy-mm-dd\"))","v":""},{"$f":"IF(入力シート!O220=\"\",\"\",TEXT(入力シート!O220,\"000-0000\"))","v":""},{"$f":"IF(入力シート!F220=\"\",\"\",入力シート!F220)","v":""},{"$f":"IF(入力シート!G220=\"\",\"\",入力シート!G220)","v":""},{"$f":"IF(入力シート!H220=\"\",\"\",入力シート!H220)","v":""},{"$f":"IF(入力シート!I220=\"\",\"\",入力シート!I220)","v":""},{"$f":"IF(入力シート!J220=\"\",\"\",入力シート!J220)","v":""},{"$f":"IF(入力シート!K220=\"\",\"\",入力シート!K220)","v":""},{"$f":"IF(入力シート!L220=\"\",\"\",入力シート!L220)","v":""},{"$f":"IF(入力シート!M220=\"\",\"\",入力シート!M220)","v":""},{"$f":"IF(入力シート!N220=\"\",\"\",入力シート!P220)","v":""}]
[{"$f":"IF(入力シート!A221=\"\",\"\",入力シート!A221)","v":""},{"$f":"IF(入力シート!B221=\"\",\"\",入力シート!B221)","v":""},{"$f":"IF(入力シート!C221=\"\",\"\",TEXT(入力シート!C221,\"yyyy-mm-dd\"))","v":""},{"$f":"IF(入力シート!O221=\"\",\"\",TEXT(入力シート!O221,\"000-0000\"))","v":""},{"$f":"IF(入力シート!F221=\"\",\"\",入力シート!F221)","v":""},{"$f":"IF(入力シート!G221=\"\",\"\",入力シート!G221)","v":""},{"$f":"IF(入力シート!H221=\"\",\"\",入力シート!H221)","v":""},{"$f":"IF(入力シート!I221=\"\",\"\",入力シート!I221)","v":""},{"$f":"IF(入力シート!J221=\"\",\"\",入力シート!J221)","v":""},{"$f":"IF(入力シート!K221=\"\",\"\",入力シート!K221)","v":""},{"$f":"IF(入力シート!L221=\"\",\"\",入力シート!L221)","v":""},{"$f":"IF(入力シート!M221=\"\",\"\",入力シート!M221)","v":""},{"$f":"IF(入力シート!N221=\"\",\"\",入力シート!P221)","v":""}]
[{"$f":"IF(入力シート!A222=\"\",\"\",入力シート!A222)","v":""},{"$f":"IF(入力シート!B222=\"\",\"\",入力シート!B222)","v":""},{"$f":"IF(入力シート!C222=\"\",\"\",TEXT(入力シート!C222,\"yyyy-mm-dd\"))","v":""},{"$f":"IF(入力シート!O222=\"\",\"\",TEXT(入力シート!O222,\"000-0000\"))","v":""},{"$f":"IF(入力シート!F222=\"\",\"\",入力シート!F222)","v":""},{"$f":"IF(入力シート!G222=\"\",\"\",入力シート!G222)","v":""},{"$f":"IF(入力シート!H222=\"\",\"\",入力シート!H222)","v":""},{"$f":"IF(入力シート!I222=\"\",\"\",入力シート!I222)","v":""},{"$f":"IF(入力シート!J222=\"\",\"\",入力シート!J222)","v":""},{"$f":"IF(入力シート!K222=\"\",\"\",入力シート!K222)","v":""},{"$f":"IF(入力シート!L222=\"\",\"\",入力シート!L222)","v":""},{"$f":"IF(入力シート!M222=\"\",\"\",入力シート!M222)","v":""},{"$f":"IF(入力シート!N222=\"\",\"\",入力シート!P222)","v":""}]
[{"$f":"IF(入力シート!A223=\"\",\"\",入力シート!A223)","v":""},{"$f":"IF(入力シート!B223=\"\",\"\",入力シート!B223)","v":""},{"$f":"IF(入力シート!C223=\"\",\"\",TEXT(入力シート!C223,\"yyyy-mm-dd\"))","v":""},{"$f":"IF(入力シート!O223=\"\",\"\",TEXT(入力シート!O223,\"000-0000\"))","v":""},{"$f":"IF(入力シート!F223=\"\",\"\",入力シート!F223)","v":""},{"$f":"IF(入力シート!G223=\"\",\"\",入力シート!G223)","v":""},{"$f":"IF(入力シート!H223=\"\",\"\",入力シート!H223)","v":""},{"$f":"IF(入力シート!I223=\"\",\"\",入力シート!I223)","v":""},{"$f":"IF(入力シート!J223=\"\",\"\",入力シート!J223)","v":""},{"$f":"IF(入力シート!K223=\"\",\"\",入力シート!K223)","v":""},{"$f":"IF(入力シート!L223=\"\",\"\",入力シート!L223)","v":""},{"$f":"IF(入力シート!M223=\"\",\"\",入力シート!M223)","v":""},{"$f":"IF(入力シート!N223=\"\",\"\",入力シート!P223)","v":""}]
[{"$f":"IF(入力シート!A224=\"\",\"\",入力シート!A224)","v":""},{"$f":"IF(入力シート!B224=\"\",\"\",入力シート!B224)","v":""},{"$f":"IF(入力シート!C224=\"\",\"\",TEXT(入力シート!C224,\"yyyy-mm-dd\"))","v":""},{"$f":"IF(入力シート!O224=\"\",\"\",TEXT(入力シート!O224,\"000-0000\"))","v":""},{"$f":"IF(入力シート!F224=\"\",\"\",入力シート!F224)","v":""},{"$f":"IF(入力シート!G224=\"\",\"\",入力シート!G224)","v":""},{"$f":"IF(入力シート!H224=\"\",\"\",入力シート!H224)","v":""},{"$f":"IF(入力シート!I224=\"\",\"\",入力シート!I224)","v":""},{"$f":"IF(入力シート!J224=\"\",\"\",入力シート!J224)","v":""},{"$f":"IF(入力シート!K224=\"\",\"\",入力シート!K224)","v":""},{"$f":"IF(入力シート!L224=\"\",\"\",入力シート!L224)","v":""},{"$f":"IF(入力シート!M224=\"\",\"\",入力シート!M224)","v":""},{"$f":"IF(入力シート!N224=\"\",\"\",入力シート!P224)","v":""}]
[{"$f":"IF(入力シート!A225=\"\",\"\",入力シート!A225)","v":""},{"$f":"IF(入力シート!B225=\"\",\"\",入力シート!B225)","v":""},{"$f":"IF(入力シート!C225=\"\",\"\",TEXT(入力シート!C225,\"yyyy-mm-dd\"))","v":""},{"$f":"IF(入力シート!O225=\"\",\"\",TEXT(入力シート!O225,\"000-0000\"))","v":""},{"$f":"IF(入力シート!F225=\"\",\"\",入力シート!F225)","v":""},{"$f":"IF(入力シート!G225=\"\",\"\",入力シート!G225)","v":""},{"$f":"IF(入力シート!H225=\"\",\"\",入力シート!H225)","v":""},{"$f":"IF(入力シート!I225=\"\",\"\",入力シート!I225)","v":""},{"$f":"IF(入力シート!J225=\"\",\"\",入力シート!J225)","v":""},{"$f":"IF(入力シート!K225=\"\",\"\",入力シート!K225)","v":""},{"$f":"IF(入力シート!L225=\"\",\"\",入力シート!L225)","v":""},{"$f":"IF(入力シート!M225=\"\",\"\",入力シート!M225)","v":""},{"$f":"IF(入力シート!N225=\"\",\"\",入力シート!P225)","v":""}]
[{"$f":"IF(入力シート!A226=\"\",\"\",入力シート!A226)","v":""},{"$f":"IF(入力シート!B226=\"\",\"\",入力シート!B226)","v":""},{"$f":"IF(入力シート!C226=\"\",\"\",TEXT(入力シート!C226,\"yyyy-mm-dd\"))","v":""},{"$f":"IF(入力シート!O226=\"\",\"\",TEXT(入力シート!O226,\"000-0000\"))","v":""},{"$f":"IF(入力シート!F226=\"\",\"\",入力シート!F226)","v":""},{"$f":"IF(入力シート!G226=\"\",\"\",入力シート!G226)","v":""},{"$f":"IF(入力シート!H226=\"\",\"\",入力シート!H226)","v":""},{"$f":"IF(入力シート!I226=\"\",\"\",入力シート!I226)","v":""},{"$f":"IF(入力シート!J226=\"\",\"\",入力シート!J226)","v":""},{"$f":"IF(入力シート!K226=\"\",\"\",入力シート!K226)","v":""},{"$f":"IF(入力シート!L226=\"\",\"\",入力シート!L226)","v":""},{"$f":"IF(入力シート!M226=\"\",\"\",入力シート!M226)","v":""},{"$f":"IF(入力シート!N226=\"\",\"\",入力シート!P226)","v":""}]
[{"$f":"IF(入力シート!A227=\"\",\"\",入力シート!A227)","v":""},{"$f":"IF(入力シート!B227=\"\",\"\",入力シート!B227)","v":""},{"$f":"IF(入力シート!C227=\"\",\"\",TEXT(入力シート!C227,\"yyyy-mm-dd\"))","v":""},{"$f":"IF(入力シート!O227=\"\",\"\",TEXT(入力シート!O227,\"000-0000\"))","v":""},{"$f":"IF(入力シート!F227=\"\",\"\",入力シート!F227)","v":""},{"$f":"IF(入力シート!G227=\"\",\"\",入力シート!G227)","v":""},{"$f":"IF(入力シート!H227=\"\",\"\",入力シート!H227)","v":""},{"$f":"IF(入力シート!I227=\"\",\"\",入力シート!I227)","v":""},{"$f":"IF(入力シート!J227=\"\",\"\",入力シート!J227)","v":""},{"$f":"IF(入力シート!K227=\"\",\"\",入力シート!K227)","v":""},{"$f":"IF(入力シート!L227=\"\",\"\",入力シート!L227)","v":""},{"$f":"IF(入力シート!M227=\"\",\"\",入力シート!M227)","v":""},{"$f":"IF(入力シート!N227=\"\",\"\",入力シート!P227)","v":""}]
[{"$f":"IF(入力シート!A228=\"\",\"\",入力シート!A228)","v":""},{"$f":"IF(入力シート!B228=\"\",\"\",入力シート!B228)","v":""},{"$f":"IF(入力シート!C228=\"\",\"\",TEXT(入力シート!C228,\"yyyy-mm-dd\"))","v":""},{"$f":"IF(入力シート!O228=\"\",\"\",TEXT(入力シート!O228,\"000-0000\"))","v":""},{"$f":"IF(入力シート!F228=\"\",\"\",入力シート!F228)","v":""},{"$f":"IF(入力シート!G228=\"\",\"\",入力シート!G228)","v":""},{"$f":"IF(入力シート!H228=\"\",\"\",入力シート!H228)","v":""},{"$f":"IF(入力シート!I228=\"\",\"\",入力シート!I228)","v":""},{"$f":"IF(入力シート!J228=\"\",\"\",入力シート!J228)","v":""},{"$f":"IF(入力シート!K228=\"\",\"\",入力シート!K228)","v":""},{"$f":"IF(入力シート!L228=\"\",\"\",入力シート!L228)","v":""},{"$f":"IF(入力シート!M228=\"\",\"\",入力シート!M228)","v":""},{"$f":"IF(入力シート!N228=\"\",\"\",入力シート!P228)","v":""}]
[{"$f":"IF(入力シート!A229=\"\",\"\",入力シート!A229)","v":""},{"$f":"IF(入力シート!B229=\"\",\"\",入力シート!B229)","v":""},{"$f":"IF(入力シート!C229=\"\",\"\",TEXT(入力シート!C229,\"yyyy-mm-dd\"))","v":""},{"$f":"IF(入力シート!O229=\"\",\"\",TEXT(入力シート!O229,\"000-0000\"))","v":""},{"$f":"IF(入力シート!F229=\"\",\"\",入力シート!F229)","v":""},{"$f":"IF(入力シート!G229=\"\",\"\",入力シート!G229)","v":""},{"$f":"IF(入力シート!H229=\"\",\"\",入力シート!H229)","v":""},{"$f":"IF(入力シート!I229=\"\",\"\",入力シート!I229)","v":""},{"$f":"IF(入力シート!J229=\"\",\"\",入力シート!J229)","v":""},{"$f":"IF(入力シート!K229=\"\",\"\",入力シート!K229)","v":""},{"$f":"IF(入力シート!L229=\"\",\"\",入力シート!L229)","v":""},{"$f":"IF(入力シート!M229=\"\",\"\",入力シート!M229)","v":""},{"$f":"IF(入力シート!N229=\"\",\"\",入力シート!P229)","v":""}]
[{"$f":"IF(入力シート!A230=\"\",\"\",入力シート!A230)","v":""},{"$f":"IF(入力シート!B230=\"\",\"\",入力シート!B230)","v":""},{"$f":"IF(入力シート!C230=\"\",\"\",TEXT(入力シート!C230,\"yyyy-mm-dd\"))","v":""},{"$f":"IF(入力シート!O230=\"\",\"\",TEXT(入力シート!O230,\"000-0000\"))","v":""},{"$f":"IF(入力シート!F230=\"\",\"\",入力シート!F230)","v":""},{"$f":"IF(入力シート!G230=\"\",\"\",入力シート!G230)","v":""},{"$f":"IF(入力シート!H230=\"\",\"\",入力シート!H230)","v":""},{"$f":"IF(入力シート!I230=\"\",\"\",入力シート!I230)","v":""},{"$f":"IF(入力シート!J230=\"\",\"\",入力シート!J230)","v":""},{"$f":"IF(入力シート!K230=\"\",\"\",入力シート!K230)","v":""},{"$f":"IF(入力シート!L230=\"\",\"\",入力シート!L230)","v":""},{"$f":"IF(入力シート!M230=\"\",\"\",入力シート!M230)","v":""},{"$f":"IF(入力シート!N230=\"\",\"\",入力シート!P230)","v":""}]
[{"$f":"IF(入力シート!A231=\"\",\"\",入力シート!A231)","v":""},{"$f":"IF(入力シート!B231=\"\",\"\",入力シート!B231)","v":""},{"$f":"IF(入力シート!C231=\"\",\"\",TEXT(入力シート!C231,\"yyyy-mm-dd\"))","v":""},{"$f":"IF(入力シート!O231=\"\",\"\",TEXT(入力シート!O231,\"000-0000\"))","v":""},{"$f":"IF(入力シート!F231=\"\",\"\",入力シート!F231)","v":""},{"$f":"IF(入力シート!G231=\"\",\"\",入力シート!G231)","v":""},{"$f":"IF(入力シート!H231=\"\",\"\",入力シート!H231)","v":""},{"$f":"IF(入力シート!I231=\"\",\"\",入力シート!I231)","v":""},{"$f":"IF(入力シート!J231=\"\",\"\",入力シート!J231)","v":""},{"$f":"IF(入力シート!K231=\"\",\"\",入力シート!K231)","v":""},{"$f":"IF(入力シート!L231=\"\",\"\",入力シート!L231)","v":""},{"$f":"IF(入力シート!M231=\"\",\"\",入力シート!M231)","v":""},{"$f":"IF(入力シート!N231=\"\",\"\",入力シート!P231)","v":""}]
[{"$f":"IF(入力シート!A232=\"\",\"\",入力シート!A232)","v":""},{"$f":"IF(入力シート!B232=\"\",\"\",入力シート!B232)","v":""},{"$f":"IF(入力シート!C232=\"\",\"\",TEXT(入力シート!C232,\"yyyy-mm-dd\"))","v":""},{"$f":"IF(入力シート!O232=\"\",\"\",TEXT(入力シート!O232,\"000-0000\"))","v":""},{"$f":"IF(入力シート!F232=\"\",\"\",入力シート!F232)","v":""},{"$f":"IF(入力シート!G232=\"\",\"\",入力シート!G232)","v":""},{"$f":"IF(入力シート!H232=\"\",\"\",入力シート!H232)","v":""},{"$f":"IF(入力シート!I232=\"\",\"\",入力シート!I232)","v":""},{"$f":"IF(入力シート!J232=\"\",\"\",入力シート!J232)","v":""},{"$f":"IF(入力シート!K232=\"\",\"\",入力シート!K232)","v":""},{"$f":"IF(入力シート!L232=\"\",\"\",入力シート!L232)","v":""},{"$f":"IF(入力シート!M232=\"\",\"\",入力シート!M232)","v":""},{"$f":"IF(入力シート!N232=\"\",\"\",入力シート!P232)","v":""}]
[{"$f":"IF(入力シート!A233=\"\",\"\",入力シート!A233)","v":""},{"$f":"IF(入力シート!B233=\"\",\"\",入力シート!B233)","v":""},{"$f":"IF(入力シート!C233=\"\",\"\",TEXT(入力シート!C233,\"yyyy-mm-dd\"))","v":""},{"$f":"IF(入力シート!O233=\"\",\"\",TEXT(入力シート!O233,\"000-0000\"))","v":""},{"$f":"IF(入力シート!F233=\"\",\"\",入力シート!F233)","v":""},{"$f":"IF(入力シート!G233=\"\",\"\",入力シート!G233)","v":""},{"$f":"IF(入力シート!H233=\"\",\"\",入力シート!H233)","v":""},{"$f":"IF(入力シート!I233=\"\",\"\",入力シート!I233)","v":""},{"$f":"IF(入力シート!J233=\"\",\"\",入力シート!J233)","v":""},{"$f":"IF(入力シート!K233=\"\",\"\",入力シート!K233)","v":""},{"$f":"IF(入力シート!L233=\"\",\"\",入力シート!L233)","v":""},{"$f":"IF(入力シート!M233=\"\",\"\",入力シート!M233)","v":""},{"$f":"IF(入力シート!N233=\"\",\"\",入力シート!P233)","v":""}]
[{"$f":"IF(入力シート!A234=\"\",\"\",入力シート!A234)","v":""},{"$f":"IF(入力シート!B234=\"\",\"\",入力シート!B234)","v":""},{"$f":"IF(入力シート!C234=\"\",\"\",TEXT(入力シート!C234,\"yyyy-mm-dd\"))","v":""},{"$f":"IF(入力シート!O234=\"\",\"\",TEXT(入力シート!O234,\"000-0000\"))","v":""},{"$f":"IF(入力シート!F234=\"\",\"\",入力シート!F234)","v":""},{"$f":"IF(入力シート!G234=\"\",\"\",入力シート!G234)","v":""},{"$f":"IF(入力シート!H234=\"\",\"\",入力シート!H234)","v":""},{"$f":"IF(入力シート!I234=\"\",\"\",入力シート!I234)","v":""},{"$f":"IF(入力シート!J234=\"\",\"\",入力シート!J234)","v":""},{"$f":"IF(入力シート!K234=\"\",\"\",入力シート!K234)","v":""},{"$f":"IF(入力シート!L234=\"\",\"\",入力シート!L234)","v":""},{"$f":"IF(入力シート!M234=\"\",\"\",入力シート!M234)","v":""},{"$f":"IF(入力シート!N234=\"\",\"\",入力シート!P234)","v":""}]
[{"$f":"IF(入力シート!A235=\"\",\"\",入力シート!A235)","v":""},{"$f":"IF(入力シート!B235=\"\",\"\",入力シート!B235)","v":""},{"$f":"IF(入力シート!C235=\"\",\"\",TEXT(入力シート!C235,\"yyyy-mm-dd\"))","v":""},{"$f":"IF(入力シート!O235=\"\",\"\",TEXT(入力シート!O235,\"000-0000\"))","v":""},{"$f":"IF(入力シート!F235=\"\",\"\",入力シート!F235)","v":""},{"$f":"IF(入力シート!G235=\"\",\"\",入力シート!G235)","v":""},{"$f":"IF(入力シート!H235=\"\",\"\",入力シート!H235)","v":""},{"$f":"IF(入力シート!I235=\"\",\"\",入力シート!I235)","v":""},{"$f":"IF(入力シート!J235=\"\",\"\",入力シート!J235)","v":""},{"$f":"IF(入力シート!K235=\"\",\"\",入力シート!K235)","v":""},{"$f":"IF(入力シート!L235=\"\",\"\",入力シート!L235)","v":""},{"$f":"IF(入力シート!M235=\"\",\"\",入力シート!M235)","v":""},{"$f":"IF(入力シート!N235=\"\",\"\",入力シート!P235)","v":""}]
[{"$f":"IF(入力シート!A236=\"\",\"\",入力シート!A236)","v":""},{"$f":"IF(入力シート!B236=\"\",\"\",入力シート!B236)","v":""},{"$f":"IF(入力シート!C236=\"\",\"\",TEXT(入力シート!C236,\"yyyy-mm-dd\"))","v":""},{"$f":"IF(入力シート!O236=\"\",\"\",TEXT(入力シート!O236,\"000-0000\"))","v":""},{"$f":"IF(入力シート!F236=\"\",\"\",入力シート!F236)","v":""},{"$f":"IF(入力シート!G236=\"\",\"\",入力シート!G236)","v":""},{"$f":"IF(入力シート!H236=\"\",\"\",入力シート!H236)","v":""},{"$f":"IF(入力シート!I236=\"\",\"\",入力シート!I236)","v":""},{"$f":"IF(入力シート!J236=\"\",\"\",入力シート!J236)","v":""},{"$f":"IF(入力シート!K236=\"\",\"\",入力シート!K236)","v":""},{"$f":"IF(入力シート!L236=\"\",\"\",入力シート!L236)","v":""},{"$f":"IF(入力シート!M236=\"\",\"\",入力シート!M236)","v":""},{"$f":"IF(入力シート!N236=\"\",\"\",入力シート!P236)","v":""}]
[{"$f":"IF(入力シート!A237=\"\",\"\",入力シート!A237)","v":""},{"$f":"IF(入力シート!B237=\"\",\"\",入力シート!B237)","v":""},{"$f":"IF(入力シート!C237=\"\",\"\",TEXT(入力シート!C237,\"yyyy-mm-dd\"))","v":""},{"$f":"IF(入力シート!O237=\"\",\"\",TEXT(入力シート!O237,\"000-0000\"))","v":""},{"$f":"IF(入力シート!F237=\"\",\"\",入力シート!F237)","v":""},{"$f":"IF(入力シート!G237=\"\",\"\",入力シート!G237)","v":""},{"$f":"IF(入力シート!H237=\"\",\"\",入力シート!H237)","v":""},{"$f":"IF(入力シート!I237=\"\",\"\",入力シート!I237)","v":""},{"$f":"IF(入力シート!J237=\"\",\"\",入力シート!J237)","v":""},{"$f":"IF(入力シート!K237=\"\",\"\",入力シート!K237)","v":""},{"$f":"IF(入力シート!L237=\"\",\"\",入力シート!L237)","v":""},{"$f":"IF(入力シート!M237=\"\",\"\",入力シート!M237)","v":""},{"$f":"IF(入力シート!N237=\"\",\"\",入力シート!P237)","v":""}]
[{"$f":"IF(入力シート!A238=\"\",\"\",入力シート!A238)","v":""},{"$f":"IF(入力シート!B238=\"\",\"\",入力シート!B238)","v":""},{"$f":"IF(入力シート!C238=\"\",\"\",TEXT(入力シート!C238,\"yyyy-mm-dd\"))","v":""},{"$f":"IF(入力シート!O238=\"\",\"\",TEXT(入力シート!O238,\"000-0000\"))","v":""},{"$f":"IF(入力シート!F238=\"\",\"\",入力シート!F238)","v":""},{"$f":"IF(入力シート!G238=\"\",\"\",入力シート!G238)","v":""},{"$f":"IF(入力シート!H238=\"\",\"\",入力シート!H238)","v":""},{"$f":"IF(入力シート!I238=\"\",\"\",入力シート!I238)","v":""},{"$f":"IF(入力シート!J238=\"\",\"\",入力シート!J238)","v":""},{"$f":"IF(入力シート!K238=\"\",\"\",入力シート!K238)","v":""},{"$f":"IF(入力シート!L238=\"\",\"\",入力シート!L238)","v":""},{"$f":"IF(入力シート!M238=\"\",\"\",入力シート!M238)","v":""},{"$f":"IF(入力シート!N238=\"\",\"\",入力シート!P238)","v":""}]
[{"$f":"IF(入力シート!A239=\"\",\"\",入力シート!A239)","v":""},{"$f":"IF(入力シート!B239=\"\",\"\",入力シート!B239)","v":""},{"$f":"IF(入力シート!C239=\"\",\"\",TEXT(入力シート!C239,\"yyyy-mm-dd\"))","v":""},{"$f":"IF(入力シート!O239=\"\",\"\",TEXT(入力シート!O239,\"000-0000\"))","v":""},{"$f":"IF(入力シート!F239=\"\",\"\",入力シート!F239)","v":""},{"$f":"IF(入力シート!G239=\"\",\"\",入力シート!G239)","v":""},{"$f":"IF(入力シート!H239=\"\",\"\",入力シート!H239)","v":""},{"$f":"IF(入力シート!I239=\"\",\"\",入力シート!I239)","v":""},{"$f":"IF(入力シート!J239=\"\",\"\",入力シート!J239)","v":""},{"$f":"IF(入力シート!K239=\"\",\"\",入力シート!K239)","v":""},{"$f":"IF(入力シート!L239=\"\",\"\",入力シート!L239)","v":""},{"$f":"IF(入力シート!M239=\"\",\"\",入力シート!M239)","v":""},{"$f":"IF(入力シート!N239=\"\",\"\",入力シート!P239)","v":""}]
[{"$f":"IF(入力シート!A240=\"\",\"\",入力シート!A240)","v":""},{"$f":"IF(入力シート!B240=\"\",\"\",入力シート!B240)","v":""},{"$f":"IF(入力シート!C240=\"\",\"\",TEXT(入力シート!C240,\"yyyy-mm-dd\"))","v":""},{"$f":"IF(入力シート!O240=\"\",\"\",TEXT(入力シート!O240,\"000-0000\"))","v":""},{"$f":"IF(入力シート!F240=\"\",\"\",入力シート!F240)","v":""},{"$f":"IF(入力シート!G240=\"\",\"\",入力シート!G240)","v":""},{"$f":"IF(入力シート!H240=\"\",\"\",入力シート!H240)","v":""},{"$f":"IF(入力シート!I240=\"\",\"\",入力シート!I240)","v":""},{"$f":"IF(入力シート!J240=\"\",\"\",入力シート!J240)","v":""},{"$f":"IF(入力シート!K240=\"\",\"\",入力シート!K240)","v":""},{"$f":"IF(入力シート!L240=\"\",\"\",入力シート!L240)","v":""},{"$f":"IF(入力シート!M240=\"\",\"\",入力シート!M240)","v":""},{"$f":"IF(入力シート!N240=\"\",\"\",入力シート!P240)","v":""}]
[{"$f":"IF(入力シート!A241=\"\",\"\",入力シート!A241)","v":""},{"$f":"IF(入力シート!B241=\"\",\"\",入力シート!B241)","v":""},{"$f":"IF(入力シート!C241=\"\",\"\",TEXT(入力シート!C241,\"yyyy-mm-dd\"))","v":""},{"$f":"IF(入力シート!O241=\"\",\"\",TEXT(入力シート!O241,\"000-0000\"))","v":""},{"$f":"IF(入力シート!F241=\"\",\"\",入力シート!F241)","v":""},{"$f":"IF(入力シート!G241=\"\",\"\",入力シート!G241)","v":""},{"$f":"IF(入力シート!H241=\"\",\"\",入力シート!H241)","v":""},{"$f":"IF(入力シート!I241=\"\",\"\",入力シート!I241)","v":""},{"$f":"IF(入力シート!J241=\"\",\"\",入力シート!J241)","v":""},{"$f":"IF(入力シート!K241=\"\",\"\",入力シート!K241)","v":""},{"$f":"IF(入力シート!L241=\"\",\"\",入力シート!L241)","v":""},{"$f":"IF(入力シート!M241=\"\",\"\",入力シート!M241)","v":""},{"$f":"IF(入力シート!N241=\"\",\"\",入力シート!P241)","v":""}]
[{"$f":"IF(入力シート!A242=\"\",\"\",入力シート!A242)","v":""},{"$f":"IF(入力シート!B242=\"\",\"\",入力シート!B242)","v":""},{"$f":"IF(入力シート!C242=\"\",\"\",TEXT(入力シート!C242,\"yyyy-mm-dd\"))","v":""},{"$f":"IF(入力シート!O242=\"\",\"\",TEXT(入力シート!O242,\"000-0000\"))","v":""},{"$f":"IF(入力シート!F242=\"\",\"\",入力シート!F242)","v":""},{"$f":"IF(入力シート!G242=\"\",\"\",入力シート!G242)","v":""},{"$f":"IF(入力シート!H242=\"\",\"\",入力シート!H242)","v":""},{"$f":"IF(入力シート!I242=\"\",\"\",入力シート!I242)","v":""},{"$f":"IF(入力シート!J242=\"\",\"\",入力シート!J242)","v":""},{"$f":"IF(入力シート!K242=\"\",\"\",入力シート!K242)","v":""},{"$f":"IF(入力シート!L242=\"\",\"\",入力シート!L242)","v":""},{"$f":"IF(入力シート!M242=\"\",\"\",入力シート!M242)","v":""},{"$f":"IF(入力シート!N242=\"\",\"\",入力シート!P242)","v":""}]
[{"$f":"IF(入力シート!A243=\"\",\"\",入力シート!A243)","v":""},{"$f":"IF(入力シート!B243=\"\",\"\",入力シート!B243)","v":""},{"$f":"IF(入力シート!C243=\"\",\"\",TEXT(入力シート!C243,\"yyyy-mm-dd\"))","v":""},{"$f":"IF(入力シート!O243=\"\",\"\",TEXT(入力シート!O243,\"000-0000\"))","v":""},{"$f":"IF(入力シート!F243=\"\",\"\",入力シート!F243)","v":""},{"$f":"IF(入力シート!G243=\"\",\"\",入力シート!G243)","v":""},{"$f":"IF(入力シート!H243=\"\",\"\",入力シート!H243)","v":""},{"$f":"IF(入力シート!I243=\"\",\"\",入力シート!I243)","v":""},{"$f":"IF(入力シート!J243=\"\",\"\",入力シート!J243)","v":""},{"$f":"IF(入力シート!K243=\"\",\"\",入力シート!K243)","v":""},{"$f":"IF(入力シート!L243=\"\",\"\",入力シート!L243)","v":""},{"$f":"IF(入力シート!M243=\"\",\"\",入力シート!M243)","v":""},{"$f":"IF(入力シート!N243=\"\",\"\",入力シート!P243)","v":""}]
[{"$f":"IF(入力シート!A244=\"\",\"\",入力シート!A244)","v":""},{"$f":"IF(入力シート!B244=\"\",\"\",入力シート!B244)","v":""},{"$f":"IF(入力シート!C244=\"\",\"\",TEXT(入力シート!C244,\"yyyy-mm-dd\"))","v":""},{"$f":"IF(入力シート!O244=\"\",\"\",TEXT(入力シート!O244,\"000-0000\"))","v":""},{"$f":"IF(入力シート!F244=\"\",\"\",入力シート!F244)","v":""},{"$f":"IF(入力シート!G244=\"\",\"\",入力シート!G244)","v":""},{"$f":"IF(入力シート!H244=\"\",\"\",入力シート!H244)","v":""},{"$f":"IF(入力シート!I244=\"\",\"\",入力シート!I244)","v":""},{"$f":"IF(入力シート!J244=\"\",\"\",入力シート!J244)","v":""},{"$f":"IF(入力シート!K244=\"\",\"\",入力シート!K244)","v":""},{"$f":"IF(入力シート!L244=\"\",\"\",入力シート!L244)","v":""},{"$f":"IF(入力シート!M244=\"\",\"\",入力シート!M244)","v":""},{"$f":"IF(入力シート!N244=\"\",\"\",入力シート!P244)","v":""}]
[{"$f":"IF(入力シート!A245=\"\",\"\",入力シート!A245)","v":""},{"$f":"IF(入力シート!B245=\"\",\"\",入力シート!B245)","v":""},{"$f":"IF(入力シート!C245=\"\",\"\",TEXT(入力シート!C245,\"yyyy-mm-dd\"))","v":""},{"$f":"IF(入力シート!O245=\"\",\"\",TEXT(入力シート!O245,\"000-0000\"))","v":""},{"$f":"IF(入力シート!F245=\"\",\"\",入力シート!F245)","v":""},{"$f":"IF(入力シート!G245=\"\",\"\",入力シート!G245)","v":""},{"$f":"IF(入力シート!H245=\"\",\"\",入力シート!H245)","v":""},{"$f":"IF(入力シート!I245=\"\",\"\",入力シート!I245)","v":""},{"$f":"IF(入力シート!J245=\"\",\"\",入力シート!J245)","v":""},{"$f":"IF(入力シート!K245=\"\",\"\",入力シート!K245)","v":""},{"$f":"IF(入力シート!L245=\"\",\"\",入力シート!L245)","v":""},{"$f":"IF(入力シート!M245=\"\",\"\",入力シート!M245)","v":""},{"$f":"IF(入力シート!N245=\"\",\"\",入力シート!P245)","v":""}]
[{"$f":"IF(入力シート!A246=\"\",\"\",入力シート!A246)","v":""},{"$f":"IF(入力シート!B246=\"\",\"\",入力シート!B246)","v":""},{"$f":"IF(入力シート!C246=\"\",\"\",TEXT(入力シート!C246,\"yyyy-mm-dd\"))","v":""},{"$f":"IF(入力シート!O246=\"\",\"\",TEXT(入力シート!O246,\"000-0000\"))","v":""},{"$f":"IF(入力シート!F246=\"\",\"\",入力シート!F246)","v":""},{"$f":"IF(入力シート!G246=\"\",\"\",入力シート!G246)","v":""},{"$f":"IF(入力シート!H246=\"\",\"\",入力シート!H246)","v":""},{"$f":"IF(入力シート!I246=\"\",\"\",入力シート!I246)","v":""},{"$f":"IF(入力シート!J246=\"\",\"\",入力シート!J246)","v":""},{"$f":"IF(入力シート!K246=\"\",\"\",入力シート!K246)","v":""},{"$f":"IF(入力シート!L246=\"\",\"\",入力シート!L246)","v":""},{"$f":"IF(入力シート!M246=\"\",\"\",入力シート!M246)","v":""},{"$f":"IF(入力シート!N246=\"\",\"\",入力シート!P246)","v":""}]
[{"$f":"IF(入力シート!A247=\"\",\"\",入力シート!A247)","v":""},{"$f":"IF(入力シート!B247=\"\",\"\",入力シート!B247)","v":""},{"$f":"IF(入力シート!C247=\"\",\"\",TEXT(入力シート!C247,\"yyyy-mm-dd\"))","v":""},{"$f":"IF(入力シート!O247=\"\",\"\",TEXT(入力シート!O247,\"000-0000\"))","v":""},{"$f":"IF(入力シート!F247=\"\",\"\",入力シート!F247)","v":""},{"$f":"IF(入力シート!G247=\"\",\"\",入力シート!G247)","v":""},{"$f":"IF(入力シート!H247=\"\",\"\",入力シート!H247)","v":""},{"$f":"IF(入力シート!I247=\"\",\"\",入力シート!I247)","v":""},{"$f":"IF(入力シート!J247=\"\",\"\",入力シート!J247)","v":""},{"$f":"IF(入力シート!K247=\"\",\"\",入力シート!K247)","v":""},{"$f":"IF(入力シート!L247=\"\",\"\",入力シート!L247)","v":""},{"$f":"IF(入力シート!M247=\"\",\"\",入力シート!M247)","v":""},{"$f":"IF(入力シート!N247=\"\",\"\",入力シート!P247)","v":""}]
[{"$f":"IF(入力シート!A248=\"\",\"\",入力シート!A248)","v":""},{"$f":"IF(入力シート!B248=\"\",\"\",入力シート!B248)","v":""},{"$f":"IF(入力シート!C248=\"\",\"\",TEXT(入力シート!C248,\"yyyy-mm-dd\"))","v":""},{"$f":"IF(入力シート!O248=\"\",\"\",TEXT(入力シート!O248,\"000-0000\"))","v":""},{"$f":"IF(入力シート!F248=\"\",\"\",入力シート!F248)","v":""},{"$f":"IF(入力シート!G248=\"\",\"\",入力シート!G248)","v":""},{"$f":"IF(入力シート!H248=\"\",\"\",入力シート!H248)","v":""},{"$f":"IF(入力シート!I248=\"\",\"\",入力シート!I248)","v":""},{"$f":"IF(入力シート!J248=\"\",\"\",入力シート!J248)","v":""},{"$f":"IF(入力シート!K248=\"\",\"\",入力シート!K248)","v":""},{"$f":"IF(入力シート!L248=\"\",\"\",入力シート!L248)","v":""},{"$f":"IF(入力シート!M248=\"\",\"\",入力シート!M248)","v":""},{"$f":"IF(入力シート!N248=\"\",\"\",入力シート!P248)","v":""}]
[{"$f":"IF(入力シート!A249=\"\",\"\",入力シート!A249)","v":""},{"$f":"IF(入力シート!B249=\"\",\"\",入力シート!B249)","v":""},{"$f":"IF(入力シート!C249=\"\",\"\",TEXT(入力シート!C249,\"yyyy-mm-dd\"))","v":""},{"$f":"IF(入力シート!O249=\"\",\"\",TEXT(入力シート!O249,\"000-0000\"))","v":""},{"$f":"IF(入力シート!F249=\"\",\"\",入力シート!F249)","v":""},{"$f":"IF(入力シート!G249=\"\",\"\",入力シート!G249)","v":""},{"$f":"IF(入力シート!H249=\"\",\"\",入力シート!H249)","v":""},{"$f":"IF(入力シート!I249=\"\",\"\",入力シート!I249)","v":""},{"$f":"IF(入力シート!J249=\"\",\"\",入力シート!J249)","v":""},{"$f":"IF(入力シート!K249=\"\",\"\",入力シート!K249)","v":""},{"$f":"IF(入力シート!L249=\"\",\"\",入力シート!L249)","v":""},{"$f":"IF(入力シート!M249=\"\",\"\",入力シート!M249)","v":""},{"$f":"IF(入力シート!N249=\"\",\"\",入力シート!P249)","v":""}]
[{"$f":"IF(入力シート!A250=\"\",\"\",入力シート!A250)","v":""},{"$f":"IF(入力シート!B250=\"\",\"\",入力シート!B250)","v":""},{"$f":"IF(入力シート!C250=\"\",\"\",TEXT(入力シート!C250,\"yyyy-mm-dd\"))","v":""},{"$f":"IF(入力シート!O250=\"\",\"\",TEXT(入力シート!O250,\"000-0000\"))","v":""},{"$f":"IF(入力シート!F250=\"\",\"\",入力シート!F250)","v":""},{"$f":"IF(入力シート!G250=\"\",\"\",入力シート!G250)","v":""},{"$f":"IF(入力シート!H250=\"\",\"\",入力シート!H250)","v":""},{"$f":"IF(入力シート!I250=\"\",\"\",入力シート!I250)","v":""},{"$f":"IF(入力シート!J250=\"\",\"\",入力シート!J250)","v":""},{"$f":"IF(入力シート!K250=\"\",\"\",入力シート!K250)","v":""},{"$f":"IF(入力シート!L250=\"\",\"\",入力シート!L250)","v":""},{"$f":"IF(入力シート!M250=\"\",\"\",入力シート!M250)","v":""},{"$f":"IF(入力シート!N250=\"\",\"\",入力シート!P250)","v":""}]
[{"$f":"IF(入力シート!A251=\"\",\"\",入力シート!A251)","v":""},{"$f":"IF(入力シート!B251=\"\",\"\",入力シート!B251)","v":""},{"$f":"IF(入力シート!C251=\"\",\"\",TEXT(入力シート!C251,\"yyyy-mm-dd\"))","v":""},{"$f":"IF(入力シート!O251=\"\",\"\",TEXT(入力シート!O251,\"000-0000\"))","v":""},{"$f":"IF(入力シート!F251=\"\",\"\",入力シート!F251)","v":""},{"$f":"IF(入力シート!G251=\"\",\"\",入力シート!G251)","v":""},{"$f":"IF(入力シート!H251=\"\",\"\",入力シート!H251)","v":""},{"$f":"IF(入力シート!I251=\"\",\"\",入力シート!I251)","v":""},{"$f":"IF(入力シート!J251=\"\",\"\",入力シート!J251)","v":""},{"$f":"IF(入力シート!K251=\"\",\"\",入力シート!K251)","v":""},{"$f":"IF(入力シート!L251=\"\",\"\",入力シート!L251)","v":""},{"$f":"IF(入力シート!M251=\"\",\"\",入力シート!M251)","v":""},{"$f":"IF(入力シート!N251=\"\",\"\",入力シート!P251)","v":""}]
[{"$f":"IF(入力シート!A252=\"\",\"\",入力シート!A252)","v":""},{"$f":"IF(入力シート!B252=\"\",\"\",入力シート!B252)","v":""},{"$f":"IF(入力シート!C252=\"\",\"\",TEXT(入力シート!C252,\"yyyy-mm-dd\"))","v":""},{"$f":"IF(入力シート!O252=\"\",\"\",TEXT(入力シート!O252,\"000-0000\"))","v":""},{"$f":"IF(入力シート!F252=\"\",\"\",入力シート!F252)","v":""},{"$f":"IF(入力シート!G252=\"\",\"\",入力シート!G252)","v":""},{"$f":"IF(入力シート!H252=\"\",\"\",入力シート!H252)","v":""},{"$f":"IF(入力シート!I252=\"\",\"\",入力シート!I252)","v":""},{"$f":"IF(入力シート!J252=\"\",\"\",入力シート!J252)","v":""},{"$f":"IF(入力シート!K252=\"\",\"\",入力シート!K252)","v":""},{"$f":"IF(入力シート!L252=\"\",\"\",入力シート!L252)","v":""},{"$f":"IF(入力シート!M252=\"\",\"\",入力シート!M252)","v":""},{"$f":"IF(入力シート!N252=\"\",\"\",入力シート!P252)","v":""}]
[{"$f":"IF(入力シート!A253=\"\",\"\",入力シート!A253)","v":""},{"$f":"IF(入力シート!B253=\"\",\"\",入力シート!B253)","v":""},{"$f":"IF(入力シート!C253=\"\",\"\",TEXT(入力シート!C253,\"yyyy-mm-dd\"))","v":""},{"$f":"IF(入力シート!O253=\"\",\"\",TEXT(入力シート!O253,\"000-0000\"))","v":""},{"$f":"IF(入力シート!F253=\"\",\"\",入力シート!F253)","v":""},{"$f":"IF(入力シート!G253=\"\",\"\",入力シート!G253)","v":""},{"$f":"IF(入力シート!H253=\"\",\"\",入力シート!H253)","v":""},{"$f":"IF(入力シート!I253=\"\",\"\",入力シート!I253)","v":""},{"$f":"IF(入力シート!J253=\"\",\"\",入力シート!J253)","v":""},{"$f":"IF(入力シート!K253=\"\",\"\",入力シート!K253)","v":""},{"$f":"IF(入力シート!L253=\"\",\"\",入力シート!L253)","v":""},{"$f":"IF(入力シート!M253=\"\",\"\",入力シート!M253)","v":""},{"$f":"IF(入力シート!N253=\"\",\"\",入力シート!P253)","v":""}]
[{"$f":"IF(入力シート!A254=\"\",\"\",入力シート!A254)","v":""},{"$f":"IF(入力シート!B254=\"\",\"\",入力シート!B254)","v":""},{"$f":"IF(入力シート!C254=\"\",\"\",TEXT(入力シート!C254,\"yyyy-mm-dd\"))","v":""},{"$f":"IF(入力シート!O254=\"\",\"\",TEXT(入力シート!O254,\"000-0000\"))","v":""},{"$f":"IF(入力シート!F254=\"\",\"\",入力シート!F254)","v":""},{"$f":"IF(入力シート!G254=\"\",\"\",入力シート!G254)","v":""},{"$f":"IF(入力シート!H254=\"\",\"\",入力シート!H254)","v":""},{"$f":"IF(入力シート!I254=\"\",\"\",入力シート!I254)","v":""},{"$f":"IF(入力シート!J254=\"\",\"\",入力シート!J254)","v":""},{"$f":"IF(入力シート!K254=\"\",\"\",入力シート!K254)","v":""},{"$f":"IF(入力シート!L254=\"\",\"\",入力シート!L254)","v":""},{"$f":"IF(入力シート!M254=\"\",\"\",入力シート!M254)","v":""},{"$f":"IF(入力シート!N254=\"\",\"\",入力シート!P254)","v":""}]
[{"$f":"IF(入力シート!A255=\"\",\"\",入力シート!A255)","v":""},{"$f":"IF(入力シート!B255=\"\",\"\",入力シート!B255)","v":""},{"$f":"IF(入力シート!C255=\"\",\"\",TEXT(入力シート!C255,\"yyyy-mm-dd\"))","v":""},{"$f":"IF(入力シート!O255=\"\",\"\",TEXT(入力シート!O255,\"000-0000\"))","v":""},{"$f":"IF(入力シート!F255=\"\",\"\",入力シート!F255)","v":""},{"$f":"IF(入力シート!G255=\"\",\"\",入力シート!G255)","v":""},{"$f":"IF(入力シート!H255=\"\",\"\",入力シート!H255)","v":""},{"$f":"IF(入力シート!I255=\"\",\"\",入力シート!I255)","v":""},{"$f":"IF(入力シート!J255=\"\",\"\",入力シート!J255)","v":""},{"$f":"IF(入力シート!K255=\"\",\"\",入力シート!K255)","v":""},{"$f":"IF(入力シート!L255=\"\",\"\",入力シート!L255)","v":""},{"$f":"IF(入力シート!M255=\"\",\"\",入力シート!M255)","v":""},{"$f":"IF(入力シート!N255=\"\",\"\",入力シート!P255)","v":""}]
[{"$f":"IF(入力シート!A256=\"\",\"\",入力シート!A256)","v":""},{"$f":"IF(入力シート!B256=\"\",\"\",入力シート!B256)","v":""},{"$f":"IF(入力シート!C256=\"\",\"\",TEXT(入力シート!C256,\"yyyy-mm-dd\"))","v":""},{"$f":"IF(入力シート!O256=\"\",\"\",TEXT(入力シート!O256,\"000-0000\"))","v":""},{"$f":"IF(入力シート!F256=\"\",\"\",入力シート!F256)","v":""},{"$f":"IF(入力シート!G256=\"\",\"\",入力シート!G256)","v":""},{"$f":"IF(入力シート!H256=\"\",\"\",入力シート!H256)","v":""},{"$f":"IF(入力シート!I256=\"\",\"\",入力シート!I256)","v":""},{"$f":"IF(入力シート!J256=\"\",\"\",入力シート!J256)","v":""},{"$f":"IF(入力シート!K256=\"\",\"\",入力シート!K256)","v":""},{"$f":"IF(入力シート!L256=\"\",\"\",入力シート!L256)","v":""},{"$f":"IF(入力シート!M256=\"\",\"\",入力シート!M256)","v":""},{"$f":"IF(入力シート!N256=\"\",\"\",入力シート!P256)","v":""}]
[{"$f":"IF(入力シート!A257=\"\",\"\",入力シート!A257)","v":""},{"$f":"IF(入力シート!B257=\"\",\"\",入力シート!B257)","v":""},{"$f":"IF(入力シート!C257=\"\",\"\",TEXT(入力シート!C257,\"yyyy-mm-dd\"))","v":""},{"$f":"IF(入力シート!O257=\"\",\"\",TEXT(入力シート!O257,\"000-0000\"))","v":""},{"$f":"IF(入力シート!F257=\"\",\"\",入力シート!F257)","v":""},{"$f":"IF(入力シート!G257=\"\",\"\",入力シート!G257)","v":""},{"$f":"IF(入力シート!H257=\"\",\"\",入力シート!H257)","v":""},{"$f":"IF(入力シート!I257=\"\",\"\",入力シート!I257)","v":""},{"$f":"IF(入力シート!J257=\"\",\"\",入力シート!J257)","v":""},{"$f":"IF(入力シート!K257=\"\",\"\",入力シート!K257)","v":""},{"$f":"IF(入力シート!L257=\"\",\"\",入力シート!L257)","v":""},{"$f":"IF(入力シート!M257=\"\",\"\",入力シート!M257)","v":""},{"$f":"IF(入力シート!N257=\"\",\"\",入力シート!P257)","v":""}]
[{"$f":"IF(入力シート!A258=\"\",\"\",入力シート!A258)","v":""},{"$f":"IF(入力シート!B258=\"\",\"\",入力シート!B258)","v":""},{"$f":"IF(入力シート!C258=\"\",\"\",TEXT(入力シート!C258,\"yyyy-mm-dd\"))","v":""},{"$f":"IF(入力シート!O258=\"\",\"\",TEXT(入力シート!O258,\"000-0000\"))","v":""},{"$f":"IF(入力シート!F258=\"\",\"\",入力シート!F258)","v":""},{"$f":"IF(入力シート!G258=\"\",\"\",入力シート!G258)","v":""},{"$f":"IF(入力シート!H258=\"\",\"\",入力シート!H258)","v":""},{"$f":"IF(入力シート!I258=\"\",\"\",入力シート!I258)","v":""},{"$f":"IF(入力シート!J258=\"\",\"\",入力シート!J258)","v":""},{"$f":"IF(入力シート!K258=\"\",\"\",入力シート!K258)","v":""},{"$f":"IF(入力シート!L258=\"\",\"\",入力シート!L258)","v":""},{"$f":"IF(入力シート!M258=\"\",\"\",入力シート!M258)","v":""},{"$f":"IF(入力シート!N258=\"\",\"\",入力シート!P258)","v":""}]
[{"$f":"IF(入力シート!A259=\"\",\"\",入力シート!A259)","v":""},{"$f":"IF(入力シート!B259=\"\",\"\",入力シート!B259)","v":""},{"$f":"IF(入力シート!C259=\"\",\"\",TEXT(入力シート!C259,\"yyyy-mm-dd\"))","v":""},{"$f":"IF(入力シート!O259=\"\",\"\",TEXT(入力シート!O259,\"000-0000\"))","v":""},{"$f":"IF(入力シート!F259=\"\",\"\",入力シート!F259)","v":""},{"$f":"IF(入力シート!G259=\"\",\"\",入力シート!G259)","v":""},{"$f":"IF(入力シート!H259=\"\",\"\",入力シート!H259)","v":""},{"$f":"IF(入力シート!I259=\"\",\"\",入力シート!I259)","v":""},{"$f":"IF(入力シート!J259=\"\",\"\",入力シート!J259)","v":""},{"$f":"IF(入力シート!K259=\"\",\"\",入力シート!K259)","v":""},{"$f":"IF(入力シート!L259=\"\",\"\",入力シート!L259)","v":""},{"$f":"IF(入力シート!M259=\"\",\"\",入力シート!M259)","v":""},{"$f":"IF(入力シート!N259=\"\",\"\",入力シート!P259)","v":""}]
[{"$f":"IF(入力シート!A260=\"\",\"\",入力シート!A260)","v":""},{"$f":"IF(入力シート!B260=\"\",\"\",入力シート!B260)","v":""},{"$f":"IF(入力シート!C260=\"\",\"\",TEXT(入力シート!C260,\"yyyy-mm-dd\"))","v":""},{"$f":"IF(入力シート!O260=\"\",\"\",TEXT(入力シート!O260,\"000-0000\"))","v":""},{"$f":"IF(入力シート!F260=\"\",\"\",入力シート!F260)","v":""},{"$f":"IF(入力シート!G260=\"\",\"\",入力シート!G260)","v":""},{"$f":"IF(入力シート!H260=\"\",\"\",入力シート!H260)","v":""},{"$f":"IF(入力シート!I260=\"\",\"\",入力シート!I260)","v":""},{"$f":"IF(入力シート!J260=\"\",\"\",入力シート!J260)","v":""},{"$f":"IF(入力シート!K260=\"\",\"\",入力シート!K260)","v":""},{"$f":"IF(入力シート!L260=\"\",\"\",入力シート!L260)","v":""},{"$f":"IF(入力シート!M260=\"\",\"\",入力シート!M260)","v":""},{"$f":"IF(入力シート!N260=\"\",\"\",入力シート!P260)","v":""}]
[{"$f":"IF(入力シート!A261=\"\",\"\",入力シート!A261)","v":""},{"$f":"IF(入力シート!B261=\"\",\"\",入力シート!B261)","v":""},{"$f":"IF(入力シート!C261=\"\",\"\",TEXT(入力シート!C261,\"yyyy-mm-dd\"))","v":""},{"$f":"IF(入力シート!O261=\"\",\"\",TEXT(入力シート!O261,\"000-0000\"))","v":""},{"$f":"IF(入力シート!F261=\"\",\"\",入力シート!F261)","v":""},{"$f":"IF(入力シート!G261=\"\",\"\",入力シート!G261)","v":""},{"$f":"IF(入力シート!H261=\"\",\"\",入力シート!H261)","v":""},{"$f":"IF(入力シート!I261=\"\",\"\",入力シート!I261)","v":""},{"$f":"IF(入力シート!J261=\"\",\"\",入力シート!J261)","v":""},{"$f":"IF(入力シート!K261=\"\",\"\",入力シート!K261)","v":""},{"$f":"IF(入力シート!L261=\"\",\"\",入力シート!L261)","v":""},{"$f":"IF(入力シート!M261=\"\",\"\",入力シート!M261)","v":""},{"$f":"IF(入力シート!N261=\"\",\"\",入力シート!P261)","v":""}]
[{"$f":"IF(入力シート!A262=\"\",\"\",入力シート!A262)","v":""},{"$f":"IF(入力シート!B262=\"\",\"\",入力シート!B262)","v":""},{"$f":"IF(入力シート!C262=\"\",\"\",TEXT(入力シート!C262,\"yyyy-mm-dd\"))","v":""},{"$f":"IF(入力シート!O262=\"\",\"\",TEXT(入力シート!O262,\"000-0000\"))","v":""},{"$f":"IF(入力シート!F262=\"\",\"\",入力シート!F262)","v":""},{"$f":"IF(入力シート!G262=\"\",\"\",入力シート!G262)","v":""},{"$f":"IF(入力シート!H262=\"\",\"\",入力シート!H262)","v":""},{"$f":"IF(入力シート!I262=\"\",\"\",入力シート!I262)","v":""},{"$f":"IF(入力シート!J262=\"\",\"\",入力シート!J262)","v":""},{"$f":"IF(入力シート!K262=\"\",\"\",入力シート!K262)","v":""},{"$f":"IF(入力シート!L262=\"\",\"\",入力シート!L262)","v":""},{"$f":"IF(入力シート!M262=\"\",\"\",入力シート!M262)","v":""},{"$f":"IF(入力シート!N262=\"\",\"\",入力シート!P262)","v":""}]
[{"$f":"IF(入力シート!A263=\"\",\"\",入力シート!A263)","v":""},{"$f":"IF(入力シート!B263=\"\",\"\",入力シート!B263)","v":""},{"$f":"IF(入力シート!C263=\"\",\"\",TEXT(入力シート!C263,\"yyyy-mm-dd\"))","v":""},{"$f":"IF(入力シート!O263=\"\",\"\",TEXT(入力シート!O263,\"000-0000\"))","v":""},{"$f":"IF(入力シート!F263=\"\",\"\",入力シート!F263)","v":""},{"$f":"IF(入力シート!G263=\"\",\"\",入力シート!G263)","v":""},{"$f":"IF(入力シート!H263=\"\",\"\",入力シート!H263)","v":""},{"$f":"IF(入力シート!I263=\"\",\"\",入力シート!I263)","v":""},{"$f":"IF(入力シート!J263=\"\",\"\",入力シート!J263)","v":""},{"$f":"IF(入力シート!K263=\"\",\"\",入力シート!K263)","v":""},{"$f":"IF(入力シート!L263=\"\",\"\",入力シート!L263)","v":""},{"$f":"IF(入力シート!M263=\"\",\"\",入力シート!M263)","v":""},{"$f":"IF(入力シート!N263=\"\",\"\",入力シート!P263)","v":""}]
[{"$f":"IF(入力シート!A264=\"\",\"\",入力シート!A264)","v":""},{"$f":"IF(入力シート!B264=\"\",\"\",入力シート!B264)","v":""},{"$f":"IF(入力シート!C264=\"\",\"\",TEXT(入力シート!C264,\"yyyy-mm-dd\"))","v":""},{"$f":"IF(入力シート!O264=\"\",\"\",TEXT(入力シート!O264,\"000-0000\"))","v":""},{"$f":"IF(入力シート!F264=\"\",\"\",入力シート!F264)","v":""},{"$f":"IF(入力シート!G264=\"\",\"\",入力シート!G264)","v":""},{"$f":"IF(入力シート!H264=\"\",\"\",入力シート!H264)","v":""},{"$f":"IF(入力シート!I264=\"\",\"\",入力シート!I264)","v":""},{"$f":"IF(入力シート!J264=\"\",\"\",入力シート!J264)","v":""},{"$f":"IF(入力シート!K264=\"\",\"\",入力シート!K264)","v":""},{"$f":"IF(入力シート!L264=\"\",\"\",入力シート!L264)","v":""},{"$f":"IF(入力シート!M264=\"\",\"\",入力シート!M264)","v":""},{"$f":"IF(入力シート!N264=\"\",\"\",入力シート!P264)","v":""}]
[{"$f":"IF(入力シート!A265=\"\",\"\",入力シート!A265)","v":""},{"$f":"IF(入力シート!B265=\"\",\"\",入力シート!B265)","v":""},{"$f":"IF(入力シート!C265=\"\",\"\",TEXT(入力シート!C265,\"yyyy-mm-dd\"))","v":""},{"$f":"IF(入力シート!O265=\"\",\"\",TEXT(入力シート!O265,\"000-0000\"))","v":""},{"$f":"IF(入力シート!F265=\"\",\"\",入力シート!F265)","v":""},{"$f":"IF(入力シート!G265=\"\",\"\",入力シート!G265)","v":""},{"$f":"IF(入力シート!H265=\"\",\"\",入力シート!H265)","v":""},{"$f":"IF(入力シート!I265=\"\",\"\",入力シート!I265)","v":""},{"$f":"IF(入力シート!J265=\"\",\"\",入力シート!J265)","v":""},{"$f":"IF(入力シート!K265=\"\",\"\",入力シート!K265)","v":""},{"$f":"IF(入力シート!L265=\"\",\"\",入力シート!L265)","v":""},{"$f":"IF(入力シート!M265=\"\",\"\",入力シート!M265)","v":""},{"$f":"IF(入力シート!N265=\"\",\"\",入力シート!P265)","v":""}]
[{"$f":"IF(入力シート!A266=\"\",\"\",入力シート!A266)","v":""},{"$f":"IF(入力シート!B266=\"\",\"\",入力シート!B266)","v":""},{"$f":"IF(入力シート!C266=\"\",\"\",TEXT(入力シート!C266,\"yyyy-mm-dd\"))","v":""},{"$f":"IF(入力シート!O266=\"\",\"\",TEXT(入力シート!O266,\"000-0000\"))","v":""},{"$f":"IF(入力シート!F266=\"\",\"\",入力シート!F266)","v":""},{"$f":"IF(入力シート!G266=\"\",\"\",入力シート!G266)","v":""},{"$f":"IF(入力シート!H266=\"\",\"\",入力シート!H266)","v":""},{"$f":"IF(入力シート!I266=\"\",\"\",入力シート!I266)","v":""},{"$f":"IF(入力シート!J266=\"\",\"\",入力シート!J266)","v":""},{"$f":"IF(入力シート!K266=\"\",\"\",入力シート!K266)","v":""},{"$f":"IF(入力シート!L266=\"\",\"\",入力シート!L266)","v":""},{"$f":"IF(入力シート!M266=\"\",\"\",入力シート!M266)","v":""},{"$f":"IF(入力シート!N266=\"\",\"\",入力シート!P266)","v":""}]
[{"$f":"IF(入力シート!A267=\"\",\"\",入力シート!A267)","v":""},{"$f":"IF(入力シート!B267=\"\",\"\",入力シート!B267)","v":""},{"$f":"IF(入力シート!C267=\"\",\"\",TEXT(入力シート!C267,\"yyyy-mm-dd\"))","v":""},{"$f":"IF(入力シート!O267=\"\",\"\",TEXT(入力シート!O267,\"000-0000\"))","v":""},{"$f":"IF(入力シート!F267=\"\",\"\",入力シート!F267)","v":""},{"$f":"IF(入力シート!G267=\"\",\"\",入力シート!G267)","v":""},{"$f":"IF(入力シート!H267=\"\",\"\",入力シート!H267)","v":""},{"$f":"IF(入力シート!I267=\"\",\"\",入力シート!I267)","v":""},{"$f":"IF(入力シート!J267=\"\",\"\",入力シート!J267)","v":""},{"$f":"IF(入力シート!K267=\"\",\"\",入力シート!K267)","v":""},{"$f":"IF(入力シート!L267=\"\",\"\",入力シート!L267)","v":""},{"$f":"IF(入力シート!M267=\"\",\"\",入力シート!M267)","v":""},{"$f":"IF(入力シート!N267=\"\",\"\",入力シート!P267)","v":""}]
[{"$f":"IF(入力シート!A268=\"\",\"\",入力シート!A268)","v":""},{"$f":"IF(入力シート!B268=\"\",\"\",入力シート!B268)","v":""},{"$f":"IF(入力シート!C268=\"\",\"\",TEXT(入力シート!C268,\"yyyy-mm-dd\"))","v":""},{"$f":"IF(入力シート!O268=\"\",\"\",TEXT(入力シート!O268,\"000-0000\"))","v":""},{"$f":"IF(入力シート!F268=\"\",\"\",入力シート!F268)","v":""},{"$f":"IF(入力シート!G268=\"\",\"\",入力シート!G268)","v":""},{"$f":"IF(入力シート!H268=\"\",\"\",入力シート!H268)","v":""},{"$f":"IF(入力シート!I268=\"\",\"\",入力シート!I268)","v":""},{"$f":"IF(入力シート!J268=\"\",\"\",入力シート!J268)","v":""},{"$f":"IF(入力シート!K268=\"\",\"\",入力シート!K268)","v":""},{"$f":"IF(入力シート!L268=\"\",\"\",入力シート!L268)","v":""},{"$f":"IF(入力シート!M268=\"\",\"\",入力シート!M268)","v":""},{"$f":"IF(入力シート!N268=\"\",\"\",入力シート!P268)","v":""}]
[{"$f":"IF(入力シート!A269=\"\",\"\",入力シート!A269)","v":""},{"$f":"IF(入力シート!B269=\"\",\"\",入力シート!B269)","v":""},{"$f":"IF(入力シート!C269=\"\",\"\",TEXT(入力シート!C269,\"yyyy-mm-dd\"))","v":""},{"$f":"IF(入力シート!O269=\"\",\"\",TEXT(入力シート!O269,\"000-0000\"))","v":""},{"$f":"IF(入力シート!F269=\"\",\"\",入力シート!F269)","v":""},{"$f":"IF(入力シート!G269=\"\",\"\",入力シート!G269)","v":""},{"$f":"IF(入力シート!H269=\"\",\"\",入力シート!H269)","v":""},{"$f":"IF(入力シート!I269=\"\",\"\",入力シート!I269)","v":""},{"$f":"IF(入力シート!J269=\"\",\"\",入力シート!J269)","v":""},{"$f":"IF(入力シート!K269=\"\",\"\",入力シート!K269)","v":""},{"$f":"IF(入力シート!L269=\"\",\"\",入力シート!L269)","v":""},{"$f":"IF(入力シート!M269=\"\",\"\",入力シート!M269)","v":""},{"$f":"IF(入力シート!N269=\"\",\"\",入力シート!P269)","v":""}]
[{"$f":"IF(入力シート!A270=\"\",\"\",入力シート!A270)","v":""},{"$f":"IF(入力シート!B270=\"\",\"\",入力シート!B270)","v":""},{"$f":"IF(入力シート!C270=\"\",\"\",TEXT(入力シート!C270,\"yyyy-mm-dd\"))","v":""},{"$f":"IF(入力シート!O270=\"\",\"\",TEXT(入力シート!O270,\"000-0000\"))","v":""},{"$f":"IF(入力シート!F270=\"\",\"\",入力シート!F270)","v":""},{"$f":"IF(入力シート!G270=\"\",\"\",入力シート!G270)","v":""},{"$f":"IF(入力シート!H270=\"\",\"\",入力シート!H270)","v":""},{"$f":"IF(入力シート!I270=\"\",\"\",入力シート!I270)","v":""},{"$f":"IF(入力シート!J270=\"\",\"\",入力シート!J270)","v":""},{"$f":"IF(入力シート!K270=\"\",\"\",入力シート!K270)","v":""},{"$f":"IF(入力シート!L270=\"\",\"\",入力シート!L270)","v":""},{"$f":"IF(入力シート!M270=\"\",\"\",入力シート!M270)","v":""},{"$f":"IF(入力シート!N270=\"\",\"\",入力シート!P270)","v":""}]
[{"$f":"IF(入力シート!A271=\"\",\"\",入力シート!A271)","v":""},{"$f":"IF(入力シート!B271=\"\",\"\",入力シート!B271)","v":""},{"$f":"IF(入力シート!C271=\"\",\"\",TEXT(入力シート!C271,\"yyyy-mm-dd\"))","v":""},{"$f":"IF(入力シート!O271=\"\",\"\",TEXT(入力シート!O271,\"000-0000\"))","v":""},{"$f":"IF(入力シート!F271=\"\",\"\",入力シート!F271)","v":""},{"$f":"IF(入力シート!G271=\"\",\"\",入力シート!G271)","v":""},{"$f":"IF(入力シート!H271=\"\",\"\",入力シート!H271)","v":""},{"$f":"IF(入力シート!I271=\"\",\"\",入力シート!I271)","v":""},{"$f":"IF(入力シート!J271=\"\",\"\",入力シート!J271)","v":""},{"$f":"IF(入力シート!K271=\"\",\"\",入力シート!K271)","v":""},{"$f":"IF(入力シート!L271=\"\",\"\",入力シート!L271)","v":""},{"$f":"IF(入力シート!M271=\"\",\"\",入力シート!M271)","v":""},{"$f":"IF(入力シート!N271=\"\",\"\",入力シート!P271)","v":""}]
[{"$f":"IF(入力シート!A272=\"\",\"\",入力シート!A272)","v":""},{"$f":"IF(入力シート!B272=\"\",\"\",入力シート!B272)","v":""},{"$f":"IF(入力シート!C272=\"\",\"\",TEXT(入力シート!C272,\"yyyy-mm-dd\"))","v":""},{"$f":"IF(入力シート!O272=\"\",\"\",TEXT(入力シート!O272,\"000-0000\"))","v":""},{"$f":"IF(入力シート!F272=\"\",\"\",入力シート!F272)","v":""},{"$f":"IF(入力シート!G272=\"\",\"\",入力シート!G272)","v":""},{"$f":"IF(入力シート!H272=\"\",\"\",入力シート!H272)","v":""},{"$f":"IF(入力シート!I272=\"\",\"\",入力シート!I272)","v":""},{"$f":"IF(入力シート!J272=\"\",\"\",入力シート!J272)","v":""},{"$f":"IF(入力シート!K272=\"\",\"\",入力シート!K272)","v":""},{"$f":"IF(入力シート!L272=\"\",\"\",入力シート!L272)","v":""},{"$f":"IF(入力シート!M272=\"\",\"\",入力シート!M272)","v":""},{"$f":"IF(入力シート!N272=\"\",\"\",入力シート!P272)","v":""}]
[{"$f":"IF(入力シート!A273=\"\",\"\",入力シート!A273)","v":""},{"$f":"IF(入力シート!B273=\"\",\"\",入力シート!B273)","v":""},{"$f":"IF(入力シート!C273=\"\",\"\",TEXT(入力シート!C273,\"yyyy-mm-dd\"))","v":""},{"$f":"IF(入力シート!O273=\"\",\"\",TEXT(入力シート!O273,\"000-0000\"))","v":""},{"$f":"IF(入力シート!F273=\"\",\"\",入力シート!F273)","v":""},{"$f":"IF(入力シート!G273=\"\",\"\",入力シート!G273)","v":""},{"$f":"IF(入力シート!H273=\"\",\"\",入力シート!H273)","v":""},{"$f":"IF(入力シート!I273=\"\",\"\",入力シート!I273)","v":""},{"$f":"IF(入力シート!J273=\"\",\"\",入力シート!J273)","v":""},{"$f":"IF(入力シート!K273=\"\",\"\",入力シート!K273)","v":""},{"$f":"IF(入力シート!L273=\"\",\"\",入力シート!L273)","v":""},{"$f":"IF(入力シート!M273=\"\",\"\",入力シート!M273)","v":""},{"$f":"IF(入力シート!N273=\"\",\"\",入力シート!P273)","v":""}]
[{"$f":"IF(入力シート!A274=\"\",\"\",入力シート!A274)","v":""},{"$f":"IF(入力シート!B274=\"\",\"\",入力シート!B274)","v":""},{"$f":"IF(入力シート!C274=\"\",\"\",TEXT(入力シート!C274,\"yyyy-mm-dd\"))","v":""},{"$f":"IF(入力シート!O274=\"\",\"\",TEXT(入力シート!O274,\"000-0000\"))","v":""},{"$f":"IF(入力シート!F274=\"\",\"\",入力シート!F274)","v":""},{"$f":"IF(入力シート!G274=\"\",\"\",入力シート!G274)","v":""},{"$f":"IF(入力シート!H274=\"\",\"\",入力シート!H274)","v":""},{"$f":"IF(入力シート!I274=\"\",\"\",入力シート!I274)","v":""},{"$f":"IF(入力シート!J274=\"\",\"\",入力シート!J274)","v":""},{"$f":"IF(入力シート!K274=\"\",\"\",入力シート!K274)","v":""},{"$f":"IF(入力シート!L274=\"\",\"\",入力シート!L274)","v":""},{"$f":"IF(入力シート!M274=\"\",\"\",入力シート!M274)","v":""},{"$f":"IF(入力シート!N274=\"\",\"\",入力シート!P274)","v":""}]
[{"$f":"IF(入力シート!A275=\"\",\"\",入力シート!A275)","v":""},{"$f":"IF(入力シート!B275=\"\",\"\",入力シート!B275)","v":""},{"$f":"IF(入力シート!C275=\"\",\"\",TEXT(入力シート!C275,\"yyyy-mm-dd\"))","v":""},{"$f":"IF(入力シート!O275=\"\",\"\",TEXT(入力シート!O275,\"000-0000\"))","v":""},{"$f":"IF(入力シート!F275=\"\",\"\",入力シート!F275)","v":""},{"$f":"IF(入力シート!G275=\"\",\"\",入力シート!G275)","v":""},{"$f":"IF(入力シート!H275=\"\",\"\",入力シート!H275)","v":""},{"$f":"IF(入力シート!I275=\"\",\"\",入力シート!I275)","v":""},{"$f":"IF(入力シート!J275=\"\",\"\",入力シート!J275)","v":""},{"$f":"IF(入力シート!K275=\"\",\"\",入力シート!K275)","v":""},{"$f":"IF(入力シート!L275=\"\",\"\",入力シート!L275)","v":""},{"$f":"IF(入力シート!M275=\"\",\"\",入力シート!M275)","v":""},{"$f":"IF(入力シート!N275=\"\",\"\",入力シート!P275)","v":""}]
[{"$f":"IF(入力シート!A276=\"\",\"\",入力シート!A276)","v":""},{"$f":"IF(入力シート!B276=\"\",\"\",入力シート!B276)","v":""},{"$f":"IF(入力シート!C276=\"\",\"\",TEXT(入力シート!C276,\"yyyy-mm-dd\"))","v":""},{"$f":"IF(入力シート!O276=\"\",\"\",TEXT(入力シート!O276,\"000-0000\"))","v":""},{"$f":"IF(入力シート!F276=\"\",\"\",入力シート!F276)","v":""},{"$f":"IF(入力シート!G276=\"\",\"\",入力シート!G276)","v":""},{"$f":"IF(入力シート!H276=\"\",\"\",入力シート!H276)","v":""},{"$f":"IF(入力シート!I276=\"\",\"\",入力シート!I276)","v":""},{"$f":"IF(入力シート!J276=\"\",\"\",入力シート!J276)","v":""},{"$f":"IF(入力シート!K276=\"\",\"\",入力シート!K276)","v":""},{"$f":"IF(入力シート!L276=\"\",\"\",入力シート!L276)","v":""},{"$f":"IF(入力シート!M276=\"\",\"\",入力シート!M276)","v":""},{"$f":"IF(入力シート!N276=\"\",\"\",入力シート!P276)","v":""}]
[{"$f":"IF(入力シート!A277=\"\",\"\",入力シート!A277)","v":""},{"$f":"IF(入力シート!B277=\"\",\"\",入力シート!B277)","v":""},{"$f":"IF(入力シート!C277=\"\",\"\",TEXT(入力シート!C277,\"yyyy-mm-dd\"))","v":""},{"$f":"IF(入力シート!O277=\"\",\"\",TEXT(入力シート!O277,\"000-0000\"))","v":""},{"$f":"IF(入力シート!F277=\"\",\"\",入力シート!F277)","v":""},{"$f":"IF(入力シート!G277=\"\",\"\",入力シート!G277)","v":""},{"$f":"IF(入力シート!H277=\"\",\"\",入力シート!H277)","v":""},{"$f":"IF(入力シート!I277=\"\",\"\",入力シート!I277)","v":""},{"$f":"IF(入力シート!J277=\"\",\"\",入力シート!J277)","v":""},{"$f":"IF(入力シート!K277=\"\",\"\",入力シート!K277)","v":""},{"$f":"IF(入力シート!L277=\"\",\"\",入力シート!L277)","v":""},{"$f":"IF(入力シート!M277=\"\",\"\",入力シート!M277)","v":""},{"$f":"IF(入力シート!N277=\"\",\"\",入力シート!P277)","v":""}]
[{"$f":"IF(入力シート!A278=\"\",\"\",入力シート!A278)","v":""},{"$f":"IF(入力シート!B278=\"\",\"\",入力シート!B278)","v":""},{"$f":"IF(入力シート!C278=\"\",\"\",TEXT(入力シート!C278,\"yyyy-mm-dd\"))","v":""},{"$f":"IF(入力シート!O278=\"\",\"\",TEXT(入力シート!O278,\"000-0000\"))","v":""},{"$f":"IF(入力シート!F278=\"\",\"\",入力シート!F278)","v":""},{"$f":"IF(入力シート!G278=\"\",\"\",入力シート!G278)","v":""},{"$f":"IF(入力シート!H278=\"\",\"\",入力シート!H278)","v":""},{"$f":"IF(入力シート!I278=\"\",\"\",入力シート!I278)","v":""},{"$f":"IF(入力シート!J278=\"\",\"\",入力シート!J278)","v":""},{"$f":"IF(入力シート!K278=\"\",\"\",入力シート!K278)","v":""},{"$f":"IF(入力シート!L278=\"\",\"\",入力シート!L278)","v":""},{"$f":"IF(入力シート!M278=\"\",\"\",入力シート!M278)","v":""},{"$f":"IF(入力シート!N278=\"\",\"\",入力シート!P278)","v":""}]
[{"$f":"IF(入力シート!A279=\"\",\"\",入力シート!A279)","v":""},{"$f":"IF(入力シート!B279=\"\",\"\",入力シート!B279)","v":""},{"$f":"IF(入力シート!C279=\"\",\"\",TEXT(入力シート!C279,\"yyyy-mm-dd\"))","v":""},{"$f":"IF(入力シート!O279=\"\",\"\",TEXT(入力シート!O279,\"000-0000\"))","v":""},{"$f":"IF(入力シート!F279=\"\",\"\",入力シート!F279)","v":""},{"$f":"IF(入力シート!G279=\"\",\"\",入力シート!G279)","v":""},{"$f":"IF(入力シート!H279=\"\",\"\",入力シート!H279)","v":""},{"$f":"IF(入力シート!I279=\"\",\"\",入力シート!I279)","v":""},{"$f":"IF(入力シート!J279=\"\",\"\",入力シート!J279)","v":""},{"$f":"IF(入力シート!K279=\"\",\"\",入力シート!K279)","v":""},{"$f":"IF(入力シート!L279=\"\",\"\",入力シート!L279)","v":""},{"$f":"IF(入力シート!M279=\"\",\"\",入力シート!M279)","v":""},{"$f":"IF(入力シート!N279=\"\",\"\",入力シート!P279)","v":""}]
[{"$f":"IF(入力シート!A280=\"\",\"\",入力シート!A280)","v":""},{"$f":"IF(入力シート!B280=\"\",\"\",入力シート!B280)","v":""},{"$f":"IF(入力シート!C280=\"\",\"\",TEXT(入力シート!C280,\"yyyy-mm-dd\"))","v":""},{"$f":"IF(入力シート!O280=\"\",\"\",TEXT(入力シート!O280,\"000-0000\"))","v":""},{"$f":"IF(入力シート!F280=\"\",\"\",入力シート!F280)","v":""},{"$f":"IF(入力シート!G280=\"\",\"\",入力シート!G280)","v":""},{"$f":"IF(入力シート!H280=\"\",\"\",入力シート!H280)","v":""},{"$f":"IF(入力シート!I280=\"\",\"\",入力シート!I280)","v":""},{"$f":"IF(入力シート!J280=\"\",\"\",入力シート!J280)","v":""},{"$f":"IF(入力シート!K280=\"\",\"\",入力シート!K280)","v":""},{"$f":"IF(入力シート!L280=\"\",\"\",入力シート!L280)","v":""},{"$f":"IF(入力シート!M280=\"\",\"\",入力シート!M280)","v":""},{"$f":"IF(入力シート!N280=\"\",\"\",入力シート!P280)","v":""}]
[{"$f":"IF(入力シート!A281=\"\",\"\",入力シート!A281)","v":""},{"$f":"IF(入力シート!B281=\"\",\"\",入力シート!B281)","v":""},{"$f":"IF(入力シート!C281=\"\",\"\",TEXT(入力シート!C281,\"yyyy-mm-dd\"))","v":""},{"$f":"IF(入力シート!O281=\"\",\"\",TEXT(入力シート!O281,\"000-0000\"))","v":""},{"$f":"IF(入力シート!F281=\"\",\"\",入力シート!F281)","v":""},{"$f":"IF(入力シート!G281=\"\",\"\",入力シート!G281)","v":""},{"$f":"IF(入力シート!H281=\"\",\"\",入力シート!H281)","v":""},{"$f":"IF(入力シート!I281=\"\",\"\",入力シート!I281)","v":""},{"$f":"IF(入力シート!J281=\"\",\"\",入力シート!J281)","v":""},{"$f":"IF(入力シート!K281=\"\",\"\",入力シート!K281)","v":""},{"$f":"IF(入力シート!L281=\"\",\"\",入力シート!L281)","v":""},{"$f":"IF(入力シート!M281=\"\",\"\",入力シート!M281)","v":""},{"$f":"IF(入力シート!N281=\"\",\"\",入力シート!P281)","v":""}]
[{"$f":"IF(入力シート!A282=\"\",\"\",入力シート!A282)","v":""},{"$f":"IF(入力シート!B282=\"\",\"\",入力シート!B282)","v":""},{"$f":"IF(入力シート!C282=\"\",\"\",TEXT(入力シート!C282,\"yyyy-mm-dd\"))","v":""},{"$f":"IF(入力シート!O282=\"\",\"\",TEXT(入力シート!O282,\"000-0000\"))","v":""},{"$f":"IF(入力シート!F282=\"\",\"\",入力シート!F282)","v":""},{"$f":"IF(入力シート!G282=\"\",\"\",入力シート!G282)","v":""},{"$f":"IF(入力シート!H282=\"\",\"\",入力シート!H282)","v":""},{"$f":"IF(入力シート!I282=\"\",\"\",入力シート!I282)","v":""},{"$f":"IF(入力シート!J282=\"\",\"\",入力シート!J282)","v":""},{"$f":"IF(入力シート!K282=\"\",\"\",入力シート!K282)","v":""},{"$f":"IF(入力シート!L282=\"\",\"\",入力シート!L282)","v":""},{"$f":"IF(入力シート!M282=\"\",\"\",入力シート!M282)","v":""},{"$f":"IF(入力シート!N282=\"\",\"\",入力シート!P282)","v":""}]
[{"$f":"IF(入力シート!A283=\"\",\"\",入力シート!A283)","v":""},{"$f":"IF(入力シート!B283=\"\",\"\",入力シート!B283)","v":""},{"$f":"IF(入力シート!C283=\"\",\"\",TEXT(入力シート!C283,\"yyyy-mm-dd\"))","v":""},{"$f":"IF(入力シート!O283=\"\",\"\",TEXT(入力シート!O283,\"000-0000\"))","v":""},{"$f":"IF(入力シート!F283=\"\",\"\",入力シート!F283)","v":""},{"$f":"IF(入力シート!G283=\"\",\"\",入力シート!G283)","v":""},{"$f":"IF(入力シート!H283=\"\",\"\",入力シート!H283)","v":""},{"$f":"IF(入力シート!I283=\"\",\"\",入力シート!I283)","v":""},{"$f":"IF(入力シート!J283=\"\",\"\",入力シート!J283)","v":""},{"$f":"IF(入力シート!K283=\"\",\"\",入力シート!K283)","v":""},{"$f":"IF(入力シート!L283=\"\",\"\",入力シート!L283)","v":""},{"$f":"IF(入力シート!M283=\"\",\"\",入力シート!M283)","v":""},{"$f":"IF(入力シート!N283=\"\",\"\",入力シート!P283)","v":""}]
[{"$f":"IF(入力シート!A284=\"\",\"\",入力シート!A284)","v":""},{"$f":"IF(入力シート!B284=\"\",\"\",入力シート!B284)","v":""},{"$f":"IF(入力シート!C284=\"\",\"\",TEXT(入力シート!C284,\"yyyy-mm-dd\"))","v":""},{"$f":"IF(入力シート!O284=\"\",\"\",TEXT(入力シート!O284,\"000-0000\"))","v":""},{"$f":"IF(入力シート!F284=\"\",\"\",入力シート!F284)","v":""},{"$f":"IF(入力シート!G284=\"\",\"\",入力シート!G284)","v":""},{"$f":"IF(入力シート!H284=\"\",\"\",入力シート!H284)","v":""},{"$f":"IF(入力シート!I284=\"\",\"\",入力シート!I284)","v":""},{"$f":"IF(入力シート!J284=\"\",\"\",入力シート!J284)","v":""},{"$f":"IF(入力シート!K284=\"\",\"\",入力シート!K284)","v":""},{"$f":"IF(入力シート!L284=\"\",\"\",入力シート!L284)","v":""},{"$f":"IF(入力シート!M284=\"\",\"\",入力シート!M284)","v":""},{"$f":"IF(入力シート!N284=\"\",\"\",入力シート!P284)","v":""}]
[{"$f":"IF(入力シート!A285=\"\",\"\",入力シート!A285)","v":""},{"$f":"IF(入力シート!B285=\"\",\"\",入力シート!B285)","v":""},{"$f":"IF(入力シート!C285=\"\",\"\",TEXT(入力シート!C285,\"yyyy-mm-dd\"))","v":""},{"$f":"IF(入力シート!O285=\"\",\"\",TEXT(入力シート!O285,\"000-0000\"))","v":""},{"$f":"IF(入力シート!F285=\"\",\"\",入力シート!F285)","v":""},{"$f":"IF(入力シート!G285=\"\",\"\",入力シート!G285)","v":""},{"$f":"IF(入力シート!H285=\"\",\"\",入力シート!H285)","v":""},{"$f":"IF(入力シート!I285=\"\",\"\",入力シート!I285)","v":""},{"$f":"IF(入力シート!J285=\"\",\"\",入力シート!J285)","v":""},{"$f":"IF(入力シート!K285=\"\",\"\",入力シート!K285)","v":""},{"$f":"IF(入力シート!L285=\"\",\"\",入力シート!L285)","v":""},{"$f":"IF(入力シート!M285=\"\",\"\",入力シート!M285)","v":""},{"$f":"IF(入力シート!N285=\"\",\"\",入力シート!P285)","v":""}]
[{"$f":"IF(入力シート!A286=\"\",\"\",入力シート!A286)","v":""},{"$f":"IF(入力シート!B286=\"\",\"\",入力シート!B286)","v":""},{"$f":"IF(入力シート!C286=\"\",\"\",TEXT(入力シート!C286,\"yyyy-mm-dd\"))","v":""},{"$f":"IF(入力シート!O286=\"\",\"\",TEXT(入力シート!O286,\"000-0000\"))","v":""},{"$f":"IF(入力シート!F286=\"\",\"\",入力シート!F286)","v":""},{"$f":"IF(入力シート!G286=\"\",\"\",入力シート!G286)","v":""},{"$f":"IF(入力シート!H286=\"\",\"\",入力シート!H286)","v":""},{"$f":"IF(入力シート!I286=\"\",\"\",入力シート!I286)","v":""},{"$f":"IF(入力シート!J286=\"\",\"\",入力シート!J286)","v":""},{"$f":"IF(入力シート!K286=\"\",\"\",入力シート!K286)","v":""},{"$f":"IF(入力シート!L286=\"\",\"\",入力シート!L286)","v":""},{"$f":"IF(入力シート!M286=\"\",\"\",入力シート!M286)","v":""},{"$f":"IF(入力シート!N286=\"\",\"\",入力シート!P286)","v":""}]
[{"$f":"IF(入力シート!A287=\"\",\"\",入力シート!A287)","v":""},{"$f":"IF(入力シート!B287=\"\",\"\",入力シート!B287)","v":""},{"$f":"IF(入力シート!C287=\"\",\"\",TEXT(入力シート!C287,\"yyyy-mm-dd\"))","v":""},{"$f":"IF(入力シート!O287=\"\",\"\",TEXT(入力シート!O287,\"000-0000\"))","v":""},{"$f":"IF(入力シート!F287=\"\",\"\",入力シート!F287)","v":""},{"$f":"IF(入力シート!G287=\"\",\"\",入力シート!G287)","v":""},{"$f":"IF(入力シート!H287=\"\",\"\",入力シート!H287)","v":""},{"$f":"IF(入力シート!I287=\"\",\"\",入力シート!I287)","v":""},{"$f":"IF(入力シート!J287=\"\",\"\",入力シート!J287)","v":""},{"$f":"IF(入力シート!K287=\"\",\"\",入力シート!K287)","v":""},{"$f":"IF(入力シート!L287=\"\",\"\",入力シート!L287)","v":""},{"$f":"IF(入力シート!M287=\"\",\"\",入力シート!M287)","v":""},{"$f":"IF(入力シート!N287=\"\",\"\",入力シート!P287)","v":""}]
[{"$f":"IF(入力シート!A288=\"\",\"\",入力シート!A288)","v":""},{"$f":"IF(入力シート!B288=\"\",\"\",入力シート!B288)","v":""},{"$f":"IF(入力シート!C288=\"\",\"\",TEXT(入力シート!C288,\"yyyy-mm-dd\"))","v":""},{"$f":"IF(入力シート!O288=\"\",\"\",TEXT(入力シート!O288,\"000-0000\"))","v":""},{"$f":"IF(入力シート!F288=\"\",\"\",入力シート!F288)","v":""},{"$f":"IF(入力シート!G288=\"\",\"\",入力シート!G288)","v":""},{"$f":"IF(入力シート!H288=\"\",\"\",入力シート!H288)","v":""},{"$f":"IF(入力シート!I288=\"\",\"\",入力シート!I288)","v":""},{"$f":"IF(入力シート!J288=\"\",\"\",入力シート!J288)","v":""},{"$f":"IF(入力シート!K288=\"\",\"\",入力シート!K288)","v":""},{"$f":"IF(入力シート!L288=\"\",\"\",入力シート!L288)","v":""},{"$f":"IF(入力シート!M288=\"\",\"\",入力シート!M288)","v":""},{"$f":"IF(入力シート!N288=\"\",\"\",入力シート!P288)","v":""}]
[{"$f":"IF(入力シート!A289=\"\",\"\",入力シート!A289)","v":""},{"$f":"IF(入力シート!B289=\"\",\"\",入力シート!B289)","v":""},{"$f":"IF(入力シート!C289=\"\",\"\",TEXT(入力シート!C289,\"yyyy-mm-dd\"))","v":""},{"$f":"IF(入力シート!O289=\"\",\"\",TEXT(入力シート!O289,\"000-0000\"))","v":""},{"$f":"IF(入力シート!F289=\"\",\"\",入力シート!F289)","v":""},{"$f":"IF(入力シート!G289=\"\",\"\",入力シート!G289)","v":""},{"$f":"IF(入力シート!H289=\"\",\"\",入力シート!H289)","v":""},{"$f":"IF(入力シート!I289=\"\",\"\",入力シート!I289)","v":""},{"$f":"IF(入力シート!J289=\"\",\"\",入力シート!J289)","v":""},{"$f":"IF(入力シート!K289=\"\",\"\",入力シート!K289)","v":""},{"$f":"IF(入力シート!L289=\"\",\"\",入力シート!L289)","v":""},{"$f":"IF(入力シート!M289=\"\",\"\",入力シート!M289)","v":""},{"$f":"IF(入力シート!N289=\"\",\"\",入力シート!P289)","v":""}]
[{"$f":"IF(入力シート!A290=\"\",\"\",入力シート!A290)","v":""},{"$f":"IF(入力シート!B290=\"\",\"\",入力シート!B290)","v":""},{"$f":"IF(入力シート!C290=\"\",\"\",TEXT(入力シート!C290,\"yyyy-mm-dd\"))","v":""},{"$f":"IF(入力シート!O290=\"\",\"\",TEXT(入力シート!O290,\"000-0000\"))","v":""},{"$f":"IF(入力シート!F290=\"\",\"\",入力シート!F290)","v":""},{"$f":"IF(入力シート!G290=\"\",\"\",入力シート!G290)","v":""},{"$f":"IF(入力シート!H290=\"\",\"\",入力シート!H290)","v":""},{"$f":"IF(入力シート!I290=\"\",\"\",入力シート!I290)","v":""},{"$f":"IF(入力シート!J290=\"\",\"\",入力シート!J290)","v":""},{"$f":"IF(入力シート!K290=\"\",\"\",入力シート!K290)","v":""},{"$f":"IF(入力シート!L290=\"\",\"\",入力シート!L290)","v":""},{"$f":"IF(入力シート!M290=\"\",\"\",入力シート!M290)","v":""},{"$f":"IF(入力シート!N290=\"\",\"\",入力シート!P290)","v":""}]
[{"$f":"IF(入力シート!A291=\"\",\"\",入力シート!A291)","v":""},{"$f":"IF(入力シート!B291=\"\",\"\",入力シート!B291)","v":""},{"$f":"IF(入力シート!C291=\"\",\"\",TEXT(入力シート!C291,\"yyyy-mm-dd\"))","v":""},{"$f":"IF(入力シート!O291=\"\",\"\",TEXT(入力シート!O291,\"000-0000\"))","v":""},{"$f":"IF(入力シート!F291=\"\",\"\",入力シート!F291)","v":""},{"$f":"IF(入力シート!G291=\"\",\"\",入力シート!G291)","v":""},{"$f":"IF(入力シート!H291=\"\",\"\",入力シート!H291)","v":""},{"$f":"IF(入力シート!I291=\"\",\"\",入力シート!I291)","v":""},{"$f":"IF(入力シート!J291=\"\",\"\",入力シート!J291)","v":""},{"$f":"IF(入力シート!K291=\"\",\"\",入力シート!K291)","v":""},{"$f":"IF(入力シート!L291=\"\",\"\",入力シート!L291)","v":""},{"$f":"IF(入力シート!M291=\"\",\"\",入力シート!M291)","v":""},{"$f":"IF(入力シート!N291=\"\",\"\",入力シート!P291)","v":""}]
[{"$f":"IF(入力シート!A292=\"\",\"\",入力シート!A292)","v":""},{"$f":"IF(入力シート!B292=\"\",\"\",入力シート!B292)","v":""},{"$f":"IF(入力シート!C292=\"\",\"\",TEXT(入力シート!C292,\"yyyy-mm-dd\"))","v":""},{"$f":"IF(入力シート!O292=\"\",\"\",TEXT(入力シート!O292,\"000-0000\"))","v":""},{"$f":"IF(入力シート!F292=\"\",\"\",入力シート!F292)","v":""},{"$f":"IF(入力シート!G292=\"\",\"\",入力シート!G292)","v":""},{"$f":"IF(入力シート!H292=\"\",\"\",入力シート!H292)","v":""},{"$f":"IF(入力シート!I292=\"\",\"\",入力シート!I292)","v":""},{"$f":"IF(入力シート!J292=\"\",\"\",入力シート!J292)","v":""},{"$f":"IF(入力シート!K292=\"\",\"\",入力シート!K292)","v":""},{"$f":"IF(入力シート!L292=\"\",\"\",入力シート!L292)","v":""},{"$f":"IF(入力シート!M292=\"\",\"\",入力シート!M292)","v":""},{"$f":"IF(入力シート!N292=\"\",\"\",入力シート!P292)","v":""}]
[{"$f":"IF(入力シート!A293=\"\",\"\",入力シート!A293)","v":""},{"$f":"IF(入力シート!B293=\"\",\"\",入力シート!B293)","v":""},{"$f":"IF(入力シート!C293=\"\",\"\",TEXT(入力シート!C293,\"yyyy-mm-dd\"))","v":""},{"$f":"IF(入力シート!O293=\"\",\"\",TEXT(入力シート!O293,\"000-0000\"))","v":""},{"$f":"IF(入力シート!F293=\"\",\"\",入力シート!F293)","v":""},{"$f":"IF(入力シート!G293=\"\",\"\",入力シート!G293)","v":""},{"$f":"IF(入力シート!H293=\"\",\"\",入力シート!H293)","v":""},{"$f":"IF(入力シート!I293=\"\",\"\",入力シート!I293)","v":""},{"$f":"IF(入力シート!J293=\"\",\"\",入力シート!J293)","v":""},{"$f":"IF(入力シート!K293=\"\",\"\",入力シート!K293)","v":""},{"$f":"IF(入力シート!L293=\"\",\"\",入力シート!L293)","v":""},{"$f":"IF(入力シート!M293=\"\",\"\",入力シート!M293)","v":""},{"$f":"IF(入力シート!N293=\"\",\"\",入力シート!P293)","v":""}]
[{"$f":"IF(入力シート!A294=\"\",\"\",入力シート!A294)","v":""},{"$f":"IF(入力シート!B294=\"\",\"\",入力シート!B294)","v":""},{"$f":"IF(入力シート!C294=\"\",\"\",TEXT(入力シート!C294,\"yyyy-mm-dd\"))","v":""},{"$f":"IF(入力シート!O294=\"\",\"\",TEXT(入力シート!O294,\"000-0000\"))","v":""},{"$f":"IF(入力シート!F294=\"\",\"\",入力シート!F294)","v":""},{"$f":"IF(入力シート!G294=\"\",\"\",入力シート!G294)","v":""},{"$f":"IF(入力シート!H294=\"\",\"\",入力シート!H294)","v":""},{"$f":"IF(入力シート!I294=\"\",\"\",入力シート!I294)","v":""},{"$f":"IF(入力シート!J294=\"\",\"\",入力シート!J294)","v":""},{"$f":"IF(入力シート!K294=\"\",\"\",入力シート!K294)","v":""},{"$f":"IF(入力シート!L294=\"\",\"\",入力シート!L294)","v":""},{"$f":"IF(入力シート!M294=\"\",\"\",入力シート!M294)","v":""},{"$f":"IF(入力シート!N294=\"\",\"\",入力シート!P294)","v":""}]
[{"$f":"IF(入力シート!A295=\"\",\"\",入力シート!A295)","v":""},{"$f":"IF(入力シート!B295=\"\",\"\",入力シート!B295)","v":""},{"$f":"IF(入力シート!C295=\"\",\"\",TEXT(入力シート!C295,\"yyyy-mm-dd\"))","v":""},{"$f":"IF(入力シート!O295=\"\",\"\",TEXT(入力シート!O295,\"000-0000\"))","v":""},{"$f":"IF(入力シート!F295=\"\",\"\",入力シート!F295)","v":""},{"$f":"IF(入力シート!G295=\"\",\"\",入力シート!G295)","v":""},{"$f":"IF(入力シート!H295=\"\",\"\",入力シート!H295)","v":""},{"$f":"IF(入力シート!I295=\"\",\"\",入力シート!I295)","v":""},{"$f":"IF(入力シート!J295=\"\",\"\",入力シート!J295)","v":""},{"$f":"IF(入力シート!K295=\"\",\"\",入力シート!K295)","v":""},{"$f":"IF(入力シート!L295=\"\",\"\",入力シート!L295)","v":""},{"$f":"IF(入力シート!M295=\"\",\"\",入力シート!M295)","v":""},{"$f":"IF(入力シート!N295=\"\",\"\",入力シート!P295)","v":""}]
[{"$f":"IF(入力シート!A296=\"\",\"\",入力シート!A296)","v":""},{"$f":"IF(入力シート!B296=\"\",\"\",入力シート!B296)","v":""},{"$f":"IF(入力シート!C296=\"\",\"\",TEXT(入力シート!C296,\"yyyy-mm-dd\"))","v":""},{"$f":"IF(入力シート!O296=\"\",\"\",TEXT(入力シート!O296,\"000-0000\"))","v":""},{"$f":"IF(入力シート!F296=\"\",\"\",入力シート!F296)","v":""},{"$f":"IF(入力シート!G296=\"\",\"\",入力シート!G296)","v":""},{"$f":"IF(入力シート!H296=\"\",\"\",入力シート!H296)","v":""},{"$f":"IF(入力シート!I296=\"\",\"\",入力シート!I296)","v":""},{"$f":"IF(入力シート!J296=\"\",\"\",入力シート!J296)","v":""},{"$f":"IF(入力シート!K296=\"\",\"\",入力シート!K296)","v":""},{"$f":"IF(入力シート!L296=\"\",\"\",入力シート!L296)","v":""},{"$f":"IF(入力シート!M296=\"\",\"\",入力シート!M296)","v":""},{"$f":"IF(入力シート!N296=\"\",\"\",入力シート!P296)","v":""}]
[{"$f":"IF(入力シート!A297=\"\",\"\",入力シート!A297)","v":""},{"$f":"IF(入力シート!B297=\"\",\"\",入力シート!B297)","v":""},{"$f":"IF(入力シート!C297=\"\",\"\",TEXT(入力シート!C297,\"yyyy-mm-dd\"))","v":""},{"$f":"IF(入力シート!O297=\"\",\"\",TEXT(入力シート!O297,\"000-0000\"))","v":""},{"$f":"IF(入力シート!F297=\"\",\"\",入力シート!F297)","v":""},{"$f":"IF(入力シート!G297=\"\",\"\",入力シート!G297)","v":""},{"$f":"IF(入力シート!H297=\"\",\"\",入力シート!H297)","v":""},{"$f":"IF(入力シート!I297=\"\",\"\",入力シート!I297)","v":""},{"$f":"IF(入力シート!J297=\"\",\"\",入力シート!J297)","v":""},{"$f":"IF(入力シート!K297=\"\",\"\",入力シート!K297)","v":""},{"$f":"IF(入力シート!L297=\"\",\"\",入力シート!L297)","v":""},{"$f":"IF(入力シート!M297=\"\",\"\",入力シート!M297)","v":""},{"$f":"IF(入力シート!N297=\"\",\"\",入力シート!P297)","v":""}]
[{"$f":"IF(入力シート!A298=\"\",\"\",入力シート!A298)","v":""},{"$f":"IF(入力シート!B298=\"\",\"\",入力シート!B298)","v":""},{"$f":"IF(入力シート!C298=\"\",\"\",TEXT(入力シート!C298,\"yyyy-mm-dd\"))","v":""},{"$f":"IF(入力シート!O298=\"\",\"\",TEXT(入力シート!O298,\"000-0000\"))","v":""},{"$f":"IF(入力シート!F298=\"\",\"\",入力シート!F298)","v":""},{"$f":"IF(入力シート!G298=\"\",\"\",入力シート!G298)","v":""},{"$f":"IF(入力シート!H298=\"\",\"\",入力シート!H298)","v":""},{"$f":"IF(入力シート!I298=\"\",\"\",入力シート!I298)","v":""},{"$f":"IF(入力シート!J298=\"\",\"\",入力シート!J298)","v":""},{"$f":"IF(入力シート!K298=\"\",\"\",入力シート!K298)","v":""},{"$f":"IF(入力シート!L298=\"\",\"\",入力シート!L298)","v":""},{"$f":"IF(入力シート!M298=\"\",\"\",入力シート!M298)","v":""},{"$f":"IF(入力シート!N298=\"\",\"\",入力シート!P298)","v":""}]
[{"$f":"IF(入力シート!A299=\"\",\"\",入力シート!A299)","v":""},{"$f":"IF(入力シート!B299=\"\",\"\",入力シート!B299)","v":""},{"$f":"IF(入力シート!C299=\"\",\"\",TEXT(入力シート!C299,\"yyyy-mm-dd\"))","v":""},{"$f":"IF(入力シート!O299=\"\",\"\",TEXT(入力シート!O299,\"000-0000\"))","v":""},{"$f":"IF(入力シート!F299=\"\",\"\",入力シート!F299)","v":""},{"$f":"IF(入力シート!G299=\"\",\"\",入力シート!G299)","v":""},{"$f":"IF(入力シート!H299=\"\",\"\",入力シート!H299)","v":""},{"$f":"IF(入力シート!I299=\"\",\"\",入力シート!I299)","v":""},{"$f":"IF(入力シート!J299=\"\",\"\",入力シート!J299)","v":""},{"$f":"IF(入力シート!K299=\"\",\"\",入力シート!K299)","v":""},{"$f":"IF(入力シート!L299=\"\",\"\",入力シート!L299)","v":""},{"$f":"IF(入力シート!M299=\"\",\"\",入力シート!M299)","v":""},{"$f":"IF(入力シート!N299=\"\",\"\",入力シート!P299)","v":""}]
[{"$f":"IF(入力シート!A300=\"\",\"\",入力シート!A300)","v":""},{"$f":"IF(入力シート!B300=\"\",\"\",入力シート!B300)","v":""},{"$f":"IF(入力シート!C300=\"\",\"\",TEXT(入力シート!C300,\"yyyy-mm-dd\"))","v":""},{"$f":"IF(入力シート!O300=\"\",\"\",TEXT(入力シート!O300,\"000-0000\"))","v":""},{"$f":"IF(入力シート!F300=\"\",\"\",入力シート!F300)","v":""},{"$f":"IF(入力シート!G300=\"\",\"\",入力シート!G300)","v":""},{"$f":"IF(入力シート!H300=\"\",\"\",入力シート!H300)","v":""},{"$f":"IF(入力シート!I300=\"\",\"\",入力シート!I300)","v":""},{"$f":"IF(入力シート!J300=\"\",\"\",入力シート!J300)","v":""},{"$f":"IF(入力シート!K300=\"\",\"\",入力シート!K300)","v":""},{"$f":"IF(入力シート!L300=\"\",\"\",入力シート!L300)","v":""},{"$f":"IF(入力シート!M300=\"\",\"\",入力シート!M300)","v":""},{"$f":"IF(入力シート!N300=\"\",\"\",入力シート!P300)","v":""}]
[{"$f":"IF(入力シート!A301=\"\",\"\",入力シート!A301)","v":""},{"$f":"IF(入力シート!B301=\"\",\"\",入力シート!B301)","v":""},{"$f":"IF(入力シート!C301=\"\",\"\",TEXT(入力シート!C301,\"yyyy-mm-dd\"))","v":""},{"$f":"IF(入力シート!O301=\"\",\"\",TEXT(入力シート!O301,\"000-0000\"))","v":""},{"$f":"IF(入力シート!F301=\"\",\"\",入力シート!F301)","v":""},{"$f":"IF(入力シート!G301=\"\",\"\",入力シート!G301)","v":""},{"$f":"IF(入力シート!H301=\"\",\"\",入力シート!H301)","v":""},{"$f":"IF(入力シート!I301=\"\",\"\",入力シート!I301)","v":""},{"$f":"IF(入力シート!J301=\"\",\"\",入力シート!J301)","v":""},{"$f":"IF(入力シート!K301=\"\",\"\",入力シート!K301)","v":""},{"$f":"IF(入力シート!L301=\"\",\"\",入力シート!L301)","v":""},{"$f":"IF(入力シート!M301=\"\",\"\",入力シート!M301)","v":""},{"$f":"IF(入力シート!N301=\"\",\"\",入力シート!P301)","v":""}]
[{"$f":"IF(入力シート!A302=\"\",\"\",入力シート!A302)","v":""},{"$f":"IF(入力シート!B302=\"\",\"\",入力シート!B302)","v":""},{"$f":"IF(入力シート!C302=\"\",\"\",TEXT(入力シート!C302,\"yyyy-mm-dd\"))","v":""},{"$f":"IF(入力シート!O302=\"\",\"\",TEXT(入力シート!O302,\"000-0000\"))","v":""},{"$f":"IF(入力シート!F302=\"\",\"\",入力シート!F302)","v":""},{"$f":"IF(入力シート!G302=\"\",\"\",入力シート!G302)","v":""},{"$f":"IF(入力シート!H302=\"\",\"\",入力シート!H302)","v":""},{"$f":"IF(入力シート!I302=\"\",\"\",入力シート!I302)","v":""},{"$f":"IF(入力シート!J302=\"\",\"\",入力シート!J302)","v":""},{"$f":"IF(入力シート!K302=\"\",\"\",入力シート!K302)","v":""},{"$f":"IF(入力シート!L302=\"\",\"\",入力シート!L302)","v":""},{"$f":"IF(入力シート!M302=\"\",\"\",入力シート!M302)","v":""},{"$f":"IF(入力シート!N302=\"\",\"\",入力シート!P302)","v":""}]
[{"$f":"IF(入力シート!A303=\"\",\"\",入力シート!A303)","v":""},{"$f":"IF(入力シート!B303=\"\",\"\",入力シート!B303)","v":""},{"$f":"IF(入力シート!C303=\"\",\"\",TEXT(入力シート!C303,\"yyyy-mm-dd\"))","v":""},{"$f":"IF(入力シート!O303=\"\",\"\",TEXT(入力シート!O303,\"000-0000\"))","v":""},{"$f":"IF(入力シート!F303=\"\",\"\",入力シート!F303)","v":""},{"$f":"IF(入力シート!G303=\"\",\"\",入力シート!G303)","v":""},{"$f":"IF(入力シート!H303=\"\",\"\",入力シート!H303)","v":""},{"$f":"IF(入力シート!I303=\"\",\"\",入力シート!I303)","v":""},{"$f":"IF(入力シート!J303=\"\",\"\",入力シート!J303)","v":""},{"$f":"IF(入力シート!K303=\"\",\"\",入力シート!K303)","v":""},{"$f":"IF(入力シート!L303=\"\",\"\",入力シート!L303)","v":""},{"$f":"IF(入力シート!M303=\"\",\"\",入力シート!M303)","v":""},{"$f":"IF(入力シート!N303=\"\",\"\",入力シート!P303)","v":""}]
[{"$f":"IF(入力シート!A304=\"\",\"\",入力シート!A304)","v":""},{"$f":"IF(入力シート!B304=\"\",\"\",入力シート!B304)","v":""},{"$f":"IF(入力シート!C304=\"\",\"\",TEXT(入力シート!C304,\"yyyy-mm-dd\"))","v":""},{"$f":"IF(入力シート!O304=\"\",\"\",TEXT(入力シート!O304,\"000-0000\"))","v":""},{"$f":"IF(入力シート!F304=\"\",\"\",入力シート!F304)","v":""},{"$f":"IF(入力シート!G304=\"\",\"\",入力シート!G304)","v":""},{"$f":"IF(入力シート!H304=\"\",\"\",入力シート!H304)","v":""},{"$f":"IF(入力シート!I304=\"\",\"\",入力シート!I304)","v":""},{"$f":"IF(入力シート!J304=\"\",\"\",入力シート!J304)","v":""},{"$f":"IF(入力シート!K304=\"\",\"\",入力シート!K304)","v":""},{"$f":"IF(入力シート!L304=\"\",\"\",入力シート!L304)","v":""},{"$f":"IF(入力シート!M304=\"\",\"\",入力シート!M304)","v":""},{"$f":"IF(入力シート!N304=\"\",\"\",入力シート!P304)","v":""}]
[{"$f":"IF(入力シート!A305=\"\",\"\",入力シート!A305)","v":""},{"$f":"IF(入力シート!B305=\"\",\"\",入力シート!B305)","v":""},{"$f":"IF(入力シート!C305=\"\",\"\",TEXT(入力シート!C305,\"yyyy-mm-dd\"))","v":""},{"$f":"IF(入力シート!O305=\"\",\"\",TEXT(入力シート!O305,\"000-0000\"))","v":""},{"$f":"IF(入力シート!F305=\"\",\"\",入力シート!F305)","v":""},{"$f":"IF(入力シート!G305=\"\",\"\",入力シート!G305)","v":""},{"$f":"IF(入力シート!H305=\"\",\"\",入力シート!H305)","v":""},{"$f":"IF(入力シート!I305=\"\",\"\",入力シート!I305)","v":""},{"$f":"IF(入力シート!J305=\"\",\"\",入力シート!J305)","v":""},{"$f":"IF(入力シート!K305=\"\",\"\",入力シート!K305)","v":""},{"$f":"IF(入力シート!L305=\"\",\"\",入力シート!L305)","v":""},{"$f":"IF(入力シート!M305=\"\",\"\",入力シート!M305)","v":""},{"$f":"IF(入力シート!N305=\"\",\"\",入力シート!P305)","v":""}]
[{"$f":"IF(入力シート!A306=\"\",\"\",入力シート!A306)","v":""},{"$f":"IF(入力シート!B306=\"\",\"\",入力シート!B306)","v":""},{"$f":"IF(入力シート!C306=\"\",\"\",TEXT(入力シート!C306,\"yyyy-mm-dd\"))","v":""},{"$f":"IF(入力シート!O306=\"\",\"\",TEXT(入力シート!O306,\"000-0000\"))","v":""},{"$f":"IF(入力シート!F306=\"\",\"\",入力シート!F306)","v":""},{"$f":"IF(入力シート!G306=\"\",\"\",入力シート!G306)","v":""},{"$f":"IF(入力シート!H306=\"\",\"\",入力シート!H306)","v":""},{"$f":"IF(入力シート!I306=\"\",\"\",入力シート!I306)","v":""},{"$f":"IF(入力シート!J306=\"\",\"\",入力シート!J306)","v":""},{"$f":"IF(入力シート!K306=\"\",\"\",入力シート!K306)","v":""},{"$f":"IF(入力シート!L306=\"\",\"\",入力シート!L306)","v":""},{"$f":"IF(入力シート!M306=\"\",\"\",入力シート!M306)","v":""},{"$f":"IF(入力シート!N306=\"\",\"\",入力シート!P306)","v":""}]
[{"$f":"IF(入力シート!A307=\"\",\"\",入力シート!A307)","v":""},{"$f":"IF(入力シート!B307=\"\",\"\",入力シート!B307)","v":""},{"$f":"IF(入力シート!C307=\"\",\"\",TEXT(入力シート!C307,\"yyyy-mm-dd\"))","v":""},{"$f":"IF(入力シート!O307=\"\",\"\",TEXT(入力シート!O307,\"000-0000\"))","v":""},{"$f":"IF(入力シート!F307=\"\",\"\",入力シート!F307)","v":""},{"$f":"IF(入力シート!G307=\"\",\"\",入力シート!G307)","v":""},{"$f":"IF(入力シート!H307=\"\",\"\",入力シート!H307)","v":""},{"$f":"IF(入力シート!I307=\"\",\"\",入力シート!I307)","v":""},{"$f":"IF(入力シート!J307=\"\",\"\",入力シート!J307)","v":""},{"$f":"IF(入力シート!K307=\"\",\"\",入力シート!K307)","v":""},{"$f":"IF(入力シート!L307=\"\",\"\",入力シート!L307)","v":""},{"$f":"IF(入力シート!M307=\"\",\"\",入力シート!M307)","v":""},{"$f":"IF(入力シート!N307=\"\",\"\",入力シート!P307)","v":""}]
[{"$f":"IF(入力シート!A308=\"\",\"\",入力シート!A308)","v":""},{"$f":"IF(入力シート!B308=\"\",\"\",入力シート!B308)","v":""},{"$f":"IF(入力シート!C308=\"\",\"\",TEXT(入力シート!C308,\"yyyy-mm-dd\"))","v":""},{"$f":"IF(入力シート!O308=\"\",\"\",TEXT(入力シート!O308,\"000-0000\"))","v":""},{"$f":"IF(入力シート!F308=\"\",\"\",入力シート!F308)","v":""},{"$f":"IF(入力シート!G308=\"\",\"\",入力シート!G308)","v":""},{"$f":"IF(入力シート!H308=\"\",\"\",入力シート!H308)","v":""},{"$f":"IF(入力シート!I308=\"\",\"\",入力シート!I308)","v":""},{"$f":"IF(入力シート!J308=\"\",\"\",入力シート!J308)","v":""},{"$f":"IF(入力シート!K308=\"\",\"\",入力シート!K308)","v":""},{"$f":"IF(入力シート!L308=\"\",\"\",入力シート!L308)","v":""},{"$f":"IF(入力シート!M308=\"\",\"\",入力シート!M308)","v":""},{"$f":"IF(入力シート!N308=\"\",\"\",入力シート!P308)","v":""}]
[{"$f":"IF(入力シート!A309=\"\",\"\",入力シート!A309)","v":""},{"$f":"IF(入力シート!B309=\"\",\"\",入力シート!B309)","v":""},{"$f":"IF(入力シート!C309=\"\",\"\",TEXT(入力シート!C309,\"yyyy-mm-dd\"))","v":""},{"$f":"IF(入力シート!O309=\"\",\"\",TEXT(入力シート!O309,\"000-0000\"))","v":""},{"$f":"IF(入力シート!F309=\"\",\"\",入力シート!F309)","v":""},{"$f":"IF(入力シート!G309=\"\",\"\",入力シート!G309)","v":""},{"$f":"IF(入力シート!H309=\"\",\"\",入力シート!H309)","v":""},{"$f":"IF(入力シート!I309=\"\",\"\",入力シート!I309)","v":""},{"$f":"IF(入力シート!J309=\"\",\"\",入力シート!J309)","v":""},{"$f":"IF(入力シート!K309=\"\",\"\",入力シート!K309)","v":""},{"$f":"IF(入力シート!L309=\"\",\"\",入力シート!L309)","v":""},{"$f":"IF(入力シート!M309=\"\",\"\",入力シート!M309)","v":""},{"$f":"IF(入力シート!N309=\"\",\"\",入力シート!P309)","v":""}]
[{"$f":"IF(入力シート!A310=\"\",\"\",入力シート!A310)","v":""},{"$f":"IF(入力シート!B310=\"\",\"\",入力シート!B310)","v":""},{"$f":"IF(入力シート!C310=\"\",\"\",TEXT(入力シート!C310,\"yyyy-mm-dd\"))","v":""},{"$f":"IF(入力シート!O310=\"\",\"\",TEXT(入力シート!O310,\"000-0000\"))","v":""},{"$f":"IF(入力シート!F310=\"\",\"\",入力シート!F310)","v":""},{"$f":"IF(入力シート!G310=\"\",\"\",入力シート!G310)","v":""},{"$f":"IF(入力シート!H310=\"\",\"\",入力シート!H310)","v":""},{"$f":"IF(入力シート!I310=\"\",\"\",入力シート!I310)","v":""},{"$f":"IF(入力シート!J310=\"\",\"\",入力シート!J310)","v":""},{"$f":"IF(入力シート!K310=\"\",\"\",入力シート!K310)","v":""},{"$f":"IF(入力シート!L310=\"\",\"\",入力シート!L310)","v":""},{"$f":"IF(入力シート!M310=\"\",\"\",入力シート!M310)","v":""},{"$f":"IF(入力シート!N310=\"\",\"\",入力シート!P310)","v":""}]
[{"$f":"IF(入力シート!A311=\"\",\"\",入力シート!A311)","v":""},{"$f":"IF(入力シート!B311=\"\",\"\",入力シート!B311)","v":""},{"$f":"IF(入力シート!C311=\"\",\"\",TEXT(入力シート!C311,\"yyyy-mm-dd\"))","v":""},{"$f":"IF(入力シート!O311=\"\",\"\",TEXT(入力シート!O311,\"000-0000\"))","v":""},{"$f":"IF(入力シート!F311=\"\",\"\",入力シート!F311)","v":""},{"$f":"IF(入力シート!G311=\"\",\"\",入力シート!G311)","v":""},{"$f":"IF(入力シート!H311=\"\",\"\",入力シート!H311)","v":""},{"$f":"IF(入力シート!I311=\"\",\"\",入力シート!I311)","v":""},{"$f":"IF(入力シート!J311=\"\",\"\",入力シート!J311)","v":""},{"$f":"IF(入力シート!K311=\"\",\"\",入力シート!K311)","v":""},{"$f":"IF(入力シート!L311=\"\",\"\",入力シート!L311)","v":""},{"$f":"IF(入力シート!M311=\"\",\"\",入力シート!M311)","v":""},{"$f":"IF(入力シート!N311=\"\",\"\",入力シート!P311)","v":""}]
[{"$f":"IF(入力シート!A312=\"\",\"\",入力シート!A312)","v":""},{"$f":"IF(入力シート!B312=\"\",\"\",入力シート!B312)","v":""},{"$f":"IF(入力シート!C312=\"\",\"\",TEXT(入力シート!C312,\"yyyy-mm-dd\"))","v":""},{"$f":"IF(入力シート!O312=\"\",\"\",TEXT(入力シート!O312,\"000-0000\"))","v":""},{"$f":"IF(入力シート!F312=\"\",\"\",入力シート!F312)","v":""},{"$f":"IF(入力シート!G312=\"\",\"\",入力シート!G312)","v":""},{"$f":"IF(入力シート!H312=\"\",\"\",入力シート!H312)","v":""},{"$f":"IF(入力シート!I312=\"\",\"\",入力シート!I312)","v":""},{"$f":"IF(入力シート!J312=\"\",\"\",入力シート!J312)","v":""},{"$f":"IF(入力シート!K312=\"\",\"\",入力シート!K312)","v":""},{"$f":"IF(入力シート!L312=\"\",\"\",入力シート!L312)","v":""},{"$f":"IF(入力シート!M312=\"\",\"\",入力シート!M312)","v":""},{"$f":"IF(入力シート!N312=\"\",\"\",入力シート!P312)","v":""}]
[{"$f":"IF(入力シート!A313=\"\",\"\",入力シート!A313)","v":""},{"$f":"IF(入力シート!B313=\"\",\"\",入力シート!B313)","v":""},{"$f":"IF(入力シート!C313=\"\",\"\",TEXT(入力シート!C313,\"yyyy-mm-dd\"))","v":""},{"$f":"IF(入力シート!O313=\"\",\"\",TEXT(入力シート!O313,\"000-0000\"))","v":""},{"$f":"IF(入力シート!F313=\"\",\"\",入力シート!F313)","v":""},{"$f":"IF(入力シート!G313=\"\",\"\",入力シート!G313)","v":""},{"$f":"IF(入力シート!H313=\"\",\"\",入力シート!H313)","v":""},{"$f":"IF(入力シート!I313=\"\",\"\",入力シート!I313)","v":""},{"$f":"IF(入力シート!J313=\"\",\"\",入力シート!J313)","v":""},{"$f":"IF(入力シート!K313=\"\",\"\",入力シート!K313)","v":""},{"$f":"IF(入力シート!L313=\"\",\"\",入力シート!L313)","v":""},{"$f":"IF(入力シート!M313=\"\",\"\",入力シート!M313)","v":""},{"$f":"IF(入力シート!N313=\"\",\"\",入力シート!P313)","v":""}]
[{"$f":"IF(入力シート!A314=\"\",\"\",入力シート!A314)","v":""},{"$f":"IF(入力シート!B314=\"\",\"\",入力シート!B314)","v":""},{"$f":"IF(入力シート!C314=\"\",\"\",TEXT(入力シート!C314,\"yyyy-mm-dd\"))","v":""},{"$f":"IF(入力シート!O314=\"\",\"\",TEXT(入力シート!O314,\"000-0000\"))","v":""},{"$f":"IF(入力シート!F314=\"\",\"\",入力シート!F314)","v":""},{"$f":"IF(入力シート!G314=\"\",\"\",入力シート!G314)","v":""},{"$f":"IF(入力シート!H314=\"\",\"\",入力シート!H314)","v":""},{"$f":"IF(入力シート!I314=\"\",\"\",入力シート!I314)","v":""},{"$f":"IF(入力シート!J314=\"\",\"\",入力シート!J314)","v":""},{"$f":"IF(入力シート!K314=\"\",\"\",入力シート!K314)","v":""},{"$f":"IF(入力シート!L314=\"\",\"\",入力シート!L314)","v":""},{"$f":"IF(入力シート!M314=\"\",\"\",入力シート!M314)","v":""},{"$f":"IF(入力シート!N314=\"\",\"\",入力シート!P314)","v":""}]
[{"$f":"IF(入力シート!A315=\"\",\"\",入力シート!A315)","v":""},{"$f":"IF(入力シート!B315=\"\",\"\",入力シート!B315)","v":""},{"$f":"IF(入力シート!C315=\"\",\"\",TEXT(入力シート!C315,\"yyyy-mm-dd\"))","v":""},{"$f":"IF(入力シート!O315=\"\",\"\",TEXT(入力シート!O315,\"000-0000\"))","v":""},{"$f":"IF(入力シート!F315=\"\",\"\",入力シート!F315)","v":""},{"$f":"IF(入力シート!G315=\"\",\"\",入力シート!G315)","v":""},{"$f":"IF(入力シート!H315=\"\",\"\",入力シート!H315)","v":""},{"$f":"IF(入力シート!I315=\"\",\"\",入力シート!I315)","v":""},{"$f":"IF(入力シート!J315=\"\",\"\",入力シート!J315)","v":""},{"$f":"IF(入力シート!K315=\"\",\"\",入力シート!K315)","v":""},{"$f":"IF(入力シート!L315=\"\",\"\",入力シート!L315)","v":""},{"$f":"IF(入力シート!M315=\"\",\"\",入力シート!M315)","v":""},{"$f":"IF(入力シート!N315=\"\",\"\",入力シート!P315)","v":""}]
[{"$f":"IF(入力シート!A316=\"\",\"\",入力シート!A316)","v":""},{"$f":"IF(入力シート!B316=\"\",\"\",入力シート!B316)","v":""},{"$f":"IF(入力シート!C316=\"\",\"\",TEXT(入力シート!C316,\"yyyy-mm-dd\"))","v":""},{"$f":"IF(入力シート!O316=\"\",\"\",TEXT(入力シート!O316,\"000-0000\"))","v":""},{"$f":"IF(入力シート!F316=\"\",\"\",入力シート!F316)","v":""},{"$f":"IF(入力シート!G316=\"\",\"\",入力シート!G316)","v":""},{"$f":"IF(入力シート!H316=\"\",\"\",入力シート!H316)","v":""},{"$f":"IF(入力シート!I316=\"\",\"\",入力シート!I316)","v":""},{"$f":"IF(入力シート!J316=\"\",\"\",入力シート!J316)","v":""},{"$f":"IF(入力シート!K316=\"\",\"\",入力シート!K316)","v":""},{"$f":"IF(入力シート!L316=\"\",\"\",入力シート!L316)","v":""},{"$f":"IF(入力シート!M316=\"\",\"\",入力シート!M316)","v":""},{"$f":"IF(入力シート!N316=\"\",\"\",入力シート!P316)","v":""}]
[{"$f":"IF(入力シート!A317=\"\",\"\",入力シート!A317)","v":""},{"$f":"IF(入力シート!B317=\"\",\"\",入力シート!B317)","v":""},{"$f":"IF(入力シート!C317=\"\",\"\",TEXT(入力シート!C317,\"yyyy-mm-dd\"))","v":""},{"$f":"IF(入力シート!O317=\"\",\"\",TEXT(入力シート!O317,\"000-0000\"))","v":""},{"$f":"IF(入力シート!F317=\"\",\"\",入力シート!F317)","v":""},{"$f":"IF(入力シート!G317=\"\",\"\",入力シート!G317)","v":""},{"$f":"IF(入力シート!H317=\"\",\"\",入力シート!H317)","v":""},{"$f":"IF(入力シート!I317=\"\",\"\",入力シート!I317)","v":""},{"$f":"IF(入力シート!J317=\"\",\"\",入力シート!J317)","v":""},{"$f":"IF(入力シート!K317=\"\",\"\",入力シート!K317)","v":""},{"$f":"IF(入力シート!L317=\"\",\"\",入力シート!L317)","v":""},{"$f":"IF(入力シート!M317=\"\",\"\",入力シート!M317)","v":""},{"$f":"IF(入力シート!N317=\"\",\"\",入力シート!P317)","v":""}]
[{"$f":"IF(入力シート!A318=\"\",\"\",入力シート!A318)","v":""},{"$f":"IF(入力シート!B318=\"\",\"\",入力シート!B318)","v":""},{"$f":"IF(入力シート!C318=\"\",\"\",TEXT(入力シート!C318,\"yyyy-mm-dd\"))","v":""},{"$f":"IF(入力シート!O318=\"\",\"\",TEXT(入力シート!O318,\"000-0000\"))","v":""},{"$f":"IF(入力シート!F318=\"\",\"\",入力シート!F318)","v":""},{"$f":"IF(入力シート!G318=\"\",\"\",入力シート!G318)","v":""},{"$f":"IF(入力シート!H318=\"\",\"\",入力シート!H318)","v":""},{"$f":"IF(入力シート!I318=\"\",\"\",入力シート!I318)","v":""},{"$f":"IF(入力シート!J318=\"\",\"\",入力シート!J318)","v":""},{"$f":"IF(入力シート!K318=\"\",\"\",入力シート!K318)","v":""},{"$f":"IF(入力シート!L318=\"\",\"\",入力シート!L318)","v":""},{"$f":"IF(入力シート!M318=\"\",\"\",入力シート!M318)","v":""},{"$f":"IF(入力シート!N318=\"\",\"\",入力シート!P318)","v":""}]
[{"$f":"IF(入力シート!A319=\"\",\"\",入力シート!A319)","v":""},{"$f":"IF(入力シート!B319=\"\",\"\",入力シート!B319)","v":""},{"$f":"IF(入力シート!C319=\"\",\"\",TEXT(入力シート!C319,\"yyyy-mm-dd\"))","v":""},{"$f":"IF(入力シート!O319=\"\",\"\",TEXT(入力シート!O319,\"000-0000\"))","v":""},{"$f":"IF(入力シート!F319=\"\",\"\",入力シート!F319)","v":""},{"$f":"IF(入力シート!G319=\"\",\"\",入力シート!G319)","v":""},{"$f":"IF(入力シート!H319=\"\",\"\",入力シート!H319)","v":""},{"$f":"IF(入力シート!I319=\"\",\"\",入力シート!I319)","v":""},{"$f":"IF(入力シート!J319=\"\",\"\",入力シート!J319)","v":""},{"$f":"IF(入力シート!K319=\"\",\"\",入力シート!K319)","v":""},{"$f":"IF(入力シート!L319=\"\",\"\",入力シート!L319)","v":""},{"$f":"IF(入力シート!M319=\"\",\"\",入力シート!M319)","v":""},{"$f":"IF(入力シート!N319=\"\",\"\",入力シート!P319)","v":""}]
[{"$f":"IF(入力シート!A320=\"\",\"\",入力シート!A320)","v":""},{"$f":"IF(入力シート!B320=\"\",\"\",入力シート!B320)","v":""},{"$f":"IF(入力シート!C320=\"\",\"\",TEXT(入力シート!C320,\"yyyy-mm-dd\"))","v":""},{"$f":"IF(入力シート!O320=\"\",\"\",TEXT(入力シート!O320,\"000-0000\"))","v":""},{"$f":"IF(入力シート!F320=\"\",\"\",入力シート!F320)","v":""},{"$f":"IF(入力シート!G320=\"\",\"\",入力シート!G320)","v":""},{"$f":"IF(入力シート!H320=\"\",\"\",入力シート!H320)","v":""},{"$f":"IF(入力シート!I320=\"\",\"\",入力シート!I320)","v":""},{"$f":"IF(入力シート!J320=\"\",\"\",入力シート!J320)","v":""},{"$f":"IF(入力シート!K320=\"\",\"\",入力シート!K320)","v":""},{"$f":"IF(入力シート!L320=\"\",\"\",入力シート!L320)","v":""},{"$f":"IF(入力シート!M320=\"\",\"\",入力シート!M320)","v":""},{"$f":"IF(入力シート!N320=\"\",\"\",入力シート!P320)","v":""}]
[{"$f":"IF(入力シート!A321=\"\",\"\",入力シート!A321)","v":""},{"$f":"IF(入力シート!B321=\"\",\"\",入力シート!B321)","v":""},{"$f":"IF(入力シート!C321=\"\",\"\",TEXT(入力シート!C321,\"yyyy-mm-dd\"))","v":""},{"$f":"IF(入力シート!O321=\"\",\"\",TEXT(入力シート!O321,\"000-0000\"))","v":""},{"$f":"IF(入力シート!F321=\"\",\"\",入力シート!F321)","v":""},{"$f":"IF(入力シート!G321=\"\",\"\",入力シート!G321)","v":""},{"$f":"IF(入力シート!H321=\"\",\"\",入力シート!H321)","v":""},{"$f":"IF(入力シート!I321=\"\",\"\",入力シート!I321)","v":""},{"$f":"IF(入力シート!J321=\"\",\"\",入力シート!J321)","v":""},{"$f":"IF(入力シート!K321=\"\",\"\",入力シート!K321)","v":""},{"$f":"IF(入力シート!L321=\"\",\"\",入力シート!L321)","v":""},{"$f":"IF(入力シート!M321=\"\",\"\",入力シート!M321)","v":""},{"$f":"IF(入力シート!N321=\"\",\"\",入力シート!P321)","v":""}]
[{"$f":"IF(入力シート!A322=\"\",\"\",入力シート!A322)","v":""},{"$f":"IF(入力シート!B322=\"\",\"\",入力シート!B322)","v":""},{"$f":"IF(入力シート!C322=\"\",\"\",TEXT(入力シート!C322,\"yyyy-mm-dd\"))","v":""},{"$f":"IF(入力シート!O322=\"\",\"\",TEXT(入力シート!O322,\"000-0000\"))","v":""},{"$f":"IF(入力シート!F322=\"\",\"\",入力シート!F322)","v":""},{"$f":"IF(入力シート!G322=\"\",\"\",入力シート!G322)","v":""},{"$f":"IF(入力シート!H322=\"\",\"\",入力シート!H322)","v":""},{"$f":"IF(入力シート!I322=\"\",\"\",入力シート!I322)","v":""},{"$f":"IF(入力シート!J322=\"\",\"\",入力シート!J322)","v":""},{"$f":"IF(入力シート!K322=\"\",\"\",入力シート!K322)","v":""},{"$f":"IF(入力シート!L322=\"\",\"\",入力シート!L322)","v":""},{"$f":"IF(入力シート!M322=\"\",\"\",入力シート!M322)","v":""},{"$f":"IF(入力シート!N322=\"\",\"\",入力シート!P322)","v":""}]
[{"$f":"IF(入力シート!A323=\"\",\"\",入力シート!A323)","v":""},{"$f":"IF(入力シート!B323=\"\",\"\",入力シート!B323)","v":""},{"$f":"IF(入力シート!C323=\"\",\"\",TEXT(入力シート!C323,\"yyyy-mm-dd\"))","v":""},{"$f":"IF(入力シート!O323=\"\",\"\",TEXT(入力シート!O323,\"000-0000\"))","v":""},{"$f":"IF(入力シート!F323=\"\",\"\",入力シート!F323)","v":""},{"$f":"IF(入力シート!G323=\"\",\"\",入力シート!G323)","v":""},{"$f":"IF(入力シート!H323=\"\",\"\",入力シート!H323)","v":""},{"$f":"IF(入力シート!I323=\"\",\"\",入力シート!I323)","v":""},{"$f":"IF(入力シート!J323=\"\",\"\",入力シート!J323)","v":""},{"$f":"IF(入力シート!K323=\"\",\"\",入力シート!K323)","v":""},{"$f":"IF(入力シート!L323=\"\",\"\",入力シート!L323)","v":""},{"$f":"IF(入力シート!M323=\"\",\"\",入力シート!M323)","v":""},{"$f":"IF(入力シート!N323=\"\",\"\",入力シート!P323)","v":""}]
[{"$f":"IF(入力シート!A324=\"\",\"\",入力シート!A324)","v":""},{"$f":"IF(入力シート!B324=\"\",\"\",入力シート!B324)","v":""},{"$f":"IF(入力シート!C324=\"\",\"\",TEXT(入力シート!C324,\"yyyy-mm-dd\"))","v":""},{"$f":"IF(入力シート!O324=\"\",\"\",TEXT(入力シート!O324,\"000-0000\"))","v":""},{"$f":"IF(入力シート!F324=\"\",\"\",入力シート!F324)","v":""},{"$f":"IF(入力シート!G324=\"\",\"\",入力シート!G324)","v":""},{"$f":"IF(入力シート!H324=\"\",\"\",入力シート!H324)","v":""},{"$f":"IF(入力シート!I324=\"\",\"\",入力シート!I324)","v":""},{"$f":"IF(入力シート!J324=\"\",\"\",入力シート!J324)","v":""},{"$f":"IF(入力シート!K324=\"\",\"\",入力シート!K324)","v":""},{"$f":"IF(入力シート!L324=\"\",\"\",入力シート!L324)","v":""},{"$f":"IF(入力シート!M324=\"\",\"\",入力シート!M324)","v":""},{"$f":"IF(入力シート!N324=\"\",\"\",入力シート!P324)","v":""}]
[{"$f":"IF(入力シート!A325=\"\",\"\",入力シート!A325)","v":""},{"$f":"IF(入力シート!B325=\"\",\"\",入力シート!B325)","v":""},{"$f":"IF(入力シート!C325=\"\",\"\",TEXT(入力シート!C325,\"yyyy-mm-dd\"))","v":""},{"$f":"IF(入力シート!O325=\"\",\"\",TEXT(入力シート!O325,\"000-0000\"))","v":""},{"$f":"IF(入力シート!F325=\"\",\"\",入力シート!F325)","v":""},{"$f":"IF(入力シート!G325=\"\",\"\",入力シート!G325)","v":""},{"$f":"IF(入力シート!H325=\"\",\"\",入力シート!H325)","v":""},{"$f":"IF(入力シート!I325=\"\",\"\",入力シート!I325)","v":""},{"$f":"IF(入力シート!J325=\"\",\"\",入力シート!J325)","v":""},{"$f":"IF(入力シート!K325=\"\",\"\",入力シート!K325)","v":""},{"$f":"IF(入力シート!L325=\"\",\"\",入力シート!L325)","v":""},{"$f":"IF(入力シート!M325=\"\",\"\",入力シート!M325)","v":""},{"$f":"IF(入力シート!N325=\"\",\"\",入力シート!P325)","v":""}]
[{"$f":"IF(入力シート!A326=\"\",\"\",入力シート!A326)","v":""},{"$f":"IF(入力シート!B326=\"\",\"\",入力シート!B326)","v":""},{"$f":"IF(入力シート!C326=\"\",\"\",TEXT(入力シート!C326,\"yyyy-mm-dd\"))","v":""},{"$f":"IF(入力シート!O326=\"\",\"\",TEXT(入力シート!O326,\"000-0000\"))","v":""},{"$f":"IF(入力シート!F326=\"\",\"\",入力シート!F326)","v":""},{"$f":"IF(入力シート!G326=\"\",\"\",入力シート!G326)","v":""},{"$f":"IF(入力シート!H326=\"\",\"\",入力シート!H326)","v":""},{"$f":"IF(入力シート!I326=\"\",\"\",入力シート!I326)","v":""},{"$f":"IF(入力シート!J326=\"\",\"\",入力シート!J326)","v":""},{"$f":"IF(入力シート!K326=\"\",\"\",入力シート!K326)","v":""},{"$f":"IF(入力シート!L326=\"\",\"\",入力シート!L326)","v":""},{"$f":"IF(入力シート!M326=\"\",\"\",入力シート!M326)","v":""},{"$f":"IF(入力シート!N326=\"\",\"\",入力シート!P326)","v":""}]
[{"$f":"IF(入力シート!A327=\"\",\"\",入力シート!A327)","v":""},{"$f":"IF(入力シート!B327=\"\",\"\",入力シート!B327)","v":""},{"$f":"IF(入力シート!C327=\"\",\"\",TEXT(入力シート!C327,\"yyyy-mm-dd\"))","v":""},{"$f":"IF(入力シート!O327=\"\",\"\",TEXT(入力シート!O327,\"000-0000\"))","v":""},{"$f":"IF(入力シート!F327=\"\",\"\",入力シート!F327)","v":""},{"$f":"IF(入力シート!G327=\"\",\"\",入力シート!G327)","v":""},{"$f":"IF(入力シート!H327=\"\",\"\",入力シート!H327)","v":""},{"$f":"IF(入力シート!I327=\"\",\"\",入力シート!I327)","v":""},{"$f":"IF(入力シート!J327=\"\",\"\",入力シート!J327)","v":""},{"$f":"IF(入力シート!K327=\"\",\"\",入力シート!K327)","v":""},{"$f":"IF(入力シート!L327=\"\",\"\",入力シート!L327)","v":""},{"$f":"IF(入力シート!M327=\"\",\"\",入力シート!M327)","v":""},{"$f":"IF(入力シート!N327=\"\",\"\",入力シート!P327)","v":""}]
[{"$f":"IF(入力シート!A328=\"\",\"\",入力シート!A328)","v":""},{"$f":"IF(入力シート!B328=\"\",\"\",入力シート!B328)","v":""},{"$f":"IF(入力シート!C328=\"\",\"\",TEXT(入力シート!C328,\"yyyy-mm-dd\"))","v":""},{"$f":"IF(入力シート!O328=\"\",\"\",TEXT(入力シート!O328,\"000-0000\"))","v":""},{"$f":"IF(入力シート!F328=\"\",\"\",入力シート!F328)","v":""},{"$f":"IF(入力シート!G328=\"\",\"\",入力シート!G328)","v":""},{"$f":"IF(入力シート!H328=\"\",\"\",入力シート!H328)","v":""},{"$f":"IF(入力シート!I328=\"\",\"\",入力シート!I328)","v":""},{"$f":"IF(入力シート!J328=\"\",\"\",入力シート!J328)","v":""},{"$f":"IF(入力シート!K328=\"\",\"\",入力シート!K328)","v":""},{"$f":"IF(入力シート!L328=\"\",\"\",入力シート!L328)","v":""},{"$f":"IF(入力シート!M328=\"\",\"\",入力シート!M328)","v":""},{"$f":"IF(入力シート!N328=\"\",\"\",入力シート!P328)","v":""}]
[{"$f":"IF(入力シート!A329=\"\",\"\",入力シート!A329)","v":""},{"$f":"IF(入力シート!B329=\"\",\"\",入力シート!B329)","v":""},{"$f":"IF(入力シート!C329=\"\",\"\",TEXT(入力シート!C329,\"yyyy-mm-dd\"))","v":""},{"$f":"IF(入力シート!O329=\"\",\"\",TEXT(入力シート!O329,\"000-0000\"))","v":""},{"$f":"IF(入力シート!F329=\"\",\"\",入力シート!F329)","v":""},{"$f":"IF(入力シート!G329=\"\",\"\",入力シート!G329)","v":""},{"$f":"IF(入力シート!H329=\"\",\"\",入力シート!H329)","v":""},{"$f":"IF(入力シート!I329=\"\",\"\",入力シート!I329)","v":""},{"$f":"IF(入力シート!J329=\"\",\"\",入力シート!J329)","v":""},{"$f":"IF(入力シート!K329=\"\",\"\",入力シート!K329)","v":""},{"$f":"IF(入力シート!L329=\"\",\"\",入力シート!L329)","v":""},{"$f":"IF(入力シート!M329=\"\",\"\",入力シート!M329)","v":""},{"$f":"IF(入力シート!N329=\"\",\"\",入力シート!P329)","v":""}]
[{"$f":"IF(入力シート!A330=\"\",\"\",入力シート!A330)","v":""},{"$f":"IF(入力シート!B330=\"\",\"\",入力シート!B330)","v":""},{"$f":"IF(入力シート!C330=\"\",\"\",TEXT(入力シート!C330,\"yyyy-mm-dd\"))","v":""},{"$f":"IF(入力シート!O330=\"\",\"\",TEXT(入力シート!O330,\"000-0000\"))","v":""},{"$f":"IF(入力シート!F330=\"\",\"\",入力シート!F330)","v":""},{"$f":"IF(入力シート!G330=\"\",\"\",入力シート!G330)","v":""},{"$f":"IF(入力シート!H330=\"\",\"\",入力シート!H330)","v":""},{"$f":"IF(入力シート!I330=\"\",\"\",入力シート!I330)","v":""},{"$f":"IF(入力シート!J330=\"\",\"\",入力シート!J330)","v":""},{"$f":"IF(入力シート!K330=\"\",\"\",入力シート!K330)","v":""},{"$f":"IF(入力シート!L330=\"\",\"\",入力シート!L330)","v":""},{"$f":"IF(入力シート!M330=\"\",\"\",入力シート!M330)","v":""},{"$f":"IF(入力シート!N330=\"\",\"\",入力シート!P330)","v":""}]
[{"$f":"IF(入力シート!A331=\"\",\"\",入力シート!A331)","v":""},{"$f":"IF(入力シート!B331=\"\",\"\",入力シート!B331)","v":""},{"$f":"IF(入力シート!C331=\"\",\"\",TEXT(入力シート!C331,\"yyyy-mm-dd\"))","v":""},{"$f":"IF(入力シート!O331=\"\",\"\",TEXT(入力シート!O331,\"000-0000\"))","v":""},{"$f":"IF(入力シート!F331=\"\",\"\",入力シート!F331)","v":""},{"$f":"IF(入力シート!G331=\"\",\"\",入力シート!G331)","v":""},{"$f":"IF(入力シート!H331=\"\",\"\",入力シート!H331)","v":""},{"$f":"IF(入力シート!I331=\"\",\"\",入力シート!I331)","v":""},{"$f":"IF(入力シート!J331=\"\",\"\",入力シート!J331)","v":""},{"$f":"IF(入力シート!K331=\"\",\"\",入力シート!K331)","v":""},{"$f":"IF(入力シート!L331=\"\",\"\",入力シート!L331)","v":""},{"$f":"IF(入力シート!M331=\"\",\"\",入力シート!M331)","v":""},{"$f":"IF(入力シート!N331=\"\",\"\",入力シート!P331)","v":""}]
[{"$f":"IF(入力シート!A332=\"\",\"\",入力シート!A332)","v":""},{"$f":"IF(入力シート!B332=\"\",\"\",入力シート!B332)","v":""},{"$f":"IF(入力シート!C332=\"\",\"\",TEXT(入力シート!C332,\"yyyy-mm-dd\"))","v":""},{"$f":"IF(入力シート!O332=\"\",\"\",TEXT(入力シート!O332,\"000-0000\"))","v":""},{"$f":"IF(入力シート!F332=\"\",\"\",入力シート!F332)","v":""},{"$f":"IF(入力シート!G332=\"\",\"\",入力シート!G332)","v":""},{"$f":"IF(入力シート!H332=\"\",\"\",入力シート!H332)","v":""},{"$f":"IF(入力シート!I332=\"\",\"\",入力シート!I332)","v":""},{"$f":"IF(入力シート!J332=\"\",\"\",入力シート!J332)","v":""},{"$f":"IF(入力シート!K332=\"\",\"\",入力シート!K332)","v":""},{"$f":"IF(入力シート!L332=\"\",\"\",入力シート!L332)","v":""},{"$f":"IF(入力シート!M332=\"\",\"\",入力シート!M332)","v":""},{"$f":"IF(入力シート!N332=\"\",\"\",入力シート!P332)","v":""}]
[{"$f":"IF(入力シート!A333=\"\",\"\",入力シート!A333)","v":""},{"$f":"IF(入力シート!B333=\"\",\"\",入力シート!B333)","v":""},{"$f":"IF(入力シート!C333=\"\",\"\",TEXT(入力シート!C333,\"yyyy-mm-dd\"))","v":""},{"$f":"IF(入力シート!O333=\"\",\"\",TEXT(入力シート!O333,\"000-0000\"))","v":""},{"$f":"IF(入力シート!F333=\"\",\"\",入力シート!F333)","v":""},{"$f":"IF(入力シート!G333=\"\",\"\",入力シート!G333)","v":""},{"$f":"IF(入力シート!H333=\"\",\"\",入力シート!H333)","v":""},{"$f":"IF(入力シート!I333=\"\",\"\",入力シート!I333)","v":""},{"$f":"IF(入力シート!J333=\"\",\"\",入力シート!J333)","v":""},{"$f":"IF(入力シート!K333=\"\",\"\",入力シート!K333)","v":""},{"$f":"IF(入力シート!L333=\"\",\"\",入力シート!L333)","v":""},{"$f":"IF(入力シート!M333=\"\",\"\",入力シート!M333)","v":""},{"$f":"IF(入力シート!N333=\"\",\"\",入力シート!P333)","v":""}]
[{"$f":"IF(入力シート!A334=\"\",\"\",入力シート!A334)","v":""},{"$f":"IF(入力シート!B334=\"\",\"\",入力シート!B334)","v":""},{"$f":"IF(入力シート!C334=\"\",\"\",TEXT(入力シート!C334,\"yyyy-mm-dd\"))","v":""},{"$f":"IF(入力シート!O334=\"\",\"\",TEXT(入力シート!O334,\"000-0000\"))","v":""},{"$f":"IF(入力シート!F334=\"\",\"\",入力シート!F334)","v":""},{"$f":"IF(入力シート!G334=\"\",\"\",入力シート!G334)","v":""},{"$f":"IF(入力シート!H334=\"\",\"\",入力シート!H334)","v":""},{"$f":"IF(入力シート!I334=\"\",\"\",入力シート!I334)","v":""},{"$f":"IF(入力シート!J334=\"\",\"\",入力シート!J334)","v":""},{"$f":"IF(入力シート!K334=\"\",\"\",入力シート!K334)","v":""},{"$f":"IF(入力シート!L334=\"\",\"\",入力シート!L334)","v":""},{"$f":"IF(入力シート!M334=\"\",\"\",入力シート!M334)","v":""},{"$f":"IF(入力シート!N334=\"\",\"\",入力シート!P334)","v":""}]
[{"$f":"IF(入力シート!A335=\"\",\"\",入力シート!A335)","v":""},{"$f":"IF(入力シート!B335=\"\",\"\",入力シート!B335)","v":""},{"$f":"IF(入力シート!C335=\"\",\"\",TEXT(入力シート!C335,\"yyyy-mm-dd\"))","v":""},{"$f":"IF(入力シート!O335=\"\",\"\",TEXT(入力シート!O335,\"000-0000\"))","v":""},{"$f":"IF(入力シート!F335=\"\",\"\",入力シート!F335)","v":""},{"$f":"IF(入力シート!G335=\"\",\"\",入力シート!G335)","v":""},{"$f":"IF(入力シート!H335=\"\",\"\",入力シート!H335)","v":""},{"$f":"IF(入力シート!I335=\"\",\"\",入力シート!I335)","v":""},{"$f":"IF(入力シート!J335=\"\",\"\",入力シート!J335)","v":""},{"$f":"IF(入力シート!K335=\"\",\"\",入力シート!K335)","v":""},{"$f":"IF(入力シート!L335=\"\",\"\",入力シート!L335)","v":""},{"$f":"IF(入力シート!M335=\"\",\"\",入力シート!M335)","v":""},{"$f":"IF(入力シート!N335=\"\",\"\",入力シート!P335)","v":""}]
[{"$f":"IF(入力シート!A336=\"\",\"\",入力シート!A336)","v":""},{"$f":"IF(入力シート!B336=\"\",\"\",入力シート!B336)","v":""},{"$f":"IF(入力シート!C336=\"\",\"\",TEXT(入力シート!C336,\"yyyy-mm-dd\"))","v":""},{"$f":"IF(入力シート!O336=\"\",\"\",TEXT(入力シート!O336,\"000-0000\"))","v":""},{"$f":"IF(入力シート!F336=\"\",\"\",入力シート!F336)","v":""},{"$f":"IF(入力シート!G336=\"\",\"\",入力シート!G336)","v":""},{"$f":"IF(入力シート!H336=\"\",\"\",入力シート!H336)","v":""},{"$f":"IF(入力シート!I336=\"\",\"\",入力シート!I336)","v":""},{"$f":"IF(入力シート!J336=\"\",\"\",入力シート!J336)","v":""},{"$f":"IF(入力シート!K336=\"\",\"\",入力シート!K336)","v":""},{"$f":"IF(入力シート!L336=\"\",\"\",入力シート!L336)","v":""},{"$f":"IF(入力シート!M336=\"\",\"\",入力シート!M336)","v":""},{"$f":"IF(入力シート!N336=\"\",\"\",入力シート!P336)","v":""}]
[{"$f":"IF(入力シート!A337=\"\",\"\",入力シート!A337)","v":""},{"$f":"IF(入力シート!B337=\"\",\"\",入力シート!B337)","v":""},{"$f":"IF(入力シート!C337=\"\",\"\",TEXT(入力シート!C337,\"yyyy-mm-dd\"))","v":""},{"$f":"IF(入力シート!O337=\"\",\"\",TEXT(入力シート!O337,\"000-0000\"))","v":""},{"$f":"IF(入力シート!F337=\"\",\"\",入力シート!F337)","v":""},{"$f":"IF(入力シート!G337=\"\",\"\",入力シート!G337)","v":""},{"$f":"IF(入力シート!H337=\"\",\"\",入力シート!H337)","v":""},{"$f":"IF(入力シート!I337=\"\",\"\",入力シート!I337)","v":""},{"$f":"IF(入力シート!J337=\"\",\"\",入力シート!J337)","v":""},{"$f":"IF(入力シート!K337=\"\",\"\",入力シート!K337)","v":""},{"$f":"IF(入力シート!L337=\"\",\"\",入力シート!L337)","v":""},{"$f":"IF(入力シート!M337=\"\",\"\",入力シート!M337)","v":""},{"$f":"IF(入力シート!N337=\"\",\"\",入力シート!P337)","v":""}]
[{"$f":"IF(入力シート!A338=\"\",\"\",入力シート!A338)","v":""},{"$f":"IF(入力シート!B338=\"\",\"\",入力シート!B338)","v":""},{"$f":"IF(入力シート!C338=\"\",\"\",TEXT(入力シート!C338,\"yyyy-mm-dd\"))","v":""},{"$f":"IF(入力シート!O338=\"\",\"\",TEXT(入力シート!O338,\"000-0000\"))","v":""},{"$f":"IF(入力シート!F338=\"\",\"\",入力シート!F338)","v":""},{"$f":"IF(入力シート!G338=\"\",\"\",入力シート!G338)","v":""},{"$f":"IF(入力シート!H338=\"\",\"\",入力シート!H338)","v":""},{"$f":"IF(入力シート!I338=\"\",\"\",入力シート!I338)","v":""},{"$f":"IF(入力シート!J338=\"\",\"\",入力シート!J338)","v":""},{"$f":"IF(入力シート!K338=\"\",\"\",入力シート!K338)","v":""},{"$f":"IF(入力シート!L338=\"\",\"\",入力シート!L338)","v":""},{"$f":"IF(入力シート!M338=\"\",\"\",入力シート!M338)","v":""},{"$f":"IF(入力シート!N338=\"\",\"\",入力シート!P338)","v":""}]
[{"$f":"IF(入力シート!A339=\"\",\"\",入力シート!A339)","v":""},{"$f":"IF(入力シート!B339=\"\",\"\",入力シート!B339)","v":""},{"$f":"IF(入力シート!C339=\"\",\"\",TEXT(入力シート!C339,\"yyyy-mm-dd\"))","v":""},{"$f":"IF(入力シート!O339=\"\",\"\",TEXT(入力シート!O339,\"000-0000\"))","v":""},{"$f":"IF(入力シート!F339=\"\",\"\",入力シート!F339)","v":""},{"$f":"IF(入力シート!G339=\"\",\"\",入力シート!G339)","v":""},{"$f":"IF(入力シート!H339=\"\",\"\",入力シート!H339)","v":""},{"$f":"IF(入力シート!I339=\"\",\"\",入力シート!I339)","v":""},{"$f":"IF(入力シート!J339=\"\",\"\",入力シート!J339)","v":""},{"$f":"IF(入力シート!K339=\"\",\"\",入力シート!K339)","v":""},{"$f":"IF(入力シート!L339=\"\",\"\",入力シート!L339)","v":""},{"$f":"IF(入力シート!M339=\"\",\"\",入力シート!M339)","v":""},{"$f":"IF(入力シート!N339=\"\",\"\",入力シート!P339)","v":""}]
[{"$f":"IF(入力シート!A340=\"\",\"\",入力シート!A340)","v":""},{"$f":"IF(入力シート!B340=\"\",\"\",入力シート!B340)","v":""},{"$f":"IF(入力シート!C340=\"\",\"\",TEXT(入力シート!C340,\"yyyy-mm-dd\"))","v":""},{"$f":"IF(入力シート!O340=\"\",\"\",TEXT(入力シート!O340,\"000-0000\"))","v":""},{"$f":"IF(入力シート!F340=\"\",\"\",入力シート!F340)","v":""},{"$f":"IF(入力シート!G340=\"\",\"\",入力シート!G340)","v":""},{"$f":"IF(入力シート!H340=\"\",\"\",入力シート!H340)","v":""},{"$f":"IF(入力シート!I340=\"\",\"\",入力シート!I340)","v":""},{"$f":"IF(入力シート!J340=\"\",\"\",入力シート!J340)","v":""},{"$f":"IF(入力シート!K340=\"\",\"\",入力シート!K340)","v":""},{"$f":"IF(入力シート!L340=\"\",\"\",入力シート!L340)","v":""},{"$f":"IF(入力シート!M340=\"\",\"\",入力シート!M340)","v":""},{"$f":"IF(入力シート!N340=\"\",\"\",入力シート!P340)","v":""}]
[{"$f":"IF(入力シート!A341=\"\",\"\",入力シート!A341)","v":""},{"$f":"IF(入力シート!B341=\"\",\"\",入力シート!B341)","v":""},{"$f":"IF(入力シート!C341=\"\",\"\",TEXT(入力シート!C341,\"yyyy-mm-dd\"))","v":""},{"$f":"IF(入力シート!O341=\"\",\"\",TEXT(入力シート!O341,\"000-0000\"))","v":""},{"$f":"IF(入力シート!F341=\"\",\"\",入力シート!F341)","v":""},{"$f":"IF(入力シート!G341=\"\",\"\",入力シート!G341)","v":""},{"$f":"IF(入力シート!H341=\"\",\"\",入力シート!H341)","v":""},{"$f":"IF(入力シート!I341=\"\",\"\",入力シート!I341)","v":""},{"$f":"IF(入力シート!J341=\"\",\"\",入力シート!J341)","v":""},{"$f":"IF(入力シート!K341=\"\",\"\",入力シート!K341)","v":""},{"$f":"IF(入力シート!L341=\"\",\"\",入力シート!L341)","v":""},{"$f":"IF(入力シート!M341=\"\",\"\",入力シート!M341)","v":""},{"$f":"IF(入力シート!N341=\"\",\"\",入力シート!P341)","v":""}]
[{"$f":"IF(入力シート!A342=\"\",\"\",入力シート!A342)","v":""},{"$f":"IF(入力シート!B342=\"\",\"\",入力シート!B342)","v":""},{"$f":"IF(入力シート!C342=\"\",\"\",TEXT(入力シート!C342,\"yyyy-mm-dd\"))","v":""},{"$f":"IF(入力シート!O342=\"\",\"\",TEXT(入力シート!O342,\"000-0000\"))","v":""},{"$f":"IF(入力シート!F342=\"\",\"\",入力シート!F342)","v":""},{"$f":"IF(入力シート!G342=\"\",\"\",入力シート!G342)","v":""},{"$f":"IF(入力シート!H342=\"\",\"\",入力シート!H342)","v":""},{"$f":"IF(入力シート!I342=\"\",\"\",入力シート!I342)","v":""},{"$f":"IF(入力シート!J342=\"\",\"\",入力シート!J342)","v":""},{"$f":"IF(入力シート!K342=\"\",\"\",入力シート!K342)","v":""},{"$f":"IF(入力シート!L342=\"\",\"\",入力シート!L342)","v":""},{"$f":"IF(入力シート!M342=\"\",\"\",入力シート!M342)","v":""},{"$f":"IF(入力シート!N342=\"\",\"\",入力シート!P342)","v":""}]
[{"$f":"IF(入力シート!A343=\"\",\"\",入力シート!A343)","v":""},{"$f":"IF(入力シート!B343=\"\",\"\",入力シート!B343)","v":""},{"$f":"IF(入力シート!C343=\"\",\"\",TEXT(入力シート!C343,\"yyyy-mm-dd\"))","v":""},{"$f":"IF(入力シート!O343=\"\",\"\",TEXT(入力シート!O343,\"000-0000\"))","v":""},{"$f":"IF(入力シート!F343=\"\",\"\",入力シート!F343)","v":""},{"$f":"IF(入力シート!G343=\"\",\"\",入力シート!G343)","v":""},{"$f":"IF(入力シート!H343=\"\",\"\",入力シート!H343)","v":""},{"$f":"IF(入力シート!I343=\"\",\"\",入力シート!I343)","v":""},{"$f":"IF(入力シート!J343=\"\",\"\",入力シート!J343)","v":""},{"$f":"IF(入力シート!K343=\"\",\"\",入力シート!K343)","v":""},{"$f":"IF(入力シート!L343=\"\",\"\",入力シート!L343)","v":""},{"$f":"IF(入力シート!M343=\"\",\"\",入力シート!M343)","v":""},{"$f":"IF(入力シート!N343=\"\",\"\",入力シート!P343)","v":""}]
[{"$f":"IF(入力シート!A344=\"\",\"\",入力シート!A344)","v":""},{"$f":"IF(入力シート!B344=\"\",\"\",入力シート!B344)","v":""},{"$f":"IF(入力シート!C344=\"\",\"\",TEXT(入力シート!C344,\"yyyy-mm-dd\"))","v":""},{"$f":"IF(入力シート!O344=\"\",\"\",TEXT(入力シート!O344,\"000-0000\"))","v":""},{"$f":"IF(入力シート!F344=\"\",\"\",入力シート!F344)","v":""},{"$f":"IF(入力シート!G344=\"\",\"\",入力シート!G344)","v":""},{"$f":"IF(入力シート!H344=\"\",\"\",入力シート!H344)","v":""},{"$f":"IF(入力シート!I344=\"\",\"\",入力シート!I344)","v":""},{"$f":"IF(入力シート!J344=\"\",\"\",入力シート!J344)","v":""},{"$f":"IF(入力シート!K344=\"\",\"\",入力シート!K344)","v":""},{"$f":"IF(入力シート!L344=\"\",\"\",入力シート!L344)","v":""},{"$f":"IF(入力シート!M344=\"\",\"\",入力シート!M344)","v":""},{"$f":"IF(入力シート!N344=\"\",\"\",入力シート!P344)","v":""}]
[{"$f":"IF(入力シート!A345=\"\",\"\",入力シート!A345)","v":""},{"$f":"IF(入力シート!B345=\"\",\"\",入力シート!B345)","v":""},{"$f":"IF(入力シート!C345=\"\",\"\",TEXT(入力シート!C345,\"yyyy-mm-dd\"))","v":""},{"$f":"IF(入力シート!O345=\"\",\"\",TEXT(入力シート!O345,\"000-0000\"))","v":""},{"$f":"IF(入力シート!F345=\"\",\"\",入力シート!F345)","v":""},{"$f":"IF(入力シート!G345=\"\",\"\",入力シート!G345)","v":""},{"$f":"IF(入力シート!H345=\"\",\"\",入力シート!H345)","v":""},{"$f":"IF(入力シート!I345=\"\",\"\",入力シート!I345)","v":""},{"$f":"IF(入力シート!J345=\"\",\"\",入力シート!J345)","v":""},{"$f":"IF(入力シート!K345=\"\",\"\",入力シート!K345)","v":""},{"$f":"IF(入力シート!L345=\"\",\"\",入力シート!L345)","v":""},{"$f":"IF(入力シート!M345=\"\",\"\",入力シート!M345)","v":""},{"$f":"IF(入力シート!N345=\"\",\"\",入力シート!P345)","v":""}]
[{"$f":"IF(入力シート!A346=\"\",\"\",入力シート!A346)","v":""},{"$f":"IF(入力シート!B346=\"\",\"\",入力シート!B346)","v":""},{"$f":"IF(入力シート!C346=\"\",\"\",TEXT(入力シート!C346,\"yyyy-mm-dd\"))","v":""},{"$f":"IF(入力シート!O346=\"\",\"\",TEXT(入力シート!O346,\"000-0000\"))","v":""},{"$f":"IF(入力シート!F346=\"\",\"\",入力シート!F346)","v":""},{"$f":"IF(入力シート!G346=\"\",\"\",入力シート!G346)","v":""},{"$f":"IF(入力シート!H346=\"\",\"\",入力シート!H346)","v":""},{"$f":"IF(入力シート!I346=\"\",\"\",入力シート!I346)","v":""},{"$f":"IF(入力シート!J346=\"\",\"\",入力シート!J346)","v":""},{"$f":"IF(入力シート!K346=\"\",\"\",入力シート!K346)","v":""},{"$f":"IF(入力シート!L346=\"\",\"\",入力シート!L346)","v":""},{"$f":"IF(入力シート!M346=\"\",\"\",入力シート!M346)","v":""},{"$f":"IF(入力シート!N346=\"\",\"\",入力シート!P346)","v":""}]
[{"$f":"IF(入力シート!A347=\"\",\"\",入力シート!A347)","v":""},{"$f":"IF(入力シート!B347=\"\",\"\",入力シート!B347)","v":""},{"$f":"IF(入力シート!C347=\"\",\"\",TEXT(入力シート!C347,\"yyyy-mm-dd\"))","v":""},{"$f":"IF(入力シート!O347=\"\",\"\",TEXT(入力シート!O347,\"000-0000\"))","v":""},{"$f":"IF(入力シート!F347=\"\",\"\",入力シート!F347)","v":""},{"$f":"IF(入力シート!G347=\"\",\"\",入力シート!G347)","v":""},{"$f":"IF(入力シート!H347=\"\",\"\",入力シート!H347)","v":""},{"$f":"IF(入力シート!I347=\"\",\"\",入力シート!I347)","v":""},{"$f":"IF(入力シート!J347=\"\",\"\",入力シート!J347)","v":""},{"$f":"IF(入力シート!K347=\"\",\"\",入力シート!K347)","v":""},{"$f":"IF(入力シート!L347=\"\",\"\",入力シート!L347)","v":""},{"$f":"IF(入力シート!M347=\"\",\"\",入力シート!M347)","v":""},{"$f":"IF(入力シート!N347=\"\",\"\",入力シート!P347)","v":""}]
[{"$f":"IF(入力シート!A348=\"\",\"\",入力シート!A348)","v":""},{"$f":"IF(入力シート!B348=\"\",\"\",入力シート!B348)","v":""},{"$f":"IF(入力シート!C348=\"\",\"\",TEXT(入力シート!C348,\"yyyy-mm-dd\"))","v":""},{"$f":"IF(入力シート!O348=\"\",\"\",TEXT(入力シート!O348,\"000-0000\"))","v":""},{"$f":"IF(入力シート!F348=\"\",\"\",入力シート!F348)","v":""},{"$f":"IF(入力シート!G348=\"\",\"\",入力シート!G348)","v":""},{"$f":"IF(入力シート!H348=\"\",\"\",入力シート!H348)","v":""},{"$f":"IF(入力シート!I348=\"\",\"\",入力シート!I348)","v":""},{"$f":"IF(入力シート!J348=\"\",\"\",入力シート!J348)","v":""},{"$f":"IF(入力シート!K348=\"\",\"\",入力シート!K348)","v":""},{"$f":"IF(入力シート!L348=\"\",\"\",入力シート!L348)","v":""},{"$f":"IF(入力シート!M348=\"\",\"\",入力シート!M348)","v":""},{"$f":"IF(入力シート!N348=\"\",\"\",入力シート!P348)","v":""}]
[{"$f":"IF(入力シート!A349=\"\",\"\",入力シート!A349)","v":""},{"$f":"IF(入力シート!B349=\"\",\"\",入力シート!B349)","v":""},{"$f":"IF(入力シート!C349=\"\",\"\",TEXT(入力シート!C349,\"yyyy-mm-dd\"))","v":""},{"$f":"IF(入力シート!O349=\"\",\"\",TEXT(入力シート!O349,\"000-0000\"))","v":""},{"$f":"IF(入力シート!F349=\"\",\"\",入力シート!F349)","v":""},{"$f":"IF(入力シート!G349=\"\",\"\",入力シート!G349)","v":""},{"$f":"IF(入力シート!H349=\"\",\"\",入力シート!H349)","v":""},{"$f":"IF(入力シート!I349=\"\",\"\",入力シート!I349)","v":""},{"$f":"IF(入力シート!J349=\"\",\"\",入力シート!J349)","v":""},{"$f":"IF(入力シート!K349=\"\",\"\",入力シート!K349)","v":""},{"$f":"IF(入力シート!L349=\"\",\"\",入力シート!L349)","v":""},{"$f":"IF(入力シート!M349=\"\",\"\",入力シート!M349)","v":""},{"$f":"IF(入力シート!N349=\"\",\"\",入力シート!P349)","v":""}]
[{"$f":"IF(入力シート!A350=\"\",\"\",入力シート!A350)","v":""},{"$f":"IF(入力シート!B350=\"\",\"\",入力シート!B350)","v":""},{"$f":"IF(入力シート!C350=\"\",\"\",TEXT(入力シート!C350,\"yyyy-mm-dd\"))","v":""},{"$f":"IF(入力シート!O350=\"\",\"\",TEXT(入力シート!O350,\"000-0000\"))","v":""},{"$f":"IF(入力シート!F350=\"\",\"\",入力シート!F350)","v":""},{"$f":"IF(入力シート!G350=\"\",\"\",入力シート!G350)","v":""},{"$f":"IF(入力シート!H350=\"\",\"\",入力シート!H350)","v":""},{"$f":"IF(入力シート!I350=\"\",\"\",入力シート!I350)","v":""},{"$f":"IF(入力シート!J350=\"\",\"\",入力シート!J350)","v":""},{"$f":"IF(入力シート!K350=\"\",\"\",入力シート!K350)","v":""},{"$f":"IF(入力シート!L350=\"\",\"\",入力シート!L350)","v":""},{"$f":"IF(入力シート!M350=\"\",\"\",入力シート!M350)","v":""},{"$f":"IF(入力シート!N350=\"\",\"\",入力シート!P350)","v":""}]
[{"$f":"IF(入力シート!A351=\"\",\"\",入力シート!A351)","v":""},{"$f":"IF(入力シート!B351=\"\",\"\",入力シート!B351)","v":""},{"$f":"IF(入力シート!C351=\"\",\"\",TEXT(入力シート!C351,\"yyyy-mm-dd\"))","v":""},{"$f":"IF(入力シート!O351=\"\",\"\",TEXT(入力シート!O351,\"000-0000\"))","v":""},{"$f":"IF(入力シート!F351=\"\",\"\",入力シート!F351)","v":""},{"$f":"IF(入力シート!G351=\"\",\"\",入力シート!G351)","v":""},{"$f":"IF(入力シート!H351=\"\",\"\",入力シート!H351)","v":""},{"$f":"IF(入力シート!I351=\"\",\"\",入力シート!I351)","v":""},{"$f":"IF(入力シート!J351=\"\",\"\",入力シート!J351)","v":""},{"$f":"IF(入力シート!K351=\"\",\"\",入力シート!K351)","v":""},{"$f":"IF(入力シート!L351=\"\",\"\",入力シート!L351)","v":""},{"$f":"IF(入力シート!M351=\"\",\"\",入力シート!M351)","v":""},{"$f":"IF(入力シート!N351=\"\",\"\",入力シート!P351)","v":""}]
[{"$f":"IF(入力シート!A352=\"\",\"\",入力シート!A352)","v":""},{"$f":"IF(入力シート!B352=\"\",\"\",入力シート!B352)","v":""},{"$f":"IF(入力シート!C352=\"\",\"\",TEXT(入力シート!C352,\"yyyy-mm-dd\"))","v":""},{"$f":"IF(入力シート!O352=\"\",\"\",TEXT(入力シート!O352,\"000-0000\"))","v":""},{"$f":"IF(入力シート!F352=\"\",\"\",入力シート!F352)","v":""},{"$f":"IF(入力シート!G352=\"\",\"\",入力シート!G352)","v":""},{"$f":"IF(入力シート!H352=\"\",\"\",入力シート!H352)","v":""},{"$f":"IF(入力シート!I352=\"\",\"\",入力シート!I352)","v":""},{"$f":"IF(入力シート!J352=\"\",\"\",入力シート!J352)","v":""},{"$f":"IF(入力シート!K352=\"\",\"\",入力シート!K352)","v":""},{"$f":"IF(入力シート!L352=\"\",\"\",入力シート!L352)","v":""},{"$f":"IF(入力シート!M352=\"\",\"\",入力シート!M352)","v":""},{"$f":"IF(入力シート!N352=\"\",\"\",入力シート!P352)","v":""}]
[{"$f":"IF(入力シート!A353=\"\",\"\",入力シート!A353)","v":""},{"$f":"IF(入力シート!B353=\"\",\"\",入力シート!B353)","v":""},{"$f":"IF(入力シート!C353=\"\",\"\",TEXT(入力シート!C353,\"yyyy-mm-dd\"))","v":""},{"$f":"IF(入力シート!O353=\"\",\"\",TEXT(入力シート!O353,\"000-0000\"))","v":""},{"$f":"IF(入力シート!F353=\"\",\"\",入力シート!F353)","v":""},{"$f":"IF(入力シート!G353=\"\",\"\",入力シート!G353)","v":""},{"$f":"IF(入力シート!H353=\"\",\"\",入力シート!H353)","v":""},{"$f":"IF(入力シート!I353=\"\",\"\",入力シート!I353)","v":""},{"$f":"IF(入力シート!J353=\"\",\"\",入力シート!J353)","v":""},{"$f":"IF(入力シート!K353=\"\",\"\",入力シート!K353)","v":""},{"$f":"IF(入力シート!L353=\"\",\"\",入力シート!L353)","v":""},{"$f":"IF(入力シート!M353=\"\",\"\",入力シート!M353)","v":""},{"$f":"IF(入力シート!N353=\"\",\"\",入力シート!P353)","v":""}]
[{"$f":"IF(入力シート!A354=\"\",\"\",入力シート!A354)","v":""},{"$f":"IF(入力シート!B354=\"\",\"\",入力シート!B354)","v":""},{"$f":"IF(入力シート!C354=\"\",\"\",TEXT(入力シート!C354,\"yyyy-mm-dd\"))","v":""},{"$f":"IF(入力シート!O354=\"\",\"\",TEXT(入力シート!O354,\"000-0000\"))","v":""},{"$f":"IF(入力シート!F354=\"\",\"\",入力シート!F354)","v":""},{"$f":"IF(入力シート!G354=\"\",\"\",入力シート!G354)","v":""},{"$f":"IF(入力シート!H354=\"\",\"\",入力シート!H354)","v":""},{"$f":"IF(入力シート!I354=\"\",\"\",入力シート!I354)","v":""},{"$f":"IF(入力シート!J354=\"\",\"\",入力シート!J354)","v":""},{"$f":"IF(入力シート!K354=\"\",\"\",入力シート!K354)","v":""},{"$f":"IF(入力シート!L354=\"\",\"\",入力シート!L354)","v":""},{"$f":"IF(入力シート!M354=\"\",\"\",入力シート!M354)","v":""},{"$f":"IF(入力シート!N354=\"\",\"\",入力シート!P354)","v":""}]
[{"$f":"IF(入力シート!A355=\"\",\"\",入力シート!A355)","v":""},{"$f":"IF(入力シート!B355=\"\",\"\",入力シート!B355)","v":""},{"$f":"IF(入力シート!C355=\"\",\"\",TEXT(入力シート!C355,\"yyyy-mm-dd\"))","v":""},{"$f":"IF(入力シート!O355=\"\",\"\",TEXT(入力シート!O355,\"000-0000\"))","v":""},{"$f":"IF(入力シート!F355=\"\",\"\",入力シート!F355)","v":""},{"$f":"IF(入力シート!G355=\"\",\"\",入力シート!G355)","v":""},{"$f":"IF(入力シート!H355=\"\",\"\",入力シート!H355)","v":""},{"$f":"IF(入力シート!I355=\"\",\"\",入力シート!I355)","v":""},{"$f":"IF(入力シート!J355=\"\",\"\",入力シート!J355)","v":""},{"$f":"IF(入力シート!K355=\"\",\"\",入力シート!K355)","v":""},{"$f":"IF(入力シート!L355=\"\",\"\",入力シート!L355)","v":""},{"$f":"IF(入力シート!M355=\"\",\"\",入力シート!M355)","v":""},{"$f":"IF(入力シート!N355=\"\",\"\",入力シート!P355)","v":""}]
[{"$f":"IF(入力シート!A356=\"\",\"\",入力シート!A356)","v":""},{"$f":"IF(入力シート!B356=\"\",\"\",入力シート!B356)","v":""},{"$f":"IF(入力シート!C356=\"\",\"\",TEXT(入力シート!C356,\"yyyy-mm-dd\"))","v":""},{"$f":"IF(入力シート!O356=\"\",\"\",TEXT(入力シート!O356,\"000-0000\"))","v":""},{"$f":"IF(入力シート!F356=\"\",\"\",入力シート!F356)","v":""},{"$f":"IF(入力シート!G356=\"\",\"\",入力シート!G356)","v":""},{"$f":"IF(入力シート!H356=\"\",\"\",入力シート!H356)","v":""},{"$f":"IF(入力シート!I356=\"\",\"\",入力シート!I356)","v":""},{"$f":"IF(入力シート!J356=\"\",\"\",入力シート!J356)","v":""},{"$f":"IF(入力シート!K356=\"\",\"\",入力シート!K356)","v":""},{"$f":"IF(入力シート!L356=\"\",\"\",入力シート!L356)","v":""},{"$f":"IF(入力シート!M356=\"\",\"\",入力シート!M356)","v":""},{"$f":"IF(入力シート!N356=\"\",\"\",入力シート!P356)","v":""}]
[{"$f":"IF(入力シート!A357=\"\",\"\",入力シート!A357)","v":""},{"$f":"IF(入力シート!B357=\"\",\"\",入力シート!B357)","v":""},{"$f":"IF(入力シート!C357=\"\",\"\",TEXT(入力シート!C357,\"yyyy-mm-dd\"))","v":""},{"$f":"IF(入力シート!O357=\"\",\"\",TEXT(入力シート!O357,\"000-0000\"))","v":""},{"$f":"IF(入力シート!F357=\"\",\"\",入力シート!F357)","v":""},{"$f":"IF(入力シート!G357=\"\",\"\",入力シート!G357)","v":""},{"$f":"IF(入力シート!H357=\"\",\"\",入力シート!H357)","v":""},{"$f":"IF(入力シート!I357=\"\",\"\",入力シート!I357)","v":""},{"$f":"IF(入力シート!J357=\"\",\"\",入力シート!J357)","v":""},{"$f":"IF(入力シート!K357=\"\",\"\",入力シート!K357)","v":""},{"$f":"IF(入力シート!L357=\"\",\"\",入力シート!L357)","v":""},{"$f":"IF(入力シート!M357=\"\",\"\",入力シート!M357)","v":""},{"$f":"IF(入力シート!N357=\"\",\"\",入力シート!P357)","v":""}]
[{"$f":"IF(入力シート!A358=\"\",\"\",入力シート!A358)","v":""},{"$f":"IF(入力シート!B358=\"\",\"\",入力シート!B358)","v":""},{"$f":"IF(入力シート!C358=\"\",\"\",TEXT(入力シート!C358,\"yyyy-mm-dd\"))","v":""},{"$f":"IF(入力シート!O358=\"\",\"\",TEXT(入力シート!O358,\"000-0000\"))","v":""},{"$f":"IF(入力シート!F358=\"\",\"\",入力シート!F358)","v":""},{"$f":"IF(入力シート!G358=\"\",\"\",入力シート!G358)","v":""},{"$f":"IF(入力シート!H358=\"\",\"\",入力シート!H358)","v":""},{"$f":"IF(入力シート!I358=\"\",\"\",入力シート!I358)","v":""},{"$f":"IF(入力シート!J358=\"\",\"\",入力シート!J358)","v":""},{"$f":"IF(入力シート!K358=\"\",\"\",入力シート!K358)","v":""},{"$f":"IF(入力シート!L358=\"\",\"\",入力シート!L358)","v":""},{"$f":"IF(入力シート!M358=\"\",\"\",入力シート!M358)","v":""},{"$f":"IF(入力シート!N358=\"\",\"\",入力シート!P358)","v":""}]
[{"$f":"IF(入力シート!A359=\"\",\"\",入力シート!A359)","v":""},{"$f":"IF(入力シート!B359=\"\",\"\",入力シート!B359)","v":""},{"$f":"IF(入力シート!C359=\"\",\"\",TEXT(入力シート!C359,\"yyyy-mm-dd\"))","v":""},{"$f":"IF(入力シート!O359=\"\",\"\",TEXT(入力シート!O359,\"000-0000\"))","v":""},{"$f":"IF(入力シート!F359=\"\",\"\",入力シート!F359)","v":""},{"$f":"IF(入力シート!G359=\"\",\"\",入力シート!G359)","v":""},{"$f":"IF(入力シート!H359=\"\",\"\",入力シート!H359)","v":""},{"$f":"IF(入力シート!I359=\"\",\"\",入力シート!I359)","v":""},{"$f":"IF(入力シート!J359=\"\",\"\",入力シート!J359)","v":""},{"$f":"IF(入力シート!K359=\"\",\"\",入力シート!K359)","v":""},{"$f":"IF(入力シート!L359=\"\",\"\",入力シート!L359)","v":""},{"$f":"IF(入力シート!M359=\"\",\"\",入力シート!M359)","v":""},{"$f":"IF(入力シート!N359=\"\",\"\",入力シート!P359)","v":""}]
[{"$f":"IF(入力シート!A360=\"\",\"\",入力シート!A360)","v":""},{"$f":"IF(入力シート!B360=\"\",\"\",入力シート!B360)","v":""},{"$f":"IF(入力シート!C360=\"\",\"\",TEXT(入力シート!C360,\"yyyy-mm-dd\"))","v":""},{"$f":"IF(入力シート!O360=\"\",\"\",TEXT(入力シート!O360,\"000-0000\"))","v":""},{"$f":"IF(入力シート!F360=\"\",\"\",入力シート!F360)","v":""},{"$f":"IF(入力シート!G360=\"\",\"\",入力シート!G360)","v":""},{"$f":"IF(入力シート!H360=\"\",\"\",入力シート!H360)","v":""},{"$f":"IF(入力シート!I360=\"\",\"\",入力シート!I360)","v":""},{"$f":"IF(入力シート!J360=\"\",\"\",入力シート!J360)","v":""},{"$f":"IF(入力シート!K360=\"\",\"\",入力シート!K360)","v":""},{"$f":"IF(入力シート!L360=\"\",\"\",入力シート!L360)","v":""},{"$f":"IF(入力シート!M360=\"\",\"\",入力シート!M360)","v":""},{"$f":"IF(入力シート!N360=\"\",\"\",入力シート!P360)","v":""}]
[{"$f":"IF(入力シート!A361=\"\",\"\",入力シート!A361)","v":""},{"$f":"IF(入力シート!B361=\"\",\"\",入力シート!B361)","v":""},{"$f":"IF(入力シート!C361=\"\",\"\",TEXT(入力シート!C361,\"yyyy-mm-dd\"))","v":""},{"$f":"IF(入力シート!O361=\"\",\"\",TEXT(入力シート!O361,\"000-0000\"))","v":""},{"$f":"IF(入力シート!F361=\"\",\"\",入力シート!F361)","v":""},{"$f":"IF(入力シート!G361=\"\",\"\",入力シート!G361)","v":""},{"$f":"IF(入力シート!H361=\"\",\"\",入力シート!H361)","v":""},{"$f":"IF(入力シート!I361=\"\",\"\",入力シート!I361)","v":""},{"$f":"IF(入力シート!J361=\"\",\"\",入力シート!J361)","v":""},{"$f":"IF(入力シート!K361=\"\",\"\",入力シート!K361)","v":""},{"$f":"IF(入力シート!L361=\"\",\"\",入力シート!L361)","v":""},{"$f":"IF(入力シート!M361=\"\",\"\",入力シート!M361)","v":""},{"$f":"IF(入力シート!N361=\"\",\"\",入力シート!P361)","v":""}]
[{"$f":"IF(入力シート!A362=\"\",\"\",入力シート!A362)","v":""},{"$f":"IF(入力シート!B362=\"\",\"\",入力シート!B362)","v":""},{"$f":"IF(入力シート!C362=\"\",\"\",TEXT(入力シート!C362,\"yyyy-mm-dd\"))","v":""},{"$f":"IF(入力シート!O362=\"\",\"\",TEXT(入力シート!O362,\"000-0000\"))","v":""},{"$f":"IF(入力シート!F362=\"\",\"\",入力シート!F362)","v":""},{"$f":"IF(入力シート!G362=\"\",\"\",入力シート!G362)","v":""},{"$f":"IF(入力シート!H362=\"\",\"\",入力シート!H362)","v":""},{"$f":"IF(入力シート!I362=\"\",\"\",入力シート!I362)","v":""},{"$f":"IF(入力シート!J362=\"\",\"\",入力シート!J362)","v":""},{"$f":"IF(入力シート!K362=\"\",\"\",入力シート!K362)","v":""},{"$f":"IF(入力シート!L362=\"\",\"\",入力シート!L362)","v":""},{"$f":"IF(入力シート!M362=\"\",\"\",入力シート!M362)","v":""},{"$f":"IF(入力シート!N362=\"\",\"\",入力シート!P362)","v":""}]
[{"$f":"IF(入力シート!A363=\"\",\"\",入力シート!A363)","v":""},{"$f":"IF(入力シート!B363=\"\",\"\",入力シート!B363)","v":""},{"$f":"IF(入力シート!C363=\"\",\"\",TEXT(入力シート!C363,\"yyyy-mm-dd\"))","v":""},{"$f":"IF(入力シート!O363=\"\",\"\",TEXT(入力シート!O363,\"000-0000\"))","v":""},{"$f":"IF(入力シート!F363=\"\",\"\",入力シート!F363)","v":""},{"$f":"IF(入力シート!G363=\"\",\"\",入力シート!G363)","v":""},{"$f":"IF(入力シート!H363=\"\",\"\",入力シート!H363)","v":""},{"$f":"IF(入力シート!I363=\"\",\"\",入力シート!I363)","v":""},{"$f":"IF(入力シート!J363=\"\",\"\",入力シート!J363)","v":""},{"$f":"IF(入力シート!K363=\"\",\"\",入力シート!K363)","v":""},{"$f":"IF(入力シート!L363=\"\",\"\",入力シート!L363)","v":""},{"$f":"IF(入力シート!M363=\"\",\"\",入力シート!M363)","v":""},{"$f":"IF(入力シート!N363=\"\",\"\",入力シート!P363)","v":""}]
[{"$f":"IF(入力シート!A364=\"\",\"\",入力シート!A364)","v":""},{"$f":"IF(入力シート!B364=\"\",\"\",入力シート!B364)","v":""},{"$f":"IF(入力シート!C364=\"\",\"\",TEXT(入力シート!C364,\"yyyy-mm-dd\"))","v":""},{"$f":"IF(入力シート!O364=\"\",\"\",TEXT(入力シート!O364,\"000-0000\"))","v":""},{"$f":"IF(入力シート!F364=\"\",\"\",入力シート!F364)","v":""},{"$f":"IF(入力シート!G364=\"\",\"\",入力シート!G364)","v":""},{"$f":"IF(入力シート!H364=\"\",\"\",入力シート!H364)","v":""},{"$f":"IF(入力シート!I364=\"\",\"\",入力シート!I364)","v":""},{"$f":"IF(入力シート!J364=\"\",\"\",入力シート!J364)","v":""},{"$f":"IF(入力シート!K364=\"\",\"\",入力シート!K364)","v":""},{"$f":"IF(入力シート!L364=\"\",\"\",入力シート!L364)","v":""},{"$f":"IF(入力シート!M364=\"\",\"\",入力シート!M364)","v":""},{"$f":"IF(入力シート!N364=\"\",\"\",入力シート!P364)","v":""}]
[{"$f":"IF(入力シート!A365=\"\",\"\",入力シート!A365)","v":""},{"$f":"IF(入力シート!B365=\"\",\"\",入力シート!B365)","v":""},{"$f":"IF(入力シート!C365=\"\",\"\",TEXT(入力シート!C365,\"yyyy-mm-dd\"))","v":""},{"$f":"IF(入力シート!O365=\"\",\"\",TEXT(入力シート!O365,\"000-0000\"))","v":""},{"$f":"IF(入力シート!F365=\"\",\"\",入力シート!F365)","v":""},{"$f":"IF(入力シート!G365=\"\",\"\",入力シート!G365)","v":""},{"$f":"IF(入力シート!H365=\"\",\"\",入力シート!H365)","v":""},{"$f":"IF(入力シート!I365=\"\",\"\",入力シート!I365)","v":""},{"$f":"IF(入力シート!J365=\"\",\"\",入力シート!J365)","v":""},{"$f":"IF(入力シート!K365=\"\",\"\",入力シート!K365)","v":""},{"$f":"IF(入力シート!L365=\"\",\"\",入力シート!L365)","v":""},{"$f":"IF(入力シート!M365=\"\",\"\",入力シート!M365)","v":""},{"$f":"IF(入力シート!N365=\"\",\"\",入力シート!P365)","v":""}]
[{"$f":"IF(入力シート!A366=\"\",\"\",入力シート!A366)","v":""},{"$f":"IF(入力シート!B366=\"\",\"\",入力シート!B366)","v":""},{"$f":"IF(入力シート!C366=\"\",\"\",TEXT(入力シート!C366,\"yyyy-mm-dd\"))","v":""},{"$f":"IF(入力シート!O366=\"\",\"\",TEXT(入力シート!O366,\"000-0000\"))","v":""},{"$f":"IF(入力シート!F366=\"\",\"\",入力シート!F366)","v":""},{"$f":"IF(入力シート!G366=\"\",\"\",入力シート!G366)","v":""},{"$f":"IF(入力シート!H366=\"\",\"\",入力シート!H366)","v":""},{"$f":"IF(入力シート!I366=\"\",\"\",入力シート!I366)","v":""},{"$f":"IF(入力シート!J366=\"\",\"\",入力シート!J366)","v":""},{"$f":"IF(入力シート!K366=\"\",\"\",入力シート!K366)","v":""},{"$f":"IF(入力シート!L366=\"\",\"\",入力シート!L366)","v":""},{"$f":"IF(入力シート!M366=\"\",\"\",入力シート!M366)","v":""},{"$f":"IF(入力シート!N366=\"\",\"\",入力シート!P366)","v":""}]
[{"$f":"IF(入力シート!A367=\"\",\"\",入力シート!A367)","v":""},{"$f":"IF(入力シート!B367=\"\",\"\",入力シート!B367)","v":""},{"$f":"IF(入力シート!C367=\"\",\"\",TEXT(入力シート!C367,\"yyyy-mm-dd\"))","v":""},{"$f":"IF(入力シート!O367=\"\",\"\",TEXT(入力シート!O367,\"000-0000\"))","v":""},{"$f":"IF(入力シート!F367=\"\",\"\",入力シート!F367)","v":""},{"$f":"IF(入力シート!G367=\"\",\"\",入力シート!G367)","v":""},{"$f":"IF(入力シート!H367=\"\",\"\",入力シート!H367)","v":""},{"$f":"IF(入力シート!I367=\"\",\"\",入力シート!I367)","v":""},{"$f":"IF(入力シート!J367=\"\",\"\",入力シート!J367)","v":""},{"$f":"IF(入力シート!K367=\"\",\"\",入力シート!K367)","v":""},{"$f":"IF(入力シート!L367=\"\",\"\",入力シート!L367)","v":""},{"$f":"IF(入力シート!M367=\"\",\"\",入力シート!M367)","v":""},{"$f":"IF(入力シート!N367=\"\",\"\",入力シート!P367)","v":""}]
[{"$f":"IF(入力シート!A368=\"\",\"\",入力シート!A368)","v":""},{"$f":"IF(入力シート!B368=\"\",\"\",入力シート!B368)","v":""},{"$f":"IF(入力シート!C368=\"\",\"\",TEXT(入力シート!C368,\"yyyy-mm-dd\"))","v":""},{"$f":"IF(入力シート!O368=\"\",\"\",TEXT(入力シート!O368,\"000-0000\"))","v":""},{"$f":"IF(入力シート!F368=\"\",\"\",入力シート!F368)","v":""},{"$f":"IF(入力シート!G368=\"\",\"\",入力シート!G368)","v":""},{"$f":"IF(入力シート!H368=\"\",\"\",入力シート!H368)","v":""},{"$f":"IF(入力シート!I368=\"\",\"\",入力シート!I368)","v":""},{"$f":"IF(入力シート!J368=\"\",\"\",入力シート!J368)","v":""},{"$f":"IF(入力シート!K368=\"\",\"\",入力シート!K368)","v":""},{"$f":"IF(入力シート!L368=\"\",\"\",入力シート!L368)","v":""},{"$f":"IF(入力シート!M368=\"\",\"\",入力シート!M368)","v":""},{"$f":"IF(入力シート!N368=\"\",\"\",入力シート!P368)","v":""}]
[{"$f":"IF(入力シート!A369=\"\",\"\",入力シート!A369)","v":""},{"$f":"IF(入力シート!B369=\"\",\"\",入力シート!B369)","v":""},{"$f":"IF(入力シート!C369=\"\",\"\",TEXT(入力シート!C369,\"yyyy-mm-dd\"))","v":""},{"$f":"IF(入力シート!O369=\"\",\"\",TEXT(入力シート!O369,\"000-0000\"))","v":""},{"$f":"IF(入力シート!F369=\"\",\"\",入力シート!F369)","v":""},{"$f":"IF(入力シート!G369=\"\",\"\",入力シート!G369)","v":""},{"$f":"IF(入力シート!H369=\"\",\"\",入力シート!H369)","v":""},{"$f":"IF(入力シート!I369=\"\",\"\",入力シート!I369)","v":""},{"$f":"IF(入力シート!J369=\"\",\"\",入力シート!J369)","v":""},{"$f":"IF(入力シート!K369=\"\",\"\",入力シート!K369)","v":""},{"$f":"IF(入力シート!L369=\"\",\"\",入力シート!L369)","v":""},{"$f":"IF(入力シート!M369=\"\",\"\",入力シート!M369)","v":""},{"$f":"IF(入力シート!N369=\"\",\"\",入力シート!P369)","v":""}]
[{"$f":"IF(入力シート!A370=\"\",\"\",入力シート!A370)","v":""},{"$f":"IF(入力シート!B370=\"\",\"\",入力シート!B370)","v":""},{"$f":"IF(入力シート!C370=\"\",\"\",TEXT(入力シート!C370,\"yyyy-mm-dd\"))","v":""},{"$f":"IF(入力シート!O370=\"\",\"\",TEXT(入力シート!O370,\"000-0000\"))","v":""},{"$f":"IF(入力シート!F370=\"\",\"\",入力シート!F370)","v":""},{"$f":"IF(入力シート!G370=\"\",\"\",入力シート!G370)","v":""},{"$f":"IF(入力シート!H370=\"\",\"\",入力シート!H370)","v":""},{"$f":"IF(入力シート!I370=\"\",\"\",入力シート!I370)","v":""},{"$f":"IF(入力シート!J370=\"\",\"\",入力シート!J370)","v":""},{"$f":"IF(入力シート!K370=\"\",\"\",入力シート!K370)","v":""},{"$f":"IF(入力シート!L370=\"\",\"\",入力シート!L370)","v":""},{"$f":"IF(入力シート!M370=\"\",\"\",入力シート!M370)","v":""},{"$f":"IF(入力シート!N370=\"\",\"\",入力シート!P370)","v":""}]
[{"$f":"IF(入力シート!A371=\"\",\"\",入力シート!A371)","v":""},{"$f":"IF(入力シート!B371=\"\",\"\",入力シート!B371)","v":""},{"$f":"IF(入力シート!C371=\"\",\"\",TEXT(入力シート!C371,\"yyyy-mm-dd\"))","v":""},{"$f":"IF(入力シート!O371=\"\",\"\",TEXT(入力シート!O371,\"000-0000\"))","v":""},{"$f":"IF(入力シート!F371=\"\",\"\",入力シート!F371)","v":""},{"$f":"IF(入力シート!G371=\"\",\"\",入力シート!G371)","v":""},{"$f":"IF(入力シート!H371=\"\",\"\",入力シート!H371)","v":""},{"$f":"IF(入力シート!I371=\"\",\"\",入力シート!I371)","v":""},{"$f":"IF(入力シート!J371=\"\",\"\",入力シート!J371)","v":""},{"$f":"IF(入力シート!K371=\"\",\"\",入力シート!K371)","v":""},{"$f":"IF(入力シート!L371=\"\",\"\",入力シート!L371)","v":""},{"$f":"IF(入力シート!M371=\"\",\"\",入力シート!M371)","v":""},{"$f":"IF(入力シート!N371=\"\",\"\",入力シート!P371)","v":""}]
[{"$f":"IF(入力シート!A372=\"\",\"\",入力シート!A372)","v":""},{"$f":"IF(入力シート!B372=\"\",\"\",入力シート!B372)","v":""},{"$f":"IF(入力シート!C372=\"\",\"\",TEXT(入力シート!C372,\"yyyy-mm-dd\"))","v":""},{"$f":"IF(入力シート!O372=\"\",\"\",TEXT(入力シート!O372,\"000-0000\"))","v":""},{"$f":"IF(入力シート!F372=\"\",\"\",入力シート!F372)","v":""},{"$f":"IF(入力シート!G372=\"\",\"\",入力シート!G372)","v":""},{"$f":"IF(入力シート!H372=\"\",\"\",入力シート!H372)","v":""},{"$f":"IF(入力シート!I372=\"\",\"\",入力シート!I372)","v":""},{"$f":"IF(入力シート!J372=\"\",\"\",入力シート!J372)","v":""},{"$f":"IF(入力シート!K372=\"\",\"\",入力シート!K372)","v":""},{"$f":"IF(入力シート!L372=\"\",\"\",入力シート!L372)","v":""},{"$f":"IF(入力シート!M372=\"\",\"\",入力シート!M372)","v":""},{"$f":"IF(入力シート!N372=\"\",\"\",入力シート!P372)","v":""}]
[{"$f":"IF(入力シート!A373=\"\",\"\",入力シート!A373)","v":""},{"$f":"IF(入力シート!B373=\"\",\"\",入力シート!B373)","v":""},{"$f":"IF(入力シート!C373=\"\",\"\",TEXT(入力シート!C373,\"yyyy-mm-dd\"))","v":""},{"$f":"IF(入力シート!O373=\"\",\"\",TEXT(入力シート!O373,\"000-0000\"))","v":""},{"$f":"IF(入力シート!F373=\"\",\"\",入力シート!F373)","v":""},{"$f":"IF(入力シート!G373=\"\",\"\",入力シート!G373)","v":""},{"$f":"IF(入力シート!H373=\"\",\"\",入力シート!H373)","v":""},{"$f":"IF(入力シート!I373=\"\",\"\",入力シート!I373)","v":""},{"$f":"IF(入力シート!J373=\"\",\"\",入力シート!J373)","v":""},{"$f":"IF(入力シート!K373=\"\",\"\",入力シート!K373)","v":""},{"$f":"IF(入力シート!L373=\"\",\"\",入力シート!L373)","v":""},{"$f":"IF(入力シート!M373=\"\",\"\",入力シート!M373)","v":""},{"$f":"IF(入力シート!N373=\"\",\"\",入力シート!P373)","v":""}]
[{"$f":"IF(入力シート!A374=\"\",\"\",入力シート!A374)","v":""},{"$f":"IF(入力シート!B374=\"\",\"\",入力シート!B374)","v":""},{"$f":"IF(入力シート!C374=\"\",\"\",TEXT(入力シート!C374,\"yyyy-mm-dd\"))","v":""},{"$f":"IF(入力シート!O374=\"\",\"\",TEXT(入力シート!O374,\"000-0000\"))","v":""},{"$f":"IF(入力シート!F374=\"\",\"\",入力シート!F374)","v":""},{"$f":"IF(入力シート!G374=\"\",\"\",入力シート!G374)","v":""},{"$f":"IF(入力シート!H374=\"\",\"\",入力シート!H374)","v":""},{"$f":"IF(入力シート!I374=\"\",\"\",入力シート!I374)","v":""},{"$f":"IF(入力シート!J374=\"\",\"\",入力シート!J374)","v":""},{"$f":"IF(入力シート!K374=\"\",\"\",入力シート!K374)","v":""},{"$f":"IF(入力シート!L374=\"\",\"\",入力シート!L374)","v":""},{"$f":"IF(入力シート!M374=\"\",\"\",入力シート!M374)","v":""},{"$f":"IF(入力シート!N374=\"\",\"\",入力シート!P374)","v":""}]
[{"$f":"IF(入力シート!A375=\"\",\"\",入力シート!A375)","v":""},{"$f":"IF(入力シート!B375=\"\",\"\",入力シート!B375)","v":""},{"$f":"IF(入力シート!C375=\"\",\"\",TEXT(入力シート!C375,\"yyyy-mm-dd\"))","v":""},{"$f":"IF(入力シート!O375=\"\",\"\",TEXT(入力シート!O375,\"000-0000\"))","v":""},{"$f":"IF(入力シート!F375=\"\",\"\",入力シート!F375)","v":""},{"$f":"IF(入力シート!G375=\"\",\"\",入力シート!G375)","v":""},{"$f":"IF(入力シート!H375=\"\",\"\",入力シート!H375)","v":""},{"$f":"IF(入力シート!I375=\"\",\"\",入力シート!I375)","v":""},{"$f":"IF(入力シート!J375=\"\",\"\",入力シート!J375)","v":""},{"$f":"IF(入力シート!K375=\"\",\"\",入力シート!K375)","v":""},{"$f":"IF(入力シート!L375=\"\",\"\",入力シート!L375)","v":""},{"$f":"IF(入力シート!M375=\"\",\"\",入力シート!M375)","v":""},{"$f":"IF(入力シート!N375=\"\",\"\",入力シート!P375)","v":""}]
[{"$f":"IF(入力シート!A376=\"\",\"\",入力シート!A376)","v":""},{"$f":"IF(入力シート!B376=\"\",\"\",入力シート!B376)","v":""},{"$f":"IF(入力シート!C376=\"\",\"\",TEXT(入力シート!C376,\"yyyy-mm-dd\"))","v":""},{"$f":"IF(入力シート!O376=\"\",\"\",TEXT(入力シート!O376,\"000-0000\"))","v":""},{"$f":"IF(入力シート!F376=\"\",\"\",入力シート!F376)","v":""},{"$f":"IF(入力シート!G376=\"\",\"\",入力シート!G376)","v":""},{"$f":"IF(入力シート!H376=\"\",\"\",入力シート!H376)","v":""},{"$f":"IF(入力シート!I376=\"\",\"\",入力シート!I376)","v":""},{"$f":"IF(入力シート!J376=\"\",\"\",入力シート!J376)","v":""},{"$f":"IF(入力シート!K376=\"\",\"\",入力シート!K376)","v":""},{"$f":"IF(入力シート!L376=\"\",\"\",入力シート!L376)","v":""},{"$f":"IF(入力シート!M376=\"\",\"\",入力シート!M376)","v":""},{"$f":"IF(入力シート!N376=\"\",\"\",入力シート!P376)","v":""}]
[{"$f":"IF(入力シート!A377=\"\",\"\",入力シート!A377)","v":""},{"$f":"IF(入力シート!B377=\"\",\"\",入力シート!B377)","v":""},{"$f":"IF(入力シート!C377=\"\",\"\",TEXT(入力シート!C377,\"yyyy-mm-dd\"))","v":""},{"$f":"IF(入力シート!O377=\"\",\"\",TEXT(入力シート!O377,\"000-0000\"))","v":""},{"$f":"IF(入力シート!F377=\"\",\"\",入力シート!F377)","v":""},{"$f":"IF(入力シート!G377=\"\",\"\",入力シート!G377)","v":""},{"$f":"IF(入力シート!H377=\"\",\"\",入力シート!H377)","v":""},{"$f":"IF(入力シート!I377=\"\",\"\",入力シート!I377)","v":""},{"$f":"IF(入力シート!J377=\"\",\"\",入力シート!J377)","v":""},{"$f":"IF(入力シート!K377=\"\",\"\",入力シート!K377)","v":""},{"$f":"IF(入力シート!L377=\"\",\"\",入力シート!L377)","v":""},{"$f":"IF(入力シート!M377=\"\",\"\",入力シート!M377)","v":""},{"$f":"IF(入力シート!N377=\"\",\"\",入力シート!P377)","v":""}]
[{"$f":"IF(入力シート!A378=\"\",\"\",入力シート!A378)","v":""},{"$f":"IF(入力シート!B378=\"\",\"\",入力シート!B378)","v":""},{"$f":"IF(入力シート!C378=\"\",\"\",TEXT(入力シート!C378,\"yyyy-mm-dd\"))","v":""},{"$f":"IF(入力シート!O378=\"\",\"\",TEXT(入力シート!O378,\"000-0000\"))","v":""},{"$f":"IF(入力シート!F378=\"\",\"\",入力シート!F378)","v":""},{"$f":"IF(入力シート!G378=\"\",\"\",入力シート!G378)","v":""},{"$f":"IF(入力シート!H378=\"\",\"\",入力シート!H378)","v":""},{"$f":"IF(入力シート!I378=\"\",\"\",入力シート!I378)","v":""},{"$f":"IF(入力シート!J378=\"\",\"\",入力シート!J378)","v":""},{"$f":"IF(入力シート!K378=\"\",\"\",入力シート!K378)","v":""},{"$f":"IF(入力シート!L378=\"\",\"\",入力シート!L378)","v":""},{"$f":"IF(入力シート!M378=\"\",\"\",入力シート!M378)","v":""},{"$f":"IF(入力シート!N378=\"\",\"\",入力シート!P378)","v":""}]
[{"$f":"IF(入力シート!A379=\"\",\"\",入力シート!A379)","v":""},{"$f":"IF(入力シート!B379=\"\",\"\",入力シート!B379)","v":""},{"$f":"IF(入力シート!C379=\"\",\"\",TEXT(入力シート!C379,\"yyyy-mm-dd\"))","v":""},{"$f":"IF(入力シート!O379=\"\",\"\",TEXT(入力シート!O379,\"000-0000\"))","v":""},{"$f":"IF(入力シート!F379=\"\",\"\",入力シート!F379)","v":""},{"$f":"IF(入力シート!G379=\"\",\"\",入力シート!G379)","v":""},{"$f":"IF(入力シート!H379=\"\",\"\",入力シート!H379)","v":""},{"$f":"IF(入力シート!I379=\"\",\"\",入力シート!I379)","v":""},{"$f":"IF(入力シート!J379=\"\",\"\",入力シート!J379)","v":""},{"$f":"IF(入力シート!K379=\"\",\"\",入力シート!K379)","v":""},{"$f":"IF(入力シート!L379=\"\",\"\",入力シート!L379)","v":""},{"$f":"IF(入力シート!M379=\"\",\"\",入力シート!M379)","v":""},{"$f":"IF(入力シート!N379=\"\",\"\",入力シート!P379)","v":""}]
[{"$f":"IF(入力シート!A380=\"\",\"\",入力シート!A380)","v":""},{"$f":"IF(入力シート!B380=\"\",\"\",入力シート!B380)","v":""},{"$f":"IF(入力シート!C380=\"\",\"\",TEXT(入力シート!C380,\"yyyy-mm-dd\"))","v":""},{"$f":"IF(入力シート!O380=\"\",\"\",TEXT(入力シート!O380,\"000-0000\"))","v":""},{"$f":"IF(入力シート!F380=\"\",\"\",入力シート!F380)","v":""},{"$f":"IF(入力シート!G380=\"\",\"\",入力シート!G380)","v":""},{"$f":"IF(入力シート!H380=\"\",\"\",入力シート!H380)","v":""},{"$f":"IF(入力シート!I380=\"\",\"\",入力シート!I380)","v":""},{"$f":"IF(入力シート!J380=\"\",\"\",入力シート!J380)","v":""},{"$f":"IF(入力シート!K380=\"\",\"\",入力シート!K380)","v":""},{"$f":"IF(入力シート!L380=\"\",\"\",入力シート!L380)","v":""},{"$f":"IF(入力シート!M380=\"\",\"\",入力シート!M380)","v":""},{"$f":"IF(入力シート!N380=\"\",\"\",入力シート!P380)","v":""}]
[{"$f":"IF(入力シート!A381=\"\",\"\",入力シート!A381)","v":""},{"$f":"IF(入力シート!B381=\"\",\"\",入力シート!B381)","v":""},{"$f":"IF(入力シート!C381=\"\",\"\",TEXT(入力シート!C381,\"yyyy-mm-dd\"))","v":""},{"$f":"IF(入力シート!O381=\"\",\"\",TEXT(入力シート!O381,\"000-0000\"))","v":""},{"$f":"IF(入力シート!F381=\"\",\"\",入力シート!F381)","v":""},{"$f":"IF(入力シート!G381=\"\",\"\",入力シート!G381)","v":""},{"$f":"IF(入力シート!H381=\"\",\"\",入力シート!H381)","v":""},{"$f":"IF(入力シート!I381=\"\",\"\",入力シート!I381)","v":""},{"$f":"IF(入力シート!J381=\"\",\"\",入力シート!J381)","v":""},{"$f":"IF(入力シート!K381=\"\",\"\",入力シート!K381)","v":""},{"$f":"IF(入力シート!L381=\"\",\"\",入力シート!L381)","v":""},{"$f":"IF(入力シート!M381=\"\",\"\",入力シート!M381)","v":""},{"$f":"IF(入力シート!N381=\"\",\"\",入力シート!P381)","v":""}]
[{"$f":"IF(入力シート!A382=\"\",\"\",入力シート!A382)","v":""},{"$f":"IF(入力シート!B382=\"\",\"\",入力シート!B382)","v":""},{"$f":"IF(入力シート!C382=\"\",\"\",TEXT(入力シート!C382,\"yyyy-mm-dd\"))","v":""},{"$f":"IF(入力シート!O382=\"\",\"\",TEXT(入力シート!O382,\"000-0000\"))","v":""},{"$f":"IF(入力シート!F382=\"\",\"\",入力シート!F382)","v":""},{"$f":"IF(入力シート!G382=\"\",\"\",入力シート!G382)","v":""},{"$f":"IF(入力シート!H382=\"\",\"\",入力シート!H382)","v":""},{"$f":"IF(入力シート!I382=\"\",\"\",入力シート!I382)","v":""},{"$f":"IF(入力シート!J382=\"\",\"\",入力シート!J382)","v":""},{"$f":"IF(入力シート!K382=\"\",\"\",入力シート!K382)","v":""},{"$f":"IF(入力シート!L382=\"\",\"\",入力シート!L382)","v":""},{"$f":"IF(入力シート!M382=\"\",\"\",入力シート!M382)","v":""},{"$f":"IF(入力シート!N382=\"\",\"\",入力シート!P382)","v":""}]
[{"$f":"IF(入力シート!A383=\"\",\"\",入力シート!A383)","v":""},{"$f":"IF(入力シート!B383=\"\",\"\",入力シート!B383)","v":""},{"$f":"IF(入力シート!C383=\"\",\"\",TEXT(入力シート!C383,\"yyyy-mm-dd\"))","v":""},{"$f":"IF(入力シート!O383=\"\",\"\",TEXT(入力シート!O383,\"000-0000\"))","v":""},{"$f":"IF(入力シート!F383=\"\",\"\",入力シート!F383)","v":""},{"$f":"IF(入力シート!G383=\"\",\"\",入力シート!G383)","v":""},{"$f":"IF(入力シート!H383=\"\",\"\",入力シート!H383)","v":""},{"$f":"IF(入力シート!I383=\"\",\"\",入力シート!I383)","v":""},{"$f":"IF(入力シート!J383=\"\",\"\",入力シート!J383)","v":""},{"$f":"IF(入力シート!K383=\"\",\"\",入力シート!K383)","v":""},{"$f":"IF(入力シート!L383=\"\",\"\",入力シート!L383)","v":""},{"$f":"IF(入力シート!M383=\"\",\"\",入力シート!M383)","v":""},{"$f":"IF(入力シート!N383=\"\",\"\",入力シート!P383)","v":""}]
[{"$f":"IF(入力シート!A384=\"\",\"\",入力シート!A384)","v":""},{"$f":"IF(入力シート!B384=\"\",\"\",入力シート!B384)","v":""},{"$f":"IF(入力シート!C384=\"\",\"\",TEXT(入力シート!C384,\"yyyy-mm-dd\"))","v":""},{"$f":"IF(入力シート!O384=\"\",\"\",TEXT(入力シート!O384,\"000-0000\"))","v":""},{"$f":"IF(入力シート!F384=\"\",\"\",入力シート!F384)","v":""},{"$f":"IF(入力シート!G384=\"\",\"\",入力シート!G384)","v":""},{"$f":"IF(入力シート!H384=\"\",\"\",入力シート!H384)","v":""},{"$f":"IF(入力シート!I384=\"\",\"\",入力シート!I384)","v":""},{"$f":"IF(入力シート!J384=\"\",\"\",入力シート!J384)","v":""},{"$f":"IF(入力シート!K384=\"\",\"\",入力シート!K384)","v":""},{"$f":"IF(入力シート!L384=\"\",\"\",入力シート!L384)","v":""},{"$f":"IF(入力シート!M384=\"\",\"\",入力シート!M384)","v":""},{"$f":"IF(入力シート!N384=\"\",\"\",入力シート!P384)","v":""}]
[{"$f":"IF(入力シート!A385=\"\",\"\",入力シート!A385)","v":""},{"$f":"IF(入力シート!B385=\"\",\"\",入力シート!B385)","v":""},{"$f":"IF(入力シート!C385=\"\",\"\",TEXT(入力シート!C385,\"yyyy-mm-dd\"))","v":""},{"$f":"IF(入力シート!O385=\"\",\"\",TEXT(入力シート!O385,\"000-0000\"))","v":""},{"$f":"IF(入力シート!F385=\"\",\"\",入力シート!F385)","v":""},{"$f":"IF(入力シート!G385=\"\",\"\",入力シート!G385)","v":""},{"$f":"IF(入力シート!H385=\"\",\"\",入力シート!H385)","v":""},{"$f":"IF(入力シート!I385=\"\",\"\",入力シート!I385)","v":""},{"$f":"IF(入力シート!J385=\"\",\"\",入力シート!J385)","v":""},{"$f":"IF(入力シート!K385=\"\",\"\",入力シート!K385)","v":""},{"$f":"IF(入力シート!L385=\"\",\"\",入力シート!L385)","v":""},{"$f":"IF(入力シート!M385=\"\",\"\",入力シート!M385)","v":""},{"$f":"IF(入力シート!N385=\"\",\"\",入力シート!P385)","v":""}]
[{"$f":"IF(入力シート!A386=\"\",\"\",入力シート!A386)","v":""},{"$f":"IF(入力シート!B386=\"\",\"\",入力シート!B386)","v":""},{"$f":"IF(入力シート!C386=\"\",\"\",TEXT(入力シート!C386,\"yyyy-mm-dd\"))","v":""},{"$f":"IF(入力シート!O386=\"\",\"\",TEXT(入力シート!O386,\"000-0000\"))","v":""},{"$f":"IF(入力シート!F386=\"\",\"\",入力シート!F386)","v":""},{"$f":"IF(入力シート!G386=\"\",\"\",入力シート!G386)","v":""},{"$f":"IF(入力シート!H386=\"\",\"\",入力シート!H386)","v":""},{"$f":"IF(入力シート!I386=\"\",\"\",入力シート!I386)","v":""},{"$f":"IF(入力シート!J386=\"\",\"\",入力シート!J386)","v":""},{"$f":"IF(入力シート!K386=\"\",\"\",入力シート!K386)","v":""},{"$f":"IF(入力シート!L386=\"\",\"\",入力シート!L386)","v":""},{"$f":"IF(入力シート!M386=\"\",\"\",入力シート!M386)","v":""},{"$f":"IF(入力シート!N386=\"\",\"\",入力シート!P386)","v":""}]
[{"$f":"IF(入力シート!A387=\"\",\"\",入力シート!A387)","v":""},{"$f":"IF(入力シート!B387=\"\",\"\",入力シート!B387)","v":""},{"$f":"IF(入力シート!C387=\"\",\"\",TEXT(入力シート!C387,\"yyyy-mm-dd\"))","v":""},{"$f":"IF(入力シート!O387=\"\",\"\",TEXT(入力シート!O387,\"000-0000\"))","v":""},{"$f":"IF(入力シート!F387=\"\",\"\",入力シート!F387)","v":""},{"$f":"IF(入力シート!G387=\"\",\"\",入力シート!G387)","v":""},{"$f":"IF(入力シート!H387=\"\",\"\",入力シート!H387)","v":""},{"$f":"IF(入力シート!I387=\"\",\"\",入力シート!I387)","v":""},{"$f":"IF(入力シート!J387=\"\",\"\",入力シート!J387)","v":""},{"$f":"IF(入力シート!K387=\"\",\"\",入力シート!K387)","v":""},{"$f":"IF(入力シート!L387=\"\",\"\",入力シート!L387)","v":""},{"$f":"IF(入力シート!M387=\"\",\"\",入力シート!M387)","v":""},{"$f":"IF(入力シート!N387=\"\",\"\",入力シート!P387)","v":""}]
[{"$f":"IF(入力シート!A388=\"\",\"\",入力シート!A388)","v":""},{"$f":"IF(入力シート!B388=\"\",\"\",入力シート!B388)","v":""},{"$f":"IF(入力シート!C388=\"\",\"\",TEXT(入力シート!C388,\"yyyy-mm-dd\"))","v":""},{"$f":"IF(入力シート!O388=\"\",\"\",TEXT(入力シート!O388,\"000-0000\"))","v":""},{"$f":"IF(入力シート!F388=\"\",\"\",入力シート!F388)","v":""},{"$f":"IF(入力シート!G388=\"\",\"\",入力シート!G388)","v":""},{"$f":"IF(入力シート!H388=\"\",\"\",入力シート!H388)","v":""},{"$f":"IF(入力シート!I388=\"\",\"\",入力シート!I388)","v":""},{"$f":"IF(入力シート!J388=\"\",\"\",入力シート!J388)","v":""},{"$f":"IF(入力シート!K388=\"\",\"\",入力シート!K388)","v":""},{"$f":"IF(入力シート!L388=\"\",\"\",入力シート!L388)","v":""},{"$f":"IF(入力シート!M388=\"\",\"\",入力シート!M388)","v":""},{"$f":"IF(入力シート!N388=\"\",\"\",入力シート!P388)","v":""}]
[{"$f":"IF(入力シート!A389=\"\",\"\",入力シート!A389)","v":""},{"$f":"IF(入力シート!B389=\"\",\"\",入力シート!B389)","v":""},{"$f":"IF(入力シート!C389=\"\",\"\",TEXT(入力シート!C389,\"yyyy-mm-dd\"))","v":""},{"$f":"IF(入力シート!O389=\"\",\"\",TEXT(入力シート!O389,\"000-0000\"))","v":""},{"$f":"IF(入力シート!F389=\"\",\"\",入力シート!F389)","v":""},{"$f":"IF(入力シート!G389=\"\",\"\",入力シート!G389)","v":""},{"$f":"IF(入力シート!H389=\"\",\"\",入力シート!H389)","v":""},{"$f":"IF(入力シート!I389=\"\",\"\",入力シート!I389)","v":""},{"$f":"IF(入力シート!J389=\"\",\"\",入力シート!J389)","v":""},{"$f":"IF(入力シート!K389=\"\",\"\",入力シート!K389)","v":""},{"$f":"IF(入力シート!L389=\"\",\"\",入力シート!L389)","v":""},{"$f":"IF(入力シート!M389=\"\",\"\",入力シート!M389)","v":""},{"$f":"IF(入力シート!N389=\"\",\"\",入力シート!P389)","v":""}]
[{"$f":"IF(入力シート!A390=\"\",\"\",入力シート!A390)","v":""},{"$f":"IF(入力シート!B390=\"\",\"\",入力シート!B390)","v":""},{"$f":"IF(入力シート!C390=\"\",\"\",TEXT(入力シート!C390,\"yyyy-mm-dd\"))","v":""},{"$f":"IF(入力シート!O390=\"\",\"\",TEXT(入力シート!O390,\"000-0000\"))","v":""},{"$f":"IF(入力シート!F390=\"\",\"\",入力シート!F390)","v":""},{"$f":"IF(入力シート!G390=\"\",\"\",入力シート!G390)","v":""},{"$f":"IF(入力シート!H390=\"\",\"\",入力シート!H390)","v":""},{"$f":"IF(入力シート!I390=\"\",\"\",入力シート!I390)","v":""},{"$f":"IF(入力シート!J390=\"\",\"\",入力シート!J390)","v":""},{"$f":"IF(入力シート!K390=\"\",\"\",入力シート!K390)","v":""},{"$f":"IF(入力シート!L390=\"\",\"\",入力シート!L390)","v":""},{"$f":"IF(入力シート!M390=\"\",\"\",入力シート!M390)","v":""},{"$f":"IF(入力シート!N390=\"\",\"\",入力シート!P390)","v":""}]
[{"$f":"IF(入力シート!A391=\"\",\"\",入力シート!A391)","v":""},{"$f":"IF(入力シート!B391=\"\",\"\",入力シート!B391)","v":""},{"$f":"IF(入力シート!C391=\"\",\"\",TEXT(入力シート!C391,\"yyyy-mm-dd\"))","v":""},{"$f":"IF(入力シート!O391=\"\",\"\",TEXT(入力シート!O391,\"000-0000\"))","v":""},{"$f":"IF(入力シート!F391=\"\",\"\",入力シート!F391)","v":""},{"$f":"IF(入力シート!G391=\"\",\"\",入力シート!G391)","v":""},{"$f":"IF(入力シート!H391=\"\",\"\",入力シート!H391)","v":""},{"$f":"IF(入力シート!I391=\"\",\"\",入力シート!I391)","v":""},{"$f":"IF(入力シート!J391=\"\",\"\",入力シート!J391)","v":""},{"$f":"IF(入力シート!K391=\"\",\"\",入力シート!K391)","v":""},{"$f":"IF(入力シート!L391=\"\",\"\",入力シート!L391)","v":""},{"$f":"IF(入力シート!M391=\"\",\"\",入力シート!M391)","v":""},{"$f":"IF(入力シート!N391=\"\",\"\",入力シート!P391)","v":""}]
[{"$f":"IF(入力シート!A392=\"\",\"\",入力シート!A392)","v":""},{"$f":"IF(入力シート!B392=\"\",\"\",入力シート!B392)","v":""},{"$f":"IF(入力シート!C392=\"\",\"\",TEXT(入力シート!C392,\"yyyy-mm-dd\"))","v":""},{"$f":"IF(入力シート!O392=\"\",\"\",TEXT(入力シート!O392,\"000-0000\"))","v":""},{"$f":"IF(入力シート!F392=\"\",\"\",入力シート!F392)","v":""},{"$f":"IF(入力シート!G392=\"\",\"\",入力シート!G392)","v":""},{"$f":"IF(入力シート!H392=\"\",\"\",入力シート!H392)","v":""},{"$f":"IF(入力シート!I392=\"\",\"\",入力シート!I392)","v":""},{"$f":"IF(入力シート!J392=\"\",\"\",入力シート!J392)","v":""},{"$f":"IF(入力シート!K392=\"\",\"\",入力シート!K392)","v":""},{"$f":"IF(入力シート!L392=\"\",\"\",入力シート!L392)","v":""},{"$f":"IF(入力シート!M392=\"\",\"\",入力シート!M392)","v":""},{"$f":"IF(入力シート!N392=\"\",\"\",入力シート!P392)","v":""}]
[{"$f":"IF(入力シート!A393=\"\",\"\",入力シート!A393)","v":""},{"$f":"IF(入力シート!B393=\"\",\"\",入力シート!B393)","v":""},{"$f":"IF(入力シート!C393=\"\",\"\",TEXT(入力シート!C393,\"yyyy-mm-dd\"))","v":""},{"$f":"IF(入力シート!O393=\"\",\"\",TEXT(入力シート!O393,\"000-0000\"))","v":""},{"$f":"IF(入力シート!F393=\"\",\"\",入力シート!F393)","v":""},{"$f":"IF(入力シート!G393=\"\",\"\",入力シート!G393)","v":""},{"$f":"IF(入力シート!H393=\"\",\"\",入力シート!H393)","v":""},{"$f":"IF(入力シート!I393=\"\",\"\",入力シート!I393)","v":""},{"$f":"IF(入力シート!J393=\"\",\"\",入力シート!J393)","v":""},{"$f":"IF(入力シート!K393=\"\",\"\",入力シート!K393)","v":""},{"$f":"IF(入力シート!L393=\"\",\"\",入力シート!L393)","v":""},{"$f":"IF(入力シート!M393=\"\",\"\",入力シート!M393)","v":""},{"$f":"IF(入力シート!N393=\"\",\"\",入力シート!P393)","v":""}]
[{"$f":"IF(入力シート!A394=\"\",\"\",入力シート!A394)","v":""},{"$f":"IF(入力シート!B394=\"\",\"\",入力シート!B394)","v":""},{"$f":"IF(入力シート!C394=\"\",\"\",TEXT(入力シート!C394,\"yyyy-mm-dd\"))","v":""},{"$f":"IF(入力シート!O394=\"\",\"\",TEXT(入力シート!O394,\"000-0000\"))","v":""},{"$f":"IF(入力シート!F394=\"\",\"\",入力シート!F394)","v":""},{"$f":"IF(入力シート!G394=\"\",\"\",入力シート!G394)","v":""},{"$f":"IF(入力シート!H394=\"\",\"\",入力シート!H394)","v":""},{"$f":"IF(入力シート!I394=\"\",\"\",入力シート!I394)","v":""},{"$f":"IF(入力シート!J394=\"\",\"\",入力シート!J394)","v":""},{"$f":"IF(入力シート!K394=\"\",\"\",入力シート!K394)","v":""},{"$f":"IF(入力シート!L394=\"\",\"\",入力シート!L394)","v":""},{"$f":"IF(入力シート!M394=\"\",\"\",入力シート!M394)","v":""},{"$f":"IF(入力シート!N394=\"\",\"\",入力シート!P394)","v":""}]
[{"$f":"IF(入力シート!A395=\"\",\"\",入力シート!A395)","v":""},{"$f":"IF(入力シート!B395=\"\",\"\",入力シート!B395)","v":""},{"$f":"IF(入力シート!C395=\"\",\"\",TEXT(入力シート!C395,\"yyyy-mm-dd\"))","v":""},{"$f":"IF(入力シート!O395=\"\",\"\",TEXT(入力シート!O395,\"000-0000\"))","v":""},{"$f":"IF(入力シート!F395=\"\",\"\",入力シート!F395)","v":""},{"$f":"IF(入力シート!G395=\"\",\"\",入力シート!G395)","v":""},{"$f":"IF(入力シート!H395=\"\",\"\",入力シート!H395)","v":""},{"$f":"IF(入力シート!I395=\"\",\"\",入力シート!I395)","v":""},{"$f":"IF(入力シート!J395=\"\",\"\",入力シート!J395)","v":""},{"$f":"IF(入力シート!K395=\"\",\"\",入力シート!K395)","v":""},{"$f":"IF(入力シート!L395=\"\",\"\",入力シート!L395)","v":""},{"$f":"IF(入力シート!M395=\"\",\"\",入力シート!M395)","v":""},{"$f":"IF(入力シート!N395=\"\",\"\",入力シート!P395)","v":""}]
[{"$f":"IF(入力シート!A396=\"\",\"\",入力シート!A396)","v":""},{"$f":"IF(入力シート!B396=\"\",\"\",入力シート!B396)","v":""},{"$f":"IF(入力シート!C396=\"\",\"\",TEXT(入力シート!C396,\"yyyy-mm-dd\"))","v":""},{"$f":"IF(入力シート!O396=\"\",\"\",TEXT(入力シート!O396,\"000-0000\"))","v":""},{"$f":"IF(入力シート!F396=\"\",\"\",入力シート!F396)","v":""},{"$f":"IF(入力シート!G396=\"\",\"\",入力シート!G396)","v":""},{"$f":"IF(入力シート!H396=\"\",\"\",入力シート!H396)","v":""},{"$f":"IF(入力シート!I396=\"\",\"\",入力シート!I396)","v":""},{"$f":"IF(入力シート!J396=\"\",\"\",入力シート!J396)","v":""},{"$f":"IF(入力シート!K396=\"\",\"\",入力シート!K396)","v":""},{"$f":"IF(入力シート!L396=\"\",\"\",入力シート!L396)","v":""},{"$f":"IF(入力シート!M396=\"\",\"\",入力シート!M396)","v":""},{"$f":"IF(入力シート!N396=\"\",\"\",入力シート!P396)","v":""}]
[{"$f":"IF(入力シート!A397=\"\",\"\",入力シート!A397)","v":""},{"$f":"IF(入力シート!B397=\"\",\"\",入力シート!B397)","v":""},{"$f":"IF(入力シート!C397=\"\",\"\",TEXT(入力シート!C397,\"yyyy-mm-dd\"))","v":""},{"$f":"IF(入力シート!O397=\"\",\"\",TEXT(入力シート!O397,\"000-0000\"))","v":""},{"$f":"IF(入力シート!F397=\"\",\"\",入力シート!F397)","v":""},{"$f":"IF(入力シート!G397=\"\",\"\",入力シート!G397)","v":""},{"$f":"IF(入力シート!H397=\"\",\"\",入力シート!H397)","v":""},{"$f":"IF(入力シート!I397=\"\",\"\",入力シート!I397)","v":""},{"$f":"IF(入力シート!J397=\"\",\"\",入力シート!J397)","v":""},{"$f":"IF(入力シート!K397=\"\",\"\",入力シート!K397)","v":""},{"$f":"IF(入力シート!L397=\"\",\"\",入力シート!L397)","v":""},{"$f":"IF(入力シート!M397=\"\",\"\",入力シート!M397)","v":""},{"$f":"IF(入力シート!N397=\"\",\"\",入力シート!P397)","v":""}]
[{"$f":"IF(入力シート!A398=\"\",\"\",入力シート!A398)","v":""},{"$f":"IF(入力シート!B398=\"\",\"\",入力シート!B398)","v":""},{"$f":"IF(入力シート!C398=\"\",\"\",TEXT(入力シート!C398,\"yyyy-mm-dd\"))","v":""},{"$f":"IF(入力シート!O398=\"\",\"\",TEXT(入力シート!O398,\"000-0000\"))","v":""},{"$f":"IF(入力シート!F398=\"\",\"\",入力シート!F398)","v":""},{"$f":"IF(入力シート!G398=\"\",\"\",入力シート!G398)","v":""},{"$f":"IF(入力シート!H398=\"\",\"\",入力シート!H398)","v":""},{"$f":"IF(入力シート!I398=\"\",\"\",入力シート!I398)","v":""},{"$f":"IF(入力シート!J398=\"\",\"\",入力シート!J398)","v":""},{"$f":"IF(入力シート!K398=\"\",\"\",入力シート!K398)","v":""},{"$f":"IF(入力シート!L398=\"\",\"\",入力シート!L398)","v":""},{"$f":"IF(入力シート!M398=\"\",\"\",入力シート!M398)","v":""},{"$f":"IF(入力シート!N398=\"\",\"\",入力シート!P398)","v":""}]
[{"$f":"IF(入力シート!A399=\"\",\"\",入力シート!A399)","v":""},{"$f":"IF(入力シート!B399=\"\",\"\",入力シート!B399)","v":""},{"$f":"IF(入力シート!C399=\"\",\"\",TEXT(入力シート!C399,\"yyyy-mm-dd\"))","v":""},{"$f":"IF(入力シート!O399=\"\",\"\",TEXT(入力シート!O399,\"000-0000\"))","v":""},{"$f":"IF(入力シート!F399=\"\",\"\",入力シート!F399)","v":""},{"$f":"IF(入力シート!G399=\"\",\"\",入力シート!G399)","v":""},{"$f":"IF(入力シート!H399=\"\",\"\",入力シート!H399)","v":""},{"$f":"IF(入力シート!I399=\"\",\"\",入力シート!I399)","v":""},{"$f":"IF(入力シート!J399=\"\",\"\",入力シート!J399)","v":""},{"$f":"IF(入力シート!K399=\"\",\"\",入力シート!K399)","v":""},{"$f":"IF(入力シート!L399=\"\",\"\",入力シート!L399)","v":""},{"$f":"IF(入力シート!M399=\"\",\"\",入力シート!M399)","v":""},{"$f":"IF(入力シート!N399=\"\",\"\",入力シート!P399)","v":""}]
[{"$f":"IF(入力シート!A400=\"\",\"\",入力シート!A400)","v":""},{"$f":"IF(入力シート!B400=\"\",\"\",入力シート!B400)","v":""},{"$f":"IF(入力シート!C400=\"\",\"\",TEXT(入力シート!C400,\"yyyy-mm-dd\"))","v":""},{"$f":"IF(入力シート!O400=\"\",\"\",TEXT(入力シート!O400,\"000-0000\"))","v":""},{"$f":"IF(入力シート!F400=\"\",\"\",入力シート!F400)","v":""},{"$f":"IF(入力シート!G400=\"\",\"\",入力シート!G400)","v":""},{"$f":"IF(入力シート!H400=\"\",\"\",入力シート!H400)","v":""},{"$f":"IF(入力シート!I400=\"\",\"\",入力シート!I400)","v":""},{"$f":"IF(入力シート!J400=\"\",\"\",入力シート!J400)","v":""},{"$f":"IF(入力シート!K400=\"\",\"\",入力シート!K400)","v":""},{"$f":"IF(入力シート!L400=\"\",\"\",入力シート!L400)","v":""},{"$f":"IF(入力シート!M400=\"\",\"\",入力シート!M400)","v":""},{"$f":"IF(入力シート!N400=\"\",\"\",入力シート!P400)","v":""}]
[{"$f":"IF(入力シート!A401=\"\",\"\",入力シート!A401)","v":""},{"$f":"IF(入力シート!B401=\"\",\"\",入力シート!B401)","v":""},{"$f":"IF(入力シート!C401=\"\",\"\",TEXT(入力シート!C401,\"yyyy-mm-dd\"))","v":""},{"$f":"IF(入力シート!O401=\"\",\"\",TEXT(入力シート!O401,\"000-0000\"))","v":""},{"$f":"IF(入力シート!F401=\"\",\"\",入力シート!F401)","v":""},{"$f":"IF(入力シート!G401=\"\",\"\",入力シート!G401)","v":""},{"$f":"IF(入力シート!H401=\"\",\"\",入力シート!H401)","v":""},{"$f":"IF(入力シート!I401=\"\",\"\",入力シート!I401)","v":""},{"$f":"IF(入力シート!J401=\"\",\"\",入力シート!J401)","v":""},{"$f":"IF(入力シート!K401=\"\",\"\",入力シート!K401)","v":""},{"$f":"IF(入力シート!L401=\"\",\"\",入力シート!L401)","v":""},{"$f":"IF(入力シート!M401=\"\",\"\",入力シート!M401)","v":""},{"$f":"IF(入力シート!N401=\"\",\"\",入力シート!P401)","v":""}]
[{"$f":"IF(入力シート!A402=\"\",\"\",入力シート!A402)","v":""},{"$f":"IF(入力シート!B402=\"\",\"\",入力シート!B402)","v":""},{"$f":"IF(入力シート!C402=\"\",\"\",TEXT(入力シート!C402,\"yyyy-mm-dd\"))","v":""},{"$f":"IF(入力シート!O402=\"\",\"\",TEXT(入力シート!O402,\"000-0000\"))","v":""},{"$f":"IF(入力シート!F402=\"\",\"\",入力シート!F402)","v":""},{"$f":"IF(入力シート!G402=\"\",\"\",入力シート!G402)","v":""},{"$f":"IF(入力シート!H402=\"\",\"\",入力シート!H402)","v":""},{"$f":"IF(入力シート!I402=\"\",\"\",入力シート!I402)","v":""},{"$f":"IF(入力シート!J402=\"\",\"\",入力シート!J402)","v":""},{"$f":"IF(入力シート!K402=\"\",\"\",入力シート!K402)","v":""},{"$f":"IF(入力シート!L402=\"\",\"\",入力シート!L402)","v":""},{"$f":"IF(入力シート!M402=\"\",\"\",入力シート!M402)","v":""},{"$f":"IF(入力シート!N402=\"\",\"\",入力シート!P402)","v":""}]
[{"$f":"IF(入力シート!A403=\"\",\"\",入力シート!A403)","v":""},{"$f":"IF(入力シート!B403=\"\",\"\",入力シート!B403)","v":""},{"$f":"IF(入力シート!C403=\"\",\"\",TEXT(入力シート!C403,\"yyyy-mm-dd\"))","v":""},{"$f":"IF(入力シート!O403=\"\",\"\",TEXT(入力シート!O403,\"000-0000\"))","v":""},{"$f":"IF(入力シート!F403=\"\",\"\",入力シート!F403)","v":""},{"$f":"IF(入力シート!G403=\"\",\"\",入力シート!G403)","v":""},{"$f":"IF(入力シート!H403=\"\",\"\",入力シート!H403)","v":""},{"$f":"IF(入力シート!I403=\"\",\"\",入力シート!I403)","v":""},{"$f":"IF(入力シート!J403=\"\",\"\",入力シート!J403)","v":""},{"$f":"IF(入力シート!K403=\"\",\"\",入力シート!K403)","v":""},{"$f":"IF(入力シート!L403=\"\",\"\",入力シート!L403)","v":""},{"$f":"IF(入力シート!M403=\"\",\"\",入力シート!M403)","v":""},{"$f":"IF(入力シート!N403=\"\",\"\",入力シート!P403)","v":""}]
[{"$f":"IF(入力シート!A404=\"\",\"\",入力シート!A404)","v":""},{"$f":"IF(入力シート!B404=\"\",\"\",入力シート!B404)","v":""},{"$f":"IF(入力シート!C404=\"\",\"\",TEXT(入力シート!C404,\"yyyy-mm-dd\"))","v":""},{"$f":"IF(入力シート!O404=\"\",\"\",TEXT(入力シート!O404,\"000-0000\"))","v":""},{"$f":"IF(入力シート!F404=\"\",\"\",入力シート!F404)","v":""},{"$f":"IF(入力シート!G404=\"\",\"\",入力シート!G404)","v":""},{"$f":"IF(入力シート!H404=\"\",\"\",入力シート!H404)","v":""},{"$f":"IF(入力シート!I404=\"\",\"\",入力シート!I404)","v":""},{"$f":"IF(入力シート!J404=\"\",\"\",入力シート!J404)","v":""},{"$f":"IF(入力シート!K404=\"\",\"\",入力シート!K404)","v":""},{"$f":"IF(入力シート!L404=\"\",\"\",入力シート!L404)","v":""},{"$f":"IF(入力シート!M404=\"\",\"\",入力シート!M404)","v":""},{"$f":"IF(入力シート!N404=\"\",\"\",入力シート!P404)","v":""}]
[{"$f":"IF(入力シート!A405=\"\",\"\",入力シート!A405)","v":""},{"$f":"IF(入力シート!B405=\"\",\"\",入力シート!B405)","v":""},{"$f":"IF(入力シート!C405=\"\",\"\",TEXT(入力シート!C405,\"yyyy-mm-dd\"))","v":""},{"$f":"IF(入力シート!O405=\"\",\"\",TEXT(入力シート!O405,\"000-0000\"))","v":""},{"$f":"IF(入力シート!F405=\"\",\"\",入力シート!F405)","v":""},{"$f":"IF(入力シート!G405=\"\",\"\",入力シート!G405)","v":""},{"$f":"IF(入力シート!H405=\"\",\"\",入力シート!H405)","v":""},{"$f":"IF(入力シート!I405=\"\",\"\",入力シート!I405)","v":""},{"$f":"IF(入力シート!J405=\"\",\"\",入力シート!J405)","v":""},{"$f":"IF(入力シート!K405=\"\",\"\",入力シート!K405)","v":""},{"$f":"IF(入力シート!L405=\"\",\"\",入力シート!L405)","v":""},{"$f":"IF(入力シート!M405=\"\",\"\",入力シート!M405)","v":""},{"$f":"IF(入力シート!N405=\"\",\"\",入力シート!P405)","v":""}]
[{"$f":"IF(入力シート!A406=\"\",\"\",入力シート!A406)","v":""},{"$f":"IF(入力シート!B406=\"\",\"\",入力シート!B406)","v":""},{"$f":"IF(入力シート!C406=\"\",\"\",TEXT(入力シート!C406,\"yyyy-mm-dd\"))","v":""},{"$f":"IF(入力シート!O406=\"\",\"\",TEXT(入力シート!O406,\"000-0000\"))","v":""},{"$f":"IF(入力シート!F406=\"\",\"\",入力シート!F406)","v":""},{"$f":"IF(入力シート!G406=\"\",\"\",入力シート!G406)","v":""},{"$f":"IF(入力シート!H406=\"\",\"\",入力シート!H406)","v":""},{"$f":"IF(入力シート!I406=\"\",\"\",入力シート!I406)","v":""},{"$f":"IF(入力シート!J406=\"\",\"\",入力シート!J406)","v":""},{"$f":"IF(入力シート!K406=\"\",\"\",入力シート!K406)","v":""},{"$f":"IF(入力シート!L406=\"\",\"\",入力シート!L406)","v":""},{"$f":"IF(入力シート!M406=\"\",\"\",入力シート!M406)","v":""},{"$f":"IF(入力シート!N406=\"\",\"\",入力シート!P406)","v":""}]
[{"$f":"IF(入力シート!A407=\"\",\"\",入力シート!A407)","v":""},{"$f":"IF(入力シート!B407=\"\",\"\",入力シート!B407)","v":""},{"$f":"IF(入力シート!C407=\"\",\"\",TEXT(入力シート!C407,\"yyyy-mm-dd\"))","v":""},{"$f":"IF(入力シート!O407=\"\",\"\",TEXT(入力シート!O407,\"000-0000\"))","v":""},{"$f":"IF(入力シート!F407=\"\",\"\",入力シート!F407)","v":""},{"$f":"IF(入力シート!G407=\"\",\"\",入力シート!G407)","v":""},{"$f":"IF(入力シート!H407=\"\",\"\",入力シート!H407)","v":""},{"$f":"IF(入力シート!I407=\"\",\"\",入力シート!I407)","v":""},{"$f":"IF(入力シート!J407=\"\",\"\",入力シート!J407)","v":""},{"$f":"IF(入力シート!K407=\"\",\"\",入力シート!K407)","v":""},{"$f":"IF(入力シート!L407=\"\",\"\",入力シート!L407)","v":""},{"$f":"IF(入力シート!M407=\"\",\"\",入力シート!M407)","v":""},{"$f":"IF(入力シート!N407=\"\",\"\",入力シート!P407)","v":""}]
[{"$f":"IF(入力シート!A408=\"\",\"\",入力シート!A408)","v":""},{"$f":"IF(入力シート!B408=\"\",\"\",入力シート!B408)","v":""},{"$f":"IF(入力シート!C408=\"\",\"\",TEXT(入力シート!C408,\"yyyy-mm-dd\"))","v":""},{"$f":"IF(入力シート!O408=\"\",\"\",TEXT(入力シート!O408,\"000-0000\"))","v":""},{"$f":"IF(入力シート!F408=\"\",\"\",入力シート!F408)","v":""},{"$f":"IF(入力シート!G408=\"\",\"\",入力シート!G408)","v":""},{"$f":"IF(入力シート!H408=\"\",\"\",入力シート!H408)","v":""},{"$f":"IF(入力シート!I408=\"\",\"\",入力シート!I408)","v":""},{"$f":"IF(入力シート!J408=\"\",\"\",入力シート!J408)","v":""},{"$f":"IF(入力シート!K408=\"\",\"\",入力シート!K408)","v":""},{"$f":"IF(入力シート!L408=\"\",\"\",入力シート!L408)","v":""},{"$f":"IF(入力シート!M408=\"\",\"\",入力シート!M408)","v":""},{"$f":"IF(入力シート!N408=\"\",\"\",入力シート!P408)","v":""}]
[{"$f":"IF(入力シート!A409=\"\",\"\",入力シート!A409)","v":""},{"$f":"IF(入力シート!B409=\"\",\"\",入力シート!B409)","v":""},{"$f":"IF(入力シート!C409=\"\",\"\",TEXT(入力シート!C409,\"yyyy-mm-dd\"))","v":""},{"$f":"IF(入力シート!O409=\"\",\"\",TEXT(入力シート!O409,\"000-0000\"))","v":""},{"$f":"IF(入力シート!F409=\"\",\"\",入力シート!F409)","v":""},{"$f":"IF(入力シート!G409=\"\",\"\",入力シート!G409)","v":""},{"$f":"IF(入力シート!H409=\"\",\"\",入力シート!H409)","v":""},{"$f":"IF(入力シート!I409=\"\",\"\",入力シート!I409)","v":""},{"$f":"IF(入力シート!J409=\"\",\"\",入力シート!J409)","v":""},{"$f":"IF(入力シート!K409=\"\",\"\",入力シート!K409)","v":""},{"$f":"IF(入力シート!L409=\"\",\"\",入力シート!L409)","v":""},{"$f":"IF(入力シート!M409=\"\",\"\",入力シート!M409)","v":""},{"$f":"IF(入力シート!N409=\"\",\"\",入力シート!P409)","v":""}]
[{"$f":"IF(入力シート!A410=\"\",\"\",入力シート!A410)","v":""},{"$f":"IF(入力シート!B410=\"\",\"\",入力シート!B410)","v":""},{"$f":"IF(入力シート!C410=\"\",\"\",TEXT(入力シート!C410,\"yyyy-mm-dd\"))","v":""},{"$f":"IF(入力シート!O410=\"\",\"\",TEXT(入力シート!O410,\"000-0000\"))","v":""},{"$f":"IF(入力シート!F410=\"\",\"\",入力シート!F410)","v":""},{"$f":"IF(入力シート!G410=\"\",\"\",入力シート!G410)","v":""},{"$f":"IF(入力シート!H410=\"\",\"\",入力シート!H410)","v":""},{"$f":"IF(入力シート!I410=\"\",\"\",入力シート!I410)","v":""},{"$f":"IF(入力シート!J410=\"\",\"\",入力シート!J410)","v":""},{"$f":"IF(入力シート!K410=\"\",\"\",入力シート!K410)","v":""},{"$f":"IF(入力シート!L410=\"\",\"\",入力シート!L410)","v":""},{"$f":"IF(入力シート!M410=\"\",\"\",入力シート!M410)","v":""},{"$f":"IF(入力シート!N410=\"\",\"\",入力シート!P410)","v":""}]
[{"$f":"IF(入力シート!A411=\"\",\"\",入力シート!A411)","v":""},{"$f":"IF(入力シート!B411=\"\",\"\",入力シート!B411)","v":""},{"$f":"IF(入力シート!C411=\"\",\"\",TEXT(入力シート!C411,\"yyyy-mm-dd\"))","v":""},{"$f":"IF(入力シート!O411=\"\",\"\",TEXT(入力シート!O411,\"000-0000\"))","v":""},{"$f":"IF(入力シート!F411=\"\",\"\",入力シート!F411)","v":""},{"$f":"IF(入力シート!G411=\"\",\"\",入力シート!G411)","v":""},{"$f":"IF(入力シート!H411=\"\",\"\",入力シート!H411)","v":""},{"$f":"IF(入力シート!I411=\"\",\"\",入力シート!I411)","v":""},{"$f":"IF(入力シート!J411=\"\",\"\",入力シート!J411)","v":""},{"$f":"IF(入力シート!K411=\"\",\"\",入力シート!K411)","v":""},{"$f":"IF(入力シート!L411=\"\",\"\",入力シート!L411)","v":""},{"$f":"IF(入力シート!M411=\"\",\"\",入力シート!M411)","v":""},{"$f":"IF(入力シート!N411=\"\",\"\",入力シート!P411)","v":""}]
[{"$f":"IF(入力シート!A412=\"\",\"\",入力シート!A412)","v":""},{"$f":"IF(入力シート!B412=\"\",\"\",入力シート!B412)","v":""},{"$f":"IF(入力シート!C412=\"\",\"\",TEXT(入力シート!C412,\"yyyy-mm-dd\"))","v":""},{"$f":"IF(入力シート!O412=\"\",\"\",TEXT(入力シート!O412,\"000-0000\"))","v":""},{"$f":"IF(入力シート!F412=\"\",\"\",入力シート!F412)","v":""},{"$f":"IF(入力シート!G412=\"\",\"\",入力シート!G412)","v":""},{"$f":"IF(入力シート!H412=\"\",\"\",入力シート!H412)","v":""},{"$f":"IF(入力シート!I412=\"\",\"\",入力シート!I412)","v":""},{"$f":"IF(入力シート!J412=\"\",\"\",入力シート!J412)","v":""},{"$f":"IF(入力シート!K412=\"\",\"\",入力シート!K412)","v":""},{"$f":"IF(入力シート!L412=\"\",\"\",入力シート!L412)","v":""},{"$f":"IF(入力シート!M412=\"\",\"\",入力シート!M412)","v":""},{"$f":"IF(入力シート!N412=\"\",\"\",入力シート!P412)","v":""}]
[{"$f":"IF(入力シート!A413=\"\",\"\",入力シート!A413)","v":""},{"$f":"IF(入力シート!B413=\"\",\"\",入力シート!B413)","v":""},{"$f":"IF(入力シート!C413=\"\",\"\",TEXT(入力シート!C413,\"yyyy-mm-dd\"))","v":""},{"$f":"IF(入力シート!O413=\"\",\"\",TEXT(入力シート!O413,\"000-0000\"))","v":""},{"$f":"IF(入力シート!F413=\"\",\"\",入力シート!F413)","v":""},{"$f":"IF(入力シート!G413=\"\",\"\",入力シート!G413)","v":""},{"$f":"IF(入力シート!H413=\"\",\"\",入力シート!H413)","v":""},{"$f":"IF(入力シート!I413=\"\",\"\",入力シート!I413)","v":""},{"$f":"IF(入力シート!J413=\"\",\"\",入力シート!J413)","v":""},{"$f":"IF(入力シート!K413=\"\",\"\",入力シート!K413)","v":""},{"$f":"IF(入力シート!L413=\"\",\"\",入力シート!L413)","v":""},{"$f":"IF(入力シート!M413=\"\",\"\",入力シート!M413)","v":""},{"$f":"IF(入力シート!N413=\"\",\"\",入力シート!P413)","v":""}]
[{"$f":"IF(入力シート!A414=\"\",\"\",入力シート!A414)","v":""},{"$f":"IF(入力シート!B414=\"\",\"\",入力シート!B414)","v":""},{"$f":"IF(入力シート!C414=\"\",\"\",TEXT(入力シート!C414,\"yyyy-mm-dd\"))","v":""},{"$f":"IF(入力シート!O414=\"\",\"\",TEXT(入力シート!O414,\"000-0000\"))","v":""},{"$f":"IF(入力シート!F414=\"\",\"\",入力シート!F414)","v":""},{"$f":"IF(入力シート!G414=\"\",\"\",入力シート!G414)","v":""},{"$f":"IF(入力シート!H414=\"\",\"\",入力シート!H414)","v":""},{"$f":"IF(入力シート!I414=\"\",\"\",入力シート!I414)","v":""},{"$f":"IF(入力シート!J414=\"\",\"\",入力シート!J414)","v":""},{"$f":"IF(入力シート!K414=\"\",\"\",入力シート!K414)","v":""},{"$f":"IF(入力シート!L414=\"\",\"\",入力シート!L414)","v":""},{"$f":"IF(入力シート!M414=\"\",\"\",入力シート!M414)","v":""},{"$f":"IF(入力シート!N414=\"\",\"\",入力シート!P414)","v":""}]
[{"$f":"IF(入力シート!A415=\"\",\"\",入力シート!A415)","v":""},{"$f":"IF(入力シート!B415=\"\",\"\",入力シート!B415)","v":""},{"$f":"IF(入力シート!C415=\"\",\"\",TEXT(入力シート!C415,\"yyyy-mm-dd\"))","v":""},{"$f":"IF(入力シート!O415=\"\",\"\",TEXT(入力シート!O415,\"000-0000\"))","v":""},{"$f":"IF(入力シート!F415=\"\",\"\",入力シート!F415)","v":""},{"$f":"IF(入力シート!G415=\"\",\"\",入力シート!G415)","v":""},{"$f":"IF(入力シート!H415=\"\",\"\",入力シート!H415)","v":""},{"$f":"IF(入力シート!I415=\"\",\"\",入力シート!I415)","v":""},{"$f":"IF(入力シート!J415=\"\",\"\",入力シート!J415)","v":""},{"$f":"IF(入力シート!K415=\"\",\"\",入力シート!K415)","v":""},{"$f":"IF(入力シート!L415=\"\",\"\",入力シート!L415)","v":""},{"$f":"IF(入力シート!M415=\"\",\"\",入力シート!M415)","v":""},{"$f":"IF(入力シート!N415=\"\",\"\",入力シート!P415)","v":""}]
[{"$f":"IF(入力シート!A416=\"\",\"\",入力シート!A416)","v":""},{"$f":"IF(入力シート!B416=\"\",\"\",入力シート!B416)","v":""},{"$f":"IF(入力シート!C416=\"\",\"\",TEXT(入力シート!C416,\"yyyy-mm-dd\"))","v":""},{"$f":"IF(入力シート!O416=\"\",\"\",TEXT(入力シート!O416,\"000-0000\"))","v":""},{"$f":"IF(入力シート!F416=\"\",\"\",入力シート!F416)","v":""},{"$f":"IF(入力シート!G416=\"\",\"\",入力シート!G416)","v":""},{"$f":"IF(入力シート!H416=\"\",\"\",入力シート!H416)","v":""},{"$f":"IF(入力シート!I416=\"\",\"\",入力シート!I416)","v":""},{"$f":"IF(入力シート!J416=\"\",\"\",入力シート!J416)","v":""},{"$f":"IF(入力シート!K416=\"\",\"\",入力シート!K416)","v":""},{"$f":"IF(入力シート!L416=\"\",\"\",入力シート!L416)","v":""},{"$f":"IF(入力シート!M416=\"\",\"\",入力シート!M416)","v":""},{"$f":"IF(入力シート!N416=\"\",\"\",入力シート!P416)","v":""}]
[{"$f":"IF(入力シート!A417=\"\",\"\",入力シート!A417)","v":""},{"$f":"IF(入力シート!B417=\"\",\"\",入力シート!B417)","v":""},{"$f":"IF(入力シート!C417=\"\",\"\",TEXT(入力シート!C417,\"yyyy-mm-dd\"))","v":""},{"$f":"IF(入力シート!O417=\"\",\"\",TEXT(入力シート!O417,\"000-0000\"))","v":""},{"$f":"IF(入力シート!F417=\"\",\"\",入力シート!F417)","v":""},{"$f":"IF(入力シート!G417=\"\",\"\",入力シート!G417)","v":""},{"$f":"IF(入力シート!H417=\"\",\"\",入力シート!H417)","v":""},{"$f":"IF(入力シート!I417=\"\",\"\",入力シート!I417)","v":""},{"$f":"IF(入力シート!J417=\"\",\"\",入力シート!J417)","v":""},{"$f":"IF(入力シート!K417=\"\",\"\",入力シート!K417)","v":""},{"$f":"IF(入力シート!L417=\"\",\"\",入力シート!L417)","v":""},{"$f":"IF(入力シート!M417=\"\",\"\",入力シート!M417)","v":""},{"$f":"IF(入力シート!N417=\"\",\"\",入力シート!P417)","v":""}]
[{"$f":"IF(入力シート!A418=\"\",\"\",入力シート!A418)","v":""},{"$f":"IF(入力シート!B418=\"\",\"\",入力シート!B418)","v":""},{"$f":"IF(入力シート!C418=\"\",\"\",TEXT(入力シート!C418,\"yyyy-mm-dd\"))","v":""},{"$f":"IF(入力シート!O418=\"\",\"\",TEXT(入力シート!O418,\"000-0000\"))","v":""},{"$f":"IF(入力シート!F418=\"\",\"\",入力シート!F418)","v":""},{"$f":"IF(入力シート!G418=\"\",\"\",入力シート!G418)","v":""},{"$f":"IF(入力シート!H418=\"\",\"\",入力シート!H418)","v":""},{"$f":"IF(入力シート!I418=\"\",\"\",入力シート!I418)","v":""},{"$f":"IF(入力シート!J418=\"\",\"\",入力シート!J418)","v":""},{"$f":"IF(入力シート!K418=\"\",\"\",入力シート!K418)","v":""},{"$f":"IF(入力シート!L418=\"\",\"\",入力シート!L418)","v":""},{"$f":"IF(入力シート!M418=\"\",\"\",入力シート!M418)","v":""},{"$f":"IF(入力シート!N418=\"\",\"\",入力シート!P418)","v":""}]
[{"$f":"IF(入力シート!A419=\"\",\"\",入力シート!A419)","v":""},{"$f":"IF(入力シート!B419=\"\",\"\",入力シート!B419)","v":""},{"$f":"IF(入力シート!C419=\"\",\"\",TEXT(入力シート!C419,\"yyyy-mm-dd\"))","v":""},{"$f":"IF(入力シート!O419=\"\",\"\",TEXT(入力シート!O419,\"000-0000\"))","v":""},{"$f":"IF(入力シート!F419=\"\",\"\",入力シート!F419)","v":""},{"$f":"IF(入力シート!G419=\"\",\"\",入力シート!G419)","v":""},{"$f":"IF(入力シート!H419=\"\",\"\",入力シート!H419)","v":""},{"$f":"IF(入力シート!I419=\"\",\"\",入力シート!I419)","v":""},{"$f":"IF(入力シート!J419=\"\",\"\",入力シート!J419)","v":""},{"$f":"IF(入力シート!K419=\"\",\"\",入力シート!K419)","v":""},{"$f":"IF(入力シート!L419=\"\",\"\",入力シート!L419)","v":""},{"$f":"IF(入力シート!M419=\"\",\"\",入力シート!M419)","v":""},{"$f":"IF(入力シート!N419=\"\",\"\",入力シート!P419)","v":""}]
[{"$f":"IF(入力シート!A420=\"\",\"\",入力シート!A420)","v":""},{"$f":"IF(入力シート!B420=\"\",\"\",入力シート!B420)","v":""},{"$f":"IF(入力シート!C420=\"\",\"\",TEXT(入力シート!C420,\"yyyy-mm-dd\"))","v":""},{"$f":"IF(入力シート!O420=\"\",\"\",TEXT(入力シート!O420,\"000-0000\"))","v":""},{"$f":"IF(入力シート!F420=\"\",\"\",入力シート!F420)","v":""},{"$f":"IF(入力シート!G420=\"\",\"\",入力シート!G420)","v":""},{"$f":"IF(入力シート!H420=\"\",\"\",入力シート!H420)","v":""},{"$f":"IF(入力シート!I420=\"\",\"\",入力シート!I420)","v":""},{"$f":"IF(入力シート!J420=\"\",\"\",入力シート!J420)","v":""},{"$f":"IF(入力シート!K420=\"\",\"\",入力シート!K420)","v":""},{"$f":"IF(入力シート!L420=\"\",\"\",入力シート!L420)","v":""},{"$f":"IF(入力シート!M420=\"\",\"\",入力シート!M420)","v":""},{"$f":"IF(入力シート!N420=\"\",\"\",入力シート!P420)","v":""}]
[{"$f":"IF(入力シート!A421=\"\",\"\",入力シート!A421)","v":""},{"$f":"IF(入力シート!B421=\"\",\"\",入力シート!B421)","v":""},{"$f":"IF(入力シート!C421=\"\",\"\",TEXT(入力シート!C421,\"yyyy-mm-dd\"))","v":""},{"$f":"IF(入力シート!O421=\"\",\"\",TEXT(入力シート!O421,\"000-0000\"))","v":""},{"$f":"IF(入力シート!F421=\"\",\"\",入力シート!F421)","v":""},{"$f":"IF(入力シート!G421=\"\",\"\",入力シート!G421)","v":""},{"$f":"IF(入力シート!H421=\"\",\"\",入力シート!H421)","v":""},{"$f":"IF(入力シート!I421=\"\",\"\",入力シート!I421)","v":""},{"$f":"IF(入力シート!J421=\"\",\"\",入力シート!J421)","v":""},{"$f":"IF(入力シート!K421=\"\",\"\",入力シート!K421)","v":""},{"$f":"IF(入力シート!L421=\"\",\"\",入力シート!L421)","v":""},{"$f":"IF(入力シート!M421=\"\",\"\",入力シート!M421)","v":""},{"$f":"IF(入力シート!N421=\"\",\"\",入力シート!P421)","v":""}]
[{"$f":"IF(入力シート!A422=\"\",\"\",入力シート!A422)","v":""},{"$f":"IF(入力シート!B422=\"\",\"\",入力シート!B422)","v":""},{"$f":"IF(入力シート!C422=\"\",\"\",TEXT(入力シート!C422,\"yyyy-mm-dd\"))","v":""},{"$f":"IF(入力シート!O422=\"\",\"\",TEXT(入力シート!O422,\"000-0000\"))","v":""},{"$f":"IF(入力シート!F422=\"\",\"\",入力シート!F422)","v":""},{"$f":"IF(入力シート!G422=\"\",\"\",入力シート!G422)","v":""},{"$f":"IF(入力シート!H422=\"\",\"\",入力シート!H422)","v":""},{"$f":"IF(入力シート!I422=\"\",\"\",入力シート!I422)","v":""},{"$f":"IF(入力シート!J422=\"\",\"\",入力シート!J422)","v":""},{"$f":"IF(入力シート!K422=\"\",\"\",入力シート!K422)","v":""},{"$f":"IF(入力シート!L422=\"\",\"\",入力シート!L422)","v":""},{"$f":"IF(入力シート!M422=\"\",\"\",入力シート!M422)","v":""},{"$f":"IF(入力シート!N422=\"\",\"\",入力シート!P422)","v":""}]
[{"$f":"IF(入力シート!A423=\"\",\"\",入力シート!A423)","v":""},{"$f":"IF(入力シート!B423=\"\",\"\",入力シート!B423)","v":""},{"$f":"IF(入力シート!C423=\"\",\"\",TEXT(入力シート!C423,\"yyyy-mm-dd\"))","v":""},{"$f":"IF(入力シート!O423=\"\",\"\",TEXT(入力シート!O423,\"000-0000\"))","v":""},{"$f":"IF(入力シート!F423=\"\",\"\",入力シート!F423)","v":""},{"$f":"IF(入力シート!G423=\"\",\"\",入力シート!G423)","v":""},{"$f":"IF(入力シート!H423=\"\",\"\",入力シート!H423)","v":""},{"$f":"IF(入力シート!I423=\"\",\"\",入力シート!I423)","v":""},{"$f":"IF(入力シート!J423=\"\",\"\",入力シート!J423)","v":""},{"$f":"IF(入力シート!K423=\"\",\"\",入力シート!K423)","v":""},{"$f":"IF(入力シート!L423=\"\",\"\",入力シート!L423)","v":""},{"$f":"IF(入力シート!M423=\"\",\"\",入力シート!M423)","v":""},{"$f":"IF(入力シート!N423=\"\",\"\",入力シート!P423)","v":""}]
[{"$f":"IF(入力シート!A424=\"\",\"\",入力シート!A424)","v":""},{"$f":"IF(入力シート!B424=\"\",\"\",入力シート!B424)","v":""},{"$f":"IF(入力シート!C424=\"\",\"\",TEXT(入力シート!C424,\"yyyy-mm-dd\"))","v":""},{"$f":"IF(入力シート!O424=\"\",\"\",TEXT(入力シート!O424,\"000-0000\"))","v":""},{"$f":"IF(入力シート!F424=\"\",\"\",入力シート!F424)","v":""},{"$f":"IF(入力シート!G424=\"\",\"\",入力シート!G424)","v":""},{"$f":"IF(入力シート!H424=\"\",\"\",入力シート!H424)","v":""},{"$f":"IF(入力シート!I424=\"\",\"\",入力シート!I424)","v":""},{"$f":"IF(入力シート!J424=\"\",\"\",入力シート!J424)","v":""},{"$f":"IF(入力シート!K424=\"\",\"\",入力シート!K424)","v":""},{"$f":"IF(入力シート!L424=\"\",\"\",入力シート!L424)","v":""},{"$f":"IF(入力シート!M424=\"\",\"\",入力シート!M424)","v":""},{"$f":"IF(入力シート!N424=\"\",\"\",入力シート!P424)","v":""}]
[{"$f":"IF(入力シート!A425=\"\",\"\",入力シート!A425)","v":""},{"$f":"IF(入力シート!B425=\"\",\"\",入力シート!B425)","v":""},{"$f":"IF(入力シート!C425=\"\",\"\",TEXT(入力シート!C425,\"yyyy-mm-dd\"))","v":""},{"$f":"IF(入力シート!O425=\"\",\"\",TEXT(入力シート!O425,\"000-0000\"))","v":""},{"$f":"IF(入力シート!F425=\"\",\"\",入力シート!F425)","v":""},{"$f":"IF(入力シート!G425=\"\",\"\",入力シート!G425)","v":""},{"$f":"IF(入力シート!H425=\"\",\"\",入力シート!H425)","v":""},{"$f":"IF(入力シート!I425=\"\",\"\",入力シート!I425)","v":""},{"$f":"IF(入力シート!J425=\"\",\"\",入力シート!J425)","v":""},{"$f":"IF(入力シート!K425=\"\",\"\",入力シート!K425)","v":""},{"$f":"IF(入力シート!L425=\"\",\"\",入力シート!L425)","v":""},{"$f":"IF(入力シート!M425=\"\",\"\",入力シート!M425)","v":""},{"$f":"IF(入力シート!N425=\"\",\"\",入力シート!P425)","v":""}]
[{"$f":"IF(入力シート!A426=\"\",\"\",入力シート!A426)","v":""},{"$f":"IF(入力シート!B426=\"\",\"\",入力シート!B426)","v":""},{"$f":"IF(入力シート!C426=\"\",\"\",TEXT(入力シート!C426,\"yyyy-mm-dd\"))","v":""},{"$f":"IF(入力シート!O426=\"\",\"\",TEXT(入力シート!O426,\"000-0000\"))","v":""},{"$f":"IF(入力シート!F426=\"\",\"\",入力シート!F426)","v":""},{"$f":"IF(入力シート!G426=\"\",\"\",入力シート!G426)","v":""},{"$f":"IF(入力シート!H426=\"\",\"\",入力シート!H426)","v":""},{"$f":"IF(入力シート!I426=\"\",\"\",入力シート!I426)","v":""},{"$f":"IF(入力シート!J426=\"\",\"\",入力シート!J426)","v":""},{"$f":"IF(入力シート!K426=\"\",\"\",入力シート!K426)","v":""},{"$f":"IF(入力シート!L426=\"\",\"\",入力シート!L426)","v":""},{"$f":"IF(入力シート!M426=\"\",\"\",入力シート!M426)","v":""},{"$f":"IF(入力シート!N426=\"\",\"\",入力シート!P426)","v":""}]
[{"$f":"IF(入力シート!A427=\"\",\"\",入力シート!A427)","v":""},{"$f":"IF(入力シート!B427=\"\",\"\",入力シート!B427)","v":""},{"$f":"IF(入力シート!C427=\"\",\"\",TEXT(入力シート!C427,\"yyyy-mm-dd\"))","v":""},{"$f":"IF(入力シート!O427=\"\",\"\",TEXT(入力シート!O427,\"000-0000\"))","v":""},{"$f":"IF(入力シート!F427=\"\",\"\",入力シート!F427)","v":""},{"$f":"IF(入力シート!G427=\"\",\"\",入力シート!G427)","v":""},{"$f":"IF(入力シート!H427=\"\",\"\",入力シート!H427)","v":""},{"$f":"IF(入力シート!I427=\"\",\"\",入力シート!I427)","v":""},{"$f":"IF(入力シート!J427=\"\",\"\",入力シート!J427)","v":""},{"$f":"IF(入力シート!K427=\"\",\"\",入力シート!K427)","v":""},{"$f":"IF(入力シート!L427=\"\",\"\",入力シート!L427)","v":""},{"$f":"IF(入力シート!M427=\"\",\"\",入力シート!M427)","v":""},{"$f":"IF(入力シート!N427=\"\",\"\",入力シート!P427)","v":""}]
[{"$f":"IF(入力シート!A428=\"\",\"\",入力シート!A428)","v":""},{"$f":"IF(入力シート!B428=\"\",\"\",入力シート!B428)","v":""},{"$f":"IF(入力シート!C428=\"\",\"\",TEXT(入力シート!C428,\"yyyy-mm-dd\"))","v":""},{"$f":"IF(入力シート!O428=\"\",\"\",TEXT(入力シート!O428,\"000-0000\"))","v":""},{"$f":"IF(入力シート!F428=\"\",\"\",入力シート!F428)","v":""},{"$f":"IF(入力シート!G428=\"\",\"\",入力シート!G428)","v":""},{"$f":"IF(入力シート!H428=\"\",\"\",入力シート!H428)","v":""},{"$f":"IF(入力シート!I428=\"\",\"\",入力シート!I428)","v":""},{"$f":"IF(入力シート!J428=\"\",\"\",入力シート!J428)","v":""},{"$f":"IF(入力シート!K428=\"\",\"\",入力シート!K428)","v":""},{"$f":"IF(入力シート!L428=\"\",\"\",入力シート!L428)","v":""},{"$f":"IF(入力シート!M428=\"\",\"\",入力シート!M428)","v":""},{"$f":"IF(入力シート!N428=\"\",\"\",入力シート!P428)","v":""}]
[{"$f":"IF(入力シート!A429=\"\",\"\",入力シート!A429)","v":""},{"$f":"IF(入力シート!B429=\"\",\"\",入力シート!B429)","v":""},{"$f":"IF(入力シート!C429=\"\",\"\",TEXT(入力シート!C429,\"yyyy-mm-dd\"))","v":""},{"$f":"IF(入力シート!O429=\"\",\"\",TEXT(入力シート!O429,\"000-0000\"))","v":""},{"$f":"IF(入力シート!F429=\"\",\"\",入力シート!F429)","v":""},{"$f":"IF(入力シート!G429=\"\",\"\",入力シート!G429)","v":""},{"$f":"IF(入力シート!H429=\"\",\"\",入力シート!H429)","v":""},{"$f":"IF(入力シート!I429=\"\",\"\",入力シート!I429)","v":""},{"$f":"IF(入力シート!J429=\"\",\"\",入力シート!J429)","v":""},{"$f":"IF(入力シート!K429=\"\",\"\",入力シート!K429)","v":""},{"$f":"IF(入力シート!L429=\"\",\"\",入力シート!L429)","v":""},{"$f":"IF(入力シート!M429=\"\",\"\",入力シート!M429)","v":""},{"$f":"IF(入力シート!N429=\"\",\"\",入力シート!P429)","v":""}]
[{"$f":"IF(入力シート!A430=\"\",\"\",入力シート!A430)","v":""},{"$f":"IF(入力シート!B430=\"\",\"\",入力シート!B430)","v":""},{"$f":"IF(入力シート!C430=\"\",\"\",TEXT(入力シート!C430,\"yyyy-mm-dd\"))","v":""},{"$f":"IF(入力シート!O430=\"\",\"\",TEXT(入力シート!O430,\"000-0000\"))","v":""},{"$f":"IF(入力シート!F430=\"\",\"\",入力シート!F430)","v":""},{"$f":"IF(入力シート!G430=\"\",\"\",入力シート!G430)","v":""},{"$f":"IF(入力シート!H430=\"\",\"\",入力シート!H430)","v":""},{"$f":"IF(入力シート!I430=\"\",\"\",入力シート!I430)","v":""},{"$f":"IF(入力シート!J430=\"\",\"\",入力シート!J430)","v":""},{"$f":"IF(入力シート!K430=\"\",\"\",入力シート!K430)","v":""},{"$f":"IF(入力シート!L430=\"\",\"\",入力シート!L430)","v":""},{"$f":"IF(入力シート!M430=\"\",\"\",入力シート!M430)","v":""},{"$f":"IF(入力シート!N430=\"\",\"\",入力シート!P430)","v":""}]
[{"$f":"IF(入力シート!A431=\"\",\"\",入力シート!A431)","v":""},{"$f":"IF(入力シート!B431=\"\",\"\",入力シート!B431)","v":""},{"$f":"IF(入力シート!C431=\"\",\"\",TEXT(入力シート!C431,\"yyyy-mm-dd\"))","v":""},{"$f":"IF(入力シート!O431=\"\",\"\",TEXT(入力シート!O431,\"000-0000\"))","v":""},{"$f":"IF(入力シート!F431=\"\",\"\",入力シート!F431)","v":""},{"$f":"IF(入力シート!G431=\"\",\"\",入力シート!G431)","v":""},{"$f":"IF(入力シート!H431=\"\",\"\",入力シート!H431)","v":""},{"$f":"IF(入力シート!I431=\"\",\"\",入力シート!I431)","v":""},{"$f":"IF(入力シート!J431=\"\",\"\",入力シート!J431)","v":""},{"$f":"IF(入力シート!K431=\"\",\"\",入力シート!K431)","v":""},{"$f":"IF(入力シート!L431=\"\",\"\",入力シート!L431)","v":""},{"$f":"IF(入力シート!M431=\"\",\"\",入力シート!M431)","v":""},{"$f":"IF(入力シート!N431=\"\",\"\",入力シート!P431)","v":""}]
[{"$f":"IF(入力シート!A432=\"\",\"\",入力シート!A432)","v":""},{"$f":"IF(入力シート!B432=\"\",\"\",入力シート!B432)","v":""},{"$f":"IF(入力シート!C432=\"\",\"\",TEXT(入力シート!C432,\"yyyy-mm-dd\"))","v":""},{"$f":"IF(入力シート!O432=\"\",\"\",TEXT(入力シート!O432,\"000-0000\"))","v":""},{"$f":"IF(入力シート!F432=\"\",\"\",入力シート!F432)","v":""},{"$f":"IF(入力シート!G432=\"\",\"\",入力シート!G432)","v":""},{"$f":"IF(入力シート!H432=\"\",\"\",入力シート!H432)","v":""},{"$f":"IF(入力シート!I432=\"\",\"\",入力シート!I432)","v":""},{"$f":"IF(入力シート!J432=\"\",\"\",入力シート!J432)","v":""},{"$f":"IF(入力シート!K432=\"\",\"\",入力シート!K432)","v":""},{"$f":"IF(入力シート!L432=\"\",\"\",入力シート!L432)","v":""},{"$f":"IF(入力シート!M432=\"\",\"\",入力シート!M432)","v":""},{"$f":"IF(入力シート!N432=\"\",\"\",入力シート!P432)","v":""}]
[{"$f":"IF(入力シート!A433=\"\",\"\",入力シート!A433)","v":""},{"$f":"IF(入力シート!B433=\"\",\"\",入力シート!B433)","v":""},{"$f":"IF(入力シート!C433=\"\",\"\",TEXT(入力シート!C433,\"yyyy-mm-dd\"))","v":""},{"$f":"IF(入力シート!O433=\"\",\"\",TEXT(入力シート!O433,\"000-0000\"))","v":""},{"$f":"IF(入力シート!F433=\"\",\"\",入力シート!F433)","v":""},{"$f":"IF(入力シート!G433=\"\",\"\",入力シート!G433)","v":""},{"$f":"IF(入力シート!H433=\"\",\"\",入力シート!H433)","v":""},{"$f":"IF(入力シート!I433=\"\",\"\",入力シート!I433)","v":""},{"$f":"IF(入力シート!J433=\"\",\"\",入力シート!J433)","v":""},{"$f":"IF(入力シート!K433=\"\",\"\",入力シート!K433)","v":""},{"$f":"IF(入力シート!L433=\"\",\"\",入力シート!L433)","v":""},{"$f":"IF(入力シート!M433=\"\",\"\",入力シート!M433)","v":""},{"$f":"IF(入力シート!N433=\"\",\"\",入力シート!P433)","v":""}]
[{"$f":"IF(入力シート!A434=\"\",\"\",入力シート!A434)","v":""},{"$f":"IF(入力シート!B434=\"\",\"\",入力シート!B434)","v":""},{"$f":"IF(入力シート!C434=\"\",\"\",TEXT(入力シート!C434,\"yyyy-mm-dd\"))","v":""},{"$f":"IF(入力シート!O434=\"\",\"\",TEXT(入力シート!O434,\"000-0000\"))","v":""},{"$f":"IF(入力シート!F434=\"\",\"\",入力シート!F434)","v":""},{"$f":"IF(入力シート!G434=\"\",\"\",入力シート!G434)","v":""},{"$f":"IF(入力シート!H434=\"\",\"\",入力シート!H434)","v":""},{"$f":"IF(入力シート!I434=\"\",\"\",入力シート!I434)","v":""},{"$f":"IF(入力シート!J434=\"\",\"\",入力シート!J434)","v":""},{"$f":"IF(入力シート!K434=\"\",\"\",入力シート!K434)","v":""},{"$f":"IF(入力シート!L434=\"\",\"\",入力シート!L434)","v":""},{"$f":"IF(入力シート!M434=\"\",\"\",入力シート!M434)","v":""},{"$f":"IF(入力シート!N434=\"\",\"\",入力シート!P434)","v":""}]
[{"$f":"IF(入力シート!A435=\"\",\"\",入力シート!A435)","v":""},{"$f":"IF(入力シート!B435=\"\",\"\",入力シート!B435)","v":""},{"$f":"IF(入力シート!C435=\"\",\"\",TEXT(入力シート!C435,\"yyyy-mm-dd\"))","v":""},{"$f":"IF(入力シート!O435=\"\",\"\",TEXT(入力シート!O435,\"000-0000\"))","v":""},{"$f":"IF(入力シート!F435=\"\",\"\",入力シート!F435)","v":""},{"$f":"IF(入力シート!G435=\"\",\"\",入力シート!G435)","v":""},{"$f":"IF(入力シート!H435=\"\",\"\",入力シート!H435)","v":""},{"$f":"IF(入力シート!I435=\"\",\"\",入力シート!I435)","v":""},{"$f":"IF(入力シート!J435=\"\",\"\",入力シート!J435)","v":""},{"$f":"IF(入力シート!K435=\"\",\"\",入力シート!K435)","v":""},{"$f":"IF(入力シート!L435=\"\",\"\",入力シート!L435)","v":""},{"$f":"IF(入力シート!M435=\"\",\"\",入力シート!M435)","v":""},{"$f":"IF(入力シート!N435=\"\",\"\",入力シート!P435)","v":""}]
[{"$f":"IF(入力シート!A436=\"\",\"\",入力シート!A436)","v":""},{"$f":"IF(入力シート!B436=\"\",\"\",入力シート!B436)","v":""},{"$f":"IF(入力シート!C436=\"\",\"\",TEXT(入力シート!C436,\"yyyy-mm-dd\"))","v":""},{"$f":"IF(入力シート!O436=\"\",\"\",TEXT(入力シート!O436,\"000-0000\"))","v":""},{"$f":"IF(入力シート!F436=\"\",\"\",入力シート!F436)","v":""},{"$f":"IF(入力シート!G436=\"\",\"\",入力シート!G436)","v":""},{"$f":"IF(入力シート!H436=\"\",\"\",入力シート!H436)","v":""},{"$f":"IF(入力シート!I436=\"\",\"\",入力シート!I436)","v":""},{"$f":"IF(入力シート!J436=\"\",\"\",入力シート!J436)","v":""},{"$f":"IF(入力シート!K436=\"\",\"\",入力シート!K436)","v":""},{"$f":"IF(入力シート!L436=\"\",\"\",入力シート!L436)","v":""},{"$f":"IF(入力シート!M436=\"\",\"\",入力シート!M436)","v":""},{"$f":"IF(入力シート!N436=\"\",\"\",入力シート!P436)","v":""}]
[{"$f":"IF(入力シート!A437=\"\",\"\",入力シート!A437)","v":""},{"$f":"IF(入力シート!B437=\"\",\"\",入力シート!B437)","v":""},{"$f":"IF(入力シート!C437=\"\",\"\",TEXT(入力シート!C437,\"yyyy-mm-dd\"))","v":""},{"$f":"IF(入力シート!O437=\"\",\"\",TEXT(入力シート!O437,\"000-0000\"))","v":""},{"$f":"IF(入力シート!F437=\"\",\"\",入力シート!F437)","v":""},{"$f":"IF(入力シート!G437=\"\",\"\",入力シート!G437)","v":""},{"$f":"IF(入力シート!H437=\"\",\"\",入力シート!H437)","v":""},{"$f":"IF(入力シート!I437=\"\",\"\",入力シート!I437)","v":""},{"$f":"IF(入力シート!J437=\"\",\"\",入力シート!J437)","v":""},{"$f":"IF(入力シート!K437=\"\",\"\",入力シート!K437)","v":""},{"$f":"IF(入力シート!L437=\"\",\"\",入力シート!L437)","v":""},{"$f":"IF(入力シート!M437=\"\",\"\",入力シート!M437)","v":""},{"$f":"IF(入力シート!N437=\"\",\"\",入力シート!P437)","v":""}]
[{"$f":"IF(入力シート!A438=\"\",\"\",入力シート!A438)","v":""},{"$f":"IF(入力シート!B438=\"\",\"\",入力シート!B438)","v":""},{"$f":"IF(入力シート!C438=\"\",\"\",TEXT(入力シート!C438,\"yyyy-mm-dd\"))","v":""},{"$f":"IF(入力シート!O438=\"\",\"\",TEXT(入力シート!O438,\"000-0000\"))","v":""},{"$f":"IF(入力シート!F438=\"\",\"\",入力シート!F438)","v":""},{"$f":"IF(入力シート!G438=\"\",\"\",入力シート!G438)","v":""},{"$f":"IF(入力シート!H438=\"\",\"\",入力シート!H438)","v":""},{"$f":"IF(入力シート!I438=\"\",\"\",入力シート!I438)","v":""},{"$f":"IF(入力シート!J438=\"\",\"\",入力シート!J438)","v":""},{"$f":"IF(入力シート!K438=\"\",\"\",入力シート!K438)","v":""},{"$f":"IF(入力シート!L438=\"\",\"\",入力シート!L438)","v":""},{"$f":"IF(入力シート!M438=\"\",\"\",入力シート!M438)","v":""},{"$f":"IF(入力シート!N438=\"\",\"\",入力シート!P438)","v":""}]
[{"$f":"IF(入力シート!A439=\"\",\"\",入力シート!A439)","v":""},{"$f":"IF(入力シート!B439=\"\",\"\",入力シート!B439)","v":""},{"$f":"IF(入力シート!C439=\"\",\"\",TEXT(入力シート!C439,\"yyyy-mm-dd\"))","v":""},{"$f":"IF(入力シート!O439=\"\",\"\",TEXT(入力シート!O439,\"000-0000\"))","v":""},{"$f":"IF(入力シート!F439=\"\",\"\",入力シート!F439)","v":""},{"$f":"IF(入力シート!G439=\"\",\"\",入力シート!G439)","v":""},{"$f":"IF(入力シート!H439=\"\",\"\",入力シート!H439)","v":""},{"$f":"IF(入力シート!I439=\"\",\"\",入力シート!I439)","v":""},{"$f":"IF(入力シート!J439=\"\",\"\",入力シート!J439)","v":""},{"$f":"IF(入力シート!K439=\"\",\"\",入力シート!K439)","v":""},{"$f":"IF(入力シート!L439=\"\",\"\",入力シート!L439)","v":""},{"$f":"IF(入力シート!M439=\"\",\"\",入力シート!M439)","v":""},{"$f":"IF(入力シート!N439=\"\",\"\",入力シート!P439)","v":""}]
[{"$f":"IF(入力シート!A440=\"\",\"\",入力シート!A440)","v":""},{"$f":"IF(入力シート!B440=\"\",\"\",入力シート!B440)","v":""},{"$f":"IF(入力シート!C440=\"\",\"\",TEXT(入力シート!C440,\"yyyy-mm-dd\"))","v":""},{"$f":"IF(入力シート!O440=\"\",\"\",TEXT(入力シート!O440,\"000-0000\"))","v":""},{"$f":"IF(入力シート!F440=\"\",\"\",入力シート!F440)","v":""},{"$f":"IF(入力シート!G440=\"\",\"\",入力シート!G440)","v":""},{"$f":"IF(入力シート!H440=\"\",\"\",入力シート!H440)","v":""},{"$f":"IF(入力シート!I440=\"\",\"\",入力シート!I440)","v":""},{"$f":"IF(入力シート!J440=\"\",\"\",入力シート!J440)","v":""},{"$f":"IF(入力シート!K440=\"\",\"\",入力シート!K440)","v":""},{"$f":"IF(入力シート!L440=\"\",\"\",入力シート!L440)","v":""},{"$f":"IF(入力シート!M440=\"\",\"\",入力シート!M440)","v":""},{"$f":"IF(入力シート!N440=\"\",\"\",入力シート!P440)","v":""}]
[{"$f":"IF(入力シート!A441=\"\",\"\",入力シート!A441)","v":""},{"$f":"IF(入力シート!B441=\"\",\"\",入力シート!B441)","v":""},{"$f":"IF(入力シート!C441=\"\",\"\",TEXT(入力シート!C441,\"yyyy-mm-dd\"))","v":""},{"$f":"IF(入力シート!O441=\"\",\"\",TEXT(入力シート!O441,\"000-0000\"))","v":""},{"$f":"IF(入力シート!F441=\"\",\"\",入力シート!F441)","v":""},{"$f":"IF(入力シート!G441=\"\",\"\",入力シート!G441)","v":""},{"$f":"IF(入力シート!H441=\"\",\"\",入力シート!H441)","v":""},{"$f":"IF(入力シート!I441=\"\",\"\",入力シート!I441)","v":""},{"$f":"IF(入力シート!J441=\"\",\"\",入力シート!J441)","v":""},{"$f":"IF(入力シート!K441=\"\",\"\",入力シート!K441)","v":""},{"$f":"IF(入力シート!L441=\"\",\"\",入力シート!L441)","v":""},{"$f":"IF(入力シート!M441=\"\",\"\",入力シート!M441)","v":""},{"$f":"IF(入力シート!N441=\"\",\"\",入力シート!P441)","v":""}]
[{"$f":"IF(入力シート!A442=\"\",\"\",入力シート!A442)","v":""},{"$f":"IF(入力シート!B442=\"\",\"\",入力シート!B442)","v":""},{"$f":"IF(入力シート!C442=\"\",\"\",TEXT(入力シート!C442,\"yyyy-mm-dd\"))","v":""},{"$f":"IF(入力シート!O442=\"\",\"\",TEXT(入力シート!O442,\"000-0000\"))","v":""},{"$f":"IF(入力シート!F442=\"\",\"\",入力シート!F442)","v":""},{"$f":"IF(入力シート!G442=\"\",\"\",入力シート!G442)","v":""},{"$f":"IF(入力シート!H442=\"\",\"\",入力シート!H442)","v":""},{"$f":"IF(入力シート!I442=\"\",\"\",入力シート!I442)","v":""},{"$f":"IF(入力シート!J442=\"\",\"\",入力シート!J442)","v":""},{"$f":"IF(入力シート!K442=\"\",\"\",入力シート!K442)","v":""},{"$f":"IF(入力シート!L442=\"\",\"\",入力シート!L442)","v":""},{"$f":"IF(入力シート!M442=\"\",\"\",入力シート!M442)","v":""},{"$f":"IF(入力シート!N442=\"\",\"\",入力シート!P442)","v":""}]
[{"$f":"IF(入力シート!A443=\"\",\"\",入力シート!A443)","v":""},{"$f":"IF(入力シート!B443=\"\",\"\",入力シート!B443)","v":""},{"$f":"IF(入力シート!C443=\"\",\"\",TEXT(入力シート!C443,\"yyyy-mm-dd\"))","v":""},{"$f":"IF(入力シート!O443=\"\",\"\",TEXT(入力シート!O443,\"000-0000\"))","v":""},{"$f":"IF(入力シート!F443=\"\",\"\",入力シート!F443)","v":""},{"$f":"IF(入力シート!G443=\"\",\"\",入力シート!G443)","v":""},{"$f":"IF(入力シート!H443=\"\",\"\",入力シート!H443)","v":""},{"$f":"IF(入力シート!I443=\"\",\"\",入力シート!I443)","v":""},{"$f":"IF(入力シート!J443=\"\",\"\",入力シート!J443)","v":""},{"$f":"IF(入力シート!K443=\"\",\"\",入力シート!K443)","v":""},{"$f":"IF(入力シート!L443=\"\",\"\",入力シート!L443)","v":""},{"$f":"IF(入力シート!M443=\"\",\"\",入力シート!M443)","v":""},{"$f":"IF(入力シート!N443=\"\",\"\",入力シート!P443)","v":""}]
[{"$f":"IF(入力シート!A444=\"\",\"\",入力シート!A444)","v":""},{"$f":"IF(入力シート!B444=\"\",\"\",入力シート!B444)","v":""},{"$f":"IF(入力シート!C444=\"\",\"\",TEXT(入力シート!C444,\"yyyy-mm-dd\"))","v":""},{"$f":"IF(入力シート!O444=\"\",\"\",TEXT(入力シート!O444,\"000-0000\"))","v":""},{"$f":"IF(入力シート!F444=\"\",\"\",入力シート!F444)","v":""},{"$f":"IF(入力シート!G444=\"\",\"\",入力シート!G444)","v":""},{"$f":"IF(入力シート!H444=\"\",\"\",入力シート!H444)","v":""},{"$f":"IF(入力シート!I444=\"\",\"\",入力シート!I444)","v":""},{"$f":"IF(入力シート!J444=\"\",\"\",入力シート!J444)","v":""},{"$f":"IF(入力シート!K444=\"\",\"\",入力シート!K444)","v":""},{"$f":"IF(入力シート!L444=\"\",\"\",入力シート!L444)","v":""},{"$f":"IF(入力シート!M444=\"\",\"\",入力シート!M444)","v":""},{"$f":"IF(入力シート!N444=\"\",\"\",入力シート!P444)","v":""}]
[{"$f":"IF(入力シート!A445=\"\",\"\",入力シート!A445)","v":""},{"$f":"IF(入力シート!B445=\"\",\"\",入力シート!B445)","v":""},{"$f":"IF(入力シート!C445=\"\",\"\",TEXT(入力シート!C445,\"yyyy-mm-dd\"))","v":""},{"$f":"IF(入力シート!O445=\"\",\"\",TEXT(入力シート!O445,\"000-0000\"))","v":""},{"$f":"IF(入力シート!F445=\"\",\"\",入力シート!F445)","v":""},{"$f":"IF(入力シート!G445=\"\",\"\",入力シート!G445)","v":""},{"$f":"IF(入力シート!H445=\"\",\"\",入力シート!H445)","v":""},{"$f":"IF(入力シート!I445=\"\",\"\",入力シート!I445)","v":""},{"$f":"IF(入力シート!J445=\"\",\"\",入力シート!J445)","v":""},{"$f":"IF(入力シート!K445=\"\",\"\",入力シート!K445)","v":""},{"$f":"IF(入力シート!L445=\"\",\"\",入力シート!L445)","v":""},{"$f":"IF(入力シート!M445=\"\",\"\",入力シート!M445)","v":""},{"$f":"IF(入力シート!N445=\"\",\"\",入力シート!P445)","v":""}]
[{"$f":"IF(入力シート!A446=\"\",\"\",入力シート!A446)","v":""},{"$f":"IF(入力シート!B446=\"\",\"\",入力シート!B446)","v":""},{"$f":"IF(入力シート!C446=\"\",\"\",TEXT(入力シート!C446,\"yyyy-mm-dd\"))","v":""},{"$f":"IF(入力シート!O446=\"\",\"\",TEXT(入力シート!O446,\"000-0000\"))","v":""},{"$f":"IF(入力シート!F446=\"\",\"\",入力シート!F446)","v":""},{"$f":"IF(入力シート!G446=\"\",\"\",入力シート!G446)","v":""},{"$f":"IF(入力シート!H446=\"\",\"\",入力シート!H446)","v":""},{"$f":"IF(入力シート!I446=\"\",\"\",入力シート!I446)","v":""},{"$f":"IF(入力シート!J446=\"\",\"\",入力シート!J446)","v":""},{"$f":"IF(入力シート!K446=\"\",\"\",入力シート!K446)","v":""},{"$f":"IF(入力シート!L446=\"\",\"\",入力シート!L446)","v":""},{"$f":"IF(入力シート!M446=\"\",\"\",入力シート!M446)","v":""},{"$f":"IF(入力シート!N446=\"\",\"\",入力シート!P446)","v":""}]
[{"$f":"IF(入力シート!A447=\"\",\"\",入力シート!A447)","v":""},{"$f":"IF(入力シート!B447=\"\",\"\",入力シート!B447)","v":""},{"$f":"IF(入力シート!C447=\"\",\"\",TEXT(入力シート!C447,\"yyyy-mm-dd\"))","v":""},{"$f":"IF(入力シート!O447=\"\",\"\",TEXT(入力シート!O447,\"000-0000\"))","v":""},{"$f":"IF(入力シート!F447=\"\",\"\",入力シート!F447)","v":""},{"$f":"IF(入力シート!G447=\"\",\"\",入力シート!G447)","v":""},{"$f":"IF(入力シート!H447=\"\",\"\",入力シート!H447)","v":""},{"$f":"IF(入力シート!I447=\"\",\"\",入力シート!I447)","v":""},{"$f":"IF(入力シート!J447=\"\",\"\",入力シート!J447)","v":""},{"$f":"IF(入力シート!K447=\"\",\"\",入力シート!K447)","v":""},{"$f":"IF(入力シート!L447=\"\",\"\",入力シート!L447)","v":""},{"$f":"IF(入力シート!M447=\"\",\"\",入力シート!M447)","v":""},{"$f":"IF(入力シート!N447=\"\",\"\",入力シート!P447)","v":""}]
[{"$f":"IF(入力シート!A448=\"\",\"\",入力シート!A448)","v":""},{"$f":"IF(入力シート!B448=\"\",\"\",入力シート!B448)","v":""},{"$f":"IF(入力シート!C448=\"\",\"\",TEXT(入力シート!C448,\"yyyy-mm-dd\"))","v":""},{"$f":"IF(入力シート!O448=\"\",\"\",TEXT(入力シート!O448,\"000-0000\"))","v":""},{"$f":"IF(入力シート!F448=\"\",\"\",入力シート!F448)","v":""},{"$f":"IF(入力シート!G448=\"\",\"\",入力シート!G448)","v":""},{"$f":"IF(入力シート!H448=\"\",\"\",入力シート!H448)","v":""},{"$f":"IF(入力シート!I448=\"\",\"\",入力シート!I448)","v":""},{"$f":"IF(入力シート!J448=\"\",\"\",入力シート!J448)","v":""},{"$f":"IF(入力シート!K448=\"\",\"\",入力シート!K448)","v":""},{"$f":"IF(入力シート!L448=\"\",\"\",入力シート!L448)","v":""},{"$f":"IF(入力シート!M448=\"\",\"\",入力シート!M448)","v":""},{"$f":"IF(入力シート!N448=\"\",\"\",入力シート!P448)","v":""}]
[{"$f":"IF(入力シート!A449=\"\",\"\",入力シート!A449)","v":""},{"$f":"IF(入力シート!B449=\"\",\"\",入力シート!B449)","v":""},{"$f":"IF(入力シート!C449=\"\",\"\",TEXT(入力シート!C449,\"yyyy-mm-dd\"))","v":""},{"$f":"IF(入力シート!O449=\"\",\"\",TEXT(入力シート!O449,\"000-0000\"))","v":""},{"$f":"IF(入力シート!F449=\"\",\"\",入力シート!F449)","v":""},{"$f":"IF(入力シート!G449=\"\",\"\",入力シート!G449)","v":""},{"$f":"IF(入力シート!H449=\"\",\"\",入力シート!H449)","v":""},{"$f":"IF(入力シート!I449=\"\",\"\",入力シート!I449)","v":""},{"$f":"IF(入力シート!J449=\"\",\"\",入力シート!J449)","v":""},{"$f":"IF(入力シート!K449=\"\",\"\",入力シート!K449)","v":""},{"$f":"IF(入力シート!L449=\"\",\"\",入力シート!L449)","v":""},{"$f":"IF(入力シート!M449=\"\",\"\",入力シート!M449)","v":""},{"$f":"IF(入力シート!N449=\"\",\"\",入力シート!P449)","v":""}]
[{"$f":"IF(入力シート!A450=\"\",\"\",入力シート!A450)","v":""},{"$f":"IF(入力シート!B450=\"\",\"\",入力シート!B450)","v":""},{"$f":"IF(入力シート!C450=\"\",\"\",TEXT(入力シート!C450,\"yyyy-mm-dd\"))","v":""},{"$f":"IF(入力シート!O450=\"\",\"\",TEXT(入力シート!O450,\"000-0000\"))","v":""},{"$f":"IF(入力シート!F450=\"\",\"\",入力シート!F450)","v":""},{"$f":"IF(入力シート!G450=\"\",\"\",入力シート!G450)","v":""},{"$f":"IF(入力シート!H450=\"\",\"\",入力シート!H450)","v":""},{"$f":"IF(入力シート!I450=\"\",\"\",入力シート!I450)","v":""},{"$f":"IF(入力シート!J450=\"\",\"\",入力シート!J450)","v":""},{"$f":"IF(入力シート!K450=\"\",\"\",入力シート!K450)","v":""},{"$f":"IF(入力シート!L450=\"\",\"\",入力シート!L450)","v":""},{"$f":"IF(入力シート!M450=\"\",\"\",入力シート!M450)","v":""},{"$f":"IF(入力シート!N450=\"\",\"\",入力シート!P450)","v":""}]
[{"$f":"IF(入力シート!A451=\"\",\"\",入力シート!A451)","v":""},{"$f":"IF(入力シート!B451=\"\",\"\",入力シート!B451)","v":""},{"$f":"IF(入力シート!C451=\"\",\"\",TEXT(入力シート!C451,\"yyyy-mm-dd\"))","v":""},{"$f":"IF(入力シート!O451=\"\",\"\",TEXT(入力シート!O451,\"000-0000\"))","v":""},{"$f":"IF(入力シート!F451=\"\",\"\",入力シート!F451)","v":""},{"$f":"IF(入力シート!G451=\"\",\"\",入力シート!G451)","v":""},{"$f":"IF(入力シート!H451=\"\",\"\",入力シート!H451)","v":""},{"$f":"IF(入力シート!I451=\"\",\"\",入力シート!I451)","v":""},{"$f":"IF(入力シート!J451=\"\",\"\",入力シート!J451)","v":""},{"$f":"IF(入力シート!K451=\"\",\"\",入力シート!K451)","v":""},{"$f":"IF(入力シート!L451=\"\",\"\",入力シート!L451)","v":""},{"$f":"IF(入力シート!M451=\"\",\"\",入力シート!M451)","v":""},{"$f":"IF(入力シート!N451=\"\",\"\",入力シート!P451)","v":""}]
[{"$f":"IF(入力シート!A452=\"\",\"\",入力シート!A452)","v":""},{"$f":"IF(入力シート!B452=\"\",\"\",入力シート!B452)","v":""},{"$f":"IF(入力シート!C452=\"\",\"\",TEXT(入力シート!C452,\"yyyy-mm-dd\"))","v":""},{"$f":"IF(入力シート!O452=\"\",\"\",TEXT(入力シート!O452,\"000-0000\"))","v":""},{"$f":"IF(入力シート!F452=\"\",\"\",入力シート!F452)","v":""},{"$f":"IF(入力シート!G452=\"\",\"\",入力シート!G452)","v":""},{"$f":"IF(入力シート!H452=\"\",\"\",入力シート!H452)","v":""},{"$f":"IF(入力シート!I452=\"\",\"\",入力シート!I452)","v":""},{"$f":"IF(入力シート!J452=\"\",\"\",入力シート!J452)","v":""},{"$f":"IF(入力シート!K452=\"\",\"\",入力シート!K452)","v":""},{"$f":"IF(入力シート!L452=\"\",\"\",入力シート!L452)","v":""},{"$f":"IF(入力シート!M452=\"\",\"\",入力シート!M452)","v":""},{"$f":"IF(入力シート!N452=\"\",\"\",入力シート!P452)","v":""}]
[{"$f":"IF(入力シート!A453=\"\",\"\",入力シート!A453)","v":""},{"$f":"IF(入力シート!B453=\"\",\"\",入力シート!B453)","v":""},{"$f":"IF(入力シート!C453=\"\",\"\",TEXT(入力シート!C453,\"yyyy-mm-dd\"))","v":""},{"$f":"IF(入力シート!O453=\"\",\"\",TEXT(入力シート!O453,\"000-0000\"))","v":""},{"$f":"IF(入力シート!F453=\"\",\"\",入力シート!F453)","v":""},{"$f":"IF(入力シート!G453=\"\",\"\",入力シート!G453)","v":""},{"$f":"IF(入力シート!H453=\"\",\"\",入力シート!H453)","v":""},{"$f":"IF(入力シート!I453=\"\",\"\",入力シート!I453)","v":""},{"$f":"IF(入力シート!J453=\"\",\"\",入力シート!J453)","v":""},{"$f":"IF(入力シート!K453=\"\",\"\",入力シート!K453)","v":""},{"$f":"IF(入力シート!L453=\"\",\"\",入力シート!L453)","v":""},{"$f":"IF(入力シート!M453=\"\",\"\",入力シート!M453)","v":""},{"$f":"IF(入力シート!N453=\"\",\"\",入力シート!P453)","v":""}]
[{"$f":"IF(入力シート!A454=\"\",\"\",入力シート!A454)","v":""},{"$f":"IF(入力シート!B454=\"\",\"\",入力シート!B454)","v":""},{"$f":"IF(入力シート!C454=\"\",\"\",TEXT(入力シート!C454,\"yyyy-mm-dd\"))","v":""},{"$f":"IF(入力シート!O454=\"\",\"\",TEXT(入力シート!O454,\"000-0000\"))","v":""},{"$f":"IF(入力シート!F454=\"\",\"\",入力シート!F454)","v":""},{"$f":"IF(入力シート!G454=\"\",\"\",入力シート!G454)","v":""},{"$f":"IF(入力シート!H454=\"\",\"\",入力シート!H454)","v":""},{"$f":"IF(入力シート!I454=\"\",\"\",入力シート!I454)","v":""},{"$f":"IF(入力シート!J454=\"\",\"\",入力シート!J454)","v":""},{"$f":"IF(入力シート!K454=\"\",\"\",入力シート!K454)","v":""},{"$f":"IF(入力シート!L454=\"\",\"\",入力シート!L454)","v":""},{"$f":"IF(入力シート!M454=\"\",\"\",入力シート!M454)","v":""},{"$f":"IF(入力シート!N454=\"\",\"\",入力シート!P454)","v":""}]
[{"$f":"IF(入力シート!A455=\"\",\"\",入力シート!A455)","v":""},{"$f":"IF(入力シート!B455=\"\",\"\",入力シート!B455)","v":""},{"$f":"IF(入力シート!C455=\"\",\"\",TEXT(入力シート!C455,\"yyyy-mm-dd\"))","v":""},{"$f":"IF(入力シート!O455=\"\",\"\",TEXT(入力シート!O455,\"000-0000\"))","v":""},{"$f":"IF(入力シート!F455=\"\",\"\",入力シート!F455)","v":""},{"$f":"IF(入力シート!G455=\"\",\"\",入力シート!G455)","v":""},{"$f":"IF(入力シート!H455=\"\",\"\",入力シート!H455)","v":""},{"$f":"IF(入力シート!I455=\"\",\"\",入力シート!I455)","v":""},{"$f":"IF(入力シート!J455=\"\",\"\",入力シート!J455)","v":""},{"$f":"IF(入力シート!K455=\"\",\"\",入力シート!K455)","v":""},{"$f":"IF(入力シート!L455=\"\",\"\",入力シート!L455)","v":""},{"$f":"IF(入力シート!M455=\"\",\"\",入力シート!M455)","v":""},{"$f":"IF(入力シート!N455=\"\",\"\",入力シート!P455)","v":""}]
[{"$f":"IF(入力シート!A456=\"\",\"\",入力シート!A456)","v":""},{"$f":"IF(入力シート!B456=\"\",\"\",入力シート!B456)","v":""},{"$f":"IF(入力シート!C456=\"\",\"\",TEXT(入力シート!C456,\"yyyy-mm-dd\"))","v":""},{"$f":"IF(入力シート!O456=\"\",\"\",TEXT(入力シート!O456,\"000-0000\"))","v":""},{"$f":"IF(入力シート!F456=\"\",\"\",入力シート!F456)","v":""},{"$f":"IF(入力シート!G456=\"\",\"\",入力シート!G456)","v":""},{"$f":"IF(入力シート!H456=\"\",\"\",入力シート!H456)","v":""},{"$f":"IF(入力シート!I456=\"\",\"\",入力シート!I456)","v":""},{"$f":"IF(入力シート!J456=\"\",\"\",入力シート!J456)","v":""},{"$f":"IF(入力シート!K456=\"\",\"\",入力シート!K456)","v":""},{"$f":"IF(入力シート!L456=\"\",\"\",入力シート!L456)","v":""},{"$f":"IF(入力シート!M456=\"\",\"\",入力シート!M456)","v":""},{"$f":"IF(入力シート!N456=\"\",\"\",入力シート!P456)","v":""}]
[{"$f":"IF(入力シート!A457=\"\",\"\",入力シート!A457)","v":""},{"$f":"IF(入力シート!B457=\"\",\"\",入力シート!B457)","v":""},{"$f":"IF(入力シート!C457=\"\",\"\",TEXT(入力シート!C457,\"yyyy-mm-dd\"))","v":""},{"$f":"IF(入力シート!O457=\"\",\"\",TEXT(入力シート!O457,\"000-0000\"))","v":""},{"$f":"IF(入力シート!F457=\"\",\"\",入力シート!F457)","v":""},{"$f":"IF(入力シート!G457=\"\",\"\",入力シート!G457)","v":""},{"$f":"IF(入力シート!H457=\"\",\"\",入力シート!H457)","v":""},{"$f":"IF(入力シート!I457=\"\",\"\",入力シート!I457)","v":""},{"$f":"IF(入力シート!J457=\"\",\"\",入力シート!J457)","v":""},{"$f":"IF(入力シート!K457=\"\",\"\",入力シート!K457)","v":""},{"$f":"IF(入力シート!L457=\"\",\"\",入力シート!L457)","v":""},{"$f":"IF(入力シート!M457=\"\",\"\",入力シート!M457)","v":""},{"$f":"IF(入力シート!N457=\"\",\"\",入力シート!P457)","v":""}]
[{"$f":"IF(入力シート!A458=\"\",\"\",入力シート!A458)","v":""},{"$f":"IF(入力シート!B458=\"\",\"\",入力シート!B458)","v":""},{"$f":"IF(入力シート!C458=\"\",\"\",TEXT(入力シート!C458,\"yyyy-mm-dd\"))","v":""},{"$f":"IF(入力シート!O458=\"\",\"\",TEXT(入力シート!O458,\"000-0000\"))","v":""},{"$f":"IF(入力シート!F458=\"\",\"\",入力シート!F458)","v":""},{"$f":"IF(入力シート!G458=\"\",\"\",入力シート!G458)","v":""},{"$f":"IF(入力シート!H458=\"\",\"\",入力シート!H458)","v":""},{"$f":"IF(入力シート!I458=\"\",\"\",入力シート!I458)","v":""},{"$f":"IF(入力シート!J458=\"\",\"\",入力シート!J458)","v":""},{"$f":"IF(入力シート!K458=\"\",\"\",入力シート!K458)","v":""},{"$f":"IF(入力シート!L458=\"\",\"\",入力シート!L458)","v":""},{"$f":"IF(入力シート!M458=\"\",\"\",入力シート!M458)","v":""},{"$f":"IF(入力シート!N458=\"\",\"\",入力シート!P458)","v":""}]
[{"$f":"IF(入力シート!A459=\"\",\"\",入力シート!A459)","v":""},{"$f":"IF(入力シート!B459=\"\",\"\",入力シート!B459)","v":""},{"$f":"IF(入力シート!C459=\"\",\"\",TEXT(入力シート!C459,\"yyyy-mm-dd\"))","v":""},{"$f":"IF(入力シート!O459=\"\",\"\",TEXT(入力シート!O459,\"000-0000\"))","v":""},{"$f":"IF(入力シート!F459=\"\",\"\",入力シート!F459)","v":""},{"$f":"IF(入力シート!G459=\"\",\"\",入力シート!G459)","v":""},{"$f":"IF(入力シート!H459=\"\",\"\",入力シート!H459)","v":""},{"$f":"IF(入力シート!I459=\"\",\"\",入力シート!I459)","v":""},{"$f":"IF(入力シート!J459=\"\",\"\",入力シート!J459)","v":""},{"$f":"IF(入力シート!K459=\"\",\"\",入力シート!K459)","v":""},{"$f":"IF(入力シート!L459=\"\",\"\",入力シート!L459)","v":""},{"$f":"IF(入力シート!M459=\"\",\"\",入力シート!M459)","v":""},{"$f":"IF(入力シート!N459=\"\",\"\",入力シート!P459)","v":""}]
[{"$f":"IF(入力シート!A460=\"\",\"\",入力シート!A460)","v":""},{"$f":"IF(入力シート!B460=\"\",\"\",入力シート!B460)","v":""},{"$f":"IF(入力シート!C460=\"\",\"\",TEXT(入力シート!C460,\"yyyy-mm-dd\"))","v":""},{"$f":"IF(入力シート!O460=\"\",\"\",TEXT(入力シート!O460,\"000-0000\"))","v":""},{"$f":"IF(入力シート!F460=\"\",\"\",入力シート!F460)","v":""},{"$f":"IF(入力シート!G460=\"\",\"\",入力シート!G460)","v":""},{"$f":"IF(入力シート!H460=\"\",\"\",入力シート!H460)","v":""},{"$f":"IF(入力シート!I460=\"\",\"\",入力シート!I460)","v":""},{"$f":"IF(入力シート!J460=\"\",\"\",入力シート!J460)","v":""},{"$f":"IF(入力シート!K460=\"\",\"\",入力シート!K460)","v":""},{"$f":"IF(入力シート!L460=\"\",\"\",入力シート!L460)","v":""},{"$f":"IF(入力シート!M460=\"\",\"\",入力シート!M460)","v":""},{"$f":"IF(入力シート!N460=\"\",\"\",入力シート!P460)","v":""}]
[{"$f":"IF(入力シート!A461=\"\",\"\",入力シート!A461)","v":""},{"$f":"IF(入力シート!B461=\"\",\"\",入力シート!B461)","v":""},{"$f":"IF(入力シート!C461=\"\",\"\",TEXT(入力シート!C461,\"yyyy-mm-dd\"))","v":""},{"$f":"IF(入力シート!O461=\"\",\"\",TEXT(入力シート!O461,\"000-0000\"))","v":""},{"$f":"IF(入力シート!F461=\"\",\"\",入力シート!F461)","v":""},{"$f":"IF(入力シート!G461=\"\",\"\",入力シート!G461)","v":""},{"$f":"IF(入力シート!H461=\"\",\"\",入力シート!H461)","v":""},{"$f":"IF(入力シート!I461=\"\",\"\",入力シート!I461)","v":""},{"$f":"IF(入力シート!J461=\"\",\"\",入力シート!J461)","v":""},{"$f":"IF(入力シート!K461=\"\",\"\",入力シート!K461)","v":""},{"$f":"IF(入力シート!L461=\"\",\"\",入力シート!L461)","v":""},{"$f":"IF(入力シート!M461=\"\",\"\",入力シート!M461)","v":""},{"$f":"IF(入力シート!N461=\"\",\"\",入力シート!P461)","v":""}]
[{"$f":"IF(入力シート!A462=\"\",\"\",入力シート!A462)","v":""},{"$f":"IF(入力シート!B462=\"\",\"\",入力シート!B462)","v":""},{"$f":"IF(入力シート!C462=\"\",\"\",TEXT(入力シート!C462,\"yyyy-mm-dd\"))","v":""},{"$f":"IF(入力シート!O462=\"\",\"\",TEXT(入力シート!O462,\"000-0000\"))","v":""},{"$f":"IF(入力シート!F462=\"\",\"\",入力シート!F462)","v":""},{"$f":"IF(入力シート!G462=\"\",\"\",入力シート!G462)","v":""},{"$f":"IF(入力シート!H462=\"\",\"\",入力シート!H462)","v":""},{"$f":"IF(入力シート!I462=\"\",\"\",入力シート!I462)","v":""},{"$f":"IF(入力シート!J462=\"\",\"\",入力シート!J462)","v":""},{"$f":"IF(入力シート!K462=\"\",\"\",入力シート!K462)","v":""},{"$f":"IF(入力シート!L462=\"\",\"\",入力シート!L462)","v":""},{"$f":"IF(入力シート!M462=\"\",\"\",入力シート!M462)","v":""},{"$f":"IF(入力シート!N462=\"\",\"\",入力シート!P462)","v":""}]
[{"$f":"IF(入力シート!A463=\"\",\"\",入力シート!A463)","v":""},{"$f":"IF(入力シート!B463=\"\",\"\",入力シート!B463)","v":""},{"$f":"IF(入力シート!C463=\"\",\"\",TEXT(入力シート!C463,\"yyyy-mm-dd\"))","v":""},{"$f":"IF(入力シート!O463=\"\",\"\",TEXT(入力シート!O463,\"000-0000\"))","v":""},{"$f":"IF(入力シート!F463=\"\",\"\",入力シート!F463)","v":""},{"$f":"IF(入力シート!G463=\"\",\"\",入力シート!G463)","v":""},{"$f":"IF(入力シート!H463=\"\",\"\",入力シート!H463)","v":""},{"$f":"IF(入力シート!I463=\"\",\"\",入力シート!I463)","v":""},{"$f":"IF(入力シート!J463=\"\",\"\",入力シート!J463)","v":""},{"$f":"IF(入力シート!K463=\"\",\"\",入力シート!K463)","v":""},{"$f":"IF(入力シート!L463=\"\",\"\",入力シート!L463)","v":""},{"$f":"IF(入力シート!M463=\"\",\"\",入力シート!M463)","v":""},{"$f":"IF(入力シート!N463=\"\",\"\",入力シート!P463)","v":""}]
[{"$f":"IF(入力シート!A464=\"\",\"\",入力シート!A464)","v":""},{"$f":"IF(入力シート!B464=\"\",\"\",入力シート!B464)","v":""},{"$f":"IF(入力シート!C464=\"\",\"\",TEXT(入力シート!C464,\"yyyy-mm-dd\"))","v":""},{"$f":"IF(入力シート!O464=\"\",\"\",TEXT(入力シート!O464,\"000-0000\"))","v":""},{"$f":"IF(入力シート!F464=\"\",\"\",入力シート!F464)","v":""},{"$f":"IF(入力シート!G464=\"\",\"\",入力シート!G464)","v":""},{"$f":"IF(入力シート!H464=\"\",\"\",入力シート!H464)","v":""},{"$f":"IF(入力シート!I464=\"\",\"\",入力シート!I464)","v":""},{"$f":"IF(入力シート!J464=\"\",\"\",入力シート!J464)","v":""},{"$f":"IF(入力シート!K464=\"\",\"\",入力シート!K464)","v":""},{"$f":"IF(入力シート!L464=\"\",\"\",入力シート!L464)","v":""},{"$f":"IF(入力シート!M464=\"\",\"\",入力シート!M464)","v":""},{"$f":"IF(入力シート!N464=\"\",\"\",入力シート!P464)","v":""}]
[{"$f":"IF(入力シート!A465=\"\",\"\",入力シート!A465)","v":""},{"$f":"IF(入力シート!B465=\"\",\"\",入力シート!B465)","v":""},{"$f":"IF(入力シート!C465=\"\",\"\",TEXT(入力シート!C465,\"yyyy-mm-dd\"))","v":""},{"$f":"IF(入力シート!O465=\"\",\"\",TEXT(入力シート!O465,\"000-0000\"))","v":""},{"$f":"IF(入力シート!F465=\"\",\"\",入力シート!F465)","v":""},{"$f":"IF(入力シート!G465=\"\",\"\",入力シート!G465)","v":""},{"$f":"IF(入力シート!H465=\"\",\"\",入力シート!H465)","v":""},{"$f":"IF(入力シート!I465=\"\",\"\",入力シート!I465)","v":""},{"$f":"IF(入力シート!J465=\"\",\"\",入力シート!J465)","v":""},{"$f":"IF(入力シート!K465=\"\",\"\",入力シート!K465)","v":""},{"$f":"IF(入力シート!L465=\"\",\"\",入力シート!L465)","v":""},{"$f":"IF(入力シート!M465=\"\",\"\",入力シート!M465)","v":""},{"$f":"IF(入力シート!N465=\"\",\"\",入力シート!P465)","v":""}]
[{"$f":"IF(入力シート!A466=\"\",\"\",入力シート!A466)","v":""},{"$f":"IF(入力シート!B466=\"\",\"\",入力シート!B466)","v":""},{"$f":"IF(入力シート!C466=\"\",\"\",TEXT(入力シート!C466,\"yyyy-mm-dd\"))","v":""},{"$f":"IF(入力シート!O466=\"\",\"\",TEXT(入力シート!O466,\"000-0000\"))","v":""},{"$f":"IF(入力シート!F466=\"\",\"\",入力シート!F466)","v":""},{"$f":"IF(入力シート!G466=\"\",\"\",入力シート!G466)","v":""},{"$f":"IF(入力シート!H466=\"\",\"\",入力シート!H466)","v":""},{"$f":"IF(入力シート!I466=\"\",\"\",入力シート!I466)","v":""},{"$f":"IF(入力シート!J466=\"\",\"\",入力シート!J466)","v":""},{"$f":"IF(入力シート!K466=\"\",\"\",入力シート!K466)","v":""},{"$f":"IF(入力シート!L466=\"\",\"\",入力シート!L466)","v":""},{"$f":"IF(入力シート!M466=\"\",\"\",入力シート!M466)","v":""},{"$f":"IF(入力シート!N466=\"\",\"\",入力シート!P466)","v":""}]
[{"$f":"IF(入力シート!A467=\"\",\"\",入力シート!A467)","v":""},{"$f":"IF(入力シート!B467=\"\",\"\",入力シート!B467)","v":""},{"$f":"IF(入力シート!C467=\"\",\"\",TEXT(入力シート!C467,\"yyyy-mm-dd\"))","v":""},{"$f":"IF(入力シート!O467=\"\",\"\",TEXT(入力シート!O467,\"000-0000\"))","v":""},{"$f":"IF(入力シート!F467=\"\",\"\",入力シート!F467)","v":""},{"$f":"IF(入力シート!G467=\"\",\"\",入力シート!G467)","v":""},{"$f":"IF(入力シート!H467=\"\",\"\",入力シート!H467)","v":""},{"$f":"IF(入力シート!I467=\"\",\"\",入力シート!I467)","v":""},{"$f":"IF(入力シート!J467=\"\",\"\",入力シート!J467)","v":""},{"$f":"IF(入力シート!K467=\"\",\"\",入力シート!K467)","v":""},{"$f":"IF(入力シート!L467=\"\",\"\",入力シート!L467)","v":""},{"$f":"IF(入力シート!M467=\"\",\"\",入力シート!M467)","v":""},{"$f":"IF(入力シート!N467=\"\",\"\",入力シート!P467)","v":""}]
[{"$f":"IF(入力シート!A468=\"\",\"\",入力シート!A468)","v":""},{"$f":"IF(入力シート!B468=\"\",\"\",入力シート!B468)","v":""},{"$f":"IF(入力シート!C468=\"\",\"\",TEXT(入力シート!C468,\"yyyy-mm-dd\"))","v":""},{"$f":"IF(入力シート!O468=\"\",\"\",TEXT(入力シート!O468,\"000-0000\"))","v":""},{"$f":"IF(入力シート!F468=\"\",\"\",入力シート!F468)","v":""},{"$f":"IF(入力シート!G468=\"\",\"\",入力シート!G468)","v":""},{"$f":"IF(入力シート!H468=\"\",\"\",入力シート!H468)","v":""},{"$f":"IF(入力シート!I468=\"\",\"\",入力シート!I468)","v":""},{"$f":"IF(入力シート!J468=\"\",\"\",入力シート!J468)","v":""},{"$f":"IF(入力シート!K468=\"\",\"\",入力シート!K468)","v":""},{"$f":"IF(入力シート!L468=\"\",\"\",入力シート!L468)","v":""},{"$f":"IF(入力シート!M468=\"\",\"\",入力シート!M468)","v":""},{"$f":"IF(入力シート!N468=\"\",\"\",入力シート!P468)","v":""}]
[{"$f":"IF(入力シート!A469=\"\",\"\",入力シート!A469)","v":""},{"$f":"IF(入力シート!B469=\"\",\"\",入力シート!B469)","v":""},{"$f":"IF(入力シート!C469=\"\",\"\",TEXT(入力シート!C469,\"yyyy-mm-dd\"))","v":""},{"$f":"IF(入力シート!O469=\"\",\"\",TEXT(入力シート!O469,\"000-0000\"))","v":""},{"$f":"IF(入力シート!F469=\"\",\"\",入力シート!F469)","v":""},{"$f":"IF(入力シート!G469=\"\",\"\",入力シート!G469)","v":""},{"$f":"IF(入力シート!H469=\"\",\"\",入力シート!H469)","v":""},{"$f":"IF(入力シート!I469=\"\",\"\",入力シート!I469)","v":""},{"$f":"IF(入力シート!J469=\"\",\"\",入力シート!J469)","v":""},{"$f":"IF(入力シート!K469=\"\",\"\",入力シート!K469)","v":""},{"$f":"IF(入力シート!L469=\"\",\"\",入力シート!L469)","v":""},{"$f":"IF(入力シート!M469=\"\",\"\",入力シート!M469)","v":""},{"$f":"IF(入力シート!N469=\"\",\"\",入力シート!P469)","v":""}]
[{"$f":"IF(入力シート!A470=\"\",\"\",入力シート!A470)","v":""},{"$f":"IF(入力シート!B470=\"\",\"\",入力シート!B470)","v":""},{"$f":"IF(入力シート!C470=\"\",\"\",TEXT(入力シート!C470,\"yyyy-mm-dd\"))","v":""},{"$f":"IF(入力シート!O470=\"\",\"\",TEXT(入力シート!O470,\"000-0000\"))","v":""},{"$f":"IF(入力シート!F470=\"\",\"\",入力シート!F470)","v":""},{"$f":"IF(入力シート!G470=\"\",\"\",入力シート!G470)","v":""},{"$f":"IF(入力シート!H470=\"\",\"\",入力シート!H470)","v":""},{"$f":"IF(入力シート!I470=\"\",\"\",入力シート!I470)","v":""},{"$f":"IF(入力シート!J470=\"\",\"\",入力シート!J470)","v":""},{"$f":"IF(入力シート!K470=\"\",\"\",入力シート!K470)","v":""},{"$f":"IF(入力シート!L470=\"\",\"\",入力シート!L470)","v":""},{"$f":"IF(入力シート!M470=\"\",\"\",入力シート!M470)","v":""},{"$f":"IF(入力シート!N470=\"\",\"\",入力シート!P470)","v":""}]
[{"$f":"IF(入力シート!A471=\"\",\"\",入力シート!A471)","v":""},{"$f":"IF(入力シート!B471=\"\",\"\",入力シート!B471)","v":""},{"$f":"IF(入力シート!C471=\"\",\"\",TEXT(入力シート!C471,\"yyyy-mm-dd\"))","v":""},{"$f":"IF(入力シート!O471=\"\",\"\",TEXT(入力シート!O471,\"000-0000\"))","v":""},{"$f":"IF(入力シート!F471=\"\",\"\",入力シート!F471)","v":""},{"$f":"IF(入力シート!G471=\"\",\"\",入力シート!G471)","v":""},{"$f":"IF(入力シート!H471=\"\",\"\",入力シート!H471)","v":""},{"$f":"IF(入力シート!I471=\"\",\"\",入力シート!I471)","v":""},{"$f":"IF(入力シート!J471=\"\",\"\",入力シート!J471)","v":""},{"$f":"IF(入力シート!K471=\"\",\"\",入力シート!K471)","v":""},{"$f":"IF(入力シート!L471=\"\",\"\",入力シート!L471)","v":""},{"$f":"IF(入力シート!M471=\"\",\"\",入力シート!M471)","v":""},{"$f":"IF(入力シート!N471=\"\",\"\",入力シート!P471)","v":""}]
[{"$f":"IF(入力シート!A472=\"\",\"\",入力シート!A472)","v":""},{"$f":"IF(入力シート!B472=\"\",\"\",入力シート!B472)","v":""},{"$f":"IF(入力シート!C472=\"\",\"\",TEXT(入力シート!C472,\"yyyy-mm-dd\"))","v":""},{"$f":"IF(入力シート!O472=\"\",\"\",TEXT(入力シート!O472,\"000-0000\"))","v":""},{"$f":"IF(入力シート!F472=\"\",\"\",入力シート!F472)","v":""},{"$f":"IF(入力シート!G472=\"\",\"\",入力シート!G472)","v":""},{"$f":"IF(入力シート!H472=\"\",\"\",入力シート!H472)","v":""},{"$f":"IF(入力シート!I472=\"\",\"\",入力シート!I472)","v":""},{"$f":"IF(入力シート!J472=\"\",\"\",入力シート!J472)","v":""},{"$f":"IF(入力シート!K472=\"\",\"\",入力シート!K472)","v":""},{"$f":"IF(入力シート!L472=\"\",\"\",入力シート!L472)","v":""},{"$f":"IF(入力シート!M472=\"\",\"\",入力シート!M472)","v":""},{"$f":"IF(入力シート!N472=\"\",\"\",入力シート!P472)","v":""}]
[{"$f":"IF(入力シート!A473=\"\",\"\",入力シート!A473)","v":""},{"$f":"IF(入力シート!B473=\"\",\"\",入力シート!B473)","v":""},{"$f":"IF(入力シート!C473=\"\",\"\",TEXT(入力シート!C473,\"yyyy-mm-dd\"))","v":""},{"$f":"IF(入力シート!O473=\"\",\"\",TEXT(入力シート!O473,\"000-0000\"))","v":""},{"$f":"IF(入力シート!F473=\"\",\"\",入力シート!F473)","v":""},{"$f":"IF(入力シート!G473=\"\",\"\",入力シート!G473)","v":""},{"$f":"IF(入力シート!H473=\"\",\"\",入力シート!H473)","v":""},{"$f":"IF(入力シート!I473=\"\",\"\",入力シート!I473)","v":""},{"$f":"IF(入力シート!J473=\"\",\"\",入力シート!J473)","v":""},{"$f":"IF(入力シート!K473=\"\",\"\",入力シート!K473)","v":""},{"$f":"IF(入力シート!L473=\"\",\"\",入力シート!L473)","v":""},{"$f":"IF(入力シート!M473=\"\",\"\",入力シート!M473)","v":""},{"$f":"IF(入力シート!N473=\"\",\"\",入力シート!P473)","v":""}]
[{"$f":"IF(入力シート!A474=\"\",\"\",入力シート!A474)","v":""},{"$f":"IF(入力シート!B474=\"\",\"\",入力シート!B474)","v":""},{"$f":"IF(入力シート!C474=\"\",\"\",TEXT(入力シート!C474,\"yyyy-mm-dd\"))","v":""},{"$f":"IF(入力シート!O474=\"\",\"\",TEXT(入力シート!O474,\"000-0000\"))","v":""},{"$f":"IF(入力シート!F474=\"\",\"\",入力シート!F474)","v":""},{"$f":"IF(入力シート!G474=\"\",\"\",入力シート!G474)","v":""},{"$f":"IF(入力シート!H474=\"\",\"\",入力シート!H474)","v":""},{"$f":"IF(入力シート!I474=\"\",\"\",入力シート!I474)","v":""},{"$f":"IF(入力シート!J474=\"\",\"\",入力シート!J474)","v":""},{"$f":"IF(入力シート!K474=\"\",\"\",入力シート!K474)","v":""},{"$f":"IF(入力シート!L474=\"\",\"\",入力シート!L474)","v":""},{"$f":"IF(入力シート!M474=\"\",\"\",入力シート!M474)","v":""},{"$f":"IF(入力シート!N474=\"\",\"\",入力シート!P474)","v":""}]
[{"$f":"IF(入力シート!A475=\"\",\"\",入力シート!A475)","v":""},{"$f":"IF(入力シート!B475=\"\",\"\",入力シート!B475)","v":""},{"$f":"IF(入力シート!C475=\"\",\"\",TEXT(入力シート!C475,\"yyyy-mm-dd\"))","v":""},{"$f":"IF(入力シート!O475=\"\",\"\",TEXT(入力シート!O475,\"000-0000\"))","v":""},{"$f":"IF(入力シート!F475=\"\",\"\",入力シート!F475)","v":""},{"$f":"IF(入力シート!G475=\"\",\"\",入力シート!G475)","v":""},{"$f":"IF(入力シート!H475=\"\",\"\",入力シート!H475)","v":""},{"$f":"IF(入力シート!I475=\"\",\"\",入力シート!I475)","v":""},{"$f":"IF(入力シート!J475=\"\",\"\",入力シート!J475)","v":""},{"$f":"IF(入力シート!K475=\"\",\"\",入力シート!K475)","v":""},{"$f":"IF(入力シート!L475=\"\",\"\",入力シート!L475)","v":""},{"$f":"IF(入力シート!M475=\"\",\"\",入力シート!M475)","v":""},{"$f":"IF(入力シート!N475=\"\",\"\",入力シート!P475)","v":""}]
[{"$f":"IF(入力シート!A476=\"\",\"\",入力シート!A476)","v":""},{"$f":"IF(入力シート!B476=\"\",\"\",入力シート!B476)","v":""},{"$f":"IF(入力シート!C476=\"\",\"\",TEXT(入力シート!C476,\"yyyy-mm-dd\"))","v":""},{"$f":"IF(入力シート!O476=\"\",\"\",TEXT(入力シート!O476,\"000-0000\"))","v":""},{"$f":"IF(入力シート!F476=\"\",\"\",入力シート!F476)","v":""},{"$f":"IF(入力シート!G476=\"\",\"\",入力シート!G476)","v":""},{"$f":"IF(入力シート!H476=\"\",\"\",入力シート!H476)","v":""},{"$f":"IF(入力シート!I476=\"\",\"\",入力シート!I476)","v":""},{"$f":"IF(入力シート!J476=\"\",\"\",入力シート!J476)","v":""},{"$f":"IF(入力シート!K476=\"\",\"\",入力シート!K476)","v":""},{"$f":"IF(入力シート!L476=\"\",\"\",入力シート!L476)","v":""},{"$f":"IF(入力シート!M476=\"\",\"\",入力シート!M476)","v":""},{"$f":"IF(入力シート!N476=\"\",\"\",入力シート!P476)","v":""}]
[{"$f":"IF(入力シート!A477=\"\",\"\",入力シート!A477)","v":""},{"$f":"IF(入力シート!B477=\"\",\"\",入力シート!B477)","v":""},{"$f":"IF(入力シート!C477=\"\",\"\",TEXT(入力シート!C477,\"yyyy-mm-dd\"))","v":""},{"$f":"IF(入力シート!O477=\"\",\"\",TEXT(入力シート!O477,\"000-0000\"))","v":""},{"$f":"IF(入力シート!F477=\"\",\"\",入力シート!F477)","v":""},{"$f":"IF(入力シート!G477=\"\",\"\",入力シート!G477)","v":""},{"$f":"IF(入力シート!H477=\"\",\"\",入力シート!H477)","v":""},{"$f":"IF(入力シート!I477=\"\",\"\",入力シート!I477)","v":""},{"$f":"IF(入力シート!J477=\"\",\"\",入力シート!J477)","v":""},{"$f":"IF(入力シート!K477=\"\",\"\",入力シート!K477)","v":""},{"$f":"IF(入力シート!L477=\"\",\"\",入力シート!L477)","v":""},{"$f":"IF(入力シート!M477=\"\",\"\",入力シート!M477)","v":""},{"$f":"IF(入力シート!N477=\"\",\"\",入力シート!P477)","v":""}]
[{"$f":"IF(入力シート!A478=\"\",\"\",入力シート!A478)","v":""},{"$f":"IF(入力シート!B478=\"\",\"\",入力シート!B478)","v":""},{"$f":"IF(入力シート!C478=\"\",\"\",TEXT(入力シート!C478,\"yyyy-mm-dd\"))","v":""},{"$f":"IF(入力シート!O478=\"\",\"\",TEXT(入力シート!O478,\"000-0000\"))","v":""},{"$f":"IF(入力シート!F478=\"\",\"\",入力シート!F478)","v":""},{"$f":"IF(入力シート!G478=\"\",\"\",入力シート!G478)","v":""},{"$f":"IF(入力シート!H478=\"\",\"\",入力シート!H478)","v":""},{"$f":"IF(入力シート!I478=\"\",\"\",入力シート!I478)","v":""},{"$f":"IF(入力シート!J478=\"\",\"\",入力シート!J478)","v":""},{"$f":"IF(入力シート!K478=\"\",\"\",入力シート!K478)","v":""},{"$f":"IF(入力シート!L478=\"\",\"\",入力シート!L478)","v":""},{"$f":"IF(入力シート!M478=\"\",\"\",入力シート!M478)","v":""},{"$f":"IF(入力シート!N478=\"\",\"\",入力シート!P478)","v":""}]
[{"$f":"IF(入力シート!A479=\"\",\"\",入力シート!A479)","v":""},{"$f":"IF(入力シート!B479=\"\",\"\",入力シート!B479)","v":""},{"$f":"IF(入力シート!C479=\"\",\"\",TEXT(入力シート!C479,\"yyyy-mm-dd\"))","v":""},{"$f":"IF(入力シート!O479=\"\",\"\",TEXT(入力シート!O479,\"000-0000\"))","v":""},{"$f":"IF(入力シート!F479=\"\",\"\",入力シート!F479)","v":""},{"$f":"IF(入力シート!G479=\"\",\"\",入力シート!G479)","v":""},{"$f":"IF(入力シート!H479=\"\",\"\",入力シート!H479)","v":""},{"$f":"IF(入力シート!I479=\"\",\"\",入力シート!I479)","v":""},{"$f":"IF(入力シート!J479=\"\",\"\",入力シート!J479)","v":""},{"$f":"IF(入力シート!K479=\"\",\"\",入力シート!K479)","v":""},{"$f":"IF(入力シート!L479=\"\",\"\",入力シート!L479)","v":""},{"$f":"IF(入力シート!M479=\"\",\"\",入力シート!M479)","v":""},{"$f":"IF(入力シート!N479=\"\",\"\",入力シート!P479)","v":""}]
[{"$f":"IF(入力シート!A480=\"\",\"\",入力シート!A480)","v":""},{"$f":"IF(入力シート!B480=\"\",\"\",入力シート!B480)","v":""},{"$f":"IF(入力シート!C480=\"\",\"\",TEXT(入力シート!C480,\"yyyy-mm-dd\"))","v":""},{"$f":"IF(入力シート!O480=\"\",\"\",TEXT(入力シート!O480,\"000-0000\"))","v":""},{"$f":"IF(入力シート!F480=\"\",\"\",入力シート!F480)","v":""},{"$f":"IF(入力シート!G480=\"\",\"\",入力シート!G480)","v":""},{"$f":"IF(入力シート!H480=\"\",\"\",入力シート!H480)","v":""},{"$f":"IF(入力シート!I480=\"\",\"\",入力シート!I480)","v":""},{"$f":"IF(入力シート!J480=\"\",\"\",入力シート!J480)","v":""},{"$f":"IF(入力シート!K480=\"\",\"\",入力シート!K480)","v":""},{"$f":"IF(入力シート!L480=\"\",\"\",入力シート!L480)","v":""},{"$f":"IF(入力シート!M480=\"\",\"\",入力シート!M480)","v":""},{"$f":"IF(入力シート!N480=\"\",\"\",入力シート!P480)","v":""}]
[{"$f":"IF(入力シート!A481=\"\",\"\",入力シート!A481)","v":""},{"$f":"IF(入力シート!B481=\"\",\"\",入力シート!B481)","v":""},{"$f":"IF(入力シート!C481=\"\",\"\",TEXT(入力シート!C481,\"yyyy-mm-dd\"))","v":""},{"$f":"IF(入力シート!O481=\"\",\"\",TEXT(入力シート!O481,\"000-0000\"))","v":""},{"$f":"IF(入力シート!F481=\"\",\"\",入力シート!F481)","v":""},{"$f":"IF(入力シート!G481=\"\",\"\",入力シート!G481)","v":""},{"$f":"IF(入力シート!H481=\"\",\"\",入力シート!H481)","v":""},{"$f":"IF(入力シート!I481=\"\",\"\",入力シート!I481)","v":""},{"$f":"IF(入力シート!J481=\"\",\"\",入力シート!J481)","v":""},{"$f":"IF(入力シート!K481=\"\",\"\",入力シート!K481)","v":""},{"$f":"IF(入力シート!L481=\"\",\"\",入力シート!L481)","v":""},{"$f":"IF(入力シート!M481=\"\",\"\",入力シート!M481)","v":""},{"$f":"IF(入力シート!N481=\"\",\"\",入力シート!P481)","v":""}]
[{"$f":"IF(入力シート!A482=\"\",\"\",入力シート!A482)","v":""},{"$f":"IF(入力シート!B482=\"\",\"\",入力シート!B482)","v":""},{"$f":"IF(入力シート!C482=\"\",\"\",TEXT(入力シート!C482,\"yyyy-mm-dd\"))","v":""},{"$f":"IF(入力シート!O482=\"\",\"\",TEXT(入力シート!O482,\"000-0000\"))","v":""},{"$f":"IF(入力シート!F482=\"\",\"\",入力シート!F482)","v":""},{"$f":"IF(入力シート!G482=\"\",\"\",入力シート!G482)","v":""},{"$f":"IF(入力シート!H482=\"\",\"\",入力シート!H482)","v":""},{"$f":"IF(入力シート!I482=\"\",\"\",入力シート!I482)","v":""},{"$f":"IF(入力シート!J482=\"\",\"\",入力シート!J482)","v":""},{"$f":"IF(入力シート!K482=\"\",\"\",入力シート!K482)","v":""},{"$f":"IF(入力シート!L482=\"\",\"\",入力シート!L482)","v":""},{"$f":"IF(入力シート!M482=\"\",\"\",入力シート!M482)","v":""},{"$f":"IF(入力シート!N482=\"\",\"\",入力シート!P482)","v":""}]
[{"$f":"IF(入力シート!A483=\"\",\"\",入力シート!A483)","v":""},{"$f":"IF(入力シート!B483=\"\",\"\",入力シート!B483)","v":""},{"$f":"IF(入力シート!C483=\"\",\"\",TEXT(入力シート!C483,\"yyyy-mm-dd\"))","v":""},{"$f":"IF(入力シート!O483=\"\",\"\",TEXT(入力シート!O483,\"000-0000\"))","v":""},{"$f":"IF(入力シート!F483=\"\",\"\",入力シート!F483)","v":""},{"$f":"IF(入力シート!G483=\"\",\"\",入力シート!G483)","v":""},{"$f":"IF(入力シート!H483=\"\",\"\",入力シート!H483)","v":""},{"$f":"IF(入力シート!I483=\"\",\"\",入力シート!I483)","v":""},{"$f":"IF(入力シート!J483=\"\",\"\",入力シート!J483)","v":""},{"$f":"IF(入力シート!K483=\"\",\"\",入力シート!K483)","v":""},{"$f":"IF(入力シート!L483=\"\",\"\",入力シート!L483)","v":""},{"$f":"IF(入力シート!M483=\"\",\"\",入力シート!M483)","v":""},{"$f":"IF(入力シート!N483=\"\",\"\",入力シート!P483)","v":""}]
[{"$f":"IF(入力シート!A484=\"\",\"\",入力シート!A484)","v":""},{"$f":"IF(入力シート!B484=\"\",\"\",入力シート!B484)","v":""},{"$f":"IF(入力シート!C484=\"\",\"\",TEXT(入力シート!C484,\"yyyy-mm-dd\"))","v":""},{"$f":"IF(入力シート!O484=\"\",\"\",TEXT(入力シート!O484,\"000-0000\"))","v":""},{"$f":"IF(入力シート!F484=\"\",\"\",入力シート!F484)","v":""},{"$f":"IF(入力シート!G484=\"\",\"\",入力シート!G484)","v":""},{"$f":"IF(入力シート!H484=\"\",\"\",入力シート!H484)","v":""},{"$f":"IF(入力シート!I484=\"\",\"\",入力シート!I484)","v":""},{"$f":"IF(入力シート!J484=\"\",\"\",入力シート!J484)","v":""},{"$f":"IF(入力シート!K484=\"\",\"\",入力シート!K484)","v":""},{"$f":"IF(入力シート!L484=\"\",\"\",入力シート!L484)","v":""},{"$f":"IF(入力シート!M484=\"\",\"\",入力シート!M484)","v":""},{"$f":"IF(入力シート!N484=\"\",\"\",入力シート!P484)","v":""}]
[{"$f":"IF(入力シート!A485=\"\",\"\",入力シート!A485)","v":""},{"$f":"IF(入力シート!B485=\"\",\"\",入力シート!B485)","v":""},{"$f":"IF(入力シート!C485=\"\",\"\",TEXT(入力シート!C485,\"yyyy-mm-dd\"))","v":""},{"$f":"IF(入力シート!O485=\"\",\"\",TEXT(入力シート!O485,\"000-0000\"))","v":""},{"$f":"IF(入力シート!F485=\"\",\"\",入力シート!F485)","v":""},{"$f":"IF(入力シート!G485=\"\",\"\",入力シート!G485)","v":""},{"$f":"IF(入力シート!H485=\"\",\"\",入力シート!H485)","v":""},{"$f":"IF(入力シート!I485=\"\",\"\",入力シート!I485)","v":""},{"$f":"IF(入力シート!J485=\"\",\"\",入力シート!J485)","v":""},{"$f":"IF(入力シート!K485=\"\",\"\",入力シート!K485)","v":""},{"$f":"IF(入力シート!L485=\"\",\"\",入力シート!L485)","v":""},{"$f":"IF(入力シート!M485=\"\",\"\",入力シート!M485)","v":""},{"$f":"IF(入力シート!N485=\"\",\"\",入力シート!P485)","v":""}]
[{"$f":"IF(入力シート!A486=\"\",\"\",入力シート!A486)","v":""},{"$f":"IF(入力シート!B486=\"\",\"\",入力シート!B486)","v":""},{"$f":"IF(入力シート!C486=\"\",\"\",TEXT(入力シート!C486,\"yyyy-mm-dd\"))","v":""},{"$f":"IF(入力シート!O486=\"\",\"\",TEXT(入力シート!O486,\"000-0000\"))","v":""},{"$f":"IF(入力シート!F486=\"\",\"\",入力シート!F486)","v":""},{"$f":"IF(入力シート!G486=\"\",\"\",入力シート!G486)","v":""},{"$f":"IF(入力シート!H486=\"\",\"\",入力シート!H486)","v":""},{"$f":"IF(入力シート!I486=\"\",\"\",入力シート!I486)","v":""},{"$f":"IF(入力シート!J486=\"\",\"\",入力シート!J486)","v":""},{"$f":"IF(入力シート!K486=\"\",\"\",入力シート!K486)","v":""},{"$f":"IF(入力シート!L486=\"\",\"\",入力シート!L486)","v":""},{"$f":"IF(入力シート!M486=\"\",\"\",入力シート!M486)","v":""},{"$f":"IF(入力シート!N486=\"\",\"\",入力シート!P486)","v":""}]
[{"$f":"IF(入力シート!A487=\"\",\"\",入力シート!A487)","v":""},{"$f":"IF(入力シート!B487=\"\",\"\",入力シート!B487)","v":""},{"$f":"IF(入力シート!C487=\"\",\"\",TEXT(入力シート!C487,\"yyyy-mm-dd\"))","v":""},{"$f":"IF(入力シート!O487=\"\",\"\",TEXT(入力シート!O487,\"000-0000\"))","v":""},{"$f":"IF(入力シート!F487=\"\",\"\",入力シート!F487)","v":""},{"$f":"IF(入力シート!G487=\"\",\"\",入力シート!G487)","v":""},{"$f":"IF(入力シート!H487=\"\",\"\",入力シート!H487)","v":""},{"$f":"IF(入力シート!I487=\"\",\"\",入力シート!I487)","v":""},{"$f":"IF(入力シート!J487=\"\",\"\",入力シート!J487)","v":""},{"$f":"IF(入力シート!K487=\"\",\"\",入力シート!K487)","v":""},{"$f":"IF(入力シート!L487=\"\",\"\",入力シート!L487)","v":""},{"$f":"IF(入力シート!M487=\"\",\"\",入力シート!M487)","v":""},{"$f":"IF(入力シート!N487=\"\",\"\",入力シート!P487)","v":""}]
[{"$f":"IF(入力シート!A488=\"\",\"\",入力シート!A488)","v":""},{"$f":"IF(入力シート!B488=\"\",\"\",入力シート!B488)","v":""},{"$f":"IF(入力シート!C488=\"\",\"\",TEXT(入力シート!C488,\"yyyy-mm-dd\"))","v":""},{"$f":"IF(入力シート!O488=\"\",\"\",TEXT(入力シート!O488,\"000-0000\"))","v":""},{"$f":"IF(入力シート!F488=\"\",\"\",入力シート!F488)","v":""},{"$f":"IF(入力シート!G488=\"\",\"\",入力シート!G488)","v":""},{"$f":"IF(入力シート!H488=\"\",\"\",入力シート!H488)","v":""},{"$f":"IF(入力シート!I488=\"\",\"\",入力シート!I488)","v":""},{"$f":"IF(入力シート!J488=\"\",\"\",入力シート!J488)","v":""},{"$f":"IF(入力シート!K488=\"\",\"\",入力シート!K488)","v":""},{"$f":"IF(入力シート!L488=\"\",\"\",入力シート!L488)","v":""},{"$f":"IF(入力シート!M488=\"\",\"\",入力シート!M488)","v":""},{"$f":"IF(入力シート!N488=\"\",\"\",入力シート!P488)","v":""}]
[{"$f":"IF(入力シート!A489=\"\",\"\",入力シート!A489)","v":""},{"$f":"IF(入力シート!B489=\"\",\"\",入力シート!B489)","v":""},{"$f":"IF(入力シート!C489=\"\",\"\",TEXT(入力シート!C489,\"yyyy-mm-dd\"))","v":""},{"$f":"IF(入力シート!O489=\"\",\"\",TEXT(入力シート!O489,\"000-0000\"))","v":""},{"$f":"IF(入力シート!F489=\"\",\"\",入力シート!F489)","v":""},{"$f":"IF(入力シート!G489=\"\",\"\",入力シート!G489)","v":""},{"$f":"IF(入力シート!H489=\"\",\"\",入力シート!H489)","v":""},{"$f":"IF(入力シート!I489=\"\",\"\",入力シート!I489)","v":""},{"$f":"IF(入力シート!J489=\"\",\"\",入力シート!J489)","v":""},{"$f":"IF(入力シート!K489=\"\",\"\",入力シート!K489)","v":""},{"$f":"IF(入力シート!L489=\"\",\"\",入力シート!L489)","v":""},{"$f":"IF(入力シート!M489=\"\",\"\",入力シート!M489)","v":""},{"$f":"IF(入力シート!N489=\"\",\"\",入力シート!P489)","v":""}]
[{"$f":"IF(入力シート!A490=\"\",\"\",入力シート!A490)","v":""},{"$f":"IF(入力シート!B490=\"\",\"\",入力シート!B490)","v":""},{"$f":"IF(入力シート!C490=\"\",\"\",TEXT(入力シート!C490,\"yyyy-mm-dd\"))","v":""},{"$f":"IF(入力シート!O490=\"\",\"\",TEXT(入力シート!O490,\"000-0000\"))","v":""},{"$f":"IF(入力シート!F490=\"\",\"\",入力シート!F490)","v":""},{"$f":"IF(入力シート!G490=\"\",\"\",入力シート!G490)","v":""},{"$f":"IF(入力シート!H490=\"\",\"\",入力シート!H490)","v":""},{"$f":"IF(入力シート!I490=\"\",\"\",入力シート!I490)","v":""},{"$f":"IF(入力シート!J490=\"\",\"\",入力シート!J490)","v":""},{"$f":"IF(入力シート!K490=\"\",\"\",入力シート!K490)","v":""},{"$f":"IF(入力シート!L490=\"\",\"\",入力シート!L490)","v":""},{"$f":"IF(入力シート!M490=\"\",\"\",入力シート!M490)","v":""},{"$f":"IF(入力シート!N490=\"\",\"\",入力シート!P490)","v":""}]
[{"$f":"IF(入力シート!A491=\"\",\"\",入力シート!A491)","v":""},{"$f":"IF(入力シート!B491=\"\",\"\",入力シート!B491)","v":""},{"$f":"IF(入力シート!C491=\"\",\"\",TEXT(入力シート!C491,\"yyyy-mm-dd\"))","v":""},{"$f":"IF(入力シート!O491=\"\",\"\",TEXT(入力シート!O491,\"000-0000\"))","v":""},{"$f":"IF(入力シート!F491=\"\",\"\",入力シート!F491)","v":""},{"$f":"IF(入力シート!G491=\"\",\"\",入力シート!G491)","v":""},{"$f":"IF(入力シート!H491=\"\",\"\",入力シート!H491)","v":""},{"$f":"IF(入力シート!I491=\"\",\"\",入力シート!I491)","v":""},{"$f":"IF(入力シート!J491=\"\",\"\",入力シート!J491)","v":""},{"$f":"IF(入力シート!K491=\"\",\"\",入力シート!K491)","v":""},{"$f":"IF(入力シート!L491=\"\",\"\",入力シート!L491)","v":""},{"$f":"IF(入力シート!M491=\"\",\"\",入力シート!M491)","v":""},{"$f":"IF(入力シート!N491=\"\",\"\",入力シート!P491)","v":""}]
[{"$f":"IF(入力シート!A492=\"\",\"\",入力シート!A492)","v":""},{"$f":"IF(入力シート!B492=\"\",\"\",入力シート!B492)","v":""},{"$f":"IF(入力シート!C492=\"\",\"\",TEXT(入力シート!C492,\"yyyy-mm-dd\"))","v":""},{"$f":"IF(入力シート!O492=\"\",\"\",TEXT(入力シート!O492,\"000-0000\"))","v":""},{"$f":"IF(入力シート!F492=\"\",\"\",入力シート!F492)","v":""},{"$f":"IF(入力シート!G492=\"\",\"\",入力シート!G492)","v":""},{"$f":"IF(入力シート!H492=\"\",\"\",入力シート!H492)","v":""},{"$f":"IF(入力シート!I492=\"\",\"\",入力シート!I492)","v":""},{"$f":"IF(入力シート!J492=\"\",\"\",入力シート!J492)","v":""},{"$f":"IF(入力シート!K492=\"\",\"\",入力シート!K492)","v":""},{"$f":"IF(入力シート!L492=\"\",\"\",入力シート!L492)","v":""},{"$f":"IF(入力シート!M492=\"\",\"\",入力シート!M492)","v":""},{"$f":"IF(入力シート!N492=\"\",\"\",入力シート!P492)","v":""}]
[{"$f":"IF(入力シート!A493=\"\",\"\",入力シート!A493)","v":""},{"$f":"IF(入力シート!B493=\"\",\"\",入力シート!B493)","v":""},{"$f":"IF(入力シート!C493=\"\",\"\",TEXT(入力シート!C493,\"yyyy-mm-dd\"))","v":""},{"$f":"IF(入力シート!O493=\"\",\"\",TEXT(入力シート!O493,\"000-0000\"))","v":""},{"$f":"IF(入力シート!F493=\"\",\"\",入力シート!F493)","v":""},{"$f":"IF(入力シート!G493=\"\",\"\",入力シート!G493)","v":""},{"$f":"IF(入力シート!H493=\"\",\"\",入力シート!H493)","v":""},{"$f":"IF(入力シート!I493=\"\",\"\",入力シート!I493)","v":""},{"$f":"IF(入力シート!J493=\"\",\"\",入力シート!J493)","v":""},{"$f":"IF(入力シート!K493=\"\",\"\",入力シート!K493)","v":""},{"$f":"IF(入力シート!L493=\"\",\"\",入力シート!L493)","v":""},{"$f":"IF(入力シート!M493=\"\",\"\",入力シート!M493)","v":""},{"$f":"IF(入力シート!N493=\"\",\"\",入力シート!P493)","v":""}]
[{"$f":"IF(入力シート!A494=\"\",\"\",入力シート!A494)","v":""},{"$f":"IF(入力シート!B494=\"\",\"\",入力シート!B494)","v":""},{"$f":"IF(入力シート!C494=\"\",\"\",TEXT(入力シート!C494,\"yyyy-mm-dd\"))","v":""},{"$f":"IF(入力シート!O494=\"\",\"\",TEXT(入力シート!O494,\"000-0000\"))","v":""},{"$f":"IF(入力シート!F494=\"\",\"\",入力シート!F494)","v":""},{"$f":"IF(入力シート!G494=\"\",\"\",入力シート!G494)","v":""},{"$f":"IF(入力シート!H494=\"\",\"\",入力シート!H494)","v":""},{"$f":"IF(入力シート!I494=\"\",\"\",入力シート!I494)","v":""},{"$f":"IF(入力シート!J494=\"\",\"\",入力シート!J494)","v":""},{"$f":"IF(入力シート!K494=\"\",\"\",入力シート!K494)","v":""},{"$f":"IF(入力シート!L494=\"\",\"\",入力シート!L494)","v":""},{"$f":"IF(入力シート!M494=\"\",\"\",入力シート!M494)","v":""},{"$f":"IF(入力シート!N494=\"\",\"\",入力シート!P494)","v":""}]
[{"$f":"IF(入力シート!A495=\"\",\"\",入力シート!A495)","v":""},{"$f":"IF(入力シート!B495=\"\",\"\",入力シート!B495)","v":""},{"$f":"IF(入力シート!C495=\"\",\"\",TEXT(入力シート!C495,\"yyyy-mm-dd\"))","v":""},{"$f":"IF(入力シート!O495=\"\",\"\",TEXT(入力シート!O495,\"000-0000\"))","v":""},{"$f":"IF(入力シート!F495=\"\",\"\",入力シート!F495)","v":""},{"$f":"IF(入力シート!G495=\"\",\"\",入力シート!G495)","v":""},{"$f":"IF(入力シート!H495=\"\",\"\",入力シート!H495)","v":""},{"$f":"IF(入力シート!I495=\"\",\"\",入力シート!I495)","v":""},{"$f":"IF(入力シート!J495=\"\",\"\",入力シート!J495)","v":""},{"$f":"IF(入力シート!K495=\"\",\"\",入力シート!K495)","v":""},{"$f":"IF(入力シート!L495=\"\",\"\",入力シート!L495)","v":""},{"$f":"IF(入力シート!M495=\"\",\"\",入力シート!M495)","v":""},{"$f":"IF(入力シート!N495=\"\",\"\",入力シート!P495)","v":""}]
[{"$f":"IF(入力シート!A496=\"\",\"\",入力シート!A496)","v":""},{"$f":"IF(入力シート!B496=\"\",\"\",入力シート!B496)","v":""},{"$f":"IF(入力シート!C496=\"\",\"\",TEXT(入力シート!C496,\"yyyy-mm-dd\"))","v":""},{"$f":"IF(入力シート!O496=\"\",\"\",TEXT(入力シート!O496,\"000-0000\"))","v":""},{"$f":"IF(入力シート!F496=\"\",\"\",入力シート!F496)","v":""},{"$f":"IF(入力シート!G496=\"\",\"\",入力シート!G496)","v":""},{"$f":"IF(入力シート!H496=\"\",\"\",入力シート!H496)","v":""},{"$f":"IF(入力シート!I496=\"\",\"\",入力シート!I496)","v":""},{"$f":"IF(入力シート!J496=\"\",\"\",入力シート!J496)","v":""},{"$f":"IF(入力シート!K496=\"\",\"\",入力シート!K496)","v":""},{"$f":"IF(入力シート!L496=\"\",\"\",入力シート!L496)","v":""},{"$f":"IF(入力シート!M496=\"\",\"\",入力シート!M496)","v":""},{"$f":"IF(入力シート!N496=\"\",\"\",入力シート!P496)","v":""}]
[{"$f":"IF(入力シート!A497=\"\",\"\",入力シート!A497)","v":""},{"$f":"IF(入力シート!B497=\"\",\"\",入力シート!B497)","v":""},{"$f":"IF(入力シート!C497=\"\",\"\",TEXT(入力シート!C497,\"yyyy-mm-dd\"))","v":""},{"$f":"IF(入力シート!O497=\"\",\"\",TEXT(入力シート!O497,\"000-0000\"))","v":""},{"$f":"IF(入力シート!F497=\"\",\"\",入力シート!F497)","v":""},{"$f":"IF(入力シート!G497=\"\",\"\",入力シート!G497)","v":""},{"$f":"IF(入力シート!H497=\"\",\"\",入力シート!H497)","v":""},{"$f":"IF(入力シート!I497=\"\",\"\",入力シート!I497)","v":""},{"$f":"IF(入力シート!J497=\"\",\"\",入力シート!J497)","v":""},{"$f":"IF(入力シート!K497=\"\",\"\",入力シート!K497)","v":""},{"$f":"IF(入力シート!L497=\"\",\"\",入力シート!L497)","v":""},{"$f":"IF(入力シート!M497=\"\",\"\",入力シート!M497)","v":""},{"$f":"IF(入力シート!N497=\"\",\"\",入力シート!P497)","v":""}]
[{"$f":"IF(入力シート!A498=\"\",\"\",入力シート!A498)","v":""},{"$f":"IF(入力シート!B498=\"\",\"\",入力シート!B498)","v":""},{"$f":"IF(入力シート!C498=\"\",\"\",TEXT(入力シート!C498,\"yyyy-mm-dd\"))","v":""},{"$f":"IF(入力シート!O498=\"\",\"\",TEXT(入力シート!O498,\"000-0000\"))","v":""},{"$f":"IF(入力シート!F498=\"\",\"\",入力シート!F498)","v":""},{"$f":"IF(入力シート!G498=\"\",\"\",入力シート!G498)","v":""},{"$f":"IF(入力シート!H498=\"\",\"\",入力シート!H498)","v":""},{"$f":"IF(入力シート!I498=\"\",\"\",入力シート!I498)","v":""},{"$f":"IF(入力シート!J498=\"\",\"\",入力シート!J498)","v":""},{"$f":"IF(入力シート!K498=\"\",\"\",入力シート!K498)","v":""},{"$f":"IF(入力シート!L498=\"\",\"\",入力シート!L498)","v":""},{"$f":"IF(入力シート!M498=\"\",\"\",入力シート!M498)","v":""},{"$f":"IF(入力シート!N498=\"\",\"\",入力シート!P498)","v":""}]
[{"$f":"IF(入力シート!A499=\"\",\"\",入力シート!A499)","v":""},{"$f":"IF(入力シート!B499=\"\",\"\",入力シート!B499)","v":""},{"$f":"IF(入力シート!C499=\"\",\"\",TEXT(入力シート!C499,\"yyyy-mm-dd\"))","v":""},{"$f":"IF(入力シート!O499=\"\",\"\",TEXT(入力シート!O499,\"000-0000\"))","v":""},{"$f":"IF(入力シート!F499=\"\",\"\",入力シート!F499)","v":""},{"$f":"IF(入力シート!G499=\"\",\"\",入力シート!G499)","v":""},{"$f":"IF(入力シート!H499=\"\",\"\",入力シート!H499)","v":""},{"$f":"IF(入力シート!I499=\"\",\"\",入力シート!I499)","v":""},{"$f":"IF(入力シート!J499=\"\",\"\",入力シート!J499)","v":""},{"$f":"IF(入力シート!K499=\"\",\"\",入力シート!K499)","v":""},{"$f":"IF(入力シート!L499=\"\",\"\",入力シート!L499)","v":""},{"$f":"IF(入力シート!M499=\"\",\"\",入力シート!M499)","v":""},{"$f":"IF(入力シート!N499=\"\",\"\",入力シート!P499)","v":""}]
[{"$f":"IF(入力シート!A500=\"\",\"\",入力シート!A500)","v":""},{"$f":"IF(入力シート!B500=\"\",\"\",入力シート!B500)","v":""},{"$f":"IF(入力シート!C500=\"\",\"\",TEXT(入力シート!C500,\"yyyy-mm-dd\"))","v":""},{"$f":"IF(入力シート!O500=\"\",\"\",TEXT(入力シート!O500,\"000-0000\"))","v":""},{"$f":"IF(入力シート!F500=\"\",\"\",入力シート!F500)","v":""},{"$f":"IF(入力シート!G500=\"\",\"\",入力シート!G500)","v":""},{"$f":"IF(入力シート!H500=\"\",\"\",入力シート!H500)","v":""},{"$f":"IF(入力シート!I500=\"\",\"\",入力シート!I500)","v":""},{"$f":"IF(入力シート!J500=\"\",\"\",入力シート!J500)","v":""},{"$f":"IF(入力シート!K500=\"\",\"\",入力シート!K500)","v":""},{"$f":"IF(入力シート!L500=\"\",\"\",入力シート!L500)","v":""},{"$f":"IF(入力シート!M500=\"\",\"\",入力シート!M500)","v":""},{"$f":"IF(入力シート!N500=\"\",\"\",入力シート!P500)","v":""}]
[{"$f":"IF(入力シート!A501=\"\",\"\",入力シート!A501)","v":""},{"$f":"IF(入力シート!B501=\"\",\"\",入力シート!B501)","v":""},{"$f":"IF(入力シート!C501=\"\",\"\",TEXT(入力シート!C501,\"yyyy-mm-dd\"))","v":""},{"$f":"IF(入力シート!O501=\"\",\"\",TEXT(入力シート!O501,\"000-0000\"))","v":""},{"$f":"IF(入力シート!F501=\"\",\"\",入力シート!F501)","v":""},{"$f":"IF(入力シート!G501=\"\",\"\",入力シート!G501)","v":""},{"$f":"IF(入力シート!H501=\"\",\"\",入力シート!H501)","v":""},{"$f":"IF(入力シート!I501=\"\",\"\",入力シート!I501)","v":""},{"$f":"IF(入力シート!J501=\"\",\"\",入力シート!J501)","v":""},{"$f":"IF(入力シート!K501=\"\",\"\",入力シート!K501)","v":""},{"$f":"IF(入力シート!L501=\"\",\"\",入力シート!L501)","v":""},{"$f":"IF(入力シート!M501=\"\",\"\",入力シート!M501)","v":""},{"$f":"IF(入力シート!N501=\"\",\"\",入力シート!P501)","v":""}]
[{"$f":"IF(入力シート!A502=\"\",\"\",入力シート!A502)","v":""},{"$f":"IF(入力シート!B502=\"\",\"\",入力シート!B502)","v":""},{"$f":"IF(入力シート!C502=\"\",\"\",TEXT(入力シート!C502,\"yyyy-mm-dd\"))","v":""},{"$f":"IF(入力シート!O502=\"\",\"\",TEXT(入力シート!O502,\"000-0000\"))","v":""},{"$f":"IF(入力シート!F502=\"\",\"\",入力シート!F502)","v":""},{"$f":"IF(入力シート!G502=\"\",\"\",入力シート!G502)","v":""},{"$f":"IF(入力シート!H502=\"\",\"\",入力シート!H502)","v":""},{"$f":"IF(入力シート!I502=\"\",\"\",入力シート!I502)","v":""},{"$f":"IF(入力シート!J502=\"\",\"\",入力シート!J502)","v":""},{"$f":"IF(入力シート!K502=\"\",\"\",入力シート!K502)","v":""},{"$f":"IF(入力シート!L502=\"\",\"\",入力シート!L502)","v":""},{"$f":"IF(入力シート!M502=\"\",\"\",入力シート!M502)","v":""},{"$f":"IF(入力シート!N502=\"\",\"\",入力シート!P502)","v":""}]
[{"$f":"IF(入力シート!A503=\"\",\"\",入力シート!A503)","v":""},{"$f":"IF(入力シート!B503=\"\",\"\",入力シート!B503)","v":""},{"$f":"IF(入力シート!C503=\"\",\"\",TEXT(入力シート!C503,\"yyyy-mm-dd\"))","v":""},{"$f":"IF(入力シート!O503=\"\",\"\",TEXT(入力シート!O503,\"000-0000\"))","v":""},{"$f":"IF(入力シート!F503=\"\",\"\",入力シート!F503)","v":""},{"$f":"IF(入力シート!G503=\"\",\"\",入力シート!G503)","v":""},{"$f":"IF(入力シート!H503=\"\",\"\",入力シート!H503)","v":""},{"$f":"IF(入力シート!I503=\"\",\"\",入力シート!I503)","v":""},{"$f":"IF(入力シート!J503=\"\",\"\",入力シート!J503)","v":""},{"$f":"IF(入力シート!K503=\"\",\"\",入力シート!K503)","v":""},{"$f":"IF(入力シート!L503=\"\",\"\",入力シート!L503)","v":""},{"$f":"IF(入力シート!M503=\"\",\"\",入力シート!M503)","v":""},{"$f":"IF(入力シート!N503=\"\",\"\",入力シート!P503)","v":""}]
[{"$f":"IF(入力シート!A504=\"\",\"\",入力シート!A504)","v":""},{"$f":"IF(入力シート!B504=\"\",\"\",入力シート!B504)","v":""},{"$f":"IF(入力シート!C504=\"\",\"\",TEXT(入力シート!C504,\"yyyy-mm-dd\"))","v":""},{"$f":"IF(入力シート!O504=\"\",\"\",TEXT(入力シート!O504,\"000-0000\"))","v":""},{"$f":"IF(入力シート!F504=\"\",\"\",入力シート!F504)","v":""},{"$f":"IF(入力シート!G504=\"\",\"\",入力シート!G504)","v":""},{"$f":"IF(入力シート!H504=\"\",\"\",入力シート!H504)","v":""},{"$f":"IF(入力シート!I504=\"\",\"\",入力シート!I504)","v":""},{"$f":"IF(入力シート!J504=\"\",\"\",入力シート!J504)","v":""},{"$f":"IF(入力シート!K504=\"\",\"\",入力シート!K504)","v":""},{"$f":"IF(入力シート!L504=\"\",\"\",入力シート!L504)","v":""},{"$f":"IF(入力シート!M504=\"\",\"\",入力シート!M504)","v":""},{"$f":"IF(入力シート!N504=\"\",\"\",入力シート!P504)","v":""}]
[{"$f":"IF(入力シート!A505=\"\",\"\",入力シート!A505)","v":""},{"$f":"IF(入力シート!B505=\"\",\"\",入力シート!B505)","v":""},{"$f":"IF(入力シート!C505=\"\",\"\",TEXT(入力シート!C505,\"yyyy-mm-dd\"))","v":""},{"$f":"IF(入力シート!O505=\"\",\"\",TEXT(入力シート!O505,\"000-0000\"))","v":""},{"$f":"IF(入力シート!F505=\"\",\"\",入力シート!F505)","v":""},{"$f":"IF(入力シート!G505=\"\",\"\",入力シート!G505)","v":""},{"$f":"IF(入力シート!H505=\"\",\"\",入力シート!H505)","v":""},{"$f":"IF(入力シート!I505=\"\",\"\",入力シート!I505)","v":""},{"$f":"IF(入力シート!J505=\"\",\"\",入力シート!J505)","v":""},{"$f":"IF(入力シート!K505=\"\",\"\",入力シート!K505)","v":""},{"$f":"IF(入力シート!L505=\"\",\"\",入力シート!L505)","v":""},{"$f":"IF(入力シート!M505=\"\",\"\",入力シート!M505)","v":""},{"$f":"IF(入力シート!N505=\"\",\"\",入力シート!P505)","v":""}]
[{"$f":"IF(入力シート!A506=\"\",\"\",入力シート!A506)","v":""},{"$f":"IF(入力シート!B506=\"\",\"\",入力シート!B506)","v":""},{"$f":"IF(入力シート!C506=\"\",\"\",TEXT(入力シート!C506,\"yyyy-mm-dd\"))","v":""},{"$f":"IF(入力シート!O506=\"\",\"\",TEXT(入力シート!O506,\"000-0000\"))","v":""},{"$f":"IF(入力シート!F506=\"\",\"\",入力シート!F506)","v":""},{"$f":"IF(入力シート!G506=\"\",\"\",入力シート!G506)","v":""},{"$f":"IF(入力シート!H506=\"\",\"\",入力シート!H506)","v":""},{"$f":"IF(入力シート!I506=\"\",\"\",入力シート!I506)","v":""},{"$f":"IF(入力シート!J506=\"\",\"\",入力シート!J506)","v":""},{"$f":"IF(入力シート!K506=\"\",\"\",入力シート!K506)","v":""},{"$f":"IF(入力シート!L506=\"\",\"\",入力シート!L506)","v":""},{"$f":"IF(入力シート!M506=\"\",\"\",入力シート!M506)","v":""},{"$f":"IF(入力シート!N506=\"\",\"\",入力シート!P506)","v":""}]
[{"$f":"IF(入力シート!A507=\"\",\"\",入力シート!A507)","v":""},{"$f":"IF(入力シート!B507=\"\",\"\",入力シート!B507)","v":""},{"$f":"IF(入力シート!C507=\"\",\"\",TEXT(入力シート!C507,\"yyyy-mm-dd\"))","v":""},{"$f":"IF(入力シート!O507=\"\",\"\",TEXT(入力シート!O507,\"000-0000\"))","v":""},{"$f":"IF(入力シート!F507=\"\",\"\",入力シート!F507)","v":""},{"$f":"IF(入力シート!G507=\"\",\"\",入力シート!G507)","v":""},{"$f":"IF(入力シート!H507=\"\",\"\",入力シート!H507)","v":""},{"$f":"IF(入力シート!I507=\"\",\"\",入力シート!I507)","v":""},{"$f":"IF(入力シート!J507=\"\",\"\",入力シート!J507)","v":""},{"$f":"IF(入力シート!K507=\"\",\"\",入力シート!K507)","v":""},{"$f":"IF(入力シート!L507=\"\",\"\",入力シート!L507)","v":""},{"$f":"IF(入力シート!M507=\"\",\"\",入力シート!M507)","v":""},{"$f":"IF(入力シート!N507=\"\",\"\",入力シート!P507)","v":""}]
[{"$f":"IF(入力シート!A508=\"\",\"\",入力シート!A508)","v":""},{"$f":"IF(入力シート!B508=\"\",\"\",入力シート!B508)","v":""},{"$f":"IF(入力シート!C508=\"\",\"\",TEXT(入力シート!C508,\"yyyy-mm-dd\"))","v":""},{"$f":"IF(入力シート!O508=\"\",\"\",TEXT(入力シート!O508,\"000-0000\"))","v":""},{"$f":"IF(入力シート!F508=\"\",\"\",入力シート!F508)","v":""},{"$f":"IF(入力シート!G508=\"\",\"\",入力シート!G508)","v":""},{"$f":"IF(入力シート!H508=\"\",\"\",入力シート!H508)","v":""},{"$f":"IF(入力シート!I508=\"\",\"\",入力シート!I508)","v":""},{"$f":"IF(入力シート!J508=\"\",\"\",入力シート!J508)","v":""},{"$f":"IF(入力シート!K508=\"\",\"\",入力シート!K508)","v":""},{"$f":"IF(入力シート!L508=\"\",\"\",入力シート!L508)","v":""},{"$f":"IF(入力シート!M508=\"\",\"\",入力シート!M508)","v":""},{"$f":"IF(入力シート!N508=\"\",\"\",入力シート!P508)","v":""}]
[{"$f":"IF(入力シート!A509=\"\",\"\",入力シート!A509)","v":""},{"$f":"IF(入力シート!B509=\"\",\"\",入力シート!B509)","v":""},{"$f":"IF(入力シート!C509=\"\",\"\",TEXT(入力シート!C509,\"yyyy-mm-dd\"))","v":""},{"$f":"IF(入力シート!O509=\"\",\"\",TEXT(入力シート!O509,\"000-0000\"))","v":""},{"$f":"IF(入力シート!F509=\"\",\"\",入力シート!F509)","v":""},{"$f":"IF(入力シート!G509=\"\",\"\",入力シート!G509)","v":""},{"$f":"IF(入力シート!H509=\"\",\"\",入力シート!H509)","v":""},{"$f":"IF(入力シート!I509=\"\",\"\",入力シート!I509)","v":""},{"$f":"IF(入力シート!J509=\"\",\"\",入力シート!J509)","v":""},{"$f":"IF(入力シート!K509=\"\",\"\",入力シート!K509)","v":""},{"$f":"IF(入力シート!L509=\"\",\"\",入力シート!L509)","v":""},{"$f":"IF(入力シート!M509=\"\",\"\",入力シート!M509)","v":""},{"$f":"IF(入力シート!N509=\"\",\"\",入力シート!P509)","v":""}]
[{"$f":"IF(入力シート!A510=\"\",\"\",入力シート!A510)","v":""},{"$f":"IF(入力シート!B510=\"\",\"\",入力シート!B510)","v":""},{"$f":"IF(入力シート!C510=\"\",\"\",TEXT(入力シート!C510,\"yyyy-mm-dd\"))","v":""},{"$f":"IF(入力シート!O510=\"\",\"\",TEXT(入力シート!O510,\"000-0000\"))","v":""},{"$f":"IF(入力シート!F510=\"\",\"\",入力シート!F510)","v":""},{"$f":"IF(入力シート!G510=\"\",\"\",入力シート!G510)","v":""},{"$f":"IF(入力シート!H510=\"\",\"\",入力シート!H510)","v":""},{"$f":"IF(入力シート!I510=\"\",\"\",入力シート!I510)","v":""},{"$f":"IF(入力シート!J510=\"\",\"\",入力シート!J510)","v":""},{"$f":"IF(入力シート!K510=\"\",\"\",入力シート!K510)","v":""},{"$f":"IF(入力シート!L510=\"\",\"\",入力シート!L510)","v":""},{"$f":"IF(入力シート!M510=\"\",\"\",入力シート!M510)","v":""},{"$f":"IF(入力シート!N510=\"\",\"\",入力シート!P510)","v":""}]
[{"$f":"IF(入力シート!A511=\"\",\"\",入力シート!A511)","v":""},{"$f":"IF(入力シート!B511=\"\",\"\",入力シート!B511)","v":""},{"$f":"IF(入力シート!C511=\"\",\"\",TEXT(入力シート!C511,\"yyyy-mm-dd\"))","v":""},{"$f":"IF(入力シート!O511=\"\",\"\",TEXT(入力シート!O511,\"000-0000\"))","v":""},{"$f":"IF(入力シート!F511=\"\",\"\",入力シート!F511)","v":""},{"$f":"IF(入力シート!G511=\"\",\"\",入力シート!G511)","v":""},{"$f":"IF(入力シート!H511=\"\",\"\",入力シート!H511)","v":""},{"$f":"IF(入力シート!I511=\"\",\"\",入力シート!I511)","v":""},{"$f":"IF(入力シート!J511=\"\",\"\",入力シート!J511)","v":""},{"$f":"IF(入力シート!K511=\"\",\"\",入力シート!K511)","v":""},{"$f":"IF(入力シート!L511=\"\",\"\",入力シート!L511)","v":""},{"$f":"IF(入力シート!M511=\"\",\"\",入力シート!M511)","v":""},{"$f":"IF(入力シート!N511=\"\",\"\",入力シート!P511)","v":""}]
[{"$f":"IF(入力シート!A512=\"\",\"\",入力シート!A512)","v":""},{"$f":"IF(入力シート!B512=\"\",\"\",入力シート!B512)","v":""},{"$f":"IF(入力シート!C512=\"\",\"\",TEXT(入力シート!C512,\"yyyy-mm-dd\"))","v":""},{"$f":"IF(入力シート!O512=\"\",\"\",TEXT(入力シート!O512,\"000-0000\"))","v":""},{"$f":"IF(入力シート!F512=\"\",\"\",入力シート!F512)","v":""},{"$f":"IF(入力シート!G512=\"\",\"\",入力シート!G512)","v":""},{"$f":"IF(入力シート!H512=\"\",\"\",入力シート!H512)","v":""},{"$f":"IF(入力シート!I512=\"\",\"\",入力シート!I512)","v":""},{"$f":"IF(入力シート!J512=\"\",\"\",入力シート!J512)","v":""},{"$f":"IF(入力シート!K512=\"\",\"\",入力シート!K512)","v":""},{"$f":"IF(入力シート!L512=\"\",\"\",入力シート!L512)","v":""},{"$f":"IF(入力シート!M512=\"\",\"\",入力シート!M512)","v":""},{"$f":"IF(入力シート!N512=\"\",\"\",入力シート!P512)","v":""}]
[{"$f":"IF(入力シート!A513=\"\",\"\",入力シート!A513)","v":""},{"$f":"IF(入力シート!B513=\"\",\"\",入力シート!B513)","v":""},{"$f":"IF(入力シート!C513=\"\",\"\",TEXT(入力シート!C513,\"yyyy-mm-dd\"))","v":""},{"$f":"IF(入力シート!O513=\"\",\"\",TEXT(入力シート!O513,\"000-0000\"))","v":""},{"$f":"IF(入力シート!F513=\"\",\"\",入力シート!F513)","v":""},{"$f":"IF(入力シート!G513=\"\",\"\",入力シート!G513)","v":""},{"$f":"IF(入力シート!H513=\"\",\"\",入力シート!H513)","v":""},{"$f":"IF(入力シート!I513=\"\",\"\",入力シート!I513)","v":""},{"$f":"IF(入力シート!J513=\"\",\"\",入力シート!J513)","v":""},{"$f":"IF(入力シート!K513=\"\",\"\",入力シート!K513)","v":""},{"$f":"IF(入力シート!L513=\"\",\"\",入力シート!L513)","v":""},{"$f":"IF(入力シート!M513=\"\",\"\",入力シート!M513)","v":""},{"$f":"IF(入力シート!N513=\"\",\"\",入力シート!P513)","v":""}]
[{"$f":"IF(入力シート!A514=\"\",\"\",入力シート!A514)","v":""},{"$f":"IF(入力シート!B514=\"\",\"\",入力シート!B514)","v":""},{"$f":"IF(入力シート!C514=\"\",\"\",TEXT(入力シート!C514,\"yyyy-mm-dd\"))","v":""},{"$f":"IF(入力シート!O514=\"\",\"\",TEXT(入力シート!O514,\"000-0000\"))","v":""},{"$f":"IF(入力シート!F514=\"\",\"\",入力シート!F514)","v":""},{"$f":"IF(入力シート!G514=\"\",\"\",入力シート!G514)","v":""},{"$f":"IF(入力シート!H514=\"\",\"\",入力シート!H514)","v":""},{"$f":"IF(入力シート!I514=\"\",\"\",入力シート!I514)","v":""},{"$f":"IF(入力シート!J514=\"\",\"\",入力シート!J514)","v":""},{"$f":"IF(入力シート!K514=\"\",\"\",入力シート!K514)","v":""},{"$f":"IF(入力シート!L514=\"\",\"\",入力シート!L514)","v":""},{"$f":"IF(入力シート!M514=\"\",\"\",入力シート!M514)","v":""},{"$f":"IF(入力シート!N514=\"\",\"\",入力シート!P514)","v":""}]
[{"$f":"IF(入力シート!A515=\"\",\"\",入力シート!A515)","v":""},{"$f":"IF(入力シート!B515=\"\",\"\",入力シート!B515)","v":""},{"$f":"IF(入力シート!C515=\"\",\"\",TEXT(入力シート!C515,\"yyyy-mm-dd\"))","v":""},{"$f":"IF(入力シート!O515=\"\",\"\",TEXT(入力シート!O515,\"000-0000\"))","v":""},{"$f":"IF(入力シート!F515=\"\",\"\",入力シート!F515)","v":""},{"$f":"IF(入力シート!G515=\"\",\"\",入力シート!G515)","v":""},{"$f":"IF(入力シート!H515=\"\",\"\",入力シート!H515)","v":""},{"$f":"IF(入力シート!I515=\"\",\"\",入力シート!I515)","v":""},{"$f":"IF(入力シート!J515=\"\",\"\",入力シート!J515)","v":""},{"$f":"IF(入力シート!K515=\"\",\"\",入力シート!K515)","v":""},{"$f":"IF(入力シート!L515=\"\",\"\",入力シート!L515)","v":""},{"$f":"IF(入力シート!M515=\"\",\"\",入力シート!M515)","v":""},{"$f":"IF(入力シート!N515=\"\",\"\",入力シート!P515)","v":""}]
[{"$f":"IF(入力シート!A516=\"\",\"\",入力シート!A516)","v":""},{"$f":"IF(入力シート!B516=\"\",\"\",入力シート!B516)","v":""},{"$f":"IF(入力シート!C516=\"\",\"\",TEXT(入力シート!C516,\"yyyy-mm-dd\"))","v":""},{"$f":"IF(入力シート!O516=\"\",\"\",TEXT(入力シート!O516,\"000-0000\"))","v":""},{"$f":"IF(入力シート!F516=\"\",\"\",入力シート!F516)","v":""},{"$f":"IF(入力シート!G516=\"\",\"\",入力シート!G516)","v":""},{"$f":"IF(入力シート!H516=\"\",\"\",入力シート!H516)","v":""},{"$f":"IF(入力シート!I516=\"\",\"\",入力シート!I516)","v":""},{"$f":"IF(入力シート!J516=\"\",\"\",入力シート!J516)","v":""},{"$f":"IF(入力シート!K516=\"\",\"\",入力シート!K516)","v":""},{"$f":"IF(入力シート!L516=\"\",\"\",入力シート!L516)","v":""},{"$f":"IF(入力シート!M516=\"\",\"\",入力シート!M516)","v":""},{"$f":"IF(入力シート!N516=\"\",\"\",入力シート!P516)","v":""}]
[{"$f":"IF(入力シート!A517=\"\",\"\",入力シート!A517)","v":""},{"$f":"IF(入力シート!B517=\"\",\"\",入力シート!B517)","v":""},{"$f":"IF(入力シート!C517=\"\",\"\",TEXT(入力シート!C517,\"yyyy-mm-dd\"))","v":""},{"$f":"IF(入力シート!O517=\"\",\"\",TEXT(入力シート!O517,\"000-0000\"))","v":""},{"$f":"IF(入力シート!F517=\"\",\"\",入力シート!F517)","v":""},{"$f":"IF(入力シート!G517=\"\",\"\",入力シート!G517)","v":""},{"$f":"IF(入力シート!H517=\"\",\"\",入力シート!H517)","v":""},{"$f":"IF(入力シート!I517=\"\",\"\",入力シート!I517)","v":""},{"$f":"IF(入力シート!J517=\"\",\"\",入力シート!J517)","v":""},{"$f":"IF(入力シート!K517=\"\",\"\",入力シート!K517)","v":""},{"$f":"IF(入力シート!L517=\"\",\"\",入力シート!L517)","v":""},{"$f":"IF(入力シート!M517=\"\",\"\",入力シート!M517)","v":""},{"$f":"IF(入力シート!N517=\"\",\"\",入力シート!P517)","v":""}]
[{"$f":"IF(入力シート!A518=\"\",\"\",入力シート!A518)","v":""},{"$f":"IF(入力シート!B518=\"\",\"\",入力シート!B518)","v":""},{"$f":"IF(入力シート!C518=\"\",\"\",TEXT(入力シート!C518,\"yyyy-mm-dd\"))","v":""},{"$f":"IF(入力シート!O518=\"\",\"\",TEXT(入力シート!O518,\"000-0000\"))","v":""},{"$f":"IF(入力シート!F518=\"\",\"\",入力シート!F518)","v":""},{"$f":"IF(入力シート!G518=\"\",\"\",入力シート!G518)","v":""},{"$f":"IF(入力シート!H518=\"\",\"\",入力シート!H518)","v":""},{"$f":"IF(入力シート!I518=\"\",\"\",入力シート!I518)","v":""},{"$f":"IF(入力シート!J518=\"\",\"\",入力シート!J518)","v":""},{"$f":"IF(入力シート!K518=\"\",\"\",入力シート!K518)","v":""},{"$f":"IF(入力シート!L518=\"\",\"\",入力シート!L518)","v":""},{"$f":"IF(入力シート!M518=\"\",\"\",入力シート!M518)","v":""},{"$f":"IF(入力シート!N518=\"\",\"\",入力シート!P518)","v":""}]
[{"$f":"IF(入力シート!A519=\"\",\"\",入力シート!A519)","v":""},{"$f":"IF(入力シート!B519=\"\",\"\",入力シート!B519)","v":""},{"$f":"IF(入力シート!C519=\"\",\"\",TEXT(入力シート!C519,\"yyyy-mm-dd\"))","v":""},{"$f":"IF(入力シート!O519=\"\",\"\",TEXT(入力シート!O519,\"000-0000\"))","v":""},{"$f":"IF(入力シート!F519=\"\",\"\",入力シート!F519)","v":""},{"$f":"IF(入力シート!G519=\"\",\"\",入力シート!G519)","v":""},{"$f":"IF(入力シート!H519=\"\",\"\",入力シート!H519)","v":""},{"$f":"IF(入力シート!I519=\"\",\"\",入力シート!I519)","v":""},{"$f":"IF(入力シート!J519=\"\",\"\",入力シート!J519)","v":""},{"$f":"IF(入力シート!K519=\"\",\"\",入力シート!K519)","v":""},{"$f":"IF(入力シート!L519=\"\",\"\",入力シート!L519)","v":""},{"$f":"IF(入力シート!M519=\"\",\"\",入力シート!M519)","v":""},{"$f":"IF(入力シート!N519=\"\",\"\",入力シート!P519)","v":""}]
[{"$f":"IF(入力シート!A520=\"\",\"\",入力シート!A520)","v":""},{"$f":"IF(入力シート!B520=\"\",\"\",入力シート!B520)","v":""},{"$f":"IF(入力シート!C520=\"\",\"\",TEXT(入力シート!C520,\"yyyy-mm-dd\"))","v":""},{"$f":"IF(入力シート!O520=\"\",\"\",TEXT(入力シート!O520,\"000-0000\"))","v":""},{"$f":"IF(入力シート!F520=\"\",\"\",入力シート!F520)","v":""},{"$f":"IF(入力シート!G520=\"\",\"\",入力シート!G520)","v":""},{"$f":"IF(入力シート!H520=\"\",\"\",入力シート!H520)","v":""},{"$f":"IF(入力シート!I520=\"\",\"\",入力シート!I520)","v":""},{"$f":"IF(入力シート!J520=\"\",\"\",入力シート!J520)","v":""},{"$f":"IF(入力シート!K520=\"\",\"\",入力シート!K520)","v":""},{"$f":"IF(入力シート!L520=\"\",\"\",入力シート!L520)","v":""},{"$f":"IF(入力シート!M520=\"\",\"\",入力シート!M520)","v":""},{"$f":"IF(入力シート!N520=\"\",\"\",入力シート!P520)","v":""}]
[{"$f":"IF(入力シート!A521=\"\",\"\",入力シート!A521)","v":""},{"$f":"IF(入力シート!B521=\"\",\"\",入力シート!B521)","v":""},{"$f":"IF(入力シート!C521=\"\",\"\",TEXT(入力シート!C521,\"yyyy-mm-dd\"))","v":""},{"$f":"IF(入力シート!O521=\"\",\"\",TEXT(入力シート!O521,\"000-0000\"))","v":""},{"$f":"IF(入力シート!F521=\"\",\"\",入力シート!F521)","v":""},{"$f":"IF(入力シート!G521=\"\",\"\",入力シート!G521)","v":""},{"$f":"IF(入力シート!H521=\"\",\"\",入力シート!H521)","v":""},{"$f":"IF(入力シート!I521=\"\",\"\",入力シート!I521)","v":""},{"$f":"IF(入力シート!J521=\"\",\"\",入力シート!J521)","v":""},{"$f":"IF(入力シート!K521=\"\",\"\",入力シート!K521)","v":""},{"$f":"IF(入力シート!L521=\"\",\"\",入力シート!L521)","v":""},{"$f":"IF(入力シート!M521=\"\",\"\",入力シート!M521)","v":""},{"$f":"IF(入力シート!N521=\"\",\"\",入力シート!P521)","v":""}]
[{"$f":"IF(入力シート!A522=\"\",\"\",入力シート!A522)","v":""},{"$f":"IF(入力シート!B522=\"\",\"\",入力シート!B522)","v":""},{"$f":"IF(入力シート!C522=\"\",\"\",TEXT(入力シート!C522,\"yyyy-mm-dd\"))","v":""},{"$f":"IF(入力シート!O522=\"\",\"\",TEXT(入力シート!O522,\"000-0000\"))","v":""},{"$f":"IF(入力シート!F522=\"\",\"\",入力シート!F522)","v":""},{"$f":"IF(入力シート!G522=\"\",\"\",入力シート!G522)","v":""},{"$f":"IF(入力シート!H522=\"\",\"\",入力シート!H522)","v":""},{"$f":"IF(入力シート!I522=\"\",\"\",入力シート!I522)","v":""},{"$f":"IF(入力シート!J522=\"\",\"\",入力シート!J522)","v":""},{"$f":"IF(入力シート!K522=\"\",\"\",入力シート!K522)","v":""},{"$f":"IF(入力シート!L522=\"\",\"\",入力シート!L522)","v":""},{"$f":"IF(入力シート!M522=\"\",\"\",入力シート!M522)","v":""},{"$f":"IF(入力シート!N522=\"\",\"\",入力シート!P522)","v":""}]
[{"$f":"IF(入力シート!A523=\"\",\"\",入力シート!A523)","v":""},{"$f":"IF(入力シート!B523=\"\",\"\",入力シート!B523)","v":""},{"$f":"IF(入力シート!C523=\"\",\"\",TEXT(入力シート!C523,\"yyyy-mm-dd\"))","v":""},{"$f":"IF(入力シート!O523=\"\",\"\",TEXT(入力シート!O523,\"000-0000\"))","v":""},{"$f":"IF(入力シート!F523=\"\",\"\",入力シート!F523)","v":""},{"$f":"IF(入力シート!G523=\"\",\"\",入力シート!G523)","v":""},{"$f":"IF(入力シート!H523=\"\",\"\",入力シート!H523)","v":""},{"$f":"IF(入力シート!I523=\"\",\"\",入力シート!I523)","v":""},{"$f":"IF(入力シート!J523=\"\",\"\",入力シート!J523)","v":""},{"$f":"IF(入力シート!K523=\"\",\"\",入力シート!K523)","v":""},{"$f":"IF(入力シート!L523=\"\",\"\",入力シート!L523)","v":""},{"$f":"IF(入力シート!M523=\"\",\"\",入力シート!M523)","v":""},{"$f":"IF(入力シート!N523=\"\",\"\",入力シート!P523)","v":""}]
[{"$f":"IF(入力シート!A524=\"\",\"\",入力シート!A524)","v":""},{"$f":"IF(入力シート!B524=\"\",\"\",入力シート!B524)","v":""},{"$f":"IF(入力シート!C524=\"\",\"\",TEXT(入力シート!C524,\"yyyy-mm-dd\"))","v":""},{"$f":"IF(入力シート!O524=\"\",\"\",TEXT(入力シート!O524,\"000-0000\"))","v":""},{"$f":"IF(入力シート!F524=\"\",\"\",入力シート!F524)","v":""},{"$f":"IF(入力シート!G524=\"\",\"\",入力シート!G524)","v":""},{"$f":"IF(入力シート!H524=\"\",\"\",入力シート!H524)","v":""},{"$f":"IF(入力シート!I524=\"\",\"\",入力シート!I524)","v":""},{"$f":"IF(入力シート!J524=\"\",\"\",入力シート!J524)","v":""},{"$f":"IF(入力シート!K524=\"\",\"\",入力シート!K524)","v":""},{"$f":"IF(入力シート!L524=\"\",\"\",入力シート!L524)","v":""},{"$f":"IF(入力シート!M524=\"\",\"\",入力シート!M524)","v":""},{"$f":"IF(入力シート!N524=\"\",\"\",入力シート!P524)","v":""}]
[{"$f":"IF(入力シート!A525=\"\",\"\",入力シート!A525)","v":""},{"$f":"IF(入力シート!B525=\"\",\"\",入力シート!B525)","v":""},{"$f":"IF(入力シート!C525=\"\",\"\",TEXT(入力シート!C525,\"yyyy-mm-dd\"))","v":""},{"$f":"IF(入力シート!O525=\"\",\"\",TEXT(入力シート!O525,\"000-0000\"))","v":""},{"$f":"IF(入力シート!F525=\"\",\"\",入力シート!F525)","v":""},{"$f":"IF(入力シート!G525=\"\",\"\",入力シート!G525)","v":""},{"$f":"IF(入力シート!H525=\"\",\"\",入力シート!H525)","v":""},{"$f":"IF(入力シート!I525=\"\",\"\",入力シート!I525)","v":""},{"$f":"IF(入力シート!J525=\"\",\"\",入力シート!J525)","v":""},{"$f":"IF(入力シート!K525=\"\",\"\",入力シート!K525)","v":""},{"$f":"IF(入力シート!L525=\"\",\"\",入力シート!L525)","v":""},{"$f":"IF(入力シート!M525=\"\",\"\",入力シート!M525)","v":""},{"$f":"IF(入力シート!N525=\"\",\"\",入力シート!P525)","v":""}]
[{"$f":"IF(入力シート!A526=\"\",\"\",入力シート!A526)","v":""},{"$f":"IF(入力シート!B526=\"\",\"\",入力シート!B526)","v":""},{"$f":"IF(入力シート!C526=\"\",\"\",TEXT(入力シート!C526,\"yyyy-mm-dd\"))","v":""},{"$f":"IF(入力シート!O526=\"\",\"\",TEXT(入力シート!O526,\"000-0000\"))","v":""},{"$f":"IF(入力シート!F526=\"\",\"\",入力シート!F526)","v":""},{"$f":"IF(入力シート!G526=\"\",\"\",入力シート!G526)","v":""},{"$f":"IF(入力シート!H526=\"\",\"\",入力シート!H526)","v":""},{"$f":"IF(入力シート!I526=\"\",\"\",入力シート!I526)","v":""},{"$f":"IF(入力シート!J526=\"\",\"\",入力シート!J526)","v":""},{"$f":"IF(入力シート!K526=\"\",\"\",入力シート!K526)","v":""},{"$f":"IF(入力シート!L526=\"\",\"\",入力シート!L526)","v":""},{"$f":"IF(入力シート!M526=\"\",\"\",入力シート!M526)","v":""},{"$f":"IF(入力シート!N526=\"\",\"\",入力シート!P526)","v":""}]
[{"$f":"IF(入力シート!A527=\"\",\"\",入力シート!A527)","v":""},{"$f":"IF(入力シート!B527=\"\",\"\",入力シート!B527)","v":""},{"$f":"IF(入力シート!C527=\"\",\"\",TEXT(入力シート!C527,\"yyyy-mm-dd\"))","v":""},{"$f":"IF(入力シート!O527=\"\",\"\",TEXT(入力シート!O527,\"000-0000\"))","v":""},{"$f":"IF(入力シート!F527=\"\",\"\",入力シート!F527)","v":""},{"$f":"IF(入力シート!G527=\"\",\"\",入力シート!G527)","v":""},{"$f":"IF(入力シート!H527=\"\",\"\",入力シート!H527)","v":""},{"$f":"IF(入力シート!I527=\"\",\"\",入力シート!I527)","v":""},{"$f":"IF(入力シート!J527=\"\",\"\",入力シート!J527)","v":""},{"$f":"IF(入力シート!K527=\"\",\"\",入力シート!K527)","v":""},{"$f":"IF(入力シート!L527=\"\",\"\",入力シート!L527)","v":""},{"$f":"IF(入力シート!M527=\"\",\"\",入力シート!M527)","v":""},{"$f":"IF(入力シート!N527=\"\",\"\",入力シート!P527)","v":""}]
[{"$f":"IF(入力シート!A528=\"\",\"\",入力シート!A528)","v":""},{"$f":"IF(入力シート!B528=\"\",\"\",入力シート!B528)","v":""},{"$f":"IF(入力シート!C528=\"\",\"\",TEXT(入力シート!C528,\"yyyy-mm-dd\"))","v":""},{"$f":"IF(入力シート!O528=\"\",\"\",TEXT(入力シート!O528,\"000-0000\"))","v":""},{"$f":"IF(入力シート!F528=\"\",\"\",入力シート!F528)","v":""},{"$f":"IF(入力シート!G528=\"\",\"\",入力シート!G528)","v":""},{"$f":"IF(入力シート!H528=\"\",\"\",入力シート!H528)","v":""},{"$f":"IF(入力シート!I528=\"\",\"\",入力シート!I528)","v":""},{"$f":"IF(入力シート!J528=\"\",\"\",入力シート!J528)","v":""},{"$f":"IF(入力シート!K528=\"\",\"\",入力シート!K528)","v":""},{"$f":"IF(入力シート!L528=\"\",\"\",入力シート!L528)","v":""},{"$f":"IF(入力シート!M528=\"\",\"\",入力シート!M528)","v":""},{"$f":"IF(入力シート!N528=\"\",\"\",入力シート!P528)","v":""}]
[{"$f":"IF(入力シート!A529=\"\",\"\",入力シート!A529)","v":""},{"$f":"IF(入力シート!B529=\"\",\"\",入力シート!B529)","v":""},{"$f":"IF(入力シート!C529=\"\",\"\",TEXT(入力シート!C529,\"yyyy-mm-dd\"))","v":""},{"$f":"IF(入力シート!O529=\"\",\"\",TEXT(入力シート!O529,\"000-0000\"))","v":""},{"$f":"IF(入力シート!F529=\"\",\"\",入力シート!F529)","v":""},{"$f":"IF(入力シート!G529=\"\",\"\",入力シート!G529)","v":""},{"$f":"IF(入力シート!H529=\"\",\"\",入力シート!H529)","v":""},{"$f":"IF(入力シート!I529=\"\",\"\",入力シート!I529)","v":""},{"$f":"IF(入力シート!J529=\"\",\"\",入力シート!J529)","v":""},{"$f":"IF(入力シート!K529=\"\",\"\",入力シート!K529)","v":""},{"$f":"IF(入力シート!L529=\"\",\"\",入力シート!L529)","v":""},{"$f":"IF(入力シート!M529=\"\",\"\",入力シート!M529)","v":""},{"$f":"IF(入力シート!N529=\"\",\"\",入力シート!P529)","v":""}]
[{"$f":"IF(入力シート!A530=\"\",\"\",入力シート!A530)","v":""},{"$f":"IF(入力シート!B530=\"\",\"\",入力シート!B530)","v":""},{"$f":"IF(入力シート!C530=\"\",\"\",TEXT(入力シート!C530,\"yyyy-mm-dd\"))","v":""},{"$f":"IF(入力シート!O530=\"\",\"\",TEXT(入力シート!O530,\"000-0000\"))","v":""},{"$f":"IF(入力シート!F530=\"\",\"\",入力シート!F530)","v":""},{"$f":"IF(入力シート!G530=\"\",\"\",入力シート!G530)","v":""},{"$f":"IF(入力シート!H530=\"\",\"\",入力シート!H530)","v":""},{"$f":"IF(入力シート!I530=\"\",\"\",入力シート!I530)","v":""},{"$f":"IF(入力シート!J530=\"\",\"\",入力シート!J530)","v":""},{"$f":"IF(入力シート!K530=\"\",\"\",入力シート!K530)","v":""},{"$f":"IF(入力シート!L530=\"\",\"\",入力シート!L530)","v":""},{"$f":"IF(入力シート!M530=\"\",\"\",入力シート!M530)","v":""},{"$f":"IF(入力シート!N530=\"\",\"\",入力シート!P530)","v":""}]
[{"$f":"IF(入力シート!A531=\"\",\"\",入力シート!A531)","v":""},{"$f":"IF(入力シート!B531=\"\",\"\",入力シート!B531)","v":""},{"$f":"IF(入力シート!C531=\"\",\"\",TEXT(入力シート!C531,\"yyyy-mm-dd\"))","v":""},{"$f":"IF(入力シート!O531=\"\",\"\",TEXT(入力シート!O531,\"000-0000\"))","v":""},{"$f":"IF(入力シート!F531=\"\",\"\",入力シート!F531)","v":""},{"$f":"IF(入力シート!G531=\"\",\"\",入力シート!G531)","v":""},{"$f":"IF(入力シート!H531=\"\",\"\",入力シート!H531)","v":""},{"$f":"IF(入力シート!I531=\"\",\"\",入力シート!I531)","v":""},{"$f":"IF(入力シート!J531=\"\",\"\",入力シート!J531)","v":""},{"$f":"IF(入力シート!K531=\"\",\"\",入力シート!K531)","v":""},{"$f":"IF(入力シート!L531=\"\",\"\",入力シート!L531)","v":""},{"$f":"IF(入力シート!M531=\"\",\"\",入力シート!M531)","v":""},{"$f":"IF(入力シート!N531=\"\",\"\",入力シート!P531)","v":""}]
[{"$f":"IF(入力シート!A532=\"\",\"\",入力シート!A532)","v":""},{"$f":"IF(入力シート!B532=\"\",\"\",入力シート!B532)","v":""},{"$f":"IF(入力シート!C532=\"\",\"\",TEXT(入力シート!C532,\"yyyy-mm-dd\"))","v":""},{"$f":"IF(入力シート!O532=\"\",\"\",TEXT(入力シート!O532,\"000-0000\"))","v":""},{"$f":"IF(入力シート!F532=\"\",\"\",入力シート!F532)","v":""},{"$f":"IF(入力シート!G532=\"\",\"\",入力シート!G532)","v":""},{"$f":"IF(入力シート!H532=\"\",\"\",入力シート!H532)","v":""},{"$f":"IF(入力シート!I532=\"\",\"\",入力シート!I532)","v":""},{"$f":"IF(入力シート!J532=\"\",\"\",入力シート!J532)","v":""},{"$f":"IF(入力シート!K532=\"\",\"\",入力シート!K532)","v":""},{"$f":"IF(入力シート!L532=\"\",\"\",入力シート!L532)","v":""},{"$f":"IF(入力シート!M532=\"\",\"\",入力シート!M532)","v":""},{"$f":"IF(入力シート!N532=\"\",\"\",入力シート!P532)","v":""}]
[{"$f":"IF(入力シート!A533=\"\",\"\",入力シート!A533)","v":""},{"$f":"IF(入力シート!B533=\"\",\"\",入力シート!B533)","v":""},{"$f":"IF(入力シート!C533=\"\",\"\",TEXT(入力シート!C533,\"yyyy-mm-dd\"))","v":""},{"$f":"IF(入力シート!O533=\"\",\"\",TEXT(入力シート!O533,\"000-0000\"))","v":""},{"$f":"IF(入力シート!F533=\"\",\"\",入力シート!F533)","v":""},{"$f":"IF(入力シート!G533=\"\",\"\",入力シート!G533)","v":""},{"$f":"IF(入力シート!H533=\"\",\"\",入力シート!H533)","v":""},{"$f":"IF(入力シート!I533=\"\",\"\",入力シート!I533)","v":""},{"$f":"IF(入力シート!J533=\"\",\"\",入力シート!J533)","v":""},{"$f":"IF(入力シート!K533=\"\",\"\",入力シート!K533)","v":""},{"$f":"IF(入力シート!L533=\"\",\"\",入力シート!L533)","v":""},{"$f":"IF(入力シート!M533=\"\",\"\",入力シート!M533)","v":""},{"$f":"IF(入力シート!N533=\"\",\"\",入力シート!P533)","v":""}]
[{"$f":"IF(入力シート!A534=\"\",\"\",入力シート!A534)","v":""},{"$f":"IF(入力シート!B534=\"\",\"\",入力シート!B534)","v":""},{"$f":"IF(入力シート!C534=\"\",\"\",TEXT(入力シート!C534,\"yyyy-mm-dd\"))","v":""},{"$f":"IF(入力シート!O534=\"\",\"\",TEXT(入力シート!O534,\"000-0000\"))","v":""},{"$f":"IF(入力シート!F534=\"\",\"\",入力シート!F534)","v":""},{"$f":"IF(入力シート!G534=\"\",\"\",入力シート!G534)","v":""},{"$f":"IF(入力シート!H534=\"\",\"\",入力シート!H534)","v":""},{"$f":"IF(入力シート!I534=\"\",\"\",入力シート!I534)","v":""},{"$f":"IF(入力シート!J534=\"\",\"\",入力シート!J534)","v":""},{"$f":"IF(入力シート!K534=\"\",\"\",入力シート!K534)","v":""},{"$f":"IF(入力シート!L534=\"\",\"\",入力シート!L534)","v":""},{"$f":"IF(入力シート!M534=\"\",\"\",入力シート!M534)","v":""},{"$f":"IF(入力シート!N534=\"\",\"\",入力シート!P534)","v":""}]
[{"$f":"IF(入力シート!A535=\"\",\"\",入力シート!A535)","v":""},{"$f":"IF(入力シート!B535=\"\",\"\",入力シート!B535)","v":""},{"$f":"IF(入力シート!C535=\"\",\"\",TEXT(入力シート!C535,\"yyyy-mm-dd\"))","v":""},{"$f":"IF(入力シート!O535=\"\",\"\",TEXT(入力シート!O535,\"000-0000\"))","v":""},{"$f":"IF(入力シート!F535=\"\",\"\",入力シート!F535)","v":""},{"$f":"IF(入力シート!G535=\"\",\"\",入力シート!G535)","v":""},{"$f":"IF(入力シート!H535=\"\",\"\",入力シート!H535)","v":""},{"$f":"IF(入力シート!I535=\"\",\"\",入力シート!I535)","v":""},{"$f":"IF(入力シート!J535=\"\",\"\",入力シート!J535)","v":""},{"$f":"IF(入力シート!K535=\"\",\"\",入力シート!K535)","v":""},{"$f":"IF(入力シート!L535=\"\",\"\",入力シート!L535)","v":""},{"$f":"IF(入力シート!M535=\"\",\"\",入力シート!M535)","v":""},{"$f":"IF(入力シート!N535=\"\",\"\",入力シート!P535)","v":""}]
[{"$f":"IF(入力シート!A536=\"\",\"\",入力シート!A536)","v":""},{"$f":"IF(入力シート!B536=\"\",\"\",入力シート!B536)","v":""},{"$f":"IF(入力シート!C536=\"\",\"\",TEXT(入力シート!C536,\"yyyy-mm-dd\"))","v":""},{"$f":"IF(入力シート!O536=\"\",\"\",TEXT(入力シート!O536,\"000-0000\"))","v":""},{"$f":"IF(入力シート!F536=\"\",\"\",入力シート!F536)","v":""},{"$f":"IF(入力シート!G536=\"\",\"\",入力シート!G536)","v":""},{"$f":"IF(入力シート!H536=\"\",\"\",入力シート!H536)","v":""},{"$f":"IF(入力シート!I536=\"\",\"\",入力シート!I536)","v":""},{"$f":"IF(入力シート!J536=\"\",\"\",入力シート!J536)","v":""},{"$f":"IF(入力シート!K536=\"\",\"\",入力シート!K536)","v":""},{"$f":"IF(入力シート!L536=\"\",\"\",入力シート!L536)","v":""},{"$f":"IF(入力シート!M536=\"\",\"\",入力シート!M536)","v":""},{"$f":"IF(入力シート!N536=\"\",\"\",入力シート!P536)","v":""}]
[{"$f":"IF(入力シート!A537=\"\",\"\",入力シート!A537)","v":""},{"$f":"IF(入力シート!B537=\"\",\"\",入力シート!B537)","v":""},{"$f":"IF(入力シート!C537=\"\",\"\",TEXT(入力シート!C537,\"yyyy-mm-dd\"))","v":""},{"$f":"IF(入力シート!O537=\"\",\"\",TEXT(入力シート!O537,\"000-0000\"))","v":""},{"$f":"IF(入力シート!F537=\"\",\"\",入力シート!F537)","v":""},{"$f":"IF(入力シート!G537=\"\",\"\",入力シート!G537)","v":""},{"$f":"IF(入力シート!H537=\"\",\"\",入力シート!H537)","v":""},{"$f":"IF(入力シート!I537=\"\",\"\",入力シート!I537)","v":""},{"$f":"IF(入力シート!J537=\"\",\"\",入力シート!J537)","v":""},{"$f":"IF(入力シート!K537=\"\",\"\",入力シート!K537)","v":""},{"$f":"IF(入力シート!L537=\"\",\"\",入力シート!L537)","v":""},{"$f":"IF(入力シート!M537=\"\",\"\",入力シート!M537)","v":""},{"$f":"IF(入力シート!N537=\"\",\"\",入力シート!P537)","v":""}]
[{"$f":"IF(入力シート!A538=\"\",\"\",入力シート!A538)","v":""},{"$f":"IF(入力シート!B538=\"\",\"\",入力シート!B538)","v":""},{"$f":"IF(入力シート!C538=\"\",\"\",TEXT(入力シート!C538,\"yyyy-mm-dd\"))","v":""},{"$f":"IF(入力シート!O538=\"\",\"\",TEXT(入力シート!O538,\"000-0000\"))","v":""},{"$f":"IF(入力シート!F538=\"\",\"\",入力シート!F538)","v":""},{"$f":"IF(入力シート!G538=\"\",\"\",入力シート!G538)","v":""},{"$f":"IF(入力シート!H538=\"\",\"\",入力シート!H538)","v":""},{"$f":"IF(入力シート!I538=\"\",\"\",入力シート!I538)","v":""},{"$f":"IF(入力シート!J538=\"\",\"\",入力シート!J538)","v":""},{"$f":"IF(入力シート!K538=\"\",\"\",入力シート!K538)","v":""},{"$f":"IF(入力シート!L538=\"\",\"\",入力シート!L538)","v":""},{"$f":"IF(入力シート!M538=\"\",\"\",入力シート!M538)","v":""},{"$f":"IF(入力シート!N538=\"\",\"\",入力シート!P538)","v":""}]
[{"$f":"IF(入力シート!A539=\"\",\"\",入力シート!A539)","v":""},{"$f":"IF(入力シート!B539=\"\",\"\",入力シート!B539)","v":""},{"$f":"IF(入力シート!C539=\"\",\"\",TEXT(入力シート!C539,\"yyyy-mm-dd\"))","v":""},{"$f":"IF(入力シート!O539=\"\",\"\",TEXT(入力シート!O539,\"000-0000\"))","v":""},{"$f":"IF(入力シート!F539=\"\",\"\",入力シート!F539)","v":""},{"$f":"IF(入力シート!G539=\"\",\"\",入力シート!G539)","v":""},{"$f":"IF(入力シート!H539=\"\",\"\",入力シート!H539)","v":""},{"$f":"IF(入力シート!I539=\"\",\"\",入力シート!I539)","v":""},{"$f":"IF(入力シート!J539=\"\",\"\",入力シート!J539)","v":""},{"$f":"IF(入力シート!K539=\"\",\"\",入力シート!K539)","v":""},{"$f":"IF(入力シート!L539=\"\",\"\",入力シート!L539)","v":""},{"$f":"IF(入力シート!M539=\"\",\"\",入力シート!M539)","v":""},{"$f":"IF(入力シート!N539=\"\",\"\",入力シート!P539)","v":""}]
[{"$f":"IF(入力シート!A540=\"\",\"\",入力シート!A540)","v":""},{"$f":"IF(入力シート!B540=\"\",\"\",入力シート!B540)","v":""},{"$f":"IF(入力シート!C540=\"\",\"\",TEXT(入力シート!C540,\"yyyy-mm-dd\"))","v":""},{"$f":"IF(入力シート!O540=\"\",\"\",TEXT(入力シート!O540,\"000-0000\"))","v":""},{"$f":"IF(入力シート!F540=\"\",\"\",入力シート!F540)","v":""},{"$f":"IF(入力シート!G540=\"\",\"\",入力シート!G540)","v":""},{"$f":"IF(入力シート!H540=\"\",\"\",入力シート!H540)","v":""},{"$f":"IF(入力シート!I540=\"\",\"\",入力シート!I540)","v":""},{"$f":"IF(入力シート!J540=\"\",\"\",入力シート!J540)","v":""},{"$f":"IF(入力シート!K540=\"\",\"\",入力シート!K540)","v":""},{"$f":"IF(入力シート!L540=\"\",\"\",入力シート!L540)","v":""},{"$f":"IF(入力シート!M540=\"\",\"\",入力シート!M540)","v":""},{"$f":"IF(入力シート!N540=\"\",\"\",入力シート!P540)","v":""}]
[{"$f":"IF(入力シート!A541=\"\",\"\",入力シート!A541)","v":""},{"$f":"IF(入力シート!B541=\"\",\"\",入力シート!B541)","v":""},{"$f":"IF(入力シート!C541=\"\",\"\",TEXT(入力シート!C541,\"yyyy-mm-dd\"))","v":""},{"$f":"IF(入力シート!O541=\"\",\"\",TEXT(入力シート!O541,\"000-0000\"))","v":""},{"$f":"IF(入力シート!F541=\"\",\"\",入力シート!F541)","v":""},{"$f":"IF(入力シート!G541=\"\",\"\",入力シート!G541)","v":""},{"$f":"IF(入力シート!H541=\"\",\"\",入力シート!H541)","v":""},{"$f":"IF(入力シート!I541=\"\",\"\",入力シート!I541)","v":""},{"$f":"IF(入力シート!J541=\"\",\"\",入力シート!J541)","v":""},{"$f":"IF(入力シート!K541=\"\",\"\",入力シート!K541)","v":""},{"$f":"IF(入力シート!L541=\"\",\"\",入力シート!L541)","v":""},{"$f":"IF(入力シート!M541=\"\",\"\",入力シート!M541)","v":""},{"$f":"IF(入力シート!N541=\"\",\"\",入力シート!P541)","v":""}]
[{"$f":"IF(入力シート!A542=\"\",\"\",入力シート!A542)","v":""},{"$f":"IF(入力シート!B542=\"\",\"\",入力シート!B542)","v":""},{"$f":"IF(入力シート!C542=\"\",\"\",TEXT(入力シート!C542,\"yyyy-mm-dd\"))","v":""},{"$f":"IF(入力シート!O542=\"\",\"\",TEXT(入力シート!O542,\"000-0000\"))","v":""},{"$f":"IF(入力シート!F542=\"\",\"\",入力シート!F542)","v":""},{"$f":"IF(入力シート!G542=\"\",\"\",入力シート!G542)","v":""},{"$f":"IF(入力シート!H542=\"\",\"\",入力シート!H542)","v":""},{"$f":"IF(入力シート!I542=\"\",\"\",入力シート!I542)","v":""},{"$f":"IF(入力シート!J542=\"\",\"\",入力シート!J542)","v":""},{"$f":"IF(入力シート!K542=\"\",\"\",入力シート!K542)","v":""},{"$f":"IF(入力シート!L542=\"\",\"\",入力シート!L542)","v":""},{"$f":"IF(入力シート!M542=\"\",\"\",入力シート!M542)","v":""},{"$f":"IF(入力シート!N542=\"\",\"\",入力シート!P542)","v":""}]
[{"$f":"IF(入力シート!A543=\"\",\"\",入力シート!A543)","v":""},{"$f":"IF(入力シート!B543=\"\",\"\",入力シート!B543)","v":""},{"$f":"IF(入力シート!C543=\"\",\"\",TEXT(入力シート!C543,\"yyyy-mm-dd\"))","v":""},{"$f":"IF(入力シート!O543=\"\",\"\",TEXT(入力シート!O543,\"000-0000\"))","v":""},{"$f":"IF(入力シート!F543=\"\",\"\",入力シート!F543)","v":""},{"$f":"IF(入力シート!G543=\"\",\"\",入力シート!G543)","v":""},{"$f":"IF(入力シート!H543=\"\",\"\",入力シート!H543)","v":""},{"$f":"IF(入力シート!I543=\"\",\"\",入力シート!I543)","v":""},{"$f":"IF(入力シート!J543=\"\",\"\",入力シート!J543)","v":""},{"$f":"IF(入力シート!K543=\"\",\"\",入力シート!K543)","v":""},{"$f":"IF(入力シート!L543=\"\",\"\",入力シート!L543)","v":""},{"$f":"IF(入力シート!M543=\"\",\"\",入力シート!M543)","v":""},{"$f":"IF(入力シート!N543=\"\",\"\",入力シート!P543)","v":""}]
[{"$f":"IF(入力シート!A544=\"\",\"\",入力シート!A544)","v":""},{"$f":"IF(入力シート!B544=\"\",\"\",入力シート!B544)","v":""},{"$f":"IF(入力シート!C544=\"\",\"\",TEXT(入力シート!C544,\"yyyy-mm-dd\"))","v":""},{"$f":"IF(入力シート!O544=\"\",\"\",TEXT(入力シート!O544,\"000-0000\"))","v":""},{"$f":"IF(入力シート!F544=\"\",\"\",入力シート!F544)","v":""},{"$f":"IF(入力シート!G544=\"\",\"\",入力シート!G544)","v":""},{"$f":"IF(入力シート!H544=\"\",\"\",入力シート!H544)","v":""},{"$f":"IF(入力シート!I544=\"\",\"\",入力シート!I544)","v":""},{"$f":"IF(入力シート!J544=\"\",\"\",入力シート!J544)","v":""},{"$f":"IF(入力シート!K544=\"\",\"\",入力シート!K544)","v":""},{"$f":"IF(入力シート!L544=\"\",\"\",入力シート!L544)","v":""},{"$f":"IF(入力シート!M544=\"\",\"\",入力シート!M544)","v":""},{"$f":"IF(入力シート!N544=\"\",\"\",入力シート!P544)","v":""}]
[{"$f":"IF(入力シート!A545=\"\",\"\",入力シート!A545)","v":""},{"$f":"IF(入力シート!B545=\"\",\"\",入力シート!B545)","v":""},{"$f":"IF(入力シート!C545=\"\",\"\",TEXT(入力シート!C545,\"yyyy-mm-dd\"))","v":""},{"$f":"IF(入力シート!O545=\"\",\"\",TEXT(入力シート!O545,\"000-0000\"))","v":""},{"$f":"IF(入力シート!F545=\"\",\"\",入力シート!F545)","v":""},{"$f":"IF(入力シート!G545=\"\",\"\",入力シート!G545)","v":""},{"$f":"IF(入力シート!H545=\"\",\"\",入力シート!H545)","v":""},{"$f":"IF(入力シート!I545=\"\",\"\",入力シート!I545)","v":""},{"$f":"IF(入力シート!J545=\"\",\"\",入力シート!J545)","v":""},{"$f":"IF(入力シート!K545=\"\",\"\",入力シート!K545)","v":""},{"$f":"IF(入力シート!L545=\"\",\"\",入力シート!L545)","v":""},{"$f":"IF(入力シート!M545=\"\",\"\",入力シート!M545)","v":""},{"$f":"IF(入力シート!N545=\"\",\"\",入力シート!P545)","v":""}]
[{"$f":"IF(入力シート!A546=\"\",\"\",入力シート!A546)","v":""},{"$f":"IF(入力シート!B546=\"\",\"\",入力シート!B546)","v":""},{"$f":"IF(入力シート!C546=\"\",\"\",TEXT(入力シート!C546,\"yyyy-mm-dd\"))","v":""},{"$f":"IF(入力シート!O546=\"\",\"\",TEXT(入力シート!O546,\"000-0000\"))","v":""},{"$f":"IF(入力シート!F546=\"\",\"\",入力シート!F546)","v":""},{"$f":"IF(入力シート!G546=\"\",\"\",入力シート!G546)","v":""},{"$f":"IF(入力シート!H546=\"\",\"\",入力シート!H546)","v":""},{"$f":"IF(入力シート!I546=\"\",\"\",入力シート!I546)","v":""},{"$f":"IF(入力シート!J546=\"\",\"\",入力シート!J546)","v":""},{"$f":"IF(入力シート!K546=\"\",\"\",入力シート!K546)","v":""},{"$f":"IF(入力シート!L546=\"\",\"\",入力シート!L546)","v":""},{"$f":"IF(入力シート!M546=\"\",\"\",入力シート!M546)","v":""},{"$f":"IF(入力シート!N546=\"\",\"\",入力シート!P546)","v":""}]
[{"$f":"IF(入力シート!A547=\"\",\"\",入力シート!A547)","v":""},{"$f":"IF(入力シート!B547=\"\",\"\",入力シート!B547)","v":""},{"$f":"IF(入力シート!C547=\"\",\"\",TEXT(入力シート!C547,\"yyyy-mm-dd\"))","v":""},{"$f":"IF(入力シート!O547=\"\",\"\",TEXT(入力シート!O547,\"000-0000\"))","v":""},{"$f":"IF(入力シート!F547=\"\",\"\",入力シート!F547)","v":""},{"$f":"IF(入力シート!G547=\"\",\"\",入力シート!G547)","v":""},{"$f":"IF(入力シート!H547=\"\",\"\",入力シート!H547)","v":""},{"$f":"IF(入力シート!I547=\"\",\"\",入力シート!I547)","v":""},{"$f":"IF(入力シート!J547=\"\",\"\",入力シート!J547)","v":""},{"$f":"IF(入力シート!K547=\"\",\"\",入力シート!K547)","v":""},{"$f":"IF(入力シート!L547=\"\",\"\",入力シート!L547)","v":""},{"$f":"IF(入力シート!M547=\"\",\"\",入力シート!M547)","v":""},{"$f":"IF(入力シート!N547=\"\",\"\",入力シート!P547)","v":""}]
[{"$f":"IF(入力シート!A548=\"\",\"\",入力シート!A548)","v":""},{"$f":"IF(入力シート!B548=\"\",\"\",入力シート!B548)","v":""},{"$f":"IF(入力シート!C548=\"\",\"\",TEXT(入力シート!C548,\"yyyy-mm-dd\"))","v":""},{"$f":"IF(入力シート!O548=\"\",\"\",TEXT(入力シート!O548,\"000-0000\"))","v":""},{"$f":"IF(入力シート!F548=\"\",\"\",入力シート!F548)","v":""},{"$f":"IF(入力シート!G548=\"\",\"\",入力シート!G548)","v":""},{"$f":"IF(入力シート!H548=\"\",\"\",入力シート!H548)","v":""},{"$f":"IF(入力シート!I548=\"\",\"\",入力シート!I548)","v":""},{"$f":"IF(入力シート!J548=\"\",\"\",入力シート!J548)","v":""},{"$f":"IF(入力シート!K548=\"\",\"\",入力シート!K548)","v":""},{"$f":"IF(入力シート!L548=\"\",\"\",入力シート!L548)","v":""},{"$f":"IF(入力シート!M548=\"\",\"\",入力シート!M548)","v":""},{"$f":"IF(入力シート!N548=\"\",\"\",入力シート!P548)","v":""}]
[{"$f":"IF(入力シート!A549=\"\",\"\",入力シート!A549)","v":""},{"$f":"IF(入力シート!B549=\"\",\"\",入力シート!B549)","v":""},{"$f":"IF(入力シート!C549=\"\",\"\",TEXT(入力シート!C549,\"yyyy-mm-dd\"))","v":""},{"$f":"IF(入力シート!O549=\"\",\"\",TEXT(入力シート!O549,\"000-0000\"))","v":""},{"$f":"IF(入力シート!F549=\"\",\"\",入力シート!F549)","v":""},{"$f":"IF(入力シート!G549=\"\",\"\",入力シート!G549)","v":""},{"$f":"IF(入力シート!H549=\"\",\"\",入力シート!H549)","v":""},{"$f":"IF(入力シート!I549=\"\",\"\",入力シート!I549)","v":""},{"$f":"IF(入力シート!J549=\"\",\"\",入力シート!J549)","v":""},{"$f":"IF(入力シート!K549=\"\",\"\",入力シート!K549)","v":""},{"$f":"IF(入力シート!L549=\"\",\"\",入力シート!L549)","v":""},{"$f":"IF(入力シート!M549=\"\",\"\",入力シート!M549)","v":""},{"$f":"IF(入力シート!N549=\"\",\"\",入力シート!P549)","v":""}]
[{"$f":"IF(入力シート!A550=\"\",\"\",入力シート!A550)","v":""},{"$f":"IF(入力シート!B550=\"\",\"\",入力シート!B550)","v":""},{"$f":"IF(入力シート!C550=\"\",\"\",TEXT(入力シート!C550,\"yyyy-mm-dd\"))","v":""},{"$f":"IF(入力シート!O550=\"\",\"\",TEXT(入力シート!O550,\"000-0000\"))","v":""},{"$f":"IF(入力シート!F550=\"\",\"\",入力シート!F550)","v":""},{"$f":"IF(入力シート!G550=\"\",\"\",入力シート!G550)","v":""},{"$f":"IF(入力シート!H550=\"\",\"\",入力シート!H550)","v":""},{"$f":"IF(入力シート!I550=\"\",\"\",入力シート!I550)","v":""},{"$f":"IF(入力シート!J550=\"\",\"\",入力シート!J550)","v":""},{"$f":"IF(入力シート!K550=\"\",\"\",入力シート!K550)","v":""},{"$f":"IF(入力シート!L550=\"\",\"\",入力シート!L550)","v":""},{"$f":"IF(入力シート!M550=\"\",\"\",入力シート!M550)","v":""},{"$f":"IF(入力シート!N550=\"\",\"\",入力シート!P550)","v":""}]
[{"$f":"IF(入力シート!A551=\"\",\"\",入力シート!A551)","v":""},{"$f":"IF(入力シート!B551=\"\",\"\",入力シート!B551)","v":""},{"$f":"IF(入力シート!C551=\"\",\"\",TEXT(入力シート!C551,\"yyyy-mm-dd\"))","v":""},{"$f":"IF(入力シート!O551=\"\",\"\",TEXT(入力シート!O551,\"000-0000\"))","v":""},{"$f":"IF(入力シート!F551=\"\",\"\",入力シート!F551)","v":""},{"$f":"IF(入力シート!G551=\"\",\"\",入力シート!G551)","v":""},{"$f":"IF(入力シート!H551=\"\",\"\",入力シート!H551)","v":""},{"$f":"IF(入力シート!I551=\"\",\"\",入力シート!I551)","v":""},{"$f":"IF(入力シート!J551=\"\",\"\",入力シート!J551)","v":""},{"$f":"IF(入力シート!K551=\"\",\"\",入力シート!K551)","v":""},{"$f":"IF(入力シート!L551=\"\",\"\",入力シート!L551)","v":""},{"$f":"IF(入力シート!M551=\"\",\"\",入力シート!M551)","v":""},{"$f":"IF(入力シート!N551=\"\",\"\",入力シート!P551)","v":""}]
[{"$f":"IF(入力シート!A552=\"\",\"\",入力シート!A552)","v":""},{"$f":"IF(入力シート!B552=\"\",\"\",入力シート!B552)","v":""},{"$f":"IF(入力シート!C552=\"\",\"\",TEXT(入力シート!C552,\"yyyy-mm-dd\"))","v":""},{"$f":"IF(入力シート!O552=\"\",\"\",TEXT(入力シート!O552,\"000-0000\"))","v":""},{"$f":"IF(入力シート!F552=\"\",\"\",入力シート!F552)","v":""},{"$f":"IF(入力シート!G552=\"\",\"\",入力シート!G552)","v":""},{"$f":"IF(入力シート!H552=\"\",\"\",入力シート!H552)","v":""},{"$f":"IF(入力シート!I552=\"\",\"\",入力シート!I552)","v":""},{"$f":"IF(入力シート!J552=\"\",\"\",入力シート!J552)","v":""},{"$f":"IF(入力シート!K552=\"\",\"\",入力シート!K552)","v":""},{"$f":"IF(入力シート!L552=\"\",\"\",入力シート!L552)","v":""},{"$f":"IF(入力シート!M552=\"\",\"\",入力シート!M552)","v":""},{"$f":"IF(入力シート!N552=\"\",\"\",入力シート!P552)","v":""}]
[{"$f":"IF(入力シート!A553=\"\",\"\",入力シート!A553)","v":""},{"$f":"IF(入力シート!B553=\"\",\"\",入力シート!B553)","v":""},{"$f":"IF(入力シート!C553=\"\",\"\",TEXT(入力シート!C553,\"yyyy-mm-dd\"))","v":""},{"$f":"IF(入力シート!O553=\"\",\"\",TEXT(入力シート!O553,\"000-0000\"))","v":""},{"$f":"IF(入力シート!F553=\"\",\"\",入力シート!F553)","v":""},{"$f":"IF(入力シート!G553=\"\",\"\",入力シート!G553)","v":""},{"$f":"IF(入力シート!H553=\"\",\"\",入力シート!H553)","v":""},{"$f":"IF(入力シート!I553=\"\",\"\",入力シート!I553)","v":""},{"$f":"IF(入力シート!J553=\"\",\"\",入力シート!J553)","v":""},{"$f":"IF(入力シート!K553=\"\",\"\",入力シート!K553)","v":""},{"$f":"IF(入力シート!L553=\"\",\"\",入力シート!L553)","v":""},{"$f":"IF(入力シート!M553=\"\",\"\",入力シート!M553)","v":""},{"$f":"IF(入力シート!N553=\"\",\"\",入力シート!P553)","v":""}]
[{"$f":"IF(入力シート!A554=\"\",\"\",入力シート!A554)","v":""},{"$f":"IF(入力シート!B554=\"\",\"\",入力シート!B554)","v":""},{"$f":"IF(入力シート!C554=\"\",\"\",TEXT(入力シート!C554,\"yyyy-mm-dd\"))","v":""},{"$f":"IF(入力シート!O554=\"\",\"\",TEXT(入力シート!O554,\"000-0000\"))","v":""},{"$f":"IF(入力シート!F554=\"\",\"\",入力シート!F554)","v":""},{"$f":"IF(入力シート!G554=\"\",\"\",入力シート!G554)","v":""},{"$f":"IF(入力シート!H554=\"\",\"\",入力シート!H554)","v":""},{"$f":"IF(入力シート!I554=\"\",\"\",入力シート!I554)","v":""},{"$f":"IF(入力シート!J554=\"\",\"\",入力シート!J554)","v":""},{"$f":"IF(入力シート!K554=\"\",\"\",入力シート!K554)","v":""},{"$f":"IF(入力シート!L554=\"\",\"\",入力シート!L554)","v":""},{"$f":"IF(入力シート!M554=\"\",\"\",入力シート!M554)","v":""},{"$f":"IF(入力シート!N554=\"\",\"\",入力シート!P554)","v":""}]
[{"$f":"IF(入力シート!A555=\"\",\"\",入力シート!A555)","v":""},{"$f":"IF(入力シート!B555=\"\",\"\",入力シート!B555)","v":""},{"$f":"IF(入力シート!C555=\"\",\"\",TEXT(入力シート!C555,\"yyyy-mm-dd\"))","v":""},{"$f":"IF(入力シート!O555=\"\",\"\",TEXT(入力シート!O555,\"000-0000\"))","v":""},{"$f":"IF(入力シート!F555=\"\",\"\",入力シート!F555)","v":""},{"$f":"IF(入力シート!G555=\"\",\"\",入力シート!G555)","v":""},{"$f":"IF(入力シート!H555=\"\",\"\",入力シート!H555)","v":""},{"$f":"IF(入力シート!I555=\"\",\"\",入力シート!I555)","v":""},{"$f":"IF(入力シート!J555=\"\",\"\",入力シート!J555)","v":""},{"$f":"IF(入力シート!K555=\"\",\"\",入力シート!K555)","v":""},{"$f":"IF(入力シート!L555=\"\",\"\",入力シート!L555)","v":""},{"$f":"IF(入力シート!M555=\"\",\"\",入力シート!M555)","v":""},{"$f":"IF(入力シート!N555=\"\",\"\",入力シート!P555)","v":""}]
[{"$f":"IF(入力シート!A556=\"\",\"\",入力シート!A556)","v":""},{"$f":"IF(入力シート!B556=\"\",\"\",入力シート!B556)","v":""},{"$f":"IF(入力シート!C556=\"\",\"\",TEXT(入力シート!C556,\"yyyy-mm-dd\"))","v":""},{"$f":"IF(入力シート!O556=\"\",\"\",TEXT(入力シート!O556,\"000-0000\"))","v":""},{"$f":"IF(入力シート!F556=\"\",\"\",入力シート!F556)","v":""},{"$f":"IF(入力シート!G556=\"\",\"\",入力シート!G556)","v":""},{"$f":"IF(入力シート!H556=\"\",\"\",入力シート!H556)","v":""},{"$f":"IF(入力シート!I556=\"\",\"\",入力シート!I556)","v":""},{"$f":"IF(入力シート!J556=\"\",\"\",入力シート!J556)","v":""},{"$f":"IF(入力シート!K556=\"\",\"\",入力シート!K556)","v":""},{"$f":"IF(入力シート!L556=\"\",\"\",入力シート!L556)","v":""},{"$f":"IF(入力シート!M556=\"\",\"\",入力シート!M556)","v":""},{"$f":"IF(入力シート!N556=\"\",\"\",入力シート!P556)","v":""}]
[{"$f":"IF(入力シート!A557=\"\",\"\",入力シート!A557)","v":""},{"$f":"IF(入力シート!B557=\"\",\"\",入力シート!B557)","v":""},{"$f":"IF(入力シート!C557=\"\",\"\",TEXT(入力シート!C557,\"yyyy-mm-dd\"))","v":""},{"$f":"IF(入力シート!O557=\"\",\"\",TEXT(入力シート!O557,\"000-0000\"))","v":""},{"$f":"IF(入力シート!F557=\"\",\"\",入力シート!F557)","v":""},{"$f":"IF(入力シート!G557=\"\",\"\",入力シート!G557)","v":""},{"$f":"IF(入力シート!H557=\"\",\"\",入力シート!H557)","v":""},{"$f":"IF(入力シート!I557=\"\",\"\",入力シート!I557)","v":""},{"$f":"IF(入力シート!J557=\"\",\"\",入力シート!J557)","v":""},{"$f":"IF(入力シート!K557=\"\",\"\",入力シート!K557)","v":""},{"$f":"IF(入力シート!L557=\"\",\"\",入力シート!L557)","v":""},{"$f":"IF(入力シート!M557=\"\",\"\",入力シート!M557)","v":""},{"$f":"IF(入力シート!N557=\"\",\"\",入力シート!P557)","v":""}]
[{"$f":"IF(入力シート!A558=\"\",\"\",入力シート!A558)","v":""},{"$f":"IF(入力シート!B558=\"\",\"\",入力シート!B558)","v":""},{"$f":"IF(入力シート!C558=\"\",\"\",TEXT(入力シート!C558,\"yyyy-mm-dd\"))","v":""},{"$f":"IF(入力シート!O558=\"\",\"\",TEXT(入力シート!O558,\"000-0000\"))","v":""},{"$f":"IF(入力シート!F558=\"\",\"\",入力シート!F558)","v":""},{"$f":"IF(入力シート!G558=\"\",\"\",入力シート!G558)","v":""},{"$f":"IF(入力シート!H558=\"\",\"\",入力シート!H558)","v":""},{"$f":"IF(入力シート!I558=\"\",\"\",入力シート!I558)","v":""},{"$f":"IF(入力シート!J558=\"\",\"\",入力シート!J558)","v":""},{"$f":"IF(入力シート!K558=\"\",\"\",入力シート!K558)","v":""},{"$f":"IF(入力シート!L558=\"\",\"\",入力シート!L558)","v":""},{"$f":"IF(入力シート!M558=\"\",\"\",入力シート!M558)","v":""},{"$f":"IF(入力シート!N558=\"\",\"\",入力シート!P558)","v":""}]
[{"$f":"IF(入力シート!A559=\"\",\"\",入力シート!A559)","v":""},{"$f":"IF(入力シート!B559=\"\",\"\",入力シート!B559)","v":""},{"$f":"IF(入力シート!C559=\"\",\"\",TEXT(入力シート!C559,\"yyyy-mm-dd\"))","v":""},{"$f":"IF(入力シート!O559=\"\",\"\",TEXT(入力シート!O559,\"000-0000\"))","v":""},{"$f":"IF(入力シート!F559=\"\",\"\",入力シート!F559)","v":""},{"$f":"IF(入力シート!G559=\"\",\"\",入力シート!G559)","v":""},{"$f":"IF(入力シート!H559=\"\",\"\",入力シート!H559)","v":""},{"$f":"IF(入力シート!I559=\"\",\"\",入力シート!I559)","v":""},{"$f":"IF(入力シート!J559=\"\",\"\",入力シート!J559)","v":""},{"$f":"IF(入力シート!K559=\"\",\"\",入力シート!K559)","v":""},{"$f":"IF(入力シート!L559=\"\",\"\",入力シート!L559)","v":""},{"$f":"IF(入力シート!M559=\"\",\"\",入力シート!M559)","v":""},{"$f":"IF(入力シート!N559=\"\",\"\",入力シート!P559)","v":""}]
[{"$f":"IF(入力シート!A560=\"\",\"\",入力シート!A560)","v":""},{"$f":"IF(入力シート!B560=\"\",\"\",入力シート!B560)","v":""},{"$f":"IF(入力シート!C560=\"\",\"\",TEXT(入力シート!C560,\"yyyy-mm-dd\"))","v":""},{"$f":"IF(入力シート!O560=\"\",\"\",TEXT(入力シート!O560,\"000-0000\"))","v":""},{"$f":"IF(入力シート!F560=\"\",\"\",入力シート!F560)","v":""},{"$f":"IF(入力シート!G560=\"\",\"\",入力シート!G560)","v":""},{"$f":"IF(入力シート!H560=\"\",\"\",入力シート!H560)","v":""},{"$f":"IF(入力シート!I560=\"\",\"\",入力シート!I560)","v":""},{"$f":"IF(入力シート!J560=\"\",\"\",入力シート!J560)","v":""},{"$f":"IF(入力シート!K560=\"\",\"\",入力シート!K560)","v":""},{"$f":"IF(入力シート!L560=\"\",\"\",入力シート!L560)","v":""},{"$f":"IF(入力シート!M560=\"\",\"\",入力シート!M560)","v":""},{"$f":"IF(入力シート!N560=\"\",\"\",入力シート!P560)","v":""}]
[{"$f":"IF(入力シート!A561=\"\",\"\",入力シート!A561)","v":""},{"$f":"IF(入力シート!B561=\"\",\"\",入力シート!B561)","v":""},{"$f":"IF(入力シート!C561=\"\",\"\",TEXT(入力シート!C561,\"yyyy-mm-dd\"))","v":""},{"$f":"IF(入力シート!O561=\"\",\"\",TEXT(入力シート!O561,\"000-0000\"))","v":""},{"$f":"IF(入力シート!F561=\"\",\"\",入力シート!F561)","v":""},{"$f":"IF(入力シート!G561=\"\",\"\",入力シート!G561)","v":""},{"$f":"IF(入力シート!H561=\"\",\"\",入力シート!H561)","v":""},{"$f":"IF(入力シート!I561=\"\",\"\",入力シート!I561)","v":""},{"$f":"IF(入力シート!J561=\"\",\"\",入力シート!J561)","v":""},{"$f":"IF(入力シート!K561=\"\",\"\",入力シート!K561)","v":""},{"$f":"IF(入力シート!L561=\"\",\"\",入力シート!L561)","v":""},{"$f":"IF(入力シート!M561=\"\",\"\",入力シート!M561)","v":""},{"$f":"IF(入力シート!N561=\"\",\"\",入力シート!P561)","v":""}]
[{"$f":"IF(入力シート!A562=\"\",\"\",入力シート!A562)","v":""},{"$f":"IF(入力シート!B562=\"\",\"\",入力シート!B562)","v":""},{"$f":"IF(入力シート!C562=\"\",\"\",TEXT(入力シート!C562,\"yyyy-mm-dd\"))","v":""},{"$f":"IF(入力シート!O562=\"\",\"\",TEXT(入力シート!O562,\"000-0000\"))","v":""},{"$f":"IF(入力シート!F562=\"\",\"\",入力シート!F562)","v":""},{"$f":"IF(入力シート!G562=\"\",\"\",入力シート!G562)","v":""},{"$f":"IF(入力シート!H562=\"\",\"\",入力シート!H562)","v":""},{"$f":"IF(入力シート!I562=\"\",\"\",入力シート!I562)","v":""},{"$f":"IF(入力シート!J562=\"\",\"\",入力シート!J562)","v":""},{"$f":"IF(入力シート!K562=\"\",\"\",入力シート!K562)","v":""},{"$f":"IF(入力シート!L562=\"\",\"\",入力シート!L562)","v":""},{"$f":"IF(入力シート!M562=\"\",\"\",入力シート!M562)","v":""},{"$f":"IF(入力シート!N562=\"\",\"\",入力シート!P562)","v":""}]
[{"$f":"IF(入力シート!A563=\"\",\"\",入力シート!A563)","v":""},{"$f":"IF(入力シート!B563=\"\",\"\",入力シート!B563)","v":""},{"$f":"IF(入力シート!C563=\"\",\"\",TEXT(入力シート!C563,\"yyyy-mm-dd\"))","v":""},{"$f":"IF(入力シート!O563=\"\",\"\",TEXT(入力シート!O563,\"000-0000\"))","v":""},{"$f":"IF(入力シート!F563=\"\",\"\",入力シート!F563)","v":""},{"$f":"IF(入力シート!G563=\"\",\"\",入力シート!G563)","v":""},{"$f":"IF(入力シート!H563=\"\",\"\",入力シート!H563)","v":""},{"$f":"IF(入力シート!I563=\"\",\"\",入力シート!I563)","v":""},{"$f":"IF(入力シート!J563=\"\",\"\",入力シート!J563)","v":""},{"$f":"IF(入力シート!K563=\"\",\"\",入力シート!K563)","v":""},{"$f":"IF(入力シート!L563=\"\",\"\",入力シート!L563)","v":""},{"$f":"IF(入力シート!M563=\"\",\"\",入力シート!M563)","v":""},{"$f":"IF(入力シート!N563=\"\",\"\",入力シート!P563)","v":""}]
[{"$f":"IF(入力シート!A564=\"\",\"\",入力シート!A564)","v":""},{"$f":"IF(入力シート!B564=\"\",\"\",入力シート!B564)","v":""},{"$f":"IF(入力シート!C564=\"\",\"\",TEXT(入力シート!C564,\"yyyy-mm-dd\"))","v":""},{"$f":"IF(入力シート!O564=\"\",\"\",TEXT(入力シート!O564,\"000-0000\"))","v":""},{"$f":"IF(入力シート!F564=\"\",\"\",入力シート!F564)","v":""},{"$f":"IF(入力シート!G564=\"\",\"\",入力シート!G564)","v":""},{"$f":"IF(入力シート!H564=\"\",\"\",入力シート!H564)","v":""},{"$f":"IF(入力シート!I564=\"\",\"\",入力シート!I564)","v":""},{"$f":"IF(入力シート!J564=\"\",\"\",入力シート!J564)","v":""},{"$f":"IF(入力シート!K564=\"\",\"\",入力シート!K564)","v":""},{"$f":"IF(入力シート!L564=\"\",\"\",入力シート!L564)","v":""},{"$f":"IF(入力シート!M564=\"\",\"\",入力シート!M564)","v":""},{"$f":"IF(入力シート!N564=\"\",\"\",入力シート!P564)","v":""}]
[{"$f":"IF(入力シート!A565=\"\",\"\",入力シート!A565)","v":""},{"$f":"IF(入力シート!B565=\"\",\"\",入力シート!B565)","v":""},{"$f":"IF(入力シート!C565=\"\",\"\",TEXT(入力シート!C565,\"yyyy-mm-dd\"))","v":""},{"$f":"IF(入力シート!O565=\"\",\"\",TEXT(入力シート!O565,\"000-0000\"))","v":""},{"$f":"IF(入力シート!F565=\"\",\"\",入力シート!F565)","v":""},{"$f":"IF(入力シート!G565=\"\",\"\",入力シート!G565)","v":""},{"$f":"IF(入力シート!H565=\"\",\"\",入力シート!H565)","v":""},{"$f":"IF(入力シート!I565=\"\",\"\",入力シート!I565)","v":""},{"$f":"IF(入力シート!J565=\"\",\"\",入力シート!J565)","v":""},{"$f":"IF(入力シート!K565=\"\",\"\",入力シート!K565)","v":""},{"$f":"IF(入力シート!L565=\"\",\"\",入力シート!L565)","v":""},{"$f":"IF(入力シート!M565=\"\",\"\",入力シート!M565)","v":""},{"$f":"IF(入力シート!N565=\"\",\"\",入力シート!P565)","v":""}]
[{"$f":"IF(入力シート!A566=\"\",\"\",入力シート!A566)","v":""},{"$f":"IF(入力シート!B566=\"\",\"\",入力シート!B566)","v":""},{"$f":"IF(入力シート!C566=\"\",\"\",TEXT(入力シート!C566,\"yyyy-mm-dd\"))","v":""},{"$f":"IF(入力シート!O566=\"\",\"\",TEXT(入力シート!O566,\"000-0000\"))","v":""},{"$f":"IF(入力シート!F566=\"\",\"\",入力シート!F566)","v":""},{"$f":"IF(入力シート!G566=\"\",\"\",入力シート!G566)","v":""},{"$f":"IF(入力シート!H566=\"\",\"\",入力シート!H566)","v":""},{"$f":"IF(入力シート!I566=\"\",\"\",入力シート!I566)","v":""},{"$f":"IF(入力シート!J566=\"\",\"\",入力シート!J566)","v":""},{"$f":"IF(入力シート!K566=\"\",\"\",入力シート!K566)","v":""},{"$f":"IF(入力シート!L566=\"\",\"\",入力シート!L566)","v":""},{"$f":"IF(入力シート!M566=\"\",\"\",入力シート!M566)","v":""},{"$f":"IF(入力シート!N566=\"\",\"\",入力シート!P566)","v":""}]
[{"$f":"IF(入力シート!A567=\"\",\"\",入力シート!A567)","v":""},{"$f":"IF(入力シート!B567=\"\",\"\",入力シート!B567)","v":""},{"$f":"IF(入力シート!C567=\"\",\"\",TEXT(入力シート!C567,\"yyyy-mm-dd\"))","v":""},{"$f":"IF(入力シート!O567=\"\",\"\",TEXT(入力シート!O567,\"000-0000\"))","v":""},{"$f":"IF(入力シート!F567=\"\",\"\",入力シート!F567)","v":""},{"$f":"IF(入力シート!G567=\"\",\"\",入力シート!G567)","v":""},{"$f":"IF(入力シート!H567=\"\",\"\",入力シート!H567)","v":""},{"$f":"IF(入力シート!I567=\"\",\"\",入力シート!I567)","v":""},{"$f":"IF(入力シート!J567=\"\",\"\",入力シート!J567)","v":""},{"$f":"IF(入力シート!K567=\"\",\"\",入力シート!K567)","v":""},{"$f":"IF(入力シート!L567=\"\",\"\",入力シート!L567)","v":""},{"$f":"IF(入力シート!M567=\"\",\"\",入力シート!M567)","v":""},{"$f":"IF(入力シート!N567=\"\",\"\",入力シート!P567)","v":""}]
[{"$f":"IF(入力シート!A568=\"\",\"\",入力シート!A568)","v":""},{"$f":"IF(入力シート!B568=\"\",\"\",入力シート!B568)","v":""},{"$f":"IF(入力シート!C568=\"\",\"\",TEXT(入力シート!C568,\"yyyy-mm-dd\"))","v":""},{"$f":"IF(入力シート!O568=\"\",\"\",TEXT(入力シート!O568,\"000-0000\"))","v":""},{"$f":"IF(入力シート!F568=\"\",\"\",入力シート!F568)","v":""},{"$f":"IF(入力シート!G568=\"\",\"\",入力シート!G568)","v":""},{"$f":"IF(入力シート!H568=\"\",\"\",入力シート!H568)","v":""},{"$f":"IF(入力シート!I568=\"\",\"\",入力シート!I568)","v":""},{"$f":"IF(入力シート!J568=\"\",\"\",入力シート!J568)","v":""},{"$f":"IF(入力シート!K568=\"\",\"\",入力シート!K568)","v":""},{"$f":"IF(入力シート!L568=\"\",\"\",入力シート!L568)","v":""},{"$f":"IF(入力シート!M568=\"\",\"\",入力シート!M568)","v":""},{"$f":"IF(入力シート!N568=\"\",\"\",入力シート!P568)","v":""}]
[{"$f":"IF(入力シート!A569=\"\",\"\",入力シート!A569)","v":""},{"$f":"IF(入力シート!B569=\"\",\"\",入力シート!B569)","v":""},{"$f":"IF(入力シート!C569=\"\",\"\",TEXT(入力シート!C569,\"yyyy-mm-dd\"))","v":""},{"$f":"IF(入力シート!O569=\"\",\"\",TEXT(入力シート!O569,\"000-0000\"))","v":""},{"$f":"IF(入力シート!F569=\"\",\"\",入力シート!F569)","v":""},{"$f":"IF(入力シート!G569=\"\",\"\",入力シート!G569)","v":""},{"$f":"IF(入力シート!H569=\"\",\"\",入力シート!H569)","v":""},{"$f":"IF(入力シート!I569=\"\",\"\",入力シート!I569)","v":""},{"$f":"IF(入力シート!J569=\"\",\"\",入力シート!J569)","v":""},{"$f":"IF(入力シート!K569=\"\",\"\",入力シート!K569)","v":""},{"$f":"IF(入力シート!L569=\"\",\"\",入力シート!L569)","v":""},{"$f":"IF(入力シート!M569=\"\",\"\",入力シート!M569)","v":""},{"$f":"IF(入力シート!N569=\"\",\"\",入力シート!P569)","v":""}]
[{"$f":"IF(入力シート!A570=\"\",\"\",入力シート!A570)","v":""},{"$f":"IF(入力シート!B570=\"\",\"\",入力シート!B570)","v":""},{"$f":"IF(入力シート!C570=\"\",\"\",TEXT(入力シート!C570,\"yyyy-mm-dd\"))","v":""},{"$f":"IF(入力シート!O570=\"\",\"\",TEXT(入力シート!O570,\"000-0000\"))","v":""},{"$f":"IF(入力シート!F570=\"\",\"\",入力シート!F570)","v":""},{"$f":"IF(入力シート!G570=\"\",\"\",入力シート!G570)","v":""},{"$f":"IF(入力シート!H570=\"\",\"\",入力シート!H570)","v":""},{"$f":"IF(入力シート!I570=\"\",\"\",入力シート!I570)","v":""},{"$f":"IF(入力シート!J570=\"\",\"\",入力シート!J570)","v":""},{"$f":"IF(入力シート!K570=\"\",\"\",入力シート!K570)","v":""},{"$f":"IF(入力シート!L570=\"\",\"\",入力シート!L570)","v":""},{"$f":"IF(入力シート!M570=\"\",\"\",入力シート!M570)","v":""},{"$f":"IF(入力シート!N570=\"\",\"\",入力シート!P570)","v":""}]
[{"$f":"IF(入力シート!A571=\"\",\"\",入力シート!A571)","v":""},{"$f":"IF(入力シート!B571=\"\",\"\",入力シート!B571)","v":""},{"$f":"IF(入力シート!C571=\"\",\"\",TEXT(入力シート!C571,\"yyyy-mm-dd\"))","v":""},{"$f":"IF(入力シート!O571=\"\",\"\",TEXT(入力シート!O571,\"000-0000\"))","v":""},{"$f":"IF(入力シート!F571=\"\",\"\",入力シート!F571)","v":""},{"$f":"IF(入力シート!G571=\"\",\"\",入力シート!G571)","v":""},{"$f":"IF(入力シート!H571=\"\",\"\",入力シート!H571)","v":""},{"$f":"IF(入力シート!I571=\"\",\"\",入力シート!I571)","v":""},{"$f":"IF(入力シート!J571=\"\",\"\",入力シート!J571)","v":""},{"$f":"IF(入力シート!K571=\"\",\"\",入力シート!K571)","v":""},{"$f":"IF(入力シート!L571=\"\",\"\",入力シート!L571)","v":""},{"$f":"IF(入力シート!M571=\"\",\"\",入力シート!M571)","v":""},{"$f":"IF(入力シート!N571=\"\",\"\",入力シート!P571)","v":""}]
[{"$f":"IF(入力シート!A572=\"\",\"\",入力シート!A572)","v":""},{"$f":"IF(入力シート!B572=\"\",\"\",入力シート!B572)","v":""},{"$f":"IF(入力シート!C572=\"\",\"\",TEXT(入力シート!C572,\"yyyy-mm-dd\"))","v":""},{"$f":"IF(入力シート!O572=\"\",\"\",TEXT(入力シート!O572,\"000-0000\"))","v":""},{"$f":"IF(入力シート!F572=\"\",\"\",入力シート!F572)","v":""},{"$f":"IF(入力シート!G572=\"\",\"\",入力シート!G572)","v":""},{"$f":"IF(入力シート!H572=\"\",\"\",入力シート!H572)","v":""},{"$f":"IF(入力シート!I572=\"\",\"\",入力シート!I572)","v":""},{"$f":"IF(入力シート!J572=\"\",\"\",入力シート!J572)","v":""},{"$f":"IF(入力シート!K572=\"\",\"\",入力シート!K572)","v":""},{"$f":"IF(入力シート!L572=\"\",\"\",入力シート!L572)","v":""},{"$f":"IF(入力シート!M572=\"\",\"\",入力シート!M572)","v":""},{"$f":"IF(入力シート!N572=\"\",\"\",入力シート!P572)","v":""}]
[{"$f":"IF(入力シート!A573=\"\",\"\",入力シート!A573)","v":""},{"$f":"IF(入力シート!B573=\"\",\"\",入力シート!B573)","v":""},{"$f":"IF(入力シート!C573=\"\",\"\",TEXT(入力シート!C573,\"yyyy-mm-dd\"))","v":""},{"$f":"IF(入力シート!O573=\"\",\"\",TEXT(入力シート!O573,\"000-0000\"))","v":""},{"$f":"IF(入力シート!F573=\"\",\"\",入力シート!F573)","v":""},{"$f":"IF(入力シート!G573=\"\",\"\",入力シート!G573)","v":""},{"$f":"IF(入力シート!H573=\"\",\"\",入力シート!H573)","v":""},{"$f":"IF(入力シート!I573=\"\",\"\",入力シート!I573)","v":""},{"$f":"IF(入力シート!J573=\"\",\"\",入力シート!J573)","v":""},{"$f":"IF(入力シート!K573=\"\",\"\",入力シート!K573)","v":""},{"$f":"IF(入力シート!L573=\"\",\"\",入力シート!L573)","v":""},{"$f":"IF(入力シート!M573=\"\",\"\",入力シート!M573)","v":""},{"$f":"IF(入力シート!N573=\"\",\"\",入力シート!P573)","v":""}]
[{"$f":"IF(入力シート!A574=\"\",\"\",入力シート!A574)","v":""},{"$f":"IF(入力シート!B574=\"\",\"\",入力シート!B574)","v":""},{"$f":"IF(入力シート!C574=\"\",\"\",TEXT(入力シート!C574,\"yyyy-mm-dd\"))","v":""},{"$f":"IF(入力シート!O574=\"\",\"\",TEXT(入力シート!O574,\"000-0000\"))","v":""},{"$f":"IF(入力シート!F574=\"\",\"\",入力シート!F574)","v":""},{"$f":"IF(入力シート!G574=\"\",\"\",入力シート!G574)","v":""},{"$f":"IF(入力シート!H574=\"\",\"\",入力シート!H574)","v":""},{"$f":"IF(入力シート!I574=\"\",\"\",入力シート!I574)","v":""},{"$f":"IF(入力シート!J574=\"\",\"\",入力シート!J574)","v":""},{"$f":"IF(入力シート!K574=\"\",\"\",入力シート!K574)","v":""},{"$f":"IF(入力シート!L574=\"\",\"\",入力シート!L574)","v":""},{"$f":"IF(入力シート!M574=\"\",\"\",入力シート!M574)","v":""},{"$f":"IF(入力シート!N574=\"\",\"\",入力シート!P574)","v":""}]
[{"$f":"IF(入力シート!A575=\"\",\"\",入力シート!A575)","v":""},{"$f":"IF(入力シート!B575=\"\",\"\",入力シート!B575)","v":""},{"$f":"IF(入力シート!C575=\"\",\"\",TEXT(入力シート!C575,\"yyyy-mm-dd\"))","v":""},{"$f":"IF(入力シート!O575=\"\",\"\",TEXT(入力シート!O575,\"000-0000\"))","v":""},{"$f":"IF(入力シート!F575=\"\",\"\",入力シート!F575)","v":""},{"$f":"IF(入力シート!G575=\"\",\"\",入力シート!G575)","v":""},{"$f":"IF(入力シート!H575=\"\",\"\",入力シート!H575)","v":""},{"$f":"IF(入力シート!I575=\"\",\"\",入力シート!I575)","v":""},{"$f":"IF(入力シート!J575=\"\",\"\",入力シート!J575)","v":""},{"$f":"IF(入力シート!K575=\"\",\"\",入力シート!K575)","v":""},{"$f":"IF(入力シート!L575=\"\",\"\",入力シート!L575)","v":""},{"$f":"IF(入力シート!M575=\"\",\"\",入力シート!M575)","v":""},{"$f":"IF(入力シート!N575=\"\",\"\",入力シート!P575)","v":""}]
[{"$f":"IF(入力シート!A576=\"\",\"\",入力シート!A576)","v":""},{"$f":"IF(入力シート!B576=\"\",\"\",入力シート!B576)","v":""},{"$f":"IF(入力シート!C576=\"\",\"\",TEXT(入力シート!C576,\"yyyy-mm-dd\"))","v":""},{"$f":"IF(入力シート!O576=\"\",\"\",TEXT(入力シート!O576,\"000-0000\"))","v":""},{"$f":"IF(入力シート!F576=\"\",\"\",入力シート!F576)","v":""},{"$f":"IF(入力シート!G576=\"\",\"\",入力シート!G576)","v":""},{"$f":"IF(入力シート!H576=\"\",\"\",入力シート!H576)","v":""},{"$f":"IF(入力シート!I576=\"\",\"\",入力シート!I576)","v":""},{"$f":"IF(入力シート!J576=\"\",\"\",入力シート!J576)","v":""},{"$f":"IF(入力シート!K576=\"\",\"\",入力シート!K576)","v":""},{"$f":"IF(入力シート!L576=\"\",\"\",入力シート!L576)","v":""},{"$f":"IF(入力シート!M576=\"\",\"\",入力シート!M576)","v":""},{"$f":"IF(入力シート!N576=\"\",\"\",入力シート!P576)","v":""}]
[{"$f":"IF(入力シート!A577=\"\",\"\",入力シート!A577)","v":""},{"$f":"IF(入力シート!B577=\"\",\"\",入力シート!B577)","v":""},{"$f":"IF(入力シート!C577=\"\",\"\",TEXT(入力シート!C577,\"yyyy-mm-dd\"))","v":""},{"$f":"IF(入力シート!O577=\"\",\"\",TEXT(入力シート!O577,\"000-0000\"))","v":""},{"$f":"IF(入力シート!F577=\"\",\"\",入力シート!F577)","v":""},{"$f":"IF(入力シート!G577=\"\",\"\",入力シート!G577)","v":""},{"$f":"IF(入力シート!H577=\"\",\"\",入力シート!H577)","v":""},{"$f":"IF(入力シート!I577=\"\",\"\",入力シート!I577)","v":""},{"$f":"IF(入力シート!J577=\"\",\"\",入力シート!J577)","v":""},{"$f":"IF(入力シート!K577=\"\",\"\",入力シート!K577)","v":""},{"$f":"IF(入力シート!L577=\"\",\"\",入力シート!L577)","v":""},{"$f":"IF(入力シート!M577=\"\",\"\",入力シート!M577)","v":""},{"$f":"IF(入力シート!N577=\"\",\"\",入力シート!P577)","v":""}]
[{"$f":"IF(入力シート!A578=\"\",\"\",入力シート!A578)","v":""},{"$f":"IF(入力シート!B578=\"\",\"\",入力シート!B578)","v":""},{"$f":"IF(入力シート!C578=\"\",\"\",TEXT(入力シート!C578,\"yyyy-mm-dd\"))","v":""},{"$f":"IF(入力シート!O578=\"\",\"\",TEXT(入力シート!O578,\"000-0000\"))","v":""},{"$f":"IF(入力シート!F578=\"\",\"\",入力シート!F578)","v":""},{"$f":"IF(入力シート!G578=\"\",\"\",入力シート!G578)","v":""},{"$f":"IF(入力シート!H578=\"\",\"\",入力シート!H578)","v":""},{"$f":"IF(入力シート!I578=\"\",\"\",入力シート!I578)","v":""},{"$f":"IF(入力シート!J578=\"\",\"\",入力シート!J578)","v":""},{"$f":"IF(入力シート!K578=\"\",\"\",入力シート!K578)","v":""},{"$f":"IF(入力シート!L578=\"\",\"\",入力シート!L578)","v":""},{"$f":"IF(入力シート!M578=\"\",\"\",入力シート!M578)","v":""},{"$f":"IF(入力シート!N578=\"\",\"\",入力シート!P578)","v":""}]
[{"$f":"IF(入力シート!A579=\"\",\"\",入力シート!A579)","v":""},{"$f":"IF(入力シート!B579=\"\",\"\",入力シート!B579)","v":""},{"$f":"IF(入力シート!C579=\"\",\"\",TEXT(入力シート!C579,\"yyyy-mm-dd\"))","v":""},{"$f":"IF(入力シート!O579=\"\",\"\",TEXT(入力シート!O579,\"000-0000\"))","v":""},{"$f":"IF(入力シート!F579=\"\",\"\",入力シート!F579)","v":""},{"$f":"IF(入力シート!G579=\"\",\"\",入力シート!G579)","v":""},{"$f":"IF(入力シート!H579=\"\",\"\",入力シート!H579)","v":""},{"$f":"IF(入力シート!I579=\"\",\"\",入力シート!I579)","v":""},{"$f":"IF(入力シート!J579=\"\",\"\",入力シート!J579)","v":""},{"$f":"IF(入力シート!K579=\"\",\"\",入力シート!K579)","v":""},{"$f":"IF(入力シート!L579=\"\",\"\",入力シート!L579)","v":""},{"$f":"IF(入力シート!M579=\"\",\"\",入力シート!M579)","v":""},{"$f":"IF(入力シート!N579=\"\",\"\",入力シート!P579)","v":""}]
[{"$f":"IF(入力シート!A580=\"\",\"\",入力シート!A580)","v":""},{"$f":"IF(入力シート!B580=\"\",\"\",入力シート!B580)","v":""},{"$f":"IF(入力シート!C580=\"\",\"\",TEXT(入力シート!C580,\"yyyy-mm-dd\"))","v":""},{"$f":"IF(入力シート!O580=\"\",\"\",TEXT(入力シート!O580,\"000-0000\"))","v":""},{"$f":"IF(入力シート!F580=\"\",\"\",入力シート!F580)","v":""},{"$f":"IF(入力シート!G580=\"\",\"\",入力シート!G580)","v":""},{"$f":"IF(入力シート!H580=\"\",\"\",入力シート!H580)","v":""},{"$f":"IF(入力シート!I580=\"\",\"\",入力シート!I580)","v":""},{"$f":"IF(入力シート!J580=\"\",\"\",入力シート!J580)","v":""},{"$f":"IF(入力シート!K580=\"\",\"\",入力シート!K580)","v":""},{"$f":"IF(入力シート!L580=\"\",\"\",入力シート!L580)","v":""},{"$f":"IF(入力シート!M580=\"\",\"\",入力シート!M580)","v":""},{"$f":"IF(入力シート!N580=\"\",\"\",入力シート!P580)","v":""}]
[{"$f":"IF(入力シート!A581=\"\",\"\",入力シート!A581)","v":""},{"$f":"IF(入力シート!B581=\"\",\"\",入力シート!B581)","v":""},{"$f":"IF(入力シート!C581=\"\",\"\",TEXT(入力シート!C581,\"yyyy-mm-dd\"))","v":""},{"$f":"IF(入力シート!O581=\"\",\"\",TEXT(入力シート!O581,\"000-0000\"))","v":""},{"$f":"IF(入力シート!F581=\"\",\"\",入力シート!F581)","v":""},{"$f":"IF(入力シート!G581=\"\",\"\",入力シート!G581)","v":""},{"$f":"IF(入力シート!H581=\"\",\"\",入力シート!H581)","v":""},{"$f":"IF(入力シート!I581=\"\",\"\",入力シート!I581)","v":""},{"$f":"IF(入力シート!J581=\"\",\"\",入力シート!J581)","v":""},{"$f":"IF(入力シート!K581=\"\",\"\",入力シート!K581)","v":""},{"$f":"IF(入力シート!L581=\"\",\"\",入力シート!L581)","v":""},{"$f":"IF(入力シート!M581=\"\",\"\",入力シート!M581)","v":""},{"$f":"IF(入力シート!N581=\"\",\"\",入力シート!P581)","v":""}]
[{"$f":"IF(入力シート!A582=\"\",\"\",入力シート!A582)","v":""},{"$f":"IF(入力シート!B582=\"\",\"\",入力シート!B582)","v":""},{"$f":"IF(入力シート!C582=\"\",\"\",TEXT(入力シート!C582,\"yyyy-mm-dd\"))","v":""},{"$f":"IF(入力シート!O582=\"\",\"\",TEXT(入力シート!O582,\"000-0000\"))","v":""},{"$f":"IF(入力シート!F582=\"\",\"\",入力シート!F582)","v":""},{"$f":"IF(入力シート!G582=\"\",\"\",入力シート!G582)","v":""},{"$f":"IF(入力シート!H582=\"\",\"\",入力シート!H582)","v":""},{"$f":"IF(入力シート!I582=\"\",\"\",入力シート!I582)","v":""},{"$f":"IF(入力シート!J582=\"\",\"\",入力シート!J582)","v":""},{"$f":"IF(入力シート!K582=\"\",\"\",入力シート!K582)","v":""},{"$f":"IF(入力シート!L582=\"\",\"\",入力シート!L582)","v":""},{"$f":"IF(入力シート!M582=\"\",\"\",入力シート!M582)","v":""},{"$f":"IF(入力シート!N582=\"\",\"\",入力シート!P582)","v":""}]
[{"$f":"IF(入力シート!A583=\"\",\"\",入力シート!A583)","v":""},{"$f":"IF(入力シート!B583=\"\",\"\",入力シート!B583)","v":""},{"$f":"IF(入力シート!C583=\"\",\"\",TEXT(入力シート!C583,\"yyyy-mm-dd\"))","v":""},{"$f":"IF(入力シート!O583=\"\",\"\",TEXT(入力シート!O583,\"000-0000\"))","v":""},{"$f":"IF(入力シート!F583=\"\",\"\",入力シート!F583)","v":""},{"$f":"IF(入力シート!G583=\"\",\"\",入力シート!G583)","v":""},{"$f":"IF(入力シート!H583=\"\",\"\",入力シート!H583)","v":""},{"$f":"IF(入力シート!I583=\"\",\"\",入力シート!I583)","v":""},{"$f":"IF(入力シート!J583=\"\",\"\",入力シート!J583)","v":""},{"$f":"IF(入力シート!K583=\"\",\"\",入力シート!K583)","v":""},{"$f":"IF(入力シート!L583=\"\",\"\",入力シート!L583)","v":""},{"$f":"IF(入力シート!M583=\"\",\"\",入力シート!M583)","v":""},{"$f":"IF(入力シート!N583=\"\",\"\",入力シート!P583)","v":""}]
[{"$f":"IF(入力シート!A584=\"\",\"\",入力シート!A584)","v":""},{"$f":"IF(入力シート!B584=\"\",\"\",入力シート!B584)","v":""},{"$f":"IF(入力シート!C584=\"\",\"\",TEXT(入力シート!C584,\"yyyy-mm-dd\"))","v":""},{"$f":"IF(入力シート!O584=\"\",\"\",TEXT(入力シート!O584,\"000-0000\"))","v":""},{"$f":"IF(入力シート!F584=\"\",\"\",入力シート!F584)","v":""},{"$f":"IF(入力シート!G584=\"\",\"\",入力シート!G584)","v":""},{"$f":"IF(入力シート!H584=\"\",\"\",入力シート!H584)","v":""},{"$f":"IF(入力シート!I584=\"\",\"\",入力シート!I584)","v":""},{"$f":"IF(入力シート!J584=\"\",\"\",入力シート!J584)","v":""},{"$f":"IF(入力シート!K584=\"\",\"\",入力シート!K584)","v":""},{"$f":"IF(入力シート!L584=\"\",\"\",入力シート!L584)","v":""},{"$f":"IF(入力シート!M584=\"\",\"\",入力シート!M584)","v":""},{"$f":"IF(入力シート!N584=\"\",\"\",入力シート!P584)","v":""}]
[{"$f":"IF(入力シート!A585=\"\",\"\",入力シート!A585)","v":""},{"$f":"IF(入力シート!B585=\"\",\"\",入力シート!B585)","v":""},{"$f":"IF(入力シート!C585=\"\",\"\",TEXT(入力シート!C585,\"yyyy-mm-dd\"))","v":""},{"$f":"IF(入力シート!O585=\"\",\"\",TEXT(入力シート!O585,\"000-0000\"))","v":""},{"$f":"IF(入力シート!F585=\"\",\"\",入力シート!F585)","v":""},{"$f":"IF(入力シート!G585=\"\",\"\",入力シート!G585)","v":""},{"$f":"IF(入力シート!H585=\"\",\"\",入力シート!H585)","v":""},{"$f":"IF(入力シート!I585=\"\",\"\",入力シート!I585)","v":""},{"$f":"IF(入力シート!J585=\"\",\"\",入力シート!J585)","v":""},{"$f":"IF(入力シート!K585=\"\",\"\",入力シート!K585)","v":""},{"$f":"IF(入力シート!L585=\"\",\"\",入力シート!L585)","v":""},{"$f":"IF(入力シート!M585=\"\",\"\",入力シート!M585)","v":""},{"$f":"IF(入力シート!N585=\"\",\"\",入力シート!P585)","v":""}]
[{"$f":"IF(入力シート!A586=\"\",\"\",入力シート!A586)","v":""},{"$f":"IF(入力シート!B586=\"\",\"\",入力シート!B586)","v":""},{"$f":"IF(入力シート!C586=\"\",\"\",TEXT(入力シート!C586,\"yyyy-mm-dd\"))","v":""},{"$f":"IF(入力シート!O586=\"\",\"\",TEXT(入力シート!O586,\"000-0000\"))","v":""},{"$f":"IF(入力シート!F586=\"\",\"\",入力シート!F586)","v":""},{"$f":"IF(入力シート!G586=\"\",\"\",入力シート!G586)","v":""},{"$f":"IF(入力シート!H586=\"\",\"\",入力シート!H586)","v":""},{"$f":"IF(入力シート!I586=\"\",\"\",入力シート!I586)","v":""},{"$f":"IF(入力シート!J586=\"\",\"\",入力シート!J586)","v":""},{"$f":"IF(入力シート!K586=\"\",\"\",入力シート!K586)","v":""},{"$f":"IF(入力シート!L586=\"\",\"\",入力シート!L586)","v":""},{"$f":"IF(入力シート!M586=\"\",\"\",入力シート!M586)","v":""},{"$f":"IF(入力シート!N586=\"\",\"\",入力シート!P586)","v":""}]
[{"$f":"IF(入力シート!A587=\"\",\"\",入力シート!A587)","v":""},{"$f":"IF(入力シート!B587=\"\",\"\",入力シート!B587)","v":""},{"$f":"IF(入力シート!C587=\"\",\"\",TEXT(入力シート!C587,\"yyyy-mm-dd\"))","v":""},{"$f":"IF(入力シート!O587=\"\",\"\",TEXT(入力シート!O587,\"000-0000\"))","v":""},{"$f":"IF(入力シート!F587=\"\",\"\",入力シート!F587)","v":""},{"$f":"IF(入力シート!G587=\"\",\"\",入力シート!G587)","v":""},{"$f":"IF(入力シート!H587=\"\",\"\",入力シート!H587)","v":""},{"$f":"IF(入力シート!I587=\"\",\"\",入力シート!I587)","v":""},{"$f":"IF(入力シート!J587=\"\",\"\",入力シート!J587)","v":""},{"$f":"IF(入力シート!K587=\"\",\"\",入力シート!K587)","v":""},{"$f":"IF(入力シート!L587=\"\",\"\",入力シート!L587)","v":""},{"$f":"IF(入力シート!M587=\"\",\"\",入力シート!M587)","v":""},{"$f":"IF(入力シート!N587=\"\",\"\",入力シート!P587)","v":""}]
[{"$f":"IF(入力シート!A588=\"\",\"\",入力シート!A588)","v":""},{"$f":"IF(入力シート!B588=\"\",\"\",入力シート!B588)","v":""},{"$f":"IF(入力シート!C588=\"\",\"\",TEXT(入力シート!C588,\"yyyy-mm-dd\"))","v":""},{"$f":"IF(入力シート!O588=\"\",\"\",TEXT(入力シート!O588,\"000-0000\"))","v":""},{"$f":"IF(入力シート!F588=\"\",\"\",入力シート!F588)","v":""},{"$f":"IF(入力シート!G588=\"\",\"\",入力シート!G588)","v":""},{"$f":"IF(入力シート!H588=\"\",\"\",入力シート!H588)","v":""},{"$f":"IF(入力シート!I588=\"\",\"\",入力シート!I588)","v":""},{"$f":"IF(入力シート!J588=\"\",\"\",入力シート!J588)","v":""},{"$f":"IF(入力シート!K588=\"\",\"\",入力シート!K588)","v":""},{"$f":"IF(入力シート!L588=\"\",\"\",入力シート!L588)","v":""},{"$f":"IF(入力シート!M588=\"\",\"\",入力シート!M588)","v":""},{"$f":"IF(入力シート!N588=\"\",\"\",入力シート!P588)","v":""}]
[{"$f":"IF(入力シート!A589=\"\",\"\",入力シート!A589)","v":""},{"$f":"IF(入力シート!B589=\"\",\"\",入力シート!B589)","v":""},{"$f":"IF(入力シート!C589=\"\",\"\",TEXT(入力シート!C589,\"yyyy-mm-dd\"))","v":""},{"$f":"IF(入力シート!O589=\"\",\"\",TEXT(入力シート!O589,\"000-0000\"))","v":""},{"$f":"IF(入力シート!F589=\"\",\"\",入力シート!F589)","v":""},{"$f":"IF(入力シート!G589=\"\",\"\",入力シート!G589)","v":""},{"$f":"IF(入力シート!H589=\"\",\"\",入力シート!H589)","v":""},{"$f":"IF(入力シート!I589=\"\",\"\",入力シート!I589)","v":""},{"$f":"IF(入力シート!J589=\"\",\"\",入力シート!J589)","v":""},{"$f":"IF(入力シート!K589=\"\",\"\",入力シート!K589)","v":""},{"$f":"IF(入力シート!L589=\"\",\"\",入力シート!L589)","v":""},{"$f":"IF(入力シート!M589=\"\",\"\",入力シート!M589)","v":""},{"$f":"IF(入力シート!N589=\"\",\"\",入力シート!P589)","v":""}]
[{"$f":"IF(入力シート!A590=\"\",\"\",入力シート!A590)","v":""},{"$f":"IF(入力シート!B590=\"\",\"\",入力シート!B590)","v":""},{"$f":"IF(入力シート!C590=\"\",\"\",TEXT(入力シート!C590,\"yyyy-mm-dd\"))","v":""},{"$f":"IF(入力シート!O590=\"\",\"\",TEXT(入力シート!O590,\"000-0000\"))","v":""},{"$f":"IF(入力シート!F590=\"\",\"\",入力シート!F590)","v":""},{"$f":"IF(入力シート!G590=\"\",\"\",入力シート!G590)","v":""},{"$f":"IF(入力シート!H590=\"\",\"\",入力シート!H590)","v":""},{"$f":"IF(入力シート!I590=\"\",\"\",入力シート!I590)","v":""},{"$f":"IF(入力シート!J590=\"\",\"\",入力シート!J590)","v":""},{"$f":"IF(入力シート!K590=\"\",\"\",入力シート!K590)","v":""},{"$f":"IF(入力シート!L590=\"\",\"\",入力シート!L590)","v":""},{"$f":"IF(入力シート!M590=\"\",\"\",入力シート!M590)","v":""},{"$f":"IF(入力シート!N590=\"\",\"\",入力シート!P590)","v":""}]
[{"$f":"IF(入力シート!A591=\"\",\"\",入力シート!A591)","v":""},{"$f":"IF(入力シート!B591=\"\",\"\",入力シート!B591)","v":""},{"$f":"IF(入力シート!C591=\"\",\"\",TEXT(入力シート!C591,\"yyyy-mm-dd\"))","v":""},{"$f":"IF(入力シート!O591=\"\",\"\",TEXT(入力シート!O591,\"000-0000\"))","v":""},{"$f":"IF(入力シート!F591=\"\",\"\",入力シート!F591)","v":""},{"$f":"IF(入力シート!G591=\"\",\"\",入力シート!G591)","v":""},{"$f":"IF(入力シート!H591=\"\",\"\",入力シート!H591)","v":""},{"$f":"IF(入力シート!I591=\"\",\"\",入力シート!I591)","v":""},{"$f":"IF(入力シート!J591=\"\",\"\",入力シート!J591)","v":""},{"$f":"IF(入力シート!K591=\"\",\"\",入力シート!K591)","v":""},{"$f":"IF(入力シート!L591=\"\",\"\",入力シート!L591)","v":""},{"$f":"IF(入力シート!M591=\"\",\"\",入力シート!M591)","v":""},{"$f":"IF(入力シート!N591=\"\",\"\",入力シート!P591)","v":""}]
[{"$f":"IF(入力シート!A592=\"\",\"\",入力シート!A592)","v":""},{"$f":"IF(入力シート!B592=\"\",\"\",入力シート!B592)","v":""},{"$f":"IF(入力シート!C592=\"\",\"\",TEXT(入力シート!C592,\"yyyy-mm-dd\"))","v":""},{"$f":"IF(入力シート!O592=\"\",\"\",TEXT(入力シート!O592,\"000-0000\"))","v":""},{"$f":"IF(入力シート!F592=\"\",\"\",入力シート!F592)","v":""},{"$f":"IF(入力シート!G592=\"\",\"\",入力シート!G592)","v":""},{"$f":"IF(入力シート!H592=\"\",\"\",入力シート!H592)","v":""},{"$f":"IF(入力シート!I592=\"\",\"\",入力シート!I592)","v":""},{"$f":"IF(入力シート!J592=\"\",\"\",入力シート!J592)","v":""},{"$f":"IF(入力シート!K592=\"\",\"\",入力シート!K592)","v":""},{"$f":"IF(入力シート!L592=\"\",\"\",入力シート!L592)","v":""},{"$f":"IF(入力シート!M592=\"\",\"\",入力シート!M592)","v":""},{"$f":"IF(入力シート!N592=\"\",\"\",入力シート!P592)","v":""}]
[{"$f":"IF(入力シート!A593=\"\",\"\",入力シート!A593)","v":""},{"$f":"IF(入力シート!B593=\"\",\"\",入力シート!B593)","v":""},{"$f":"IF(入力シート!C593=\"\",\"\",TEXT(入力シート!C593,\"yyyy-mm-dd\"))","v":""},{"$f":"IF(入力シート!O593=\"\",\"\",TEXT(入力シート!O593,\"000-0000\"))","v":""},{"$f":"IF(入力シート!F593=\"\",\"\",入力シート!F593)","v":""},{"$f":"IF(入力シート!G593=\"\",\"\",入力シート!G593)","v":""},{"$f":"IF(入力シート!H593=\"\",\"\",入力シート!H593)","v":""},{"$f":"IF(入力シート!I593=\"\",\"\",入力シート!I593)","v":""},{"$f":"IF(入力シート!J593=\"\",\"\",入力シート!J593)","v":""},{"$f":"IF(入力シート!K593=\"\",\"\",入力シート!K593)","v":""},{"$f":"IF(入力シート!L593=\"\",\"\",入力シート!L593)","v":""},{"$f":"IF(入力シート!M593=\"\",\"\",入力シート!M593)","v":""},{"$f":"IF(入力シート!N593=\"\",\"\",入力シート!P593)","v":""}]
[{"$f":"IF(入力シート!A594=\"\",\"\",入力シート!A594)","v":""},{"$f":"IF(入力シート!B594=\"\",\"\",入力シート!B594)","v":""},{"$f":"IF(入力シート!C594=\"\",\"\",TEXT(入力シート!C594,\"yyyy-mm-dd\"))","v":""},{"$f":"IF(入力シート!O594=\"\",\"\",TEXT(入力シート!O594,\"000-0000\"))","v":""},{"$f":"IF(入力シート!F594=\"\",\"\",入力シート!F594)","v":""},{"$f":"IF(入力シート!G594=\"\",\"\",入力シート!G594)","v":""},{"$f":"IF(入力シート!H594=\"\",\"\",入力シート!H594)","v":""},{"$f":"IF(入力シート!I594=\"\",\"\",入力シート!I594)","v":""},{"$f":"IF(入力シート!J594=\"\",\"\",入力シート!J594)","v":""},{"$f":"IF(入力シート!K594=\"\",\"\",入力シート!K594)","v":""},{"$f":"IF(入力シート!L594=\"\",\"\",入力シート!L594)","v":""},{"$f":"IF(入力シート!M594=\"\",\"\",入力シート!M594)","v":""},{"$f":"IF(入力シート!N594=\"\",\"\",入力シート!P594)","v":""}]
[{"$f":"IF(入力シート!A595=\"\",\"\",入力シート!A595)","v":""},{"$f":"IF(入力シート!B595=\"\",\"\",入力シート!B595)","v":""},{"$f":"IF(入力シート!C595=\"\",\"\",TEXT(入力シート!C595,\"yyyy-mm-dd\"))","v":""},{"$f":"IF(入力シート!O595=\"\",\"\",TEXT(入力シート!O595,\"000-0000\"))","v":""},{"$f":"IF(入力シート!F595=\"\",\"\",入力シート!F595)","v":""},{"$f":"IF(入力シート!G595=\"\",\"\",入力シート!G595)","v":""},{"$f":"IF(入力シート!H595=\"\",\"\",入力シート!H595)","v":""},{"$f":"IF(入力シート!I595=\"\",\"\",入力シート!I595)","v":""},{"$f":"IF(入力シート!J595=\"\",\"\",入力シート!J595)","v":""},{"$f":"IF(入力シート!K595=\"\",\"\",入力シート!K595)","v":""},{"$f":"IF(入力シート!L595=\"\",\"\",入力シート!L595)","v":""},{"$f":"IF(入力シート!M595=\"\",\"\",入力シート!M595)","v":""},{"$f":"IF(入力シート!N595=\"\",\"\",入力シート!P595)","v":""}]
[{"$f":"IF(入力シート!A596=\"\",\"\",入力シート!A596)","v":""},{"$f":"IF(入力シート!B596=\"\",\"\",入力シート!B596)","v":""},{"$f":"IF(入力シート!C596=\"\",\"\",TEXT(入力シート!C596,\"yyyy-mm-dd\"))","v":""},{"$f":"IF(入力シート!O596=\"\",\"\",TEXT(入力シート!O596,\"000-0000\"))","v":""},{"$f":"IF(入力シート!F596=\"\",\"\",入力シート!F596)","v":""},{"$f":"IF(入力シート!G596=\"\",\"\",入力シート!G596)","v":""},{"$f":"IF(入力シート!H596=\"\",\"\",入力シート!H596)","v":""},{"$f":"IF(入力シート!I596=\"\",\"\",入力シート!I596)","v":""},{"$f":"IF(入力シート!J596=\"\",\"\",入力シート!J596)","v":""},{"$f":"IF(入力シート!K596=\"\",\"\",入力シート!K596)","v":""},{"$f":"IF(入力シート!L596=\"\",\"\",入力シート!L596)","v":""},{"$f":"IF(入力シート!M596=\"\",\"\",入力シート!M596)","v":""},{"$f":"IF(入力シート!N596=\"\",\"\",入力シート!P596)","v":""}]
[{"$f":"IF(入力シート!A597=\"\",\"\",入力シート!A597)","v":""},{"$f":"IF(入力シート!B597=\"\",\"\",入力シート!B597)","v":""},{"$f":"IF(入力シート!C597=\"\",\"\",TEXT(入力シート!C597,\"yyyy-mm-dd\"))","v":""},{"$f":"IF(入力シート!O597=\"\",\"\",TEXT(入力シート!O597,\"000-0000\"))","v":""},{"$f":"IF(入力シート!F597=\"\",\"\",入力シート!F597)","v":""},{"$f":"IF(入力シート!G597=\"\",\"\",入力シート!G597)","v":""},{"$f":"IF(入力シート!H597=\"\",\"\",入力シート!H597)","v":""},{"$f":"IF(入力シート!I597=\"\",\"\",入力シート!I597)","v":""},{"$f":"IF(入力シート!J597=\"\",\"\",入力シート!J597)","v":""},{"$f":"IF(入力シート!K597=\"\",\"\",入力シート!K597)","v":""},{"$f":"IF(入力シート!L597=\"\",\"\",入力シート!L597)","v":""},{"$f":"IF(入力シート!M597=\"\",\"\",入力シート!M597)","v":""},{"$f":"IF(入力シート!N597=\"\",\"\",入力シート!P597)","v":""}]
[{"$f":"IF(入力シート!A598=\"\",\"\",入力シート!A598)","v":""},{"$f":"IF(入力シート!B598=\"\",\"\",入力シート!B598)","v":""},{"$f":"IF(入力シート!C598=\"\",\"\",TEXT(入力シート!C598,\"yyyy-mm-dd\"))","v":""},{"$f":"IF(入力シート!O598=\"\",\"\",TEXT(入力シート!O598,\"000-0000\"))","v":""},{"$f":"IF(入力シート!F598=\"\",\"\",入力シート!F598)","v":""},{"$f":"IF(入力シート!G598=\"\",\"\",入力シート!G598)","v":""},{"$f":"IF(入力シート!H598=\"\",\"\",入力シート!H598)","v":""},{"$f":"IF(入力シート!I598=\"\",\"\",入力シート!I598)","v":""},{"$f":"IF(入力シート!J598=\"\",\"\",入力シート!J598)","v":""},{"$f":"IF(入力シート!K598=\"\",\"\",入力シート!K598)","v":""},{"$f":"IF(入力シート!L598=\"\",\"\",入力シート!L598)","v":""},{"$f":"IF(入力シート!M598=\"\",\"\",入力シート!M598)","v":""},{"$f":"IF(入力シート!N598=\"\",\"\",入力シート!P598)","v":""}]
[{"$f":"IF(入力シート!A599=\"\",\"\",入力シート!A599)","v":""},{"$f":"IF(入力シート!B599=\"\",\"\",入力シート!B599)","v":""},{"$f":"IF(入力シート!C599=\"\",\"\",TEXT(入力シート!C599,\"yyyy-mm-dd\"))","v":""},{"$f":"IF(入力シート!O599=\"\",\"\",TEXT(入力シート!O599,\"000-0000\"))","v":""},{"$f":"IF(入力シート!F599=\"\",\"\",入力シート!F599)","v":""},{"$f":"IF(入力シート!G599=\"\",\"\",入力シート!G599)","v":""},{"$f":"IF(入力シート!H599=\"\",\"\",入力シート!H599)","v":""},{"$f":"IF(入力シート!I599=\"\",\"\",入力シート!I599)","v":""},{"$f":"IF(入力シート!J599=\"\",\"\",入力シート!J599)","v":""},{"$f":"IF(入力シート!K599=\"\",\"\",入力シート!K599)","v":""},{"$f":"IF(入力シート!L599=\"\",\"\",入力シート!L599)","v":""},{"$f":"IF(入力シート!M599=\"\",\"\",入力シート!M599)","v":""},{"$f":"IF(入力シート!N599=\"\",\"\",入力シート!P599)","v":""}]
[{"$f":"IF(入力シート!A600=\"\",\"\",入力シート!A600)","v":""},{"$f":"IF(入力シート!B600=\"\",\"\",入力シート!B600)","v":""},{"$f":"IF(入力シート!C600=\"\",\"\",TEXT(入力シート!C600,\"yyyy-mm-dd\"))","v":""},{"$f":"IF(入力シート!O600=\"\",\"\",TEXT(入力シート!O600,\"000-0000\"))","v":""},{"$f":"IF(入力シート!F600=\"\",\"\",入力シート!F600)","v":""},{"$f":"IF(入力シート!G600=\"\",\"\",入力シート!G600)","v":""},{"$f":"IF(入力シート!H600=\"\",\"\",入力シート!H600)","v":""},{"$f":"IF(入力シート!I600=\"\",\"\",入力シート!I600)","v":""},{"$f":"IF(入力シート!J600=\"\",\"\",入力シート!J600)","v":""},{"$f":"IF(入力シート!K600=\"\",\"\",入力シート!K600)","v":""},{"$f":"IF(入力シート!L600=\"\",\"\",入力シート!L600)","v":""},{"$f":"IF(入力シート!M600=\"\",\"\",入力シート!M600)","v":""},{"$f":"IF(入力シート!N600=\"\",\"\",入力シート!P600)","v":""}]
[{"$f":"IF(入力シート!A601=\"\",\"\",入力シート!A601)","v":""},{"$f":"IF(入力シート!B601=\"\",\"\",入力シート!B601)","v":""},{"$f":"IF(入力シート!C601=\"\",\"\",TEXT(入力シート!C601,\"yyyy-mm-dd\"))","v":""},{"$f":"IF(入力シート!O601=\"\",\"\",TEXT(入力シート!O601,\"000-0000\"))","v":""},{"$f":"IF(入力シート!F601=\"\",\"\",入力シート!F601)","v":""},{"$f":"IF(入力シート!G601=\"\",\"\",入力シート!G601)","v":""},{"$f":"IF(入力シート!H601=\"\",\"\",入力シート!H601)","v":""},{"$f":"IF(入力シート!I601=\"\",\"\",入力シート!I601)","v":""},{"$f":"IF(入力シート!J601=\"\",\"\",入力シート!J601)","v":""},{"$f":"IF(入力シート!K601=\"\",\"\",入力シート!K601)","v":""},{"$f":"IF(入力シート!L601=\"\",\"\",入力シート!L601)","v":""},{"$f":"IF(入力シート!M601=\"\",\"\",入力シート!M601)","v":""},{"$f":"IF(入力シート!N601=\"\",\"\",入力シート!P601)","v":""}]
[{"$f":"IF(入力シート!A602=\"\",\"\",入力シート!A602)","v":""},{"$f":"IF(入力シート!B602=\"\",\"\",入力シート!B602)","v":""},{"$f":"IF(入力シート!C602=\"\",\"\",TEXT(入力シート!C602,\"yyyy-mm-dd\"))","v":""},{"$f":"IF(入力シート!O602=\"\",\"\",TEXT(入力シート!O602,\"000-0000\"))","v":""},{"$f":"IF(入力シート!F602=\"\",\"\",入力シート!F602)","v":""},{"$f":"IF(入力シート!G602=\"\",\"\",入力シート!G602)","v":""},{"$f":"IF(入力シート!H602=\"\",\"\",入力シート!H602)","v":""},{"$f":"IF(入力シート!I602=\"\",\"\",入力シート!I602)","v":""},{"$f":"IF(入力シート!J602=\"\",\"\",入力シート!J602)","v":""},{"$f":"IF(入力シート!K602=\"\",\"\",入力シート!K602)","v":""},{"$f":"IF(入力シート!L602=\"\",\"\",入力シート!L602)","v":""},{"$f":"IF(入力シート!M602=\"\",\"\",入力シート!M602)","v":""},{"$f":"IF(入力シート!N602=\"\",\"\",入力シート!P602)","v":""}]
[{"$f":"IF(入力シート!A603=\"\",\"\",入力シート!A603)","v":""},{"$f":"IF(入力シート!B603=\"\",\"\",入力シート!B603)","v":""},{"$f":"IF(入力シート!C603=\"\",\"\",TEXT(入力シート!C603,\"yyyy-mm-dd\"))","v":""},{"$f":"IF(入力シート!O603=\"\",\"\",TEXT(入力シート!O603,\"000-0000\"))","v":""},{"$f":"IF(入力シート!F603=\"\",\"\",入力シート!F603)","v":""},{"$f":"IF(入力シート!G603=\"\",\"\",入力シート!G603)","v":""},{"$f":"IF(入力シート!H603=\"\",\"\",入力シート!H603)","v":""},{"$f":"IF(入力シート!I603=\"\",\"\",入力シート!I603)","v":""},{"$f":"IF(入力シート!J603=\"\",\"\",入力シート!J603)","v":""},{"$f":"IF(入力シート!K603=\"\",\"\",入力シート!K603)","v":""},{"$f":"IF(入力シート!L603=\"\",\"\",入力シート!L603)","v":""},{"$f":"IF(入力シート!M603=\"\",\"\",入力シート!M603)","v":""},{"$f":"IF(入力シート!N603=\"\",\"\",入力シート!P603)","v":""}]
[{"$f":"IF(入力シート!A604=\"\",\"\",入力シート!A604)","v":""},{"$f":"IF(入力シート!B604=\"\",\"\",入力シート!B604)","v":""},{"$f":"IF(入力シート!C604=\"\",\"\",TEXT(入力シート!C604,\"yyyy-mm-dd\"))","v":""},{"$f":"IF(入力シート!O604=\"\",\"\",TEXT(入力シート!O604,\"000-0000\"))","v":""},{"$f":"IF(入力シート!F604=\"\",\"\",入力シート!F604)","v":""},{"$f":"IF(入力シート!G604=\"\",\"\",入力シート!G604)","v":""},{"$f":"IF(入力シート!H604=\"\",\"\",入力シート!H604)","v":""},{"$f":"IF(入力シート!I604=\"\",\"\",入力シート!I604)","v":""},{"$f":"IF(入力シート!J604=\"\",\"\",入力シート!J604)","v":""},{"$f":"IF(入力シート!K604=\"\",\"\",入力シート!K604)","v":""},{"$f":"IF(入力シート!L604=\"\",\"\",入力シート!L604)","v":""},{"$f":"IF(入力シート!M604=\"\",\"\",入力シート!M604)","v":""},{"$f":"IF(入力シート!N604=\"\",\"\",入力シート!P604)","v":""}]
[{"$f":"IF(入力シート!A605=\"\",\"\",入力シート!A605)","v":""},{"$f":"IF(入力シート!B605=\"\",\"\",入力シート!B605)","v":""},{"$f":"IF(入力シート!C605=\"\",\"\",TEXT(入力シート!C605,\"yyyy-mm-dd\"))","v":""},{"$f":"IF(入力シート!O605=\"\",\"\",TEXT(入力シート!O605,\"000-0000\"))","v":""},{"$f":"IF(入力シート!F605=\"\",\"\",入力シート!F605)","v":""},{"$f":"IF(入力シート!G605=\"\",\"\",入力シート!G605)","v":""},{"$f":"IF(入力シート!H605=\"\",\"\",入力シート!H605)","v":""},{"$f":"IF(入力シート!I605=\"\",\"\",入力シート!I605)","v":""},{"$f":"IF(入力シート!J605=\"\",\"\",入力シート!J605)","v":""},{"$f":"IF(入力シート!K605=\"\",\"\",入力シート!K605)","v":""},{"$f":"IF(入力シート!L605=\"\",\"\",入力シート!L605)","v":""},{"$f":"IF(入力シート!M605=\"\",\"\",入力シート!M605)","v":""},{"$f":"IF(入力シート!N605=\"\",\"\",入力シート!P605)","v":""}]
[{"$f":"IF(入力シート!A606=\"\",\"\",入力シート!A606)","v":""},{"$f":"IF(入力シート!B606=\"\",\"\",入力シート!B606)","v":""},{"$f":"IF(入力シート!C606=\"\",\"\",TEXT(入力シート!C606,\"yyyy-mm-dd\"))","v":""},{"$f":"IF(入力シート!O606=\"\",\"\",TEXT(入力シート!O606,\"000-0000\"))","v":""},{"$f":"IF(入力シート!F606=\"\",\"\",入力シート!F606)","v":""},{"$f":"IF(入力シート!G606=\"\",\"\",入力シート!G606)","v":""},{"$f":"IF(入力シート!H606=\"\",\"\",入力シート!H606)","v":""},{"$f":"IF(入力シート!I606=\"\",\"\",入力シート!I606)","v":""},{"$f":"IF(入力シート!J606=\"\",\"\",入力シート!J606)","v":""},{"$f":"IF(入力シート!K606=\"\",\"\",入力シート!K606)","v":""},{"$f":"IF(入力シート!L606=\"\",\"\",入力シート!L606)","v":""},{"$f":"IF(入力シート!M606=\"\",\"\",入力シート!M606)","v":""},{"$f":"IF(入力シート!N606=\"\",\"\",入力シート!P606)","v":""}]
[{"$f":"IF(入力シート!A607=\"\",\"\",入力シート!A607)","v":""},{"$f":"IF(入力シート!B607=\"\",\"\",入力シート!B607)","v":""},{"$f":"IF(入力シート!C607=\"\",\"\",TEXT(入力シート!C607,\"yyyy-mm-dd\"))","v":""},{"$f":"IF(入力シート!O607=\"\",\"\",TEXT(入力シート!O607,\"000-0000\"))","v":""},{"$f":"IF(入力シート!F607=\"\",\"\",入力シート!F607)","v":""},{"$f":"IF(入力シート!G607=\"\",\"\",入力シート!G607)","v":""},{"$f":"IF(入力シート!H607=\"\",\"\",入力シート!H607)","v":""},{"$f":"IF(入力シート!I607=\"\",\"\",入力シート!I607)","v":""},{"$f":"IF(入力シート!J607=\"\",\"\",入力シート!J607)","v":""},{"$f":"IF(入力シート!K607=\"\",\"\",入力シート!K607)","v":""},{"$f":"IF(入力シート!L607=\"\",\"\",入力シート!L607)","v":""},{"$f":"IF(入力シート!M607=\"\",\"\",入力シート!M607)","v":""},{"$f":"IF(入力シート!N607=\"\",\"\",入力シート!P607)","v":""}]
[{"$f":"IF(入力シート!A608=\"\",\"\",入力シート!A608)","v":""},{"$f":"IF(入力シート!B608=\"\",\"\",入力シート!B608)","v":""},{"$f":"IF(入力シート!C608=\"\",\"\",TEXT(入力シート!C608,\"yyyy-mm-dd\"))","v":""},{"$f":"IF(入力シート!O608=\"\",\"\",TEXT(入力シート!O608,\"000-0000\"))","v":""},{"$f":"IF(入力シート!F608=\"\",\"\",入力シート!F608)","v":""},{"$f":"IF(入力シート!G608=\"\",\"\",入力シート!G608)","v":""},{"$f":"IF(入力シート!H608=\"\",\"\",入力シート!H608)","v":""},{"$f":"IF(入力シート!I608=\"\",\"\",入力シート!I608)","v":""},{"$f":"IF(入力シート!J608=\"\",\"\",入力シート!J608)","v":""},{"$f":"IF(入力シート!K608=\"\",\"\",入力シート!K608)","v":""},{"$f":"IF(入力シート!L608=\"\",\"\",入力シート!L608)","v":""},{"$f":"IF(入力シート!M608=\"\",\"\",入力シート!M608)","v":""},{"$f":"IF(入力シート!N608=\"\",\"\",入力シート!P608)","v":""}]
[{"$f":"IF(入力シート!A609=\"\",\"\",入力シート!A609)","v":""},{"$f":"IF(入力シート!B609=\"\",\"\",入力シート!B609)","v":""},{"$f":"IF(入力シート!C609=\"\",\"\",TEXT(入力シート!C609,\"yyyy-mm-dd\"))","v":""},{"$f":"IF(入力シート!O609=\"\",\"\",TEXT(入力シート!O609,\"000-0000\"))","v":""},{"$f":"IF(入力シート!F609=\"\",\"\",入力シート!F609)","v":""},{"$f":"IF(入力シート!G609=\"\",\"\",入力シート!G609)","v":""},{"$f":"IF(入力シート!H609=\"\",\"\",入力シート!H609)","v":""},{"$f":"IF(入力シート!I609=\"\",\"\",入力シート!I609)","v":""},{"$f":"IF(入力シート!J609=\"\",\"\",入力シート!J609)","v":""},{"$f":"IF(入力シート!K609=\"\",\"\",入力シート!K609)","v":""},{"$f":"IF(入力シート!L609=\"\",\"\",入力シート!L609)","v":""},{"$f":"IF(入力シート!M609=\"\",\"\",入力シート!M609)","v":""},{"$f":"IF(入力シート!N609=\"\",\"\",入力シート!P609)","v":""}]
[{"$f":"IF(入力シート!A610=\"\",\"\",入力シート!A610)","v":""},{"$f":"IF(入力シート!B610=\"\",\"\",入力シート!B610)","v":""},{"$f":"IF(入力シート!C610=\"\",\"\",TEXT(入力シート!C610,\"yyyy-mm-dd\"))","v":""},{"$f":"IF(入力シート!O610=\"\",\"\",TEXT(入力シート!O610,\"000-0000\"))","v":""},{"$f":"IF(入力シート!F610=\"\",\"\",入力シート!F610)","v":""},{"$f":"IF(入力シート!G610=\"\",\"\",入力シート!G610)","v":""},{"$f":"IF(入力シート!H610=\"\",\"\",入力シート!H610)","v":""},{"$f":"IF(入力シート!I610=\"\",\"\",入力シート!I610)","v":""},{"$f":"IF(入力シート!J610=\"\",\"\",入力シート!J610)","v":""},{"$f":"IF(入力シート!K610=\"\",\"\",入力シート!K610)","v":""},{"$f":"IF(入力シート!L610=\"\",\"\",入力シート!L610)","v":""},{"$f":"IF(入力シート!M610=\"\",\"\",入力シート!M610)","v":""},{"$f":"IF(入力シート!N610=\"\",\"\",入力シート!P610)","v":""}]
[{"$f":"IF(入力シート!A611=\"\",\"\",入力シート!A611)","v":""},{"$f":"IF(入力シート!B611=\"\",\"\",入力シート!B611)","v":""},{"$f":"IF(入力シート!C611=\"\",\"\",TEXT(入力シート!C611,\"yyyy-mm-dd\"))","v":""},{"$f":"IF(入力シート!O611=\"\",\"\",TEXT(入力シート!O611,\"000-0000\"))","v":""},{"$f":"IF(入力シート!F611=\"\",\"\",入力シート!F611)","v":""},{"$f":"IF(入力シート!G611=\"\",\"\",入力シート!G611)","v":""},{"$f":"IF(入力シート!H611=\"\",\"\",入力シート!H611)","v":""},{"$f":"IF(入力シート!I611=\"\",\"\",入力シート!I611)","v":""},{"$f":"IF(入力シート!J611=\"\",\"\",入力シート!J611)","v":""},{"$f":"IF(入力シート!K611=\"\",\"\",入力シート!K611)","v":""},{"$f":"IF(入力シート!L611=\"\",\"\",入力シート!L611)","v":""},{"$f":"IF(入力シート!M611=\"\",\"\",入力シート!M611)","v":""},{"$f":"IF(入力シート!N611=\"\",\"\",入力シート!P611)","v":""}]
[{"$f":"IF(入力シート!A612=\"\",\"\",入力シート!A612)","v":""},{"$f":"IF(入力シート!B612=\"\",\"\",入力シート!B612)","v":""},{"$f":"IF(入力シート!C612=\"\",\"\",TEXT(入力シート!C612,\"yyyy-mm-dd\"))","v":""},{"$f":"IF(入力シート!O612=\"\",\"\",TEXT(入力シート!O612,\"000-0000\"))","v":""},{"$f":"IF(入力シート!F612=\"\",\"\",入力シート!F612)","v":""},{"$f":"IF(入力シート!G612=\"\",\"\",入力シート!G612)","v":""},{"$f":"IF(入力シート!H612=\"\",\"\",入力シート!H612)","v":""},{"$f":"IF(入力シート!I612=\"\",\"\",入力シート!I612)","v":""},{"$f":"IF(入力シート!J612=\"\",\"\",入力シート!J612)","v":""},{"$f":"IF(入力シート!K612=\"\",\"\",入力シート!K612)","v":""},{"$f":"IF(入力シート!L612=\"\",\"\",入力シート!L612)","v":""},{"$f":"IF(入力シート!M612=\"\",\"\",入力シート!M612)","v":""},{"$f":"IF(入力シート!N612=\"\",\"\",入力シート!P612)","v":""}]
[{"$f":"IF(入力シート!A613=\"\",\"\",入力シート!A613)","v":""},{"$f":"IF(入力シート!B613=\"\",\"\",入力シート!B613)","v":""},{"$f":"IF(入力シート!C613=\"\",\"\",TEXT(入力シート!C613,\"yyyy-mm-dd\"))","v":""},{"$f":"IF(入力シート!O613=\"\",\"\",TEXT(入力シート!O613,\"000-0000\"))","v":""},{"$f":"IF(入力シート!F613=\"\",\"\",入力シート!F613)","v":""},{"$f":"IF(入力シート!G613=\"\",\"\",入力シート!G613)","v":""},{"$f":"IF(入力シート!H613=\"\",\"\",入力シート!H613)","v":""},{"$f":"IF(入力シート!I613=\"\",\"\",入力シート!I613)","v":""},{"$f":"IF(入力シート!J613=\"\",\"\",入力シート!J613)","v":""},{"$f":"IF(入力シート!K613=\"\",\"\",入力シート!K613)","v":""},{"$f":"IF(入力シート!L613=\"\",\"\",入力シート!L613)","v":""},{"$f":"IF(入力シート!M613=\"\",\"\",入力シート!M613)","v":""},{"$f":"IF(入力シート!N613=\"\",\"\",入力シート!P613)","v":""}]
[{"$f":"IF(入力シート!A614=\"\",\"\",入力シート!A614)","v":""},{"$f":"IF(入力シート!B614=\"\",\"\",入力シート!B614)","v":""},{"$f":"IF(入力シート!C614=\"\",\"\",TEXT(入力シート!C614,\"yyyy-mm-dd\"))","v":""},{"$f":"IF(入力シート!O614=\"\",\"\",TEXT(入力シート!O614,\"000-0000\"))","v":""},{"$f":"IF(入力シート!F614=\"\",\"\",入力シート!F614)","v":""},{"$f":"IF(入力シート!G614=\"\",\"\",入力シート!G614)","v":""},{"$f":"IF(入力シート!H614=\"\",\"\",入力シート!H614)","v":""},{"$f":"IF(入力シート!I614=\"\",\"\",入力シート!I614)","v":""},{"$f":"IF(入力シート!J614=\"\",\"\",入力シート!J614)","v":""},{"$f":"IF(入力シート!K614=\"\",\"\",入力シート!K614)","v":""},{"$f":"IF(入力シート!L614=\"\",\"\",入力シート!L614)","v":""},{"$f":"IF(入力シート!M614=\"\",\"\",入力シート!M614)","v":""},{"$f":"IF(入力シート!N614=\"\",\"\",入力シート!P614)","v":""}]
[{"$f":"IF(入力シート!A615=\"\",\"\",入力シート!A615)","v":""},{"$f":"IF(入力シート!B615=\"\",\"\",入力シート!B615)","v":""},{"$f":"IF(入力シート!C615=\"\",\"\",TEXT(入力シート!C615,\"yyyy-mm-dd\"))","v":""},{"$f":"IF(入力シート!O615=\"\",\"\",TEXT(入力シート!O615,\"000-0000\"))","v":""},{"$f":"IF(入力シート!F615=\"\",\"\",入力シート!F615)","v":""},{"$f":"IF(入力シート!G615=\"\",\"\",入力シート!G615)","v":""},{"$f":"IF(入力シート!H615=\"\",\"\",入力シート!H615)","v":""},{"$f":"IF(入力シート!I615=\"\",\"\",入力シート!I615)","v":""},{"$f":"IF(入力シート!J615=\"\",\"\",入力シート!J615)","v":""},{"$f":"IF(入力シート!K615=\"\",\"\",入力シート!K615)","v":""},{"$f":"IF(入力シート!L615=\"\",\"\",入力シート!L615)","v":""},{"$f":"IF(入力シート!M615=\"\",\"\",入力シート!M615)","v":""},{"$f":"IF(入力シート!N615=\"\",\"\",入力シート!P615)","v":""}]
[{"$f":"IF(入力シート!A616=\"\",\"\",入力シート!A616)","v":""},{"$f":"IF(入力シート!B616=\"\",\"\",入力シート!B616)","v":""},{"$f":"IF(入力シート!C616=\"\",\"\",TEXT(入力シート!C616,\"yyyy-mm-dd\"))","v":""},{"$f":"IF(入力シート!O616=\"\",\"\",TEXT(入力シート!O616,\"000-0000\"))","v":""},{"$f":"IF(入力シート!F616=\"\",\"\",入力シート!F616)","v":""},{"$f":"IF(入力シート!G616=\"\",\"\",入力シート!G616)","v":""},{"$f":"IF(入力シート!H616=\"\",\"\",入力シート!H616)","v":""},{"$f":"IF(入力シート!I616=\"\",\"\",入力シート!I616)","v":""},{"$f":"IF(入力シート!J616=\"\",\"\",入力シート!J616)","v":""},{"$f":"IF(入力シート!K616=\"\",\"\",入力シート!K616)","v":""},{"$f":"IF(入力シート!L616=\"\",\"\",入力シート!L616)","v":""},{"$f":"IF(入力シート!M616=\"\",\"\",入力シート!M616)","v":""},{"$f":"IF(入力シート!N616=\"\",\"\",入力シート!P616)","v":""}]
[{"$f":"IF(入力シート!A617=\"\",\"\",入力シート!A617)","v":""},{"$f":"IF(入力シート!B617=\"\",\"\",入力シート!B617)","v":""},{"$f":"IF(入力シート!C617=\"\",\"\",TEXT(入力シート!C617,\"yyyy-mm-dd\"))","v":""},{"$f":"IF(入力シート!O617=\"\",\"\",TEXT(入力シート!O617,\"000-0000\"))","v":""},{"$f":"IF(入力シート!F617=\"\",\"\",入力シート!F617)","v":""},{"$f":"IF(入力シート!G617=\"\",\"\",入力シート!G617)","v":""},{"$f":"IF(入力シート!H617=\"\",\"\",入力シート!H617)","v":""},{"$f":"IF(入力シート!I617=\"\",\"\",入力シート!I617)","v":""},{"$f":"IF(入力シート!J617=\"\",\"\",入力シート!J617)","v":""},{"$f":"IF(入力シート!K617=\"\",\"\",入力シート!K617)","v":""},{"$f":"IF(入力シート!L617=\"\",\"\",入力シート!L617)","v":""},{"$f":"IF(入力シート!M617=\"\",\"\",入力シート!M617)","v":""},{"$f":"IF(入力シート!N617=\"\",\"\",入力シート!P617)","v":""}]
[{"$f":"IF(入力シート!A618=\"\",\"\",入力シート!A618)","v":""},{"$f":"IF(入力シート!B618=\"\",\"\",入力シート!B618)","v":""},{"$f":"IF(入力シート!C618=\"\",\"\",TEXT(入力シート!C618,\"yyyy-mm-dd\"))","v":""},{"$f":"IF(入力シート!O618=\"\",\"\",TEXT(入力シート!O618,\"000-0000\"))","v":""},{"$f":"IF(入力シート!F618=\"\",\"\",入力シート!F618)","v":""},{"$f":"IF(入力シート!G618=\"\",\"\",入力シート!G618)","v":""},{"$f":"IF(入力シート!H618=\"\",\"\",入力シート!H618)","v":""},{"$f":"IF(入力シート!I618=\"\",\"\",入力シート!I618)","v":""},{"$f":"IF(入力シート!J618=\"\",\"\",入力シート!J618)","v":""},{"$f":"IF(入力シート!K618=\"\",\"\",入力シート!K618)","v":""},{"$f":"IF(入力シート!L618=\"\",\"\",入力シート!L618)","v":""},{"$f":"IF(入力シート!M618=\"\",\"\",入力シート!M618)","v":""},{"$f":"IF(入力シート!N618=\"\",\"\",入力シート!P618)","v":""}]
[{"$f":"IF(入力シート!A619=\"\",\"\",入力シート!A619)","v":""},{"$f":"IF(入力シート!B619=\"\",\"\",入力シート!B619)","v":""},{"$f":"IF(入力シート!C619=\"\",\"\",TEXT(入力シート!C619,\"yyyy-mm-dd\"))","v":""},{"$f":"IF(入力シート!O619=\"\",\"\",TEXT(入力シート!O619,\"000-0000\"))","v":""},{"$f":"IF(入力シート!F619=\"\",\"\",入力シート!F619)","v":""},{"$f":"IF(入力シート!G619=\"\",\"\",入力シート!G619)","v":""},{"$f":"IF(入力シート!H619=\"\",\"\",入力シート!H619)","v":""},{"$f":"IF(入力シート!I619=\"\",\"\",入力シート!I619)","v":""},{"$f":"IF(入力シート!J619=\"\",\"\",入力シート!J619)","v":""},{"$f":"IF(入力シート!K619=\"\",\"\",入力シート!K619)","v":""},{"$f":"IF(入力シート!L619=\"\",\"\",入力シート!L619)","v":""},{"$f":"IF(入力シート!M619=\"\",\"\",入力シート!M619)","v":""},{"$f":"IF(入力シート!N619=\"\",\"\",入力シート!P619)","v":""}]
[{"$f":"IF(入力シート!A620=\"\",\"\",入力シート!A620)","v":""},{"$f":"IF(入力シート!B620=\"\",\"\",入力シート!B620)","v":""},{"$f":"IF(入力シート!C620=\"\",\"\",TEXT(入力シート!C620,\"yyyy-mm-dd\"))","v":""},{"$f":"IF(入力シート!O620=\"\",\"\",TEXT(入力シート!O620,\"000-0000\"))","v":""},{"$f":"IF(入力シート!F620=\"\",\"\",入力シート!F620)","v":""},{"$f":"IF(入力シート!G620=\"\",\"\",入力シート!G620)","v":""},{"$f":"IF(入力シート!H620=\"\",\"\",入力シート!H620)","v":""},{"$f":"IF(入力シート!I620=\"\",\"\",入力シート!I620)","v":""},{"$f":"IF(入力シート!J620=\"\",\"\",入力シート!J620)","v":""},{"$f":"IF(入力シート!K620=\"\",\"\",入力シート!K620)","v":""},{"$f":"IF(入力シート!L620=\"\",\"\",入力シート!L620)","v":""},{"$f":"IF(入力シート!M620=\"\",\"\",入力シート!M620)","v":""},{"$f":"IF(入力シート!N620=\"\",\"\",入力シート!P620)","v":""}]
[{"$f":"IF(入力シート!A621=\"\",\"\",入力シート!A621)","v":""},{"$f":"IF(入力シート!B621=\"\",\"\",入力シート!B621)","v":""},{"$f":"IF(入力シート!C621=\"\",\"\",TEXT(入力シート!C621,\"yyyy-mm-dd\"))","v":""},{"$f":"IF(入力シート!O621=\"\",\"\",TEXT(入力シート!O621,\"000-0000\"))","v":""},{"$f":"IF(入力シート!F621=\"\",\"\",入力シート!F621)","v":""},{"$f":"IF(入力シート!G621=\"\",\"\",入力シート!G621)","v":""},{"$f":"IF(入力シート!H621=\"\",\"\",入力シート!H621)","v":""},{"$f":"IF(入力シート!I621=\"\",\"\",入力シート!I621)","v":""},{"$f":"IF(入力シート!J621=\"\",\"\",入力シート!J621)","v":""},{"$f":"IF(入力シート!K621=\"\",\"\",入力シート!K621)","v":""},{"$f":"IF(入力シート!L621=\"\",\"\",入力シート!L621)","v":""},{"$f":"IF(入力シート!M621=\"\",\"\",入力シート!M621)","v":""},{"$f":"IF(入力シート!N621=\"\",\"\",入力シート!P621)","v":""}]
[{"$f":"IF(入力シート!A622=\"\",\"\",入力シート!A622)","v":""},{"$f":"IF(入力シート!B622=\"\",\"\",入力シート!B622)","v":""},{"$f":"IF(入力シート!C622=\"\",\"\",TEXT(入力シート!C622,\"yyyy-mm-dd\"))","v":""},{"$f":"IF(入力シート!O622=\"\",\"\",TEXT(入力シート!O622,\"000-0000\"))","v":""},{"$f":"IF(入力シート!F622=\"\",\"\",入力シート!F622)","v":""},{"$f":"IF(入力シート!G622=\"\",\"\",入力シート!G622)","v":""},{"$f":"IF(入力シート!H622=\"\",\"\",入力シート!H622)","v":""},{"$f":"IF(入力シート!I622=\"\",\"\",入力シート!I622)","v":""},{"$f":"IF(入力シート!J622=\"\",\"\",入力シート!J622)","v":""},{"$f":"IF(入力シート!K622=\"\",\"\",入力シート!K622)","v":""},{"$f":"IF(入力シート!L622=\"\",\"\",入力シート!L622)","v":""},{"$f":"IF(入力シート!M622=\"\",\"\",入力シート!M622)","v":""},{"$f":"IF(入力シート!N622=\"\",\"\",入力シート!P622)","v":""}]
[{"$f":"IF(入力シート!A623=\"\",\"\",入力シート!A623)","v":""},{"$f":"IF(入力シート!B623=\"\",\"\",入力シート!B623)","v":""},{"$f":"IF(入力シート!C623=\"\",\"\",TEXT(入力シート!C623,\"yyyy-mm-dd\"))","v":""},{"$f":"IF(入力シート!O623=\"\",\"\",TEXT(入力シート!O623,\"000-0000\"))","v":""},{"$f":"IF(入力シート!F623=\"\",\"\",入力シート!F623)","v":""},{"$f":"IF(入力シート!G623=\"\",\"\",入力シート!G623)","v":""},{"$f":"IF(入力シート!H623=\"\",\"\",入力シート!H623)","v":""},{"$f":"IF(入力シート!I623=\"\",\"\",入力シート!I623)","v":""},{"$f":"IF(入力シート!J623=\"\",\"\",入力シート!J623)","v":""},{"$f":"IF(入力シート!K623=\"\",\"\",入力シート!K623)","v":""},{"$f":"IF(入力シート!L623=\"\",\"\",入力シート!L623)","v":""},{"$f":"IF(入力シート!M623=\"\",\"\",入力シート!M623)","v":""},{"$f":"IF(入力シート!N623=\"\",\"\",入力シート!P623)","v":""}]
[{"$f":"IF(入力シート!A624=\"\",\"\",入力シート!A624)","v":""},{"$f":"IF(入力シート!B624=\"\",\"\",入力シート!B624)","v":""},{"$f":"IF(入力シート!C624=\"\",\"\",TEXT(入力シート!C624,\"yyyy-mm-dd\"))","v":""},{"$f":"IF(入力シート!O624=\"\",\"\",TEXT(入力シート!O624,\"000-0000\"))","v":""},{"$f":"IF(入力シート!F624=\"\",\"\",入力シート!F624)","v":""},{"$f":"IF(入力シート!G624=\"\",\"\",入力シート!G624)","v":""},{"$f":"IF(入力シート!H624=\"\",\"\",入力シート!H624)","v":""},{"$f":"IF(入力シート!I624=\"\",\"\",入力シート!I624)","v":""},{"$f":"IF(入力シート!J624=\"\",\"\",入力シート!J624)","v":""},{"$f":"IF(入力シート!K624=\"\",\"\",入力シート!K624)","v":""},{"$f":"IF(入力シート!L624=\"\",\"\",入力シート!L624)","v":""},{"$f":"IF(入力シート!M624=\"\",\"\",入力シート!M624)","v":""},{"$f":"IF(入力シート!N624=\"\",\"\",入力シート!P624)","v":""}]
[{"$f":"IF(入力シート!A625=\"\",\"\",入力シート!A625)","v":""},{"$f":"IF(入力シート!B625=\"\",\"\",入力シート!B625)","v":""},{"$f":"IF(入力シート!C625=\"\",\"\",TEXT(入力シート!C625,\"yyyy-mm-dd\"))","v":""},{"$f":"IF(入力シート!O625=\"\",\"\",TEXT(入力シート!O625,\"000-0000\"))","v":""},{"$f":"IF(入力シート!F625=\"\",\"\",入力シート!F625)","v":""},{"$f":"IF(入力シート!G625=\"\",\"\",入力シート!G625)","v":""},{"$f":"IF(入力シート!H625=\"\",\"\",入力シート!H625)","v":""},{"$f":"IF(入力シート!I625=\"\",\"\",入力シート!I625)","v":""},{"$f":"IF(入力シート!J625=\"\",\"\",入力シート!J625)","v":""},{"$f":"IF(入力シート!K625=\"\",\"\",入力シート!K625)","v":""},{"$f":"IF(入力シート!L625=\"\",\"\",入力シート!L625)","v":""},{"$f":"IF(入力シート!M625=\"\",\"\",入力シート!M625)","v":""},{"$f":"IF(入力シート!N625=\"\",\"\",入力シート!P625)","v":""}]
[{"$f":"IF(入力シート!A626=\"\",\"\",入力シート!A626)","v":""},{"$f":"IF(入力シート!B626=\"\",\"\",入力シート!B626)","v":""},{"$f":"IF(入力シート!C626=\"\",\"\",TEXT(入力シート!C626,\"yyyy-mm-dd\"))","v":""},{"$f":"IF(入力シート!O626=\"\",\"\",TEXT(入力シート!O626,\"000-0000\"))","v":""},{"$f":"IF(入力シート!F626=\"\",\"\",入力シート!F626)","v":""},{"$f":"IF(入力シート!G626=\"\",\"\",入力シート!G626)","v":""},{"$f":"IF(入力シート!H626=\"\",\"\",入力シート!H626)","v":""},{"$f":"IF(入力シート!I626=\"\",\"\",入力シート!I626)","v":""},{"$f":"IF(入力シート!J626=\"\",\"\",入力シート!J626)","v":""},{"$f":"IF(入力シート!K626=\"\",\"\",入力シート!K626)","v":""},{"$f":"IF(入力シート!L626=\"\",\"\",入力シート!L626)","v":""},{"$f":"IF(入力シート!M626=\"\",\"\",入力シート!M626)","v":""},{"$f":"IF(入力シート!N626=\"\",\"\",入力シート!P626)","v":""}]
[{"$f":"IF(入力シート!A627=\"\",\"\",入力シート!A627)","v":""},{"$f":"IF(入力シート!B627=\"\",\"\",入力シート!B627)","v":""},{"$f":"IF(入力シート!C627=\"\",\"\",TEXT(入力シート!C627,\"yyyy-mm-dd\"))","v":""},{"$f":"IF(入力シート!O627=\"\",\"\",TEXT(入力シート!O627,\"000-0000\"))","v":""},{"$f":"IF(入力シート!F627=\"\",\"\",入力シート!F627)","v":""},{"$f":"IF(入力シート!G627=\"\",\"\",入力シート!G627)","v":""},{"$f":"IF(入力シート!H627=\"\",\"\",入力シート!H627)","v":""},{"$f":"IF(入力シート!I627=\"\",\"\",入力シート!I627)","v":""},{"$f":"IF(入力シート!J627=\"\",\"\",入力シート!J627)","v":""},{"$f":"IF(入力シート!K627=\"\",\"\",入力シート!K627)","v":""},{"$f":"IF(入力シート!L627=\"\",\"\",入力シート!L627)","v":""},{"$f":"IF(入力シート!M627=\"\",\"\",入力シート!M627)","v":""},{"$f":"IF(入力シート!N627=\"\",\"\",入力シート!P627)","v":""}]
[{"$f":"IF(入力シート!A628=\"\",\"\",入力シート!A628)","v":""},{"$f":"IF(入力シート!B628=\"\",\"\",入力シート!B628)","v":""},{"$f":"IF(入力シート!C628=\"\",\"\",TEXT(入力シート!C628,\"yyyy-mm-dd\"))","v":""},{"$f":"IF(入力シート!O628=\"\",\"\",TEXT(入力シート!O628,\"000-0000\"))","v":""},{"$f":"IF(入力シート!F628=\"\",\"\",入力シート!F628)","v":""},{"$f":"IF(入力シート!G628=\"\",\"\",入力シート!G628)","v":""},{"$f":"IF(入力シート!H628=\"\",\"\",入力シート!H628)","v":""},{"$f":"IF(入力シート!I628=\"\",\"\",入力シート!I628)","v":""},{"$f":"IF(入力シート!J628=\"\",\"\",入力シート!J628)","v":""},{"$f":"IF(入力シート!K628=\"\",\"\",入力シート!K628)","v":""},{"$f":"IF(入力シート!L628=\"\",\"\",入力シート!L628)","v":""},{"$f":"IF(入力シート!M628=\"\",\"\",入力シート!M628)","v":""},{"$f":"IF(入力シート!N628=\"\",\"\",入力シート!P628)","v":""}]
[{"$f":"IF(入力シート!A629=\"\",\"\",入力シート!A629)","v":""},{"$f":"IF(入力シート!B629=\"\",\"\",入力シート!B629)","v":""},{"$f":"IF(入力シート!C629=\"\",\"\",TEXT(入力シート!C629,\"yyyy-mm-dd\"))","v":""},{"$f":"IF(入力シート!O629=\"\",\"\",TEXT(入力シート!O629,\"000-0000\"))","v":""},{"$f":"IF(入力シート!F629=\"\",\"\",入力シート!F629)","v":""},{"$f":"IF(入力シート!G629=\"\",\"\",入力シート!G629)","v":""},{"$f":"IF(入力シート!H629=\"\",\"\",入力シート!H629)","v":""},{"$f":"IF(入力シート!I629=\"\",\"\",入力シート!I629)","v":""},{"$f":"IF(入力シート!J629=\"\",\"\",入力シート!J629)","v":""},{"$f":"IF(入力シート!K629=\"\",\"\",入力シート!K629)","v":""},{"$f":"IF(入力シート!L629=\"\",\"\",入力シート!L629)","v":""},{"$f":"IF(入力シート!M629=\"\",\"\",入力シート!M629)","v":""},{"$f":"IF(入力シート!N629=\"\",\"\",入力シート!P629)","v":""}]
[{"$f":"IF(入力シート!A630=\"\",\"\",入力シート!A630)","v":""},{"$f":"IF(入力シート!B630=\"\",\"\",入力シート!B630)","v":""},{"$f":"IF(入力シート!C630=\"\",\"\",TEXT(入力シート!C630,\"yyyy-mm-dd\"))","v":""},{"$f":"IF(入力シート!O630=\"\",\"\",TEXT(入力シート!O630,\"000-0000\"))","v":""},{"$f":"IF(入力シート!F630=\"\",\"\",入力シート!F630)","v":""},{"$f":"IF(入力シート!G630=\"\",\"\",入力シート!G630)","v":""},{"$f":"IF(入力シート!H630=\"\",\"\",入力シート!H630)","v":""},{"$f":"IF(入力シート!I630=\"\",\"\",入力シート!I630)","v":""},{"$f":"IF(入力シート!J630=\"\",\"\",入力シート!J630)","v":""},{"$f":"IF(入力シート!K630=\"\",\"\",入力シート!K630)","v":""},{"$f":"IF(入力シート!L630=\"\",\"\",入力シート!L630)","v":""},{"$f":"IF(入力シート!M630=\"\",\"\",入力シート!M630)","v":""},{"$f":"IF(入力シート!N630=\"\",\"\",入力シート!P630)","v":""}]
[{"$f":"IF(入力シート!A631=\"\",\"\",入力シート!A631)","v":""},{"$f":"IF(入力シート!B631=\"\",\"\",入力シート!B631)","v":""},{"$f":"IF(入力シート!C631=\"\",\"\",TEXT(入力シート!C631,\"yyyy-mm-dd\"))","v":""},{"$f":"IF(入力シート!O631=\"\",\"\",TEXT(入力シート!O631,\"000-0000\"))","v":""},{"$f":"IF(入力シート!F631=\"\",\"\",入力シート!F631)","v":""},{"$f":"IF(入力シート!G631=\"\",\"\",入力シート!G631)","v":""},{"$f":"IF(入力シート!H631=\"\",\"\",入力シート!H631)","v":""},{"$f":"IF(入力シート!I631=\"\",\"\",入力シート!I631)","v":""},{"$f":"IF(入力シート!J631=\"\",\"\",入力シート!J631)","v":""},{"$f":"IF(入力シート!K631=\"\",\"\",入力シート!K631)","v":""},{"$f":"IF(入力シート!L631=\"\",\"\",入力シート!L631)","v":""},{"$f":"IF(入力シート!M631=\"\",\"\",入力シート!M631)","v":""},{"$f":"IF(入力シート!N631=\"\",\"\",入力シート!P631)","v":""}]
[{"$f":"IF(入力シート!A632=\"\",\"\",入力シート!A632)","v":""},{"$f":"IF(入力シート!B632=\"\",\"\",入力シート!B632)","v":""},{"$f":"IF(入力シート!C632=\"\",\"\",TEXT(入力シート!C632,\"yyyy-mm-dd\"))","v":""},{"$f":"IF(入力シート!O632=\"\",\"\",TEXT(入力シート!O632,\"000-0000\"))","v":""},{"$f":"IF(入力シート!F632=\"\",\"\",入力シート!F632)","v":""},{"$f":"IF(入力シート!G632=\"\",\"\",入力シート!G632)","v":""},{"$f":"IF(入力シート!H632=\"\",\"\",入力シート!H632)","v":""},{"$f":"IF(入力シート!I632=\"\",\"\",入力シート!I632)","v":""},{"$f":"IF(入力シート!J632=\"\",\"\",入力シート!J632)","v":""},{"$f":"IF(入力シート!K632=\"\",\"\",入力シート!K632)","v":""},{"$f":"IF(入力シート!L632=\"\",\"\",入力シート!L632)","v":""},{"$f":"IF(入力シート!M632=\"\",\"\",入力シート!M632)","v":""},{"$f":"IF(入力シート!N632=\"\",\"\",入力シート!P632)","v":""}]
[{"$f":"IF(入力シート!A633=\"\",\"\",入力シート!A633)","v":""},{"$f":"IF(入力シート!B633=\"\",\"\",入力シート!B633)","v":""},{"$f":"IF(入力シート!C633=\"\",\"\",TEXT(入力シート!C633,\"yyyy-mm-dd\"))","v":""},{"$f":"IF(入力シート!O633=\"\",\"\",TEXT(入力シート!O633,\"000-0000\"))","v":""},{"$f":"IF(入力シート!F633=\"\",\"\",入力シート!F633)","v":""},{"$f":"IF(入力シート!G633=\"\",\"\",入力シート!G633)","v":""},{"$f":"IF(入力シート!H633=\"\",\"\",入力シート!H633)","v":""},{"$f":"IF(入力シート!I633=\"\",\"\",入力シート!I633)","v":""},{"$f":"IF(入力シート!J633=\"\",\"\",入力シート!J633)","v":""},{"$f":"IF(入力シート!K633=\"\",\"\",入力シート!K633)","v":""},{"$f":"IF(入力シート!L633=\"\",\"\",入力シート!L633)","v":""},{"$f":"IF(入力シート!M633=\"\",\"\",入力シート!M633)","v":""},{"$f":"IF(入力シート!N633=\"\",\"\",入力シート!P633)","v":""}]
[{"$f":"IF(入力シート!A634=\"\",\"\",入力シート!A634)","v":""},{"$f":"IF(入力シート!B634=\"\",\"\",入力シート!B634)","v":""},{"$f":"IF(入力シート!C634=\"\",\"\",TEXT(入力シート!C634,\"yyyy-mm-dd\"))","v":""},{"$f":"IF(入力シート!O634=\"\",\"\",TEXT(入力シート!O634,\"000-0000\"))","v":""},{"$f":"IF(入力シート!F634=\"\",\"\",入力シート!F634)","v":""},{"$f":"IF(入力シート!G634=\"\",\"\",入力シート!G634)","v":""},{"$f":"IF(入力シート!H634=\"\",\"\",入力シート!H634)","v":""},{"$f":"IF(入力シート!I634=\"\",\"\",入力シート!I634)","v":""},{"$f":"IF(入力シート!J634=\"\",\"\",入力シート!J634)","v":""},{"$f":"IF(入力シート!K634=\"\",\"\",入力シート!K634)","v":""},{"$f":"IF(入力シート!L634=\"\",\"\",入力シート!L634)","v":""},{"$f":"IF(入力シート!M634=\"\",\"\",入力シート!M634)","v":""},{"$f":"IF(入力シート!N634=\"\",\"\",入力シート!P634)","v":""}]
[{"$f":"IF(入力シート!A635=\"\",\"\",入力シート!A635)","v":""},{"$f":"IF(入力シート!B635=\"\",\"\",入力シート!B635)","v":""},{"$f":"IF(入力シート!C635=\"\",\"\",TEXT(入力シート!C635,\"yyyy-mm-dd\"))","v":""},{"$f":"IF(入力シート!O635=\"\",\"\",TEXT(入力シート!O635,\"000-0000\"))","v":""},{"$f":"IF(入力シート!F635=\"\",\"\",入力シート!F635)","v":""},{"$f":"IF(入力シート!G635=\"\",\"\",入力シート!G635)","v":""},{"$f":"IF(入力シート!H635=\"\",\"\",入力シート!H635)","v":""},{"$f":"IF(入力シート!I635=\"\",\"\",入力シート!I635)","v":""},{"$f":"IF(入力シート!J635=\"\",\"\",入力シート!J635)","v":""},{"$f":"IF(入力シート!K635=\"\",\"\",入力シート!K635)","v":""},{"$f":"IF(入力シート!L635=\"\",\"\",入力シート!L635)","v":""},{"$f":"IF(入力シート!M635=\"\",\"\",入力シート!M635)","v":""},{"$f":"IF(入力シート!N635=\"\",\"\",入力シート!P635)","v":""}]
[{"$f":"IF(入力シート!A636=\"\",\"\",入力シート!A636)","v":""},{"$f":"IF(入力シート!B636=\"\",\"\",入力シート!B636)","v":""},{"$f":"IF(入力シート!C636=\"\",\"\",TEXT(入力シート!C636,\"yyyy-mm-dd\"))","v":""},{"$f":"IF(入力シート!O636=\"\",\"\",TEXT(入力シート!O636,\"000-0000\"))","v":""},{"$f":"IF(入力シート!F636=\"\",\"\",入力シート!F636)","v":""},{"$f":"IF(入力シート!G636=\"\",\"\",入力シート!G636)","v":""},{"$f":"IF(入力シート!H636=\"\",\"\",入力シート!H636)","v":""},{"$f":"IF(入力シート!I636=\"\",\"\",入力シート!I636)","v":""},{"$f":"IF(入力シート!J636=\"\",\"\",入力シート!J636)","v":""},{"$f":"IF(入力シート!K636=\"\",\"\",入力シート!K636)","v":""},{"$f":"IF(入力シート!L636=\"\",\"\",入力シート!L636)","v":""},{"$f":"IF(入力シート!M636=\"\",\"\",入力シート!M636)","v":""},{"$f":"IF(入力シート!N636=\"\",\"\",入力シート!P636)","v":""}]
[{"$f":"IF(入力シート!A637=\"\",\"\",入力シート!A637)","v":""},{"$f":"IF(入力シート!B637=\"\",\"\",入力シート!B637)","v":""},{"$f":"IF(入力シート!C637=\"\",\"\",TEXT(入力シート!C637,\"yyyy-mm-dd\"))","v":""},{"$f":"IF(入力シート!O637=\"\",\"\",TEXT(入力シート!O637,\"000-0000\"))","v":""},{"$f":"IF(入力シート!F637=\"\",\"\",入力シート!F637)","v":""},{"$f":"IF(入力シート!G637=\"\",\"\",入力シート!G637)","v":""},{"$f":"IF(入力シート!H637=\"\",\"\",入力シート!H637)","v":""},{"$f":"IF(入力シート!I637=\"\",\"\",入力シート!I637)","v":""},{"$f":"IF(入力シート!J637=\"\",\"\",入力シート!J637)","v":""},{"$f":"IF(入力シート!K637=\"\",\"\",入力シート!K637)","v":""},{"$f":"IF(入力シート!L637=\"\",\"\",入力シート!L637)","v":""},{"$f":"IF(入力シート!M637=\"\",\"\",入力シート!M637)","v":""},{"$f":"IF(入力シート!N637=\"\",\"\",入力シート!P637)","v":""}]
[{"$f":"IF(入力シート!A638=\"\",\"\",入力シート!A638)","v":""},{"$f":"IF(入力シート!B638=\"\",\"\",入力シート!B638)","v":""},{"$f":"IF(入力シート!C638=\"\",\"\",TEXT(入力シート!C638,\"yyyy-mm-dd\"))","v":""},{"$f":"IF(入力シート!O638=\"\",\"\",TEXT(入力シート!O638,\"000-0000\"))","v":""},{"$f":"IF(入力シート!F638=\"\",\"\",入力シート!F638)","v":""},{"$f":"IF(入力シート!G638=\"\",\"\",入力シート!G638)","v":""},{"$f":"IF(入力シート!H638=\"\",\"\",入力シート!H638)","v":""},{"$f":"IF(入力シート!I638=\"\",\"\",入力シート!I638)","v":""},{"$f":"IF(入力シート!J638=\"\",\"\",入力シート!J638)","v":""},{"$f":"IF(入力シート!K638=\"\",\"\",入力シート!K638)","v":""},{"$f":"IF(入力シート!L638=\"\",\"\",入力シート!L638)","v":""},{"$f":"IF(入力シート!M638=\"\",\"\",入力シート!M638)","v":""},{"$f":"IF(入力シート!N638=\"\",\"\",入力シート!P638)","v":""}]
[{"$f":"IF(入力シート!A639=\"\",\"\",入力シート!A639)","v":""},{"$f":"IF(入力シート!B639=\"\",\"\",入力シート!B639)","v":""},{"$f":"IF(入力シート!C639=\"\",\"\",TEXT(入力シート!C639,\"yyyy-mm-dd\"))","v":""},{"$f":"IF(入力シート!O639=\"\",\"\",TEXT(入力シート!O639,\"000-0000\"))","v":""},{"$f":"IF(入力シート!F639=\"\",\"\",入力シート!F639)","v":""},{"$f":"IF(入力シート!G639=\"\",\"\",入力シート!G639)","v":""},{"$f":"IF(入力シート!H639=\"\",\"\",入力シート!H639)","v":""},{"$f":"IF(入力シート!I639=\"\",\"\",入力シート!I639)","v":""},{"$f":"IF(入力シート!J639=\"\",\"\",入力シート!J639)","v":""},{"$f":"IF(入力シート!K639=\"\",\"\",入力シート!K639)","v":""},{"$f":"IF(入力シート!L639=\"\",\"\",入力シート!L639)","v":""},{"$f":"IF(入力シート!M639=\"\",\"\",入力シート!M639)","v":""},{"$f":"IF(入力シート!N639=\"\",\"\",入力シート!P639)","v":""}]
[{"$f":"IF(入力シート!A640=\"\",\"\",入力シート!A640)","v":""},{"$f":"IF(入力シート!B640=\"\",\"\",入力シート!B640)","v":""},{"$f":"IF(入力シート!C640=\"\",\"\",TEXT(入力シート!C640,\"yyyy-mm-dd\"))","v":""},{"$f":"IF(入力シート!O640=\"\",\"\",TEXT(入力シート!O640,\"000-0000\"))","v":""},{"$f":"IF(入力シート!F640=\"\",\"\",入力シート!F640)","v":""},{"$f":"IF(入力シート!G640=\"\",\"\",入力シート!G640)","v":""},{"$f":"IF(入力シート!H640=\"\",\"\",入力シート!H640)","v":""},{"$f":"IF(入力シート!I640=\"\",\"\",入力シート!I640)","v":""},{"$f":"IF(入力シート!J640=\"\",\"\",入力シート!J640)","v":""},{"$f":"IF(入力シート!K640=\"\",\"\",入力シート!K640)","v":""},{"$f":"IF(入力シート!L640=\"\",\"\",入力シート!L640)","v":""},{"$f":"IF(入力シート!M640=\"\",\"\",入力シート!M640)","v":""},{"$f":"IF(入力シート!N640=\"\",\"\",入力シート!P640)","v":""}]
[{"$f":"IF(入力シート!A641=\"\",\"\",入力シート!A641)","v":""},{"$f":"IF(入力シート!B641=\"\",\"\",入力シート!B641)","v":""},{"$f":"IF(入力シート!C641=\"\",\"\",TEXT(入力シート!C641,\"yyyy-mm-dd\"))","v":""},{"$f":"IF(入力シート!O641=\"\",\"\",TEXT(入力シート!O641,\"000-0000\"))","v":""},{"$f":"IF(入力シート!F641=\"\",\"\",入力シート!F641)","v":""},{"$f":"IF(入力シート!G641=\"\",\"\",入力シート!G641)","v":""},{"$f":"IF(入力シート!H641=\"\",\"\",入力シート!H641)","v":""},{"$f":"IF(入力シート!I641=\"\",\"\",入力シート!I641)","v":""},{"$f":"IF(入力シート!J641=\"\",\"\",入力シート!J641)","v":""},{"$f":"IF(入力シート!K641=\"\",\"\",入力シート!K641)","v":""},{"$f":"IF(入力シート!L641=\"\",\"\",入力シート!L641)","v":""},{"$f":"IF(入力シート!M641=\"\",\"\",入力シート!M641)","v":""},{"$f":"IF(入力シート!N641=\"\",\"\",入力シート!P641)","v":""}]
[{"$f":"IF(入力シート!A642=\"\",\"\",入力シート!A642)","v":""},{"$f":"IF(入力シート!B642=\"\",\"\",入力シート!B642)","v":""},{"$f":"IF(入力シート!C642=\"\",\"\",TEXT(入力シート!C642,\"yyyy-mm-dd\"))","v":""},{"$f":"IF(入力シート!O642=\"\",\"\",TEXT(入力シート!O642,\"000-0000\"))","v":""},{"$f":"IF(入力シート!F642=\"\",\"\",入力シート!F642)","v":""},{"$f":"IF(入力シート!G642=\"\",\"\",入力シート!G642)","v":""},{"$f":"IF(入力シート!H642=\"\",\"\",入力シート!H642)","v":""},{"$f":"IF(入力シート!I642=\"\",\"\",入力シート!I642)","v":""},{"$f":"IF(入力シート!J642=\"\",\"\",入力シート!J642)","v":""},{"$f":"IF(入力シート!K642=\"\",\"\",入力シート!K642)","v":""},{"$f":"IF(入力シート!L642=\"\",\"\",入力シート!L642)","v":""},{"$f":"IF(入力シート!M642=\"\",\"\",入力シート!M642)","v":""},{"$f":"IF(入力シート!N642=\"\",\"\",入力シート!P642)","v":""}]
[{"$f":"IF(入力シート!A643=\"\",\"\",入力シート!A643)","v":""},{"$f":"IF(入力シート!B643=\"\",\"\",入力シート!B643)","v":""},{"$f":"IF(入力シート!C643=\"\",\"\",TEXT(入力シート!C643,\"yyyy-mm-dd\"))","v":""},{"$f":"IF(入力シート!O643=\"\",\"\",TEXT(入力シート!O643,\"000-0000\"))","v":""},{"$f":"IF(入力シート!F643=\"\",\"\",入力シート!F643)","v":""},{"$f":"IF(入力シート!G643=\"\",\"\",入力シート!G643)","v":""},{"$f":"IF(入力シート!H643=\"\",\"\",入力シート!H643)","v":""},{"$f":"IF(入力シート!I643=\"\",\"\",入力シート!I643)","v":""},{"$f":"IF(入力シート!J643=\"\",\"\",入力シート!J643)","v":""},{"$f":"IF(入力シート!K643=\"\",\"\",入力シート!K643)","v":""},{"$f":"IF(入力シート!L643=\"\",\"\",入力シート!L643)","v":""},{"$f":"IF(入力シート!M643=\"\",\"\",入力シート!M643)","v":""},{"$f":"IF(入力シート!N643=\"\",\"\",入力シート!P643)","v":""}]
[{"$f":"IF(入力シート!A644=\"\",\"\",入力シート!A644)","v":""},{"$f":"IF(入力シート!B644=\"\",\"\",入力シート!B644)","v":""},{"$f":"IF(入力シート!C644=\"\",\"\",TEXT(入力シート!C644,\"yyyy-mm-dd\"))","v":""},{"$f":"IF(入力シート!O644=\"\",\"\",TEXT(入力シート!O644,\"000-0000\"))","v":""},{"$f":"IF(入力シート!F644=\"\",\"\",入力シート!F644)","v":""},{"$f":"IF(入力シート!G644=\"\",\"\",入力シート!G644)","v":""},{"$f":"IF(入力シート!H644=\"\",\"\",入力シート!H644)","v":""},{"$f":"IF(入力シート!I644=\"\",\"\",入力シート!I644)","v":""},{"$f":"IF(入力シート!J644=\"\",\"\",入力シート!J644)","v":""},{"$f":"IF(入力シート!K644=\"\",\"\",入力シート!K644)","v":""},{"$f":"IF(入力シート!L644=\"\",\"\",入力シート!L644)","v":""},{"$f":"IF(入力シート!M644=\"\",\"\",入力シート!M644)","v":""},{"$f":"IF(入力シート!N644=\"\",\"\",入力シート!P644)","v":""}]
[{"$f":"IF(入力シート!A645=\"\",\"\",入力シート!A645)","v":""},{"$f":"IF(入力シート!B645=\"\",\"\",入力シート!B645)","v":""},{"$f":"IF(入力シート!C645=\"\",\"\",TEXT(入力シート!C645,\"yyyy-mm-dd\"))","v":""},{"$f":"IF(入力シート!O645=\"\",\"\",TEXT(入力シート!O645,\"000-0000\"))","v":""},{"$f":"IF(入力シート!F645=\"\",\"\",入力シート!F645)","v":""},{"$f":"IF(入力シート!G645=\"\",\"\",入力シート!G645)","v":""},{"$f":"IF(入力シート!H645=\"\",\"\",入力シート!H645)","v":""},{"$f":"IF(入力シート!I645=\"\",\"\",入力シート!I645)","v":""},{"$f":"IF(入力シート!J645=\"\",\"\",入力シート!J645)","v":""},{"$f":"IF(入力シート!K645=\"\",\"\",入力シート!K645)","v":""},{"$f":"IF(入力シート!L645=\"\",\"\",入力シート!L645)","v":""},{"$f":"IF(入力シート!M645=\"\",\"\",入力シート!M645)","v":""},{"$f":"IF(入力シート!N645=\"\",\"\",入力シート!P645)","v":""}]
[{"$f":"IF(入力シート!A646=\"\",\"\",入力シート!A646)","v":""},{"$f":"IF(入力シート!B646=\"\",\"\",入力シート!B646)","v":""},{"$f":"IF(入力シート!C646=\"\",\"\",TEXT(入力シート!C646,\"yyyy-mm-dd\"))","v":""},{"$f":"IF(入力シート!O646=\"\",\"\",TEXT(入力シート!O646,\"000-0000\"))","v":""},{"$f":"IF(入力シート!F646=\"\",\"\",入力シート!F646)","v":""},{"$f":"IF(入力シート!G646=\"\",\"\",入力シート!G646)","v":""},{"$f":"IF(入力シート!H646=\"\",\"\",入力シート!H646)","v":""},{"$f":"IF(入力シート!I646=\"\",\"\",入力シート!I646)","v":""},{"$f":"IF(入力シート!J646=\"\",\"\",入力シート!J646)","v":""},{"$f":"IF(入力シート!K646=\"\",\"\",入力シート!K646)","v":""},{"$f":"IF(入力シート!L646=\"\",\"\",入力シート!L646)","v":""},{"$f":"IF(入力シート!M646=\"\",\"\",入力シート!M646)","v":""},{"$f":"IF(入力シート!N646=\"\",\"\",入力シート!P646)","v":""}]
[{"$f":"IF(入力シート!A647=\"\",\"\",入力シート!A647)","v":""},{"$f":"IF(入力シート!B647=\"\",\"\",入力シート!B647)","v":""},{"$f":"IF(入力シート!C647=\"\",\"\",TEXT(入力シート!C647,\"yyyy-mm-dd\"))","v":""},{"$f":"IF(入力シート!O647=\"\",\"\",TEXT(入力シート!O647,\"000-0000\"))","v":""},{"$f":"IF(入力シート!F647=\"\",\"\",入力シート!F647)","v":""},{"$f":"IF(入力シート!G647=\"\",\"\",入力シート!G647)","v":""},{"$f":"IF(入力シート!H647=\"\",\"\",入力シート!H647)","v":""},{"$f":"IF(入力シート!I647=\"\",\"\",入力シート!I647)","v":""},{"$f":"IF(入力シート!J647=\"\",\"\",入力シート!J647)","v":""},{"$f":"IF(入力シート!K647=\"\",\"\",入力シート!K647)","v":""},{"$f":"IF(入力シート!L647=\"\",\"\",入力シート!L647)","v":""},{"$f":"IF(入力シート!M647=\"\",\"\",入力シート!M647)","v":""},{"$f":"IF(入力シート!N647=\"\",\"\",入力シート!P647)","v":""}]
[{"$f":"IF(入力シート!A648=\"\",\"\",入力シート!A648)","v":""},{"$f":"IF(入力シート!B648=\"\",\"\",入力シート!B648)","v":""},{"$f":"IF(入力シート!C648=\"\",\"\",TEXT(入力シート!C648,\"yyyy-mm-dd\"))","v":""},{"$f":"IF(入力シート!O648=\"\",\"\",TEXT(入力シート!O648,\"000-0000\"))","v":""},{"$f":"IF(入力シート!F648=\"\",\"\",入力シート!F648)","v":""},{"$f":"IF(入力シート!G648=\"\",\"\",入力シート!G648)","v":""},{"$f":"IF(入力シート!H648=\"\",\"\",入力シート!H648)","v":""},{"$f":"IF(入力シート!I648=\"\",\"\",入力シート!I648)","v":""},{"$f":"IF(入力シート!J648=\"\",\"\",入力シート!J648)","v":""},{"$f":"IF(入力シート!K648=\"\",\"\",入力シート!K648)","v":""},{"$f":"IF(入力シート!L648=\"\",\"\",入力シート!L648)","v":""},{"$f":"IF(入力シート!M648=\"\",\"\",入力シート!M648)","v":""},{"$f":"IF(入力シート!N648=\"\",\"\",入力シート!P648)","v":""}]
[{"$f":"IF(入力シート!A649=\"\",\"\",入力シート!A649)","v":""},{"$f":"IF(入力シート!B649=\"\",\"\",入力シート!B649)","v":""},{"$f":"IF(入力シート!C649=\"\",\"\",TEXT(入力シート!C649,\"yyyy-mm-dd\"))","v":""},{"$f":"IF(入力シート!O649=\"\",\"\",TEXT(入力シート!O649,\"000-0000\"))","v":""},{"$f":"IF(入力シート!F649=\"\",\"\",入力シート!F649)","v":""},{"$f":"IF(入力シート!G649=\"\",\"\",入力シート!G649)","v":""},{"$f":"IF(入力シート!H649=\"\",\"\",入力シート!H649)","v":""},{"$f":"IF(入力シート!I649=\"\",\"\",入力シート!I649)","v":""},{"$f":"IF(入力シート!J649=\"\",\"\",入力シート!J649)","v":""},{"$f":"IF(入力シート!K649=\"\",\"\",入力シート!K649)","v":""},{"$f":"IF(入力シート!L649=\"\",\"\",入力シート!L649)","v":""},{"$f":"IF(入力シート!M649=\"\",\"\",入力シート!M649)","v":""},{"$f":"IF(入力シート!N649=\"\",\"\",入力シート!P649)","v":""}]
[{"$f":"IF(入力シート!A650=\"\",\"\",入力シート!A650)","v":""},{"$f":"IF(入力シート!B650=\"\",\"\",入力シート!B650)","v":""},{"$f":"IF(入力シート!C650=\"\",\"\",TEXT(入力シート!C650,\"yyyy-mm-dd\"))","v":""},{"$f":"IF(入力シート!O650=\"\",\"\",TEXT(入力シート!O650,\"000-0000\"))","v":""},{"$f":"IF(入力シート!F650=\"\",\"\",入力シート!F650)","v":""},{"$f":"IF(入力シート!G650=\"\",\"\",入力シート!G650)","v":""},{"$f":"IF(入力シート!H650=\"\",\"\",入力シート!H650)","v":""},{"$f":"IF(入力シート!I650=\"\",\"\",入力シート!I650)","v":""},{"$f":"IF(入力シート!J650=\"\",\"\",入力シート!J650)","v":""},{"$f":"IF(入力シート!K650=\"\",\"\",入力シート!K650)","v":""},{"$f":"IF(入力シート!L650=\"\",\"\",入力シート!L650)","v":""},{"$f":"IF(入力シート!M650=\"\",\"\",入力シート!M650)","v":""},{"$f":"IF(入力シート!N650=\"\",\"\",入力シート!P650)","v":""}]
[{"$f":"IF(入力シート!A651=\"\",\"\",入力シート!A651)","v":""},{"$f":"IF(入力シート!B651=\"\",\"\",入力シート!B651)","v":""},{"$f":"IF(入力シート!C651=\"\",\"\",TEXT(入力シート!C651,\"yyyy-mm-dd\"))","v":""},{"$f":"IF(入力シート!O651=\"\",\"\",TEXT(入力シート!O651,\"000-0000\"))","v":""},{"$f":"IF(入力シート!F651=\"\",\"\",入力シート!F651)","v":""},{"$f":"IF(入力シート!G651=\"\",\"\",入力シート!G651)","v":""},{"$f":"IF(入力シート!H651=\"\",\"\",入力シート!H651)","v":""},{"$f":"IF(入力シート!I651=\"\",\"\",入力シート!I651)","v":""},{"$f":"IF(入力シート!J651=\"\",\"\",入力シート!J651)","v":""},{"$f":"IF(入力シート!K651=\"\",\"\",入力シート!K651)","v":""},{"$f":"IF(入力シート!L651=\"\",\"\",入力シート!L651)","v":""},{"$f":"IF(入力シート!M651=\"\",\"\",入力シート!M651)","v":""},{"$f":"IF(入力シート!N651=\"\",\"\",入力シート!P651)","v":""}]
[{"$f":"IF(入力シート!A652=\"\",\"\",入力シート!A652)","v":""},{"$f":"IF(入力シート!B652=\"\",\"\",入力シート!B652)","v":""},{"$f":"IF(入力シート!C652=\"\",\"\",TEXT(入力シート!C652,\"yyyy-mm-dd\"))","v":""},{"$f":"IF(入力シート!O652=\"\",\"\",TEXT(入力シート!O652,\"000-0000\"))","v":""},{"$f":"IF(入力シート!F652=\"\",\"\",入力シート!F652)","v":""},{"$f":"IF(入力シート!G652=\"\",\"\",入力シート!G652)","v":""},{"$f":"IF(入力シート!H652=\"\",\"\",入力シート!H652)","v":""},{"$f":"IF(入力シート!I652=\"\",\"\",入力シート!I652)","v":""},{"$f":"IF(入力シート!J652=\"\",\"\",入力シート!J652)","v":""},{"$f":"IF(入力シート!K652=\"\",\"\",入力シート!K652)","v":""},{"$f":"IF(入力シート!L652=\"\",\"\",入力シート!L652)","v":""},{"$f":"IF(入力シート!M652=\"\",\"\",入力シート!M652)","v":""},{"$f":"IF(入力シート!N652=\"\",\"\",入力シート!P652)","v":""}]
[{"$f":"IF(入力シート!A653=\"\",\"\",入力シート!A653)","v":""},{"$f":"IF(入力シート!B653=\"\",\"\",入力シート!B653)","v":""},{"$f":"IF(入力シート!C653=\"\",\"\",TEXT(入力シート!C653,\"yyyy-mm-dd\"))","v":""},{"$f":"IF(入力シート!O653=\"\",\"\",TEXT(入力シート!O653,\"000-0000\"))","v":""},{"$f":"IF(入力シート!F653=\"\",\"\",入力シート!F653)","v":""},{"$f":"IF(入力シート!G653=\"\",\"\",入力シート!G653)","v":""},{"$f":"IF(入力シート!H653=\"\",\"\",入力シート!H653)","v":""},{"$f":"IF(入力シート!I653=\"\",\"\",入力シート!I653)","v":""},{"$f":"IF(入力シート!J653=\"\",\"\",入力シート!J653)","v":""},{"$f":"IF(入力シート!K653=\"\",\"\",入力シート!K653)","v":""},{"$f":"IF(入力シート!L653=\"\",\"\",入力シート!L653)","v":""},{"$f":"IF(入力シート!M653=\"\",\"\",入力シート!M653)","v":""},{"$f":"IF(入力シート!N653=\"\",\"\",入力シート!P653)","v":""}]
[{"$f":"IF(入力シート!A654=\"\",\"\",入力シート!A654)","v":""},{"$f":"IF(入力シート!B654=\"\",\"\",入力シート!B654)","v":""},{"$f":"IF(入力シート!C654=\"\",\"\",TEXT(入力シート!C654,\"yyyy-mm-dd\"))","v":""},{"$f":"IF(入力シート!O654=\"\",\"\",TEXT(入力シート!O654,\"000-0000\"))","v":""},{"$f":"IF(入力シート!F654=\"\",\"\",入力シート!F654)","v":""},{"$f":"IF(入力シート!G654=\"\",\"\",入力シート!G654)","v":""},{"$f":"IF(入力シート!H654=\"\",\"\",入力シート!H654)","v":""},{"$f":"IF(入力シート!I654=\"\",\"\",入力シート!I654)","v":""},{"$f":"IF(入力シート!J654=\"\",\"\",入力シート!J654)","v":""},{"$f":"IF(入力シート!K654=\"\",\"\",入力シート!K654)","v":""},{"$f":"IF(入力シート!L654=\"\",\"\",入力シート!L654)","v":""},{"$f":"IF(入力シート!M654=\"\",\"\",入力シート!M654)","v":""},{"$f":"IF(入力シート!N654=\"\",\"\",入力シート!P654)","v":""}]
[{"$f":"IF(入力シート!A655=\"\",\"\",入力シート!A655)","v":""},{"$f":"IF(入力シート!B655=\"\",\"\",入力シート!B655)","v":""},{"$f":"IF(入力シート!C655=\"\",\"\",TEXT(入力シート!C655,\"yyyy-mm-dd\"))","v":""},{"$f":"IF(入力シート!O655=\"\",\"\",TEXT(入力シート!O655,\"000-0000\"))","v":""},{"$f":"IF(入力シート!F655=\"\",\"\",入力シート!F655)","v":""},{"$f":"IF(入力シート!G655=\"\",\"\",入力シート!G655)","v":""},{"$f":"IF(入力シート!H655=\"\",\"\",入力シート!H655)","v":""},{"$f":"IF(入力シート!I655=\"\",\"\",入力シート!I655)","v":""},{"$f":"IF(入力シート!J655=\"\",\"\",入力シート!J655)","v":""},{"$f":"IF(入力シート!K655=\"\",\"\",入力シート!K655)","v":""},{"$f":"IF(入力シート!L655=\"\",\"\",入力シート!L655)","v":""},{"$f":"IF(入力シート!M655=\"\",\"\",入力シート!M655)","v":""},{"$f":"IF(入力シート!N655=\"\",\"\",入力シート!P655)","v":""}]
[{"$f":"IF(入力シート!A656=\"\",\"\",入力シート!A656)","v":""},{"$f":"IF(入力シート!B656=\"\",\"\",入力シート!B656)","v":""},{"$f":"IF(入力シート!C656=\"\",\"\",TEXT(入力シート!C656,\"yyyy-mm-dd\"))","v":""},{"$f":"IF(入力シート!O656=\"\",\"\",TEXT(入力シート!O656,\"000-0000\"))","v":""},{"$f":"IF(入力シート!F656=\"\",\"\",入力シート!F656)","v":""},{"$f":"IF(入力シート!G656=\"\",\"\",入力シート!G656)","v":""},{"$f":"IF(入力シート!H656=\"\",\"\",入力シート!H656)","v":""},{"$f":"IF(入力シート!I656=\"\",\"\",入力シート!I656)","v":""},{"$f":"IF(入力シート!J656=\"\",\"\",入力シート!J656)","v":""},{"$f":"IF(入力シート!K656=\"\",\"\",入力シート!K656)","v":""},{"$f":"IF(入力シート!L656=\"\",\"\",入力シート!L656)","v":""},{"$f":"IF(入力シート!M656=\"\",\"\",入力シート!M656)","v":""},{"$f":"IF(入力シート!N656=\"\",\"\",入力シート!P656)","v":""}]
[{"$f":"IF(入力シート!A657=\"\",\"\",入力シート!A657)","v":""},{"$f":"IF(入力シート!B657=\"\",\"\",入力シート!B657)","v":""},{"$f":"IF(入力シート!C657=\"\",\"\",TEXT(入力シート!C657,\"yyyy-mm-dd\"))","v":""},{"$f":"IF(入力シート!O657=\"\",\"\",TEXT(入力シート!O657,\"000-0000\"))","v":""},{"$f":"IF(入力シート!F657=\"\",\"\",入力シート!F657)","v":""},{"$f":"IF(入力シート!G657=\"\",\"\",入力シート!G657)","v":""},{"$f":"IF(入力シート!H657=\"\",\"\",入力シート!H657)","v":""},{"$f":"IF(入力シート!I657=\"\",\"\",入力シート!I657)","v":""},{"$f":"IF(入力シート!J657=\"\",\"\",入力シート!J657)","v":""},{"$f":"IF(入力シート!K657=\"\",\"\",入力シート!K657)","v":""},{"$f":"IF(入力シート!L657=\"\",\"\",入力シート!L657)","v":""},{"$f":"IF(入力シート!M657=\"\",\"\",入力シート!M657)","v":""},{"$f":"IF(入力シート!N657=\"\",\"\",入力シート!P657)","v":""}]
[{"$f":"IF(入力シート!A658=\"\",\"\",入力シート!A658)","v":""},{"$f":"IF(入力シート!B658=\"\",\"\",入力シート!B658)","v":""},{"$f":"IF(入力シート!C658=\"\",\"\",TEXT(入力シート!C658,\"yyyy-mm-dd\"))","v":""},{"$f":"IF(入力シート!O658=\"\",\"\",TEXT(入力シート!O658,\"000-0000\"))","v":""},{"$f":"IF(入力シート!F658=\"\",\"\",入力シート!F658)","v":""},{"$f":"IF(入力シート!G658=\"\",\"\",入力シート!G658)","v":""},{"$f":"IF(入力シート!H658=\"\",\"\",入力シート!H658)","v":""},{"$f":"IF(入力シート!I658=\"\",\"\",入力シート!I658)","v":""},{"$f":"IF(入力シート!J658=\"\",\"\",入力シート!J658)","v":""},{"$f":"IF(入力シート!K658=\"\",\"\",入力シート!K658)","v":""},{"$f":"IF(入力シート!L658=\"\",\"\",入力シート!L658)","v":""},{"$f":"IF(入力シート!M658=\"\",\"\",入力シート!M658)","v":""},{"$f":"IF(入力シート!N658=\"\",\"\",入力シート!P658)","v":""}]
[{"$f":"IF(入力シート!A659=\"\",\"\",入力シート!A659)","v":""},{"$f":"IF(入力シート!B659=\"\",\"\",入力シート!B659)","v":""},{"$f":"IF(入力シート!C659=\"\",\"\",TEXT(入力シート!C659,\"yyyy-mm-dd\"))","v":""},{"$f":"IF(入力シート!O659=\"\",\"\",TEXT(入力シート!O659,\"000-0000\"))","v":""},{"$f":"IF(入力シート!F659=\"\",\"\",入力シート!F659)","v":""},{"$f":"IF(入力シート!G659=\"\",\"\",入力シート!G659)","v":""},{"$f":"IF(入力シート!H659=\"\",\"\",入力シート!H659)","v":""},{"$f":"IF(入力シート!I659=\"\",\"\",入力シート!I659)","v":""},{"$f":"IF(入力シート!J659=\"\",\"\",入力シート!J659)","v":""},{"$f":"IF(入力シート!K659=\"\",\"\",入力シート!K659)","v":""},{"$f":"IF(入力シート!L659=\"\",\"\",入力シート!L659)","v":""},{"$f":"IF(入力シート!M659=\"\",\"\",入力シート!M659)","v":""},{"$f":"IF(入力シート!N659=\"\",\"\",入力シート!P659)","v":""}]
[{"$f":"IF(入力シート!A660=\"\",\"\",入力シート!A660)","v":""},{"$f":"IF(入力シート!B660=\"\",\"\",入力シート!B660)","v":""},{"$f":"IF(入力シート!C660=\"\",\"\",TEXT(入力シート!C660,\"yyyy-mm-dd\"))","v":""},{"$f":"IF(入力シート!O660=\"\",\"\",TEXT(入力シート!O660,\"000-0000\"))","v":""},{"$f":"IF(入力シート!F660=\"\",\"\",入力シート!F660)","v":""},{"$f":"IF(入力シート!G660=\"\",\"\",入力シート!G660)","v":""},{"$f":"IF(入力シート!H660=\"\",\"\",入力シート!H660)","v":""},{"$f":"IF(入力シート!I660=\"\",\"\",入力シート!I660)","v":""},{"$f":"IF(入力シート!J660=\"\",\"\",入力シート!J660)","v":""},{"$f":"IF(入力シート!K660=\"\",\"\",入力シート!K660)","v":""},{"$f":"IF(入力シート!L660=\"\",\"\",入力シート!L660)","v":""},{"$f":"IF(入力シート!M660=\"\",\"\",入力シート!M660)","v":""},{"$f":"IF(入力シート!N660=\"\",\"\",入力シート!P660)","v":""}]
[{"$f":"IF(入力シート!A661=\"\",\"\",入力シート!A661)","v":""},{"$f":"IF(入力シート!B661=\"\",\"\",入力シート!B661)","v":""},{"$f":"IF(入力シート!C661=\"\",\"\",TEXT(入力シート!C661,\"yyyy-mm-dd\"))","v":""},{"$f":"IF(入力シート!O661=\"\",\"\",TEXT(入力シート!O661,\"000-0000\"))","v":""},{"$f":"IF(入力シート!F661=\"\",\"\",入力シート!F661)","v":""},{"$f":"IF(入力シート!G661=\"\",\"\",入力シート!G661)","v":""},{"$f":"IF(入力シート!H661=\"\",\"\",入力シート!H661)","v":""},{"$f":"IF(入力シート!I661=\"\",\"\",入力シート!I661)","v":""},{"$f":"IF(入力シート!J661=\"\",\"\",入力シート!J661)","v":""},{"$f":"IF(入力シート!K661=\"\",\"\",入力シート!K661)","v":""},{"$f":"IF(入力シート!L661=\"\",\"\",入力シート!L661)","v":""},{"$f":"IF(入力シート!M661=\"\",\"\",入力シート!M661)","v":""},{"$f":"IF(入力シート!N661=\"\",\"\",入力シート!P661)","v":""}]
[{"$f":"IF(入力シート!A662=\"\",\"\",入力シート!A662)","v":""},{"$f":"IF(入力シート!B662=\"\",\"\",入力シート!B662)","v":""},{"$f":"IF(入力シート!C662=\"\",\"\",TEXT(入力シート!C662,\"yyyy-mm-dd\"))","v":""},{"$f":"IF(入力シート!O662=\"\",\"\",TEXT(入力シート!O662,\"000-0000\"))","v":""},{"$f":"IF(入力シート!F662=\"\",\"\",入力シート!F662)","v":""},{"$f":"IF(入力シート!G662=\"\",\"\",入力シート!G662)","v":""},{"$f":"IF(入力シート!H662=\"\",\"\",入力シート!H662)","v":""},{"$f":"IF(入力シート!I662=\"\",\"\",入力シート!I662)","v":""},{"$f":"IF(入力シート!J662=\"\",\"\",入力シート!J662)","v":""},{"$f":"IF(入力シート!K662=\"\",\"\",入力シート!K662)","v":""},{"$f":"IF(入力シート!L662=\"\",\"\",入力シート!L662)","v":""},{"$f":"IF(入力シート!M662=\"\",\"\",入力シート!M662)","v":""},{"$f":"IF(入力シート!N662=\"\",\"\",入力シート!P662)","v":""}]
[{"$f":"IF(入力シート!A663=\"\",\"\",入力シート!A663)","v":""},{"$f":"IF(入力シート!B663=\"\",\"\",入力シート!B663)","v":""},{"$f":"IF(入力シート!C663=\"\",\"\",TEXT(入力シート!C663,\"yyyy-mm-dd\"))","v":""},{"$f":"IF(入力シート!O663=\"\",\"\",TEXT(入力シート!O663,\"000-0000\"))","v":""},{"$f":"IF(入力シート!F663=\"\",\"\",入力シート!F663)","v":""},{"$f":"IF(入力シート!G663=\"\",\"\",入力シート!G663)","v":""},{"$f":"IF(入力シート!H663=\"\",\"\",入力シート!H663)","v":""},{"$f":"IF(入力シート!I663=\"\",\"\",入力シート!I663)","v":""},{"$f":"IF(入力シート!J663=\"\",\"\",入力シート!J663)","v":""},{"$f":"IF(入力シート!K663=\"\",\"\",入力シート!K663)","v":""},{"$f":"IF(入力シート!L663=\"\",\"\",入力シート!L663)","v":""},{"$f":"IF(入力シート!M663=\"\",\"\",入力シート!M663)","v":""},{"$f":"IF(入力シート!N663=\"\",\"\",入力シート!P663)","v":""}]
[{"$f":"IF(入力シート!A664=\"\",\"\",入力シート!A664)","v":""},{"$f":"IF(入力シート!B664=\"\",\"\",入力シート!B664)","v":""},{"$f":"IF(入力シート!C664=\"\",\"\",TEXT(入力シート!C664,\"yyyy-mm-dd\"))","v":""},{"$f":"IF(入力シート!O664=\"\",\"\",TEXT(入力シート!O664,\"000-0000\"))","v":""},{"$f":"IF(入力シート!F664=\"\",\"\",入力シート!F664)","v":""},{"$f":"IF(入力シート!G664=\"\",\"\",入力シート!G664)","v":""},{"$f":"IF(入力シート!H664=\"\",\"\",入力シート!H664)","v":""},{"$f":"IF(入力シート!I664=\"\",\"\",入力シート!I664)","v":""},{"$f":"IF(入力シート!J664=\"\",\"\",入力シート!J664)","v":""},{"$f":"IF(入力シート!K664=\"\",\"\",入力シート!K664)","v":""},{"$f":"IF(入力シート!L664=\"\",\"\",入力シート!L664)","v":""},{"$f":"IF(入力シート!M664=\"\",\"\",入力シート!M664)","v":""},{"$f":"IF(入力シート!N664=\"\",\"\",入力シート!P664)","v":""}]
[{"$f":"IF(入力シート!A665=\"\",\"\",入力シート!A665)","v":""},{"$f":"IF(入力シート!B665=\"\",\"\",入力シート!B665)","v":""},{"$f":"IF(入力シート!C665=\"\",\"\",TEXT(入力シート!C665,\"yyyy-mm-dd\"))","v":""},{"$f":"IF(入力シート!O665=\"\",\"\",TEXT(入力シート!O665,\"000-0000\"))","v":""},{"$f":"IF(入力シート!F665=\"\",\"\",入力シート!F665)","v":""},{"$f":"IF(入力シート!G665=\"\",\"\",入力シート!G665)","v":""},{"$f":"IF(入力シート!H665=\"\",\"\",入力シート!H665)","v":""},{"$f":"IF(入力シート!I665=\"\",\"\",入力シート!I665)","v":""},{"$f":"IF(入力シート!J665=\"\",\"\",入力シート!J665)","v":""},{"$f":"IF(入力シート!K665=\"\",\"\",入力シート!K665)","v":""},{"$f":"IF(入力シート!L665=\"\",\"\",入力シート!L665)","v":""},{"$f":"IF(入力シート!M665=\"\",\"\",入力シート!M665)","v":""},{"$f":"IF(入力シート!N665=\"\",\"\",入力シート!P665)","v":""}]
[{"$f":"IF(入力シート!A666=\"\",\"\",入力シート!A666)","v":""},{"$f":"IF(入力シート!B666=\"\",\"\",入力シート!B666)","v":""},{"$f":"IF(入力シート!C666=\"\",\"\",TEXT(入力シート!C666,\"yyyy-mm-dd\"))","v":""},{"$f":"IF(入力シート!O666=\"\",\"\",TEXT(入力シート!O666,\"000-0000\"))","v":""},{"$f":"IF(入力シート!F666=\"\",\"\",入力シート!F666)","v":""},{"$f":"IF(入力シート!G666=\"\",\"\",入力シート!G666)","v":""},{"$f":"IF(入力シート!H666=\"\",\"\",入力シート!H666)","v":""},{"$f":"IF(入力シート!I666=\"\",\"\",入力シート!I666)","v":""},{"$f":"IF(入力シート!J666=\"\",\"\",入力シート!J666)","v":""},{"$f":"IF(入力シート!K666=\"\",\"\",入力シート!K666)","v":""},{"$f":"IF(入力シート!L666=\"\",\"\",入力シート!L666)","v":""},{"$f":"IF(入力シート!M666=\"\",\"\",入力シート!M666)","v":""},{"$f":"IF(入力シート!N666=\"\",\"\",入力シート!P666)","v":""}]
[{"$f":"IF(入力シート!A667=\"\",\"\",入力シート!A667)","v":""},{"$f":"IF(入力シート!B667=\"\",\"\",入力シート!B667)","v":""},{"$f":"IF(入力シート!C667=\"\",\"\",TEXT(入力シート!C667,\"yyyy-mm-dd\"))","v":""},{"$f":"IF(入力シート!O667=\"\",\"\",TEXT(入力シート!O667,\"000-0000\"))","v":""},{"$f":"IF(入力シート!F667=\"\",\"\",入力シート!F667)","v":""},{"$f":"IF(入力シート!G667=\"\",\"\",入力シート!G667)","v":""},{"$f":"IF(入力シート!H667=\"\",\"\",入力シート!H667)","v":""},{"$f":"IF(入力シート!I667=\"\",\"\",入力シート!I667)","v":""},{"$f":"IF(入力シート!J667=\"\",\"\",入力シート!J667)","v":""},{"$f":"IF(入力シート!K667=\"\",\"\",入力シート!K667)","v":""},{"$f":"IF(入力シート!L667=\"\",\"\",入力シート!L667)","v":""},{"$f":"IF(入力シート!M667=\"\",\"\",入力シート!M667)","v":""},{"$f":"IF(入力シート!N667=\"\",\"\",入力シート!P667)","v":""}]
[{"$f":"IF(入力シート!A668=\"\",\"\",入力シート!A668)","v":""},{"$f":"IF(入力シート!B668=\"\",\"\",入力シート!B668)","v":""},{"$f":"IF(入力シート!C668=\"\",\"\",TEXT(入力シート!C668,\"yyyy-mm-dd\"))","v":""},{"$f":"IF(入力シート!O668=\"\",\"\",TEXT(入力シート!O668,\"000-0000\"))","v":""},{"$f":"IF(入力シート!F668=\"\",\"\",入力シート!F668)","v":""},{"$f":"IF(入力シート!G668=\"\",\"\",入力シート!G668)","v":""},{"$f":"IF(入力シート!H668=\"\",\"\",入力シート!H668)","v":""},{"$f":"IF(入力シート!I668=\"\",\"\",入力シート!I668)","v":""},{"$f":"IF(入力シート!J668=\"\",\"\",入力シート!J668)","v":""},{"$f":"IF(入力シート!K668=\"\",\"\",入力シート!K668)","v":""},{"$f":"IF(入力シート!L668=\"\",\"\",入力シート!L668)","v":""},{"$f":"IF(入力シート!M668=\"\",\"\",入力シート!M668)","v":""},{"$f":"IF(入力シート!N668=\"\",\"\",入力シート!P668)","v":""}]
[{"$f":"IF(入力シート!A669=\"\",\"\",入力シート!A669)","v":""},{"$f":"IF(入力シート!B669=\"\",\"\",入力シート!B669)","v":""},{"$f":"IF(入力シート!C669=\"\",\"\",TEXT(入力シート!C669,\"yyyy-mm-dd\"))","v":""},{"$f":"IF(入力シート!O669=\"\",\"\",TEXT(入力シート!O669,\"000-0000\"))","v":""},{"$f":"IF(入力シート!F669=\"\",\"\",入力シート!F669)","v":""},{"$f":"IF(入力シート!G669=\"\",\"\",入力シート!G669)","v":""},{"$f":"IF(入力シート!H669=\"\",\"\",入力シート!H669)","v":""},{"$f":"IF(入力シート!I669=\"\",\"\",入力シート!I669)","v":""},{"$f":"IF(入力シート!J669=\"\",\"\",入力シート!J669)","v":""},{"$f":"IF(入力シート!K669=\"\",\"\",入力シート!K669)","v":""},{"$f":"IF(入力シート!L669=\"\",\"\",入力シート!L669)","v":""},{"$f":"IF(入力シート!M669=\"\",\"\",入力シート!M669)","v":""},{"$f":"IF(入力シート!N669=\"\",\"\",入力シート!P669)","v":""}]
[{"$f":"IF(入力シート!A670=\"\",\"\",入力シート!A670)","v":""},{"$f":"IF(入力シート!B670=\"\",\"\",入力シート!B670)","v":""},{"$f":"IF(入力シート!C670=\"\",\"\",TEXT(入力シート!C670,\"yyyy-mm-dd\"))","v":""},{"$f":"IF(入力シート!O670=\"\",\"\",TEXT(入力シート!O670,\"000-0000\"))","v":""},{"$f":"IF(入力シート!F670=\"\",\"\",入力シート!F670)","v":""},{"$f":"IF(入力シート!G670=\"\",\"\",入力シート!G670)","v":""},{"$f":"IF(入力シート!H670=\"\",\"\",入力シート!H670)","v":""},{"$f":"IF(入力シート!I670=\"\",\"\",入力シート!I670)","v":""},{"$f":"IF(入力シート!J670=\"\",\"\",入力シート!J670)","v":""},{"$f":"IF(入力シート!K670=\"\",\"\",入力シート!K670)","v":""},{"$f":"IF(入力シート!L670=\"\",\"\",入力シート!L670)","v":""},{"$f":"IF(入力シート!M670=\"\",\"\",入力シート!M670)","v":""},{"$f":"IF(入力シート!N670=\"\",\"\",入力シート!P670)","v":""}]
[{"$f":"IF(入力シート!A671=\"\",\"\",入力シート!A671)","v":""},{"$f":"IF(入力シート!B671=\"\",\"\",入力シート!B671)","v":""},{"$f":"IF(入力シート!C671=\"\",\"\",TEXT(入力シート!C671,\"yyyy-mm-dd\"))","v":""},{"$f":"IF(入力シート!O671=\"\",\"\",TEXT(入力シート!O671,\"000-0000\"))","v":""},{"$f":"IF(入力シート!F671=\"\",\"\",入力シート!F671)","v":""},{"$f":"IF(入力シート!G671=\"\",\"\",入力シート!G671)","v":""},{"$f":"IF(入力シート!H671=\"\",\"\",入力シート!H671)","v":""},{"$f":"IF(入力シート!I671=\"\",\"\",入力シート!I671)","v":""},{"$f":"IF(入力シート!J671=\"\",\"\",入力シート!J671)","v":""},{"$f":"IF(入力シート!K671=\"\",\"\",入力シート!K671)","v":""},{"$f":"IF(入力シート!L671=\"\",\"\",入力シート!L671)","v":""},{"$f":"IF(入力シート!M671=\"\",\"\",入力シート!M671)","v":""},{"$f":"IF(入力シート!N671=\"\",\"\",入力シート!P671)","v":""}]
[{"$f":"IF(入力シート!A672=\"\",\"\",入力シート!A672)","v":""},{"$f":"IF(入力シート!B672=\"\",\"\",入力シート!B672)","v":""},{"$f":"IF(入力シート!C672=\"\",\"\",TEXT(入力シート!C672,\"yyyy-mm-dd\"))","v":""},{"$f":"IF(入力シート!O672=\"\",\"\",TEXT(入力シート!O672,\"000-0000\"))","v":""},{"$f":"IF(入力シート!F672=\"\",\"\",入力シート!F672)","v":""},{"$f":"IF(入力シート!G672=\"\",\"\",入力シート!G672)","v":""},{"$f":"IF(入力シート!H672=\"\",\"\",入力シート!H672)","v":""},{"$f":"IF(入力シート!I672=\"\",\"\",入力シート!I672)","v":""},{"$f":"IF(入力シート!J672=\"\",\"\",入力シート!J672)","v":""},{"$f":"IF(入力シート!K672=\"\",\"\",入力シート!K672)","v":""},{"$f":"IF(入力シート!L672=\"\",\"\",入力シート!L672)","v":""},{"$f":"IF(入力シート!M672=\"\",\"\",入力シート!M672)","v":""},{"$f":"IF(入力シート!N672=\"\",\"\",入力シート!P672)","v":""}]
[{"$f":"IF(入力シート!A673=\"\",\"\",入力シート!A673)","v":""},{"$f":"IF(入力シート!B673=\"\",\"\",入力シート!B673)","v":""},{"$f":"IF(入力シート!C673=\"\",\"\",TEXT(入力シート!C673,\"yyyy-mm-dd\"))","v":""},{"$f":"IF(入力シート!O673=\"\",\"\",TEXT(入力シート!O673,\"000-0000\"))","v":""},{"$f":"IF(入力シート!F673=\"\",\"\",入力シート!F673)","v":""},{"$f":"IF(入力シート!G673=\"\",\"\",入力シート!G673)","v":""},{"$f":"IF(入力シート!H673=\"\",\"\",入力シート!H673)","v":""},{"$f":"IF(入力シート!I673=\"\",\"\",入力シート!I673)","v":""},{"$f":"IF(入力シート!J673=\"\",\"\",入力シート!J673)","v":""},{"$f":"IF(入力シート!K673=\"\",\"\",入力シート!K673)","v":""},{"$f":"IF(入力シート!L673=\"\",\"\",入力シート!L673)","v":""},{"$f":"IF(入力シート!M673=\"\",\"\",入力シート!M673)","v":""},{"$f":"IF(入力シート!N673=\"\",\"\",入力シート!P673)","v":""}]
[{"$f":"IF(入力シート!A674=\"\",\"\",入力シート!A674)","v":""},{"$f":"IF(入力シート!B674=\"\",\"\",入力シート!B674)","v":""},{"$f":"IF(入力シート!C674=\"\",\"\",TEXT(入力シート!C674,\"yyyy-mm-dd\"))","v":""},{"$f":"IF(入力シート!O674=\"\",\"\",TEXT(入力シート!O674,\"000-0000\"))","v":""},{"$f":"IF(入力シート!F674=\"\",\"\",入力シート!F674)","v":""},{"$f":"IF(入力シート!G674=\"\",\"\",入力シート!G674)","v":""},{"$f":"IF(入力シート!H674=\"\",\"\",入力シート!H674)","v":""},{"$f":"IF(入力シート!I674=\"\",\"\",入力シート!I674)","v":""},{"$f":"IF(入力シート!J674=\"\",\"\",入力シート!J674)","v":""},{"$f":"IF(入力シート!K674=\"\",\"\",入力シート!K674)","v":""},{"$f":"IF(入力シート!L674=\"\",\"\",入力シート!L674)","v":""},{"$f":"IF(入力シート!M674=\"\",\"\",入力シート!M674)","v":""},{"$f":"IF(入力シート!N674=\"\",\"\",入力シート!P674)","v":""}]
[{"$f":"IF(入力シート!A675=\"\",\"\",入力シート!A675)","v":""},{"$f":"IF(入力シート!B675=\"\",\"\",入力シート!B675)","v":""},{"$f":"IF(入力シート!C675=\"\",\"\",TEXT(入力シート!C675,\"yyyy-mm-dd\"))","v":""},{"$f":"IF(入力シート!O675=\"\",\"\",TEXT(入力シート!O675,\"000-0000\"))","v":""},{"$f":"IF(入力シート!F675=\"\",\"\",入力シート!F675)","v":""},{"$f":"IF(入力シート!G675=\"\",\"\",入力シート!G675)","v":""},{"$f":"IF(入力シート!H675=\"\",\"\",入力シート!H675)","v":""},{"$f":"IF(入力シート!I675=\"\",\"\",入力シート!I675)","v":""},{"$f":"IF(入力シート!J675=\"\",\"\",入力シート!J675)","v":""},{"$f":"IF(入力シート!K675=\"\",\"\",入力シート!K675)","v":""},{"$f":"IF(入力シート!L675=\"\",\"\",入力シート!L675)","v":""},{"$f":"IF(入力シート!M675=\"\",\"\",入力シート!M675)","v":""},{"$f":"IF(入力シート!N675=\"\",\"\",入力シート!P675)","v":""}]
[{"$f":"IF(入力シート!A676=\"\",\"\",入力シート!A676)","v":""},{"$f":"IF(入力シート!B676=\"\",\"\",入力シート!B676)","v":""},{"$f":"IF(入力シート!C676=\"\",\"\",TEXT(入力シート!C676,\"yyyy-mm-dd\"))","v":""},{"$f":"IF(入力シート!O676=\"\",\"\",TEXT(入力シート!O676,\"000-0000\"))","v":""},{"$f":"IF(入力シート!F676=\"\",\"\",入力シート!F676)","v":""},{"$f":"IF(入力シート!G676=\"\",\"\",入力シート!G676)","v":""},{"$f":"IF(入力シート!H676=\"\",\"\",入力シート!H676)","v":""},{"$f":"IF(入力シート!I676=\"\",\"\",入力シート!I676)","v":""},{"$f":"IF(入力シート!J676=\"\",\"\",入力シート!J676)","v":""},{"$f":"IF(入力シート!K676=\"\",\"\",入力シート!K676)","v":""},{"$f":"IF(入力シート!L676=\"\",\"\",入力シート!L676)","v":""},{"$f":"IF(入力シート!M676=\"\",\"\",入力シート!M676)","v":""},{"$f":"IF(入力シート!N676=\"\",\"\",入力シート!P676)","v":""}]
[{"$f":"IF(入力シート!A677=\"\",\"\",入力シート!A677)","v":""},{"$f":"IF(入力シート!B677=\"\",\"\",入力シート!B677)","v":""},{"$f":"IF(入力シート!C677=\"\",\"\",TEXT(入力シート!C677,\"yyyy-mm-dd\"))","v":""},{"$f":"IF(入力シート!O677=\"\",\"\",TEXT(入力シート!O677,\"000-0000\"))","v":""},{"$f":"IF(入力シート!F677=\"\",\"\",入力シート!F677)","v":""},{"$f":"IF(入力シート!G677=\"\",\"\",入力シート!G677)","v":""},{"$f":"IF(入力シート!H677=\"\",\"\",入力シート!H677)","v":""},{"$f":"IF(入力シート!I677=\"\",\"\",入力シート!I677)","v":""},{"$f":"IF(入力シート!J677=\"\",\"\",入力シート!J677)","v":""},{"$f":"IF(入力シート!K677=\"\",\"\",入力シート!K677)","v":""},{"$f":"IF(入力シート!L677=\"\",\"\",入力シート!L677)","v":""},{"$f":"IF(入力シート!M677=\"\",\"\",入力シート!M677)","v":""},{"$f":"IF(入力シート!N677=\"\",\"\",入力シート!P677)","v":""}]
[{"$f":"IF(入力シート!A678=\"\",\"\",入力シート!A678)","v":""},{"$f":"IF(入力シート!B678=\"\",\"\",入力シート!B678)","v":""},{"$f":"IF(入力シート!C678=\"\",\"\",TEXT(入力シート!C678,\"yyyy-mm-dd\"))","v":""},{"$f":"IF(入力シート!O678=\"\",\"\",TEXT(入力シート!O678,\"000-0000\"))","v":""},{"$f":"IF(入力シート!F678=\"\",\"\",入力シート!F678)","v":""},{"$f":"IF(入力シート!G678=\"\",\"\",入力シート!G678)","v":""},{"$f":"IF(入力シート!H678=\"\",\"\",入力シート!H678)","v":""},{"$f":"IF(入力シート!I678=\"\",\"\",入力シート!I678)","v":""},{"$f":"IF(入力シート!J678=\"\",\"\",入力シート!J678)","v":""},{"$f":"IF(入力シート!K678=\"\",\"\",入力シート!K678)","v":""},{"$f":"IF(入力シート!L678=\"\",\"\",入力シート!L678)","v":""},{"$f":"IF(入力シート!M678=\"\",\"\",入力シート!M678)","v":""},{"$f":"IF(入力シート!N678=\"\",\"\",入力シート!P678)","v":""}]
[{"$f":"IF(入力シート!A679=\"\",\"\",入力シート!A679)","v":""},{"$f":"IF(入力シート!B679=\"\",\"\",入力シート!B679)","v":""},{"$f":"IF(入力シート!C679=\"\",\"\",TEXT(入力シート!C679,\"yyyy-mm-dd\"))","v":""},{"$f":"IF(入力シート!O679=\"\",\"\",TEXT(入力シート!O679,\"000-0000\"))","v":""},{"$f":"IF(入力シート!F679=\"\",\"\",入力シート!F679)","v":""},{"$f":"IF(入力シート!G679=\"\",\"\",入力シート!G679)","v":""},{"$f":"IF(入力シート!H679=\"\",\"\",入力シート!H679)","v":""},{"$f":"IF(入力シート!I679=\"\",\"\",入力シート!I679)","v":""},{"$f":"IF(入力シート!J679=\"\",\"\",入力シート!J679)","v":""},{"$f":"IF(入力シート!K679=\"\",\"\",入力シート!K679)","v":""},{"$f":"IF(入力シート!L679=\"\",\"\",入力シート!L679)","v":""},{"$f":"IF(入力シート!M679=\"\",\"\",入力シート!M679)","v":""},{"$f":"IF(入力シート!N679=\"\",\"\",入力シート!P679)","v":""}]
[{"$f":"IF(入力シート!A680=\"\",\"\",入力シート!A680)","v":""},{"$f":"IF(入力シート!B680=\"\",\"\",入力シート!B680)","v":""},{"$f":"IF(入力シート!C680=\"\",\"\",TEXT(入力シート!C680,\"yyyy-mm-dd\"))","v":""},{"$f":"IF(入力シート!O680=\"\",\"\",TEXT(入力シート!O680,\"000-0000\"))","v":""},{"$f":"IF(入力シート!F680=\"\",\"\",入力シート!F680)","v":""},{"$f":"IF(入力シート!G680=\"\",\"\",入力シート!G680)","v":""},{"$f":"IF(入力シート!H680=\"\",\"\",入力シート!H680)","v":""},{"$f":"IF(入力シート!I680=\"\",\"\",入力シート!I680)","v":""},{"$f":"IF(入力シート!J680=\"\",\"\",入力シート!J680)","v":""},{"$f":"IF(入力シート!K680=\"\",\"\",入力シート!K680)","v":""},{"$f":"IF(入力シート!L680=\"\",\"\",入力シート!L680)","v":""},{"$f":"IF(入力シート!M680=\"\",\"\",入力シート!M680)","v":""},{"$f":"IF(入力シート!N680=\"\",\"\",入力シート!P680)","v":""}]
[{"$f":"IF(入力シート!A681=\"\",\"\",入力シート!A681)","v":""},{"$f":"IF(入力シート!B681=\"\",\"\",入力シート!B681)","v":""},{"$f":"IF(入力シート!C681=\"\",\"\",TEXT(入力シート!C681,\"yyyy-mm-dd\"))","v":""},{"$f":"IF(入力シート!O681=\"\",\"\",TEXT(入力シート!O681,\"000-0000\"))","v":""},{"$f":"IF(入力シート!F681=\"\",\"\",入力シート!F681)","v":""},{"$f":"IF(入力シート!G681=\"\",\"\",入力シート!G681)","v":""},{"$f":"IF(入力シート!H681=\"\",\"\",入力シート!H681)","v":""},{"$f":"IF(入力シート!I681=\"\",\"\",入力シート!I681)","v":""},{"$f":"IF(入力シート!J681=\"\",\"\",入力シート!J681)","v":""},{"$f":"IF(入力シート!K681=\"\",\"\",入力シート!K681)","v":""},{"$f":"IF(入力シート!L681=\"\",\"\",入力シート!L681)","v":""},{"$f":"IF(入力シート!M681=\"\",\"\",入力シート!M681)","v":""},{"$f":"IF(入力シート!N681=\"\",\"\",入力シート!P681)","v":""}]
[{"$f":"IF(入力シート!A682=\"\",\"\",入力シート!A682)","v":""},{"$f":"IF(入力シート!B682=\"\",\"\",入力シート!B682)","v":""},{"$f":"IF(入力シート!C682=\"\",\"\",TEXT(入力シート!C682,\"yyyy-mm-dd\"))","v":""},{"$f":"IF(入力シート!O682=\"\",\"\",TEXT(入力シート!O682,\"000-0000\"))","v":""},{"$f":"IF(入力シート!F682=\"\",\"\",入力シート!F682)","v":""},{"$f":"IF(入力シート!G682=\"\",\"\",入力シート!G682)","v":""},{"$f":"IF(入力シート!H682=\"\",\"\",入力シート!H682)","v":""},{"$f":"IF(入力シート!I682=\"\",\"\",入力シート!I682)","v":""},{"$f":"IF(入力シート!J682=\"\",\"\",入力シート!J682)","v":""},{"$f":"IF(入力シート!K682=\"\",\"\",入力シート!K682)","v":""},{"$f":"IF(入力シート!L682=\"\",\"\",入力シート!L682)","v":""},{"$f":"IF(入力シート!M682=\"\",\"\",入力シート!M682)","v":""},{"$f":"IF(入力シート!N682=\"\",\"\",入力シート!P682)","v":""}]
[{"$f":"IF(入力シート!A683=\"\",\"\",入力シート!A683)","v":""},{"$f":"IF(入力シート!B683=\"\",\"\",入力シート!B683)","v":""},{"$f":"IF(入力シート!C683=\"\",\"\",TEXT(入力シート!C683,\"yyyy-mm-dd\"))","v":""},{"$f":"IF(入力シート!O683=\"\",\"\",TEXT(入力シート!O683,\"000-0000\"))","v":""},{"$f":"IF(入力シート!F683=\"\",\"\",入力シート!F683)","v":""},{"$f":"IF(入力シート!G683=\"\",\"\",入力シート!G683)","v":""},{"$f":"IF(入力シート!H683=\"\",\"\",入力シート!H683)","v":""},{"$f":"IF(入力シート!I683=\"\",\"\",入力シート!I683)","v":""},{"$f":"IF(入力シート!J683=\"\",\"\",入力シート!J683)","v":""},{"$f":"IF(入力シート!K683=\"\",\"\",入力シート!K683)","v":""},{"$f":"IF(入力シート!L683=\"\",\"\",入力シート!L683)","v":""},{"$f":"IF(入力シート!M683=\"\",\"\",入力シート!M683)","v":""},{"$f":"IF(入力シート!N683=\"\",\"\",入力シート!P683)","v":""}]
[{"$f":"IF(入力シート!A684=\"\",\"\",入力シート!A684)","v":""},{"$f":"IF(入力シート!B684=\"\",\"\",入力シート!B684)","v":""},{"$f":"IF(入力シート!C684=\"\",\"\",TEXT(入力シート!C684,\"yyyy-mm-dd\"))","v":""},{"$f":"IF(入力シート!O684=\"\",\"\",TEXT(入力シート!O684,\"000-0000\"))","v":""},{"$f":"IF(入力シート!F684=\"\",\"\",入力シート!F684)","v":""},{"$f":"IF(入力シート!G684=\"\",\"\",入力シート!G684)","v":""},{"$f":"IF(入力シート!H684=\"\",\"\",入力シート!H684)","v":""},{"$f":"IF(入力シート!I684=\"\",\"\",入力シート!I684)","v":""},{"$f":"IF(入力シート!J684=\"\",\"\",入力シート!J684)","v":""},{"$f":"IF(入力シート!K684=\"\",\"\",入力シート!K684)","v":""},{"$f":"IF(入力シート!L684=\"\",\"\",入力シート!L684)","v":""},{"$f":"IF(入力シート!M684=\"\",\"\",入力シート!M684)","v":""},{"$f":"IF(入力シート!N684=\"\",\"\",入力シート!P684)","v":""}]
[{"$f":"IF(入力シート!A685=\"\",\"\",入力シート!A685)","v":""},{"$f":"IF(入力シート!B685=\"\",\"\",入力シート!B685)","v":""},{"$f":"IF(入力シート!C685=\"\",\"\",TEXT(入力シート!C685,\"yyyy-mm-dd\"))","v":""},{"$f":"IF(入力シート!O685=\"\",\"\",TEXT(入力シート!O685,\"000-0000\"))","v":""},{"$f":"IF(入力シート!F685=\"\",\"\",入力シート!F685)","v":""},{"$f":"IF(入力シート!G685=\"\",\"\",入力シート!G685)","v":""},{"$f":"IF(入力シート!H685=\"\",\"\",入力シート!H685)","v":""},{"$f":"IF(入力シート!I685=\"\",\"\",入力シート!I685)","v":""},{"$f":"IF(入力シート!J685=\"\",\"\",入力シート!J685)","v":""},{"$f":"IF(入力シート!K685=\"\",\"\",入力シート!K685)","v":""},{"$f":"IF(入力シート!L685=\"\",\"\",入力シート!L685)","v":""},{"$f":"IF(入力シート!M685=\"\",\"\",入力シート!M685)","v":""},{"$f":"IF(入力シート!N685=\"\",\"\",入力シート!P685)","v":""}]
[{"$f":"IF(入力シート!A686=\"\",\"\",入力シート!A686)","v":""},{"$f":"IF(入力シート!B686=\"\",\"\",入力シート!B686)","v":""},{"$f":"IF(入力シート!C686=\"\",\"\",TEXT(入力シート!C686,\"yyyy-mm-dd\"))","v":""},{"$f":"IF(入力シート!O686=\"\",\"\",TEXT(入力シート!O686,\"000-0000\"))","v":""},{"$f":"IF(入力シート!F686=\"\",\"\",入力シート!F686)","v":""},{"$f":"IF(入力シート!G686=\"\",\"\",入力シート!G686)","v":""},{"$f":"IF(入力シート!H686=\"\",\"\",入力シート!H686)","v":""},{"$f":"IF(入力シート!I686=\"\",\"\",入力シート!I686)","v":""},{"$f":"IF(入力シート!J686=\"\",\"\",入力シート!J686)","v":""},{"$f":"IF(入力シート!K686=\"\",\"\",入力シート!K686)","v":""},{"$f":"IF(入力シート!L686=\"\",\"\",入力シート!L686)","v":""},{"$f":"IF(入力シート!M686=\"\",\"\",入力シート!M686)","v":""},{"$f":"IF(入力シート!N686=\"\",\"\",入力シート!P686)","v":""}]
[{"$f":"IF(入力シート!A687=\"\",\"\",入力シート!A687)","v":""},{"$f":"IF(入力シート!B687=\"\",\"\",入力シート!B687)","v":""},{"$f":"IF(入力シート!C687=\"\",\"\",TEXT(入力シート!C687,\"yyyy-mm-dd\"))","v":""},{"$f":"IF(入力シート!O687=\"\",\"\",TEXT(入力シート!O687,\"000-0000\"))","v":""},{"$f":"IF(入力シート!F687=\"\",\"\",入力シート!F687)","v":""},{"$f":"IF(入力シート!G687=\"\",\"\",入力シート!G687)","v":""},{"$f":"IF(入力シート!H687=\"\",\"\",入力シート!H687)","v":""},{"$f":"IF(入力シート!I687=\"\",\"\",入力シート!I687)","v":""},{"$f":"IF(入力シート!J687=\"\",\"\",入力シート!J687)","v":""},{"$f":"IF(入力シート!K687=\"\",\"\",入力シート!K687)","v":""},{"$f":"IF(入力シート!L687=\"\",\"\",入力シート!L687)","v":""},{"$f":"IF(入力シート!M687=\"\",\"\",入力シート!M687)","v":""},{"$f":"IF(入力シート!N687=\"\",\"\",入力シート!P687)","v":""}]
[{"$f":"IF(入力シート!A688=\"\",\"\",入力シート!A688)","v":""},{"$f":"IF(入力シート!B688=\"\",\"\",入力シート!B688)","v":""},{"$f":"IF(入力シート!C688=\"\",\"\",TEXT(入力シート!C688,\"yyyy-mm-dd\"))","v":""},{"$f":"IF(入力シート!O688=\"\",\"\",TEXT(入力シート!O688,\"000-0000\"))","v":""},{"$f":"IF(入力シート!F688=\"\",\"\",入力シート!F688)","v":""},{"$f":"IF(入力シート!G688=\"\",\"\",入力シート!G688)","v":""},{"$f":"IF(入力シート!H688=\"\",\"\",入力シート!H688)","v":""},{"$f":"IF(入力シート!I688=\"\",\"\",入力シート!I688)","v":""},{"$f":"IF(入力シート!J688=\"\",\"\",入力シート!J688)","v":""},{"$f":"IF(入力シート!K688=\"\",\"\",入力シート!K688)","v":""},{"$f":"IF(入力シート!L688=\"\",\"\",入力シート!L688)","v":""},{"$f":"IF(入力シート!M688=\"\",\"\",入力シート!M688)","v":""},{"$f":"IF(入力シート!N688=\"\",\"\",入力シート!P688)","v":""}]
[{"$f":"IF(入力シート!A689=\"\",\"\",入力シート!A689)","v":""},{"$f":"IF(入力シート!B689=\"\",\"\",入力シート!B689)","v":""},{"$f":"IF(入力シート!C689=\"\",\"\",TEXT(入力シート!C689,\"yyyy-mm-dd\"))","v":""},{"$f":"IF(入力シート!O689=\"\",\"\",TEXT(入力シート!O689,\"000-0000\"))","v":""},{"$f":"IF(入力シート!F689=\"\",\"\",入力シート!F689)","v":""},{"$f":"IF(入力シート!G689=\"\",\"\",入力シート!G689)","v":""},{"$f":"IF(入力シート!H689=\"\",\"\",入力シート!H689)","v":""},{"$f":"IF(入力シート!I689=\"\",\"\",入力シート!I689)","v":""},{"$f":"IF(入力シート!J689=\"\",\"\",入力シート!J689)","v":""},{"$f":"IF(入力シート!K689=\"\",\"\",入力シート!K689)","v":""},{"$f":"IF(入力シート!L689=\"\",\"\",入力シート!L689)","v":""},{"$f":"IF(入力シート!M689=\"\",\"\",入力シート!M689)","v":""},{"$f":"IF(入力シート!N689=\"\",\"\",入力シート!P689)","v":""}]
[{"$f":"IF(入力シート!A690=\"\",\"\",入力シート!A690)","v":""},{"$f":"IF(入力シート!B690=\"\",\"\",入力シート!B690)","v":""},{"$f":"IF(入力シート!C690=\"\",\"\",TEXT(入力シート!C690,\"yyyy-mm-dd\"))","v":""},{"$f":"IF(入力シート!O690=\"\",\"\",TEXT(入力シート!O690,\"000-0000\"))","v":""},{"$f":"IF(入力シート!F690=\"\",\"\",入力シート!F690)","v":""},{"$f":"IF(入力シート!G690=\"\",\"\",入力シート!G690)","v":""},{"$f":"IF(入力シート!H690=\"\",\"\",入力シート!H690)","v":""},{"$f":"IF(入力シート!I690=\"\",\"\",入力シート!I690)","v":""},{"$f":"IF(入力シート!J690=\"\",\"\",入力シート!J690)","v":""},{"$f":"IF(入力シート!K690=\"\",\"\",入力シート!K690)","v":""},{"$f":"IF(入力シート!L690=\"\",\"\",入力シート!L690)","v":""},{"$f":"IF(入力シート!M690=\"\",\"\",入力シート!M690)","v":""},{"$f":"IF(入力シート!N690=\"\",\"\",入力シート!P690)","v":""}]
[{"$f":"IF(入力シート!A691=\"\",\"\",入力シート!A691)","v":""},{"$f":"IF(入力シート!B691=\"\",\"\",入力シート!B691)","v":""},{"$f":"IF(入力シート!C691=\"\",\"\",TEXT(入力シート!C691,\"yyyy-mm-dd\"))","v":""},{"$f":"IF(入力シート!O691=\"\",\"\",TEXT(入力シート!O691,\"000-0000\"))","v":""},{"$f":"IF(入力シート!F691=\"\",\"\",入力シート!F691)","v":""},{"$f":"IF(入力シート!G691=\"\",\"\",入力シート!G691)","v":""},{"$f":"IF(入力シート!H691=\"\",\"\",入力シート!H691)","v":""},{"$f":"IF(入力シート!I691=\"\",\"\",入力シート!I691)","v":""},{"$f":"IF(入力シート!J691=\"\",\"\",入力シート!J691)","v":""},{"$f":"IF(入力シート!K691=\"\",\"\",入力シート!K691)","v":""},{"$f":"IF(入力シート!L691=\"\",\"\",入力シート!L691)","v":""},{"$f":"IF(入力シート!M691=\"\",\"\",入力シート!M691)","v":""},{"$f":"IF(入力シート!N691=\"\",\"\",入力シート!P691)","v":""}]
[{"$f":"IF(入力シート!A692=\"\",\"\",入力シート!A692)","v":""},{"$f":"IF(入力シート!B692=\"\",\"\",入力シート!B692)","v":""},{"$f":"IF(入力シート!C692=\"\",\"\",TEXT(入力シート!C692,\"yyyy-mm-dd\"))","v":""},{"$f":"IF(入力シート!O692=\"\",\"\",TEXT(入力シート!O692,\"000-0000\"))","v":""},{"$f":"IF(入力シート!F692=\"\",\"\",入力シート!F692)","v":""},{"$f":"IF(入力シート!G692=\"\",\"\",入力シート!G692)","v":""},{"$f":"IF(入力シート!H692=\"\",\"\",入力シート!H692)","v":""},{"$f":"IF(入力シート!I692=\"\",\"\",入力シート!I692)","v":""},{"$f":"IF(入力シート!J692=\"\",\"\",入力シート!J692)","v":""},{"$f":"IF(入力シート!K692=\"\",\"\",入力シート!K692)","v":""},{"$f":"IF(入力シート!L692=\"\",\"\",入力シート!L692)","v":""},{"$f":"IF(入力シート!M692=\"\",\"\",入力シート!M692)","v":""},{"$f":"IF(入力シート!N692=\"\",\"\",入力シート!P692)","v":""}]
[{"$f":"IF(入力シート!A693=\"\",\"\",入力シート!A693)","v":""},{"$f":"IF(入力シート!B693=\"\",\"\",入力シート!B693)","v":""},{"$f":"IF(入力シート!C693=\"\",\"\",TEXT(入力シート!C693,\"yyyy-mm-dd\"))","v":""},{"$f":"IF(入力シート!O693=\"\",\"\",TEXT(入力シート!O693,\"000-0000\"))","v":""},{"$f":"IF(入力シート!F693=\"\",\"\",入力シート!F693)","v":""},{"$f":"IF(入力シート!G693=\"\",\"\",入力シート!G693)","v":""},{"$f":"IF(入力シート!H693=\"\",\"\",入力シート!H693)","v":""},{"$f":"IF(入力シート!I693=\"\",\"\",入力シート!I693)","v":""},{"$f":"IF(入力シート!J693=\"\",\"\",入力シート!J693)","v":""},{"$f":"IF(入力シート!K693=\"\",\"\",入力シート!K693)","v":""},{"$f":"IF(入力シート!L693=\"\",\"\",入力シート!L693)","v":""},{"$f":"IF(入力シート!M693=\"\",\"\",入力シート!M693)","v":""},{"$f":"IF(入力シート!N693=\"\",\"\",入力シート!P693)","v":""}]
[{"$f":"IF(入力シート!A694=\"\",\"\",入力シート!A694)","v":""},{"$f":"IF(入力シート!B694=\"\",\"\",入力シート!B694)","v":""},{"$f":"IF(入力シート!C694=\"\",\"\",TEXT(入力シート!C694,\"yyyy-mm-dd\"))","v":""},{"$f":"IF(入力シート!O694=\"\",\"\",TEXT(入力シート!O694,\"000-0000\"))","v":""},{"$f":"IF(入力シート!F694=\"\",\"\",入力シート!F694)","v":""},{"$f":"IF(入力シート!G694=\"\",\"\",入力シート!G694)","v":""},{"$f":"IF(入力シート!H694=\"\",\"\",入力シート!H694)","v":""},{"$f":"IF(入力シート!I694=\"\",\"\",入力シート!I694)","v":""},{"$f":"IF(入力シート!J694=\"\",\"\",入力シート!J694)","v":""},{"$f":"IF(入力シート!K694=\"\",\"\",入力シート!K694)","v":""},{"$f":"IF(入力シート!L694=\"\",\"\",入力シート!L694)","v":""},{"$f":"IF(入力シート!M694=\"\",\"\",入力シート!M694)","v":""},{"$f":"IF(入力シート!N694=\"\",\"\",入力シート!P694)","v":""}]
[{"$f":"IF(入力シート!A695=\"\",\"\",入力シート!A695)","v":""},{"$f":"IF(入力シート!B695=\"\",\"\",入力シート!B695)","v":""},{"$f":"IF(入力シート!C695=\"\",\"\",TEXT(入力シート!C695,\"yyyy-mm-dd\"))","v":""},{"$f":"IF(入力シート!O695=\"\",\"\",TEXT(入力シート!O695,\"000-0000\"))","v":""},{"$f":"IF(入力シート!F695=\"\",\"\",入力シート!F695)","v":""},{"$f":"IF(入力シート!G695=\"\",\"\",入力シート!G695)","v":""},{"$f":"IF(入力シート!H695=\"\",\"\",入力シート!H695)","v":""},{"$f":"IF(入力シート!I695=\"\",\"\",入力シート!I695)","v":""},{"$f":"IF(入力シート!J695=\"\",\"\",入力シート!J695)","v":""},{"$f":"IF(入力シート!K695=\"\",\"\",入力シート!K695)","v":""},{"$f":"IF(入力シート!L695=\"\",\"\",入力シート!L695)","v":""},{"$f":"IF(入力シート!M695=\"\",\"\",入力シート!M695)","v":""},{"$f":"IF(入力シート!N695=\"\",\"\",入力シート!P695)","v":""}]
[{"$f":"IF(入力シート!A696=\"\",\"\",入力シート!A696)","v":""},{"$f":"IF(入力シート!B696=\"\",\"\",入力シート!B696)","v":""},{"$f":"IF(入力シート!C696=\"\",\"\",TEXT(入力シート!C696,\"yyyy-mm-dd\"))","v":""},{"$f":"IF(入力シート!O696=\"\",\"\",TEXT(入力シート!O696,\"000-0000\"))","v":""},{"$f":"IF(入力シート!F696=\"\",\"\",入力シート!F696)","v":""},{"$f":"IF(入力シート!G696=\"\",\"\",入力シート!G696)","v":""},{"$f":"IF(入力シート!H696=\"\",\"\",入力シート!H696)","v":""},{"$f":"IF(入力シート!I696=\"\",\"\",入力シート!I696)","v":""},{"$f":"IF(入力シート!J696=\"\",\"\",入力シート!J696)","v":""},{"$f":"IF(入力シート!K696=\"\",\"\",入力シート!K696)","v":""},{"$f":"IF(入力シート!L696=\"\",\"\",入力シート!L696)","v":""},{"$f":"IF(入力シート!M696=\"\",\"\",入力シート!M696)","v":""},{"$f":"IF(入力シート!N696=\"\",\"\",入力シート!P696)","v":""}]
[{"$f":"IF(入力シート!A697=\"\",\"\",入力シート!A697)","v":""},{"$f":"IF(入力シート!B697=\"\",\"\",入力シート!B697)","v":""},{"$f":"IF(入力シート!C697=\"\",\"\",TEXT(入力シート!C697,\"yyyy-mm-dd\"))","v":""},{"$f":"IF(入力シート!O697=\"\",\"\",TEXT(入力シート!O697,\"000-0000\"))","v":""},{"$f":"IF(入力シート!F697=\"\",\"\",入力シート!F697)","v":""},{"$f":"IF(入力シート!G697=\"\",\"\",入力シート!G697)","v":""},{"$f":"IF(入力シート!H697=\"\",\"\",入力シート!H697)","v":""},{"$f":"IF(入力シート!I697=\"\",\"\",入力シート!I697)","v":""},{"$f":"IF(入力シート!J697=\"\",\"\",入力シート!J697)","v":""},{"$f":"IF(入力シート!K697=\"\",\"\",入力シート!K697)","v":""},{"$f":"IF(入力シート!L697=\"\",\"\",入力シート!L697)","v":""},{"$f":"IF(入力シート!M697=\"\",\"\",入力シート!M697)","v":""},{"$f":"IF(入力シート!N697=\"\",\"\",入力シート!P697)","v":""}]
[{"$f":"IF(入力シート!A698=\"\",\"\",入力シート!A698)","v":""},{"$f":"IF(入力シート!B698=\"\",\"\",入力シート!B698)","v":""},{"$f":"IF(入力シート!C698=\"\",\"\",TEXT(入力シート!C698,\"yyyy-mm-dd\"))","v":""},{"$f":"IF(入力シート!O698=\"\",\"\",TEXT(入力シート!O698,\"000-0000\"))","v":""},{"$f":"IF(入力シート!F698=\"\",\"\",入力シート!F698)","v":""},{"$f":"IF(入力シート!G698=\"\",\"\",入力シート!G698)","v":""},{"$f":"IF(入力シート!H698=\"\",\"\",入力シート!H698)","v":""},{"$f":"IF(入力シート!I698=\"\",\"\",入力シート!I698)","v":""},{"$f":"IF(入力シート!J698=\"\",\"\",入力シート!J698)","v":""},{"$f":"IF(入力シート!K698=\"\",\"\",入力シート!K698)","v":""},{"$f":"IF(入力シート!L698=\"\",\"\",入力シート!L698)","v":""},{"$f":"IF(入力シート!M698=\"\",\"\",入力シート!M698)","v":""},{"$f":"IF(入力シート!N698=\"\",\"\",入力シート!P698)","v":""}]
[{"$f":"IF(入力シート!A699=\"\",\"\",入力シート!A699)","v":""},{"$f":"IF(入力シート!B699=\"\",\"\",入力シート!B699)","v":""},{"$f":"IF(入力シート!C699=\"\",\"\",TEXT(入力シート!C699,\"yyyy-mm-dd\"))","v":""},{"$f":"IF(入力シート!O699=\"\",\"\",TEXT(入力シート!O699,\"000-0000\"))","v":""},{"$f":"IF(入力シート!F699=\"\",\"\",入力シート!F699)","v":""},{"$f":"IF(入力シート!G699=\"\",\"\",入力シート!G699)","v":""},{"$f":"IF(入力シート!H699=\"\",\"\",入力シート!H699)","v":""},{"$f":"IF(入力シート!I699=\"\",\"\",入力シート!I699)","v":""},{"$f":"IF(入力シート!J699=\"\",\"\",入力シート!J699)","v":""},{"$f":"IF(入力シート!K699=\"\",\"\",入力シート!K699)","v":""},{"$f":"IF(入力シート!L699=\"\",\"\",入力シート!L699)","v":""},{"$f":"IF(入力シート!M699=\"\",\"\",入力シート!M699)","v":""},{"$f":"IF(入力シート!N699=\"\",\"\",入力シート!P699)","v":""}]
[{"$f":"IF(入力シート!A700=\"\",\"\",入力シート!A700)","v":""},{"$f":"IF(入力シート!B700=\"\",\"\",入力シート!B700)","v":""},{"$f":"IF(入力シート!C700=\"\",\"\",TEXT(入力シート!C700,\"yyyy-mm-dd\"))","v":""},{"$f":"IF(入力シート!O700=\"\",\"\",TEXT(入力シート!O700,\"000-0000\"))","v":""},{"$f":"IF(入力シート!F700=\"\",\"\",入力シート!F700)","v":""},{"$f":"IF(入力シート!G700=\"\",\"\",入力シート!G700)","v":""},{"$f":"IF(入力シート!H700=\"\",\"\",入力シート!H700)","v":""},{"$f":"IF(入力シート!I700=\"\",\"\",入力シート!I700)","v":""},{"$f":"IF(入力シート!J700=\"\",\"\",入力シート!J700)","v":""},{"$f":"IF(入力シート!K700=\"\",\"\",入力シート!K700)","v":""},{"$f":"IF(入力シート!L700=\"\",\"\",入力シート!L700)","v":""},{"$f":"IF(入力シート!M700=\"\",\"\",入力シート!M700)","v":""},{"$f":"IF(入力シート!N700=\"\",\"\",入力シート!P700)","v":""}]
[{"$f":"IF(入力シート!A701=\"\",\"\",入力シート!A701)","v":""},{"$f":"IF(入力シート!B701=\"\",\"\",入力シート!B701)","v":""},{"$f":"IF(入力シート!C701=\"\",\"\",TEXT(入力シート!C701,\"yyyy-mm-dd\"))","v":""},{"$f":"IF(入力シート!O701=\"\",\"\",TEXT(入力シート!O701,\"000-0000\"))","v":""},{"$f":"IF(入力シート!F701=\"\",\"\",入力シート!F701)","v":""},{"$f":"IF(入力シート!G701=\"\",\"\",入力シート!G701)","v":""},{"$f":"IF(入力シート!H701=\"\",\"\",入力シート!H701)","v":""},{"$f":"IF(入力シート!I701=\"\",\"\",入力シート!I701)","v":""},{"$f":"IF(入力シート!J701=\"\",\"\",入力シート!J701)","v":""},{"$f":"IF(入力シート!K701=\"\",\"\",入力シート!K701)","v":""},{"$f":"IF(入力シート!L701=\"\",\"\",入力シート!L701)","v":""},{"$f":"IF(入力シート!M701=\"\",\"\",入力シート!M701)","v":""},{"$f":"IF(入力シート!N701=\"\",\"\",入力シート!P701)","v":""}]
[{"$f":"IF(入力シート!A702=\"\",\"\",入力シート!A702)","v":""},{"$f":"IF(入力シート!B702=\"\",\"\",入力シート!B702)","v":""},{"$f":"IF(入力シート!C702=\"\",\"\",TEXT(入力シート!C702,\"yyyy-mm-dd\"))","v":""},{"$f":"IF(入力シート!O702=\"\",\"\",TEXT(入力シート!O702,\"000-0000\"))","v":""},{"$f":"IF(入力シート!F702=\"\",\"\",入力シート!F702)","v":""},{"$f":"IF(入力シート!G702=\"\",\"\",入力シート!G702)","v":""},{"$f":"IF(入力シート!H702=\"\",\"\",入力シート!H702)","v":""},{"$f":"IF(入力シート!I702=\"\",\"\",入力シート!I702)","v":""},{"$f":"IF(入力シート!J702=\"\",\"\",入力シート!J702)","v":""},{"$f":"IF(入力シート!K702=\"\",\"\",入力シート!K702)","v":""},{"$f":"IF(入力シート!L702=\"\",\"\",入力シート!L702)","v":""},{"$f":"IF(入力シート!M702=\"\",\"\",入力シート!M702)","v":""},{"$f":"IF(入力シート!N702=\"\",\"\",入力シート!P702)","v":""}]
[{"$f":"IF(入力シート!A703=\"\",\"\",入力シート!A703)","v":""},{"$f":"IF(入力シート!B703=\"\",\"\",入力シート!B703)","v":""},{"$f":"IF(入力シート!C703=\"\",\"\",TEXT(入力シート!C703,\"yyyy-mm-dd\"))","v":""},{"$f":"IF(入力シート!O703=\"\",\"\",TEXT(入力シート!O703,\"000-0000\"))","v":""},{"$f":"IF(入力シート!F703=\"\",\"\",入力シート!F703)","v":""},{"$f":"IF(入力シート!G703=\"\",\"\",入力シート!G703)","v":""},{"$f":"IF(入力シート!H703=\"\",\"\",入力シート!H703)","v":""},{"$f":"IF(入力シート!I703=\"\",\"\",入力シート!I703)","v":""},{"$f":"IF(入力シート!J703=\"\",\"\",入力シート!J703)","v":""},{"$f":"IF(入力シート!K703=\"\",\"\",入力シート!K703)","v":""},{"$f":"IF(入力シート!L703=\"\",\"\",入力シート!L703)","v":""},{"$f":"IF(入力シート!M703=\"\",\"\",入力シート!M703)","v":""},{"$f":"IF(入力シート!N703=\"\",\"\",入力シート!P703)","v":""}]
[{"$f":"IF(入力シート!A704=\"\",\"\",入力シート!A704)","v":""},{"$f":"IF(入力シート!B704=\"\",\"\",入力シート!B704)","v":""},{"$f":"IF(入力シート!C704=\"\",\"\",TEXT(入力シート!C704,\"yyyy-mm-dd\"))","v":""},{"$f":"IF(入力シート!O704=\"\",\"\",TEXT(入力シート!O704,\"000-0000\"))","v":""},{"$f":"IF(入力シート!F704=\"\",\"\",入力シート!F704)","v":""},{"$f":"IF(入力シート!G704=\"\",\"\",入力シート!G704)","v":""},{"$f":"IF(入力シート!H704=\"\",\"\",入力シート!H704)","v":""},{"$f":"IF(入力シート!I704=\"\",\"\",入力シート!I704)","v":""},{"$f":"IF(入力シート!J704=\"\",\"\",入力シート!J704)","v":""},{"$f":"IF(入力シート!K704=\"\",\"\",入力シート!K704)","v":""},{"$f":"IF(入力シート!L704=\"\",\"\",入力シート!L704)","v":""},{"$f":"IF(入力シート!M704=\"\",\"\",入力シート!M704)","v":""},{"$f":"IF(入力シート!N704=\"\",\"\",入力シート!P704)","v":""}]
[{"$f":"IF(入力シート!A705=\"\",\"\",入力シート!A705)","v":""},{"$f":"IF(入力シート!B705=\"\",\"\",入力シート!B705)","v":""},{"$f":"IF(入力シート!C705=\"\",\"\",TEXT(入力シート!C705,\"yyyy-mm-dd\"))","v":""},{"$f":"IF(入力シート!O705=\"\",\"\",TEXT(入力シート!O705,\"000-0000\"))","v":""},{"$f":"IF(入力シート!F705=\"\",\"\",入力シート!F705)","v":""},{"$f":"IF(入力シート!G705=\"\",\"\",入力シート!G705)","v":""},{"$f":"IF(入力シート!H705=\"\",\"\",入力シート!H705)","v":""},{"$f":"IF(入力シート!I705=\"\",\"\",入力シート!I705)","v":""},{"$f":"IF(入力シート!J705=\"\",\"\",入力シート!J705)","v":""},{"$f":"IF(入力シート!K705=\"\",\"\",入力シート!K705)","v":""},{"$f":"IF(入力シート!L705=\"\",\"\",入力シート!L705)","v":""},{"$f":"IF(入力シート!M705=\"\",\"\",入力シート!M705)","v":""},{"$f":"IF(入力シート!N705=\"\",\"\",入力シート!P705)","v":""}]
[{"$f":"IF(入力シート!A706=\"\",\"\",入力シート!A706)","v":""},{"$f":"IF(入力シート!B706=\"\",\"\",入力シート!B706)","v":""},{"$f":"IF(入力シート!C706=\"\",\"\",TEXT(入力シート!C706,\"yyyy-mm-dd\"))","v":""},{"$f":"IF(入力シート!O706=\"\",\"\",TEXT(入力シート!O706,\"000-0000\"))","v":""},{"$f":"IF(入力シート!F706=\"\",\"\",入力シート!F706)","v":""},{"$f":"IF(入力シート!G706=\"\",\"\",入力シート!G706)","v":""},{"$f":"IF(入力シート!H706=\"\",\"\",入力シート!H706)","v":""},{"$f":"IF(入力シート!I706=\"\",\"\",入力シート!I706)","v":""},{"$f":"IF(入力シート!J706=\"\",\"\",入力シート!J706)","v":""},{"$f":"IF(入力シート!K706=\"\",\"\",入力シート!K706)","v":""},{"$f":"IF(入力シート!L706=\"\",\"\",入力シート!L706)","v":""},{"$f":"IF(入力シート!M706=\"\",\"\",入力シート!M706)","v":""},{"$f":"IF(入力シート!N706=\"\",\"\",入力シート!P706)","v":""}]
[{"$f":"IF(入力シート!A707=\"\",\"\",入力シート!A707)","v":""},{"$f":"IF(入力シート!B707=\"\",\"\",入力シート!B707)","v":""},{"$f":"IF(入力シート!C707=\"\",\"\",TEXT(入力シート!C707,\"yyyy-mm-dd\"))","v":""},{"$f":"IF(入力シート!O707=\"\",\"\",TEXT(入力シート!O707,\"000-0000\"))","v":""},{"$f":"IF(入力シート!F707=\"\",\"\",入力シート!F707)","v":""},{"$f":"IF(入力シート!G707=\"\",\"\",入力シート!G707)","v":""},{"$f":"IF(入力シート!H707=\"\",\"\",入力シート!H707)","v":""},{"$f":"IF(入力シート!I707=\"\",\"\",入力シート!I707)","v":""},{"$f":"IF(入力シート!J707=\"\",\"\",入力シート!J707)","v":""},{"$f":"IF(入力シート!K707=\"\",\"\",入力シート!K707)","v":""},{"$f":"IF(入力シート!L707=\"\",\"\",入力シート!L707)","v":""},{"$f":"IF(入力シート!M707=\"\",\"\",入力シート!M707)","v":""},{"$f":"IF(入力シート!N707=\"\",\"\",入力シート!P707)","v":""}]
[{"$f":"IF(入力シート!A708=\"\",\"\",入力シート!A708)","v":""},{"$f":"IF(入力シート!B708=\"\",\"\",入力シート!B708)","v":""},{"$f":"IF(入力シート!C708=\"\",\"\",TEXT(入力シート!C708,\"yyyy-mm-dd\"))","v":""},{"$f":"IF(入力シート!O708=\"\",\"\",TEXT(入力シート!O708,\"000-0000\"))","v":""},{"$f":"IF(入力シート!F708=\"\",\"\",入力シート!F708)","v":""},{"$f":"IF(入力シート!G708=\"\",\"\",入力シート!G708)","v":""},{"$f":"IF(入力シート!H708=\"\",\"\",入力シート!H708)","v":""},{"$f":"IF(入力シート!I708=\"\",\"\",入力シート!I708)","v":""},{"$f":"IF(入力シート!J708=\"\",\"\",入力シート!J708)","v":""},{"$f":"IF(入力シート!K708=\"\",\"\",入力シート!K708)","v":""},{"$f":"IF(入力シート!L708=\"\",\"\",入力シート!L708)","v":""},{"$f":"IF(入力シート!M708=\"\",\"\",入力シート!M708)","v":""},{"$f":"IF(入力シート!N708=\"\",\"\",入力シート!P708)","v":""}]
[{"$f":"IF(入力シート!A709=\"\",\"\",入力シート!A709)","v":""},{"$f":"IF(入力シート!B709=\"\",\"\",入力シート!B709)","v":""},{"$f":"IF(入力シート!C709=\"\",\"\",TEXT(入力シート!C709,\"yyyy-mm-dd\"))","v":""},{"$f":"IF(入力シート!O709=\"\",\"\",TEXT(入力シート!O709,\"000-0000\"))","v":""},{"$f":"IF(入力シート!F709=\"\",\"\",入力シート!F709)","v":""},{"$f":"IF(入力シート!G709=\"\",\"\",入力シート!G709)","v":""},{"$f":"IF(入力シート!H709=\"\",\"\",入力シート!H709)","v":""},{"$f":"IF(入力シート!I709=\"\",\"\",入力シート!I709)","v":""},{"$f":"IF(入力シート!J709=\"\",\"\",入力シート!J709)","v":""},{"$f":"IF(入力シート!K709=\"\",\"\",入力シート!K709)","v":""},{"$f":"IF(入力シート!L709=\"\",\"\",入力シート!L709)","v":""},{"$f":"IF(入力シート!M709=\"\",\"\",入力シート!M709)","v":""},{"$f":"IF(入力シート!N709=\"\",\"\",入力シート!P709)","v":""}]
[{"$f":"IF(入力シート!A710=\"\",\"\",入力シート!A710)","v":""},{"$f":"IF(入力シート!B710=\"\",\"\",入力シート!B710)","v":""},{"$f":"IF(入力シート!C710=\"\",\"\",TEXT(入力シート!C710,\"yyyy-mm-dd\"))","v":""},{"$f":"IF(入力シート!O710=\"\",\"\",TEXT(入力シート!O710,\"000-0000\"))","v":""},{"$f":"IF(入力シート!F710=\"\",\"\",入力シート!F710)","v":""},{"$f":"IF(入力シート!G710=\"\",\"\",入力シート!G710)","v":""},{"$f":"IF(入力シート!H710=\"\",\"\",入力シート!H710)","v":""},{"$f":"IF(入力シート!I710=\"\",\"\",入力シート!I710)","v":""},{"$f":"IF(入力シート!J710=\"\",\"\",入力シート!J710)","v":""},{"$f":"IF(入力シート!K710=\"\",\"\",入力シート!K710)","v":""},{"$f":"IF(入力シート!L710=\"\",\"\",入力シート!L710)","v":""},{"$f":"IF(入力シート!M710=\"\",\"\",入力シート!M710)","v":""},{"$f":"IF(入力シート!N710=\"\",\"\",入力シート!P710)","v":""}]
[{"$f":"IF(入力シート!A711=\"\",\"\",入力シート!A711)","v":""},{"$f":"IF(入力シート!B711=\"\",\"\",入力シート!B711)","v":""},{"$f":"IF(入力シート!C711=\"\",\"\",TEXT(入力シート!C711,\"yyyy-mm-dd\"))","v":""},{"$f":"IF(入力シート!O711=\"\",\"\",TEXT(入力シート!O711,\"000-0000\"))","v":""},{"$f":"IF(入力シート!F711=\"\",\"\",入力シート!F711)","v":""},{"$f":"IF(入力シート!G711=\"\",\"\",入力シート!G711)","v":""},{"$f":"IF(入力シート!H711=\"\",\"\",入力シート!H711)","v":""},{"$f":"IF(入力シート!I711=\"\",\"\",入力シート!I711)","v":""},{"$f":"IF(入力シート!J711=\"\",\"\",入力シート!J711)","v":""},{"$f":"IF(入力シート!K711=\"\",\"\",入力シート!K711)","v":""},{"$f":"IF(入力シート!L711=\"\",\"\",入力シート!L711)","v":""},{"$f":"IF(入力シート!M711=\"\",\"\",入力シート!M711)","v":""},{"$f":"IF(入力シート!N711=\"\",\"\",入力シート!P711)","v":""}]
[{"$f":"IF(入力シート!A712=\"\",\"\",入力シート!A712)","v":""},{"$f":"IF(入力シート!B712=\"\",\"\",入力シート!B712)","v":""},{"$f":"IF(入力シート!C712=\"\",\"\",TEXT(入力シート!C712,\"yyyy-mm-dd\"))","v":""},{"$f":"IF(入力シート!O712=\"\",\"\",TEXT(入力シート!O712,\"000-0000\"))","v":""},{"$f":"IF(入力シート!F712=\"\",\"\",入力シート!F712)","v":""},{"$f":"IF(入力シート!G712=\"\",\"\",入力シート!G712)","v":""},{"$f":"IF(入力シート!H712=\"\",\"\",入力シート!H712)","v":""},{"$f":"IF(入力シート!I712=\"\",\"\",入力シート!I712)","v":""},{"$f":"IF(入力シート!J712=\"\",\"\",入力シート!J712)","v":""},{"$f":"IF(入力シート!K712=\"\",\"\",入力シート!K712)","v":""},{"$f":"IF(入力シート!L712=\"\",\"\",入力シート!L712)","v":""},{"$f":"IF(入力シート!M712=\"\",\"\",入力シート!M712)","v":""},{"$f":"IF(入力シート!N712=\"\",\"\",入力シート!P712)","v":""}]
[{"$f":"IF(入力シート!A713=\"\",\"\",入力シート!A713)","v":""},{"$f":"IF(入力シート!B713=\"\",\"\",入力シート!B713)","v":""},{"$f":"IF(入力シート!C713=\"\",\"\",TEXT(入力シート!C713,\"yyyy-mm-dd\"))","v":""},{"$f":"IF(入力シート!O713=\"\",\"\",TEXT(入力シート!O713,\"000-0000\"))","v":""},{"$f":"IF(入力シート!F713=\"\",\"\",入力シート!F713)","v":""},{"$f":"IF(入力シート!G713=\"\",\"\",入力シート!G713)","v":""},{"$f":"IF(入力シート!H713=\"\",\"\",入力シート!H713)","v":""},{"$f":"IF(入力シート!I713=\"\",\"\",入力シート!I713)","v":""},{"$f":"IF(入力シート!J713=\"\",\"\",入力シート!J713)","v":""},{"$f":"IF(入力シート!K713=\"\",\"\",入力シート!K713)","v":""},{"$f":"IF(入力シート!L713=\"\",\"\",入力シート!L713)","v":""},{"$f":"IF(入力シート!M713=\"\",\"\",入力シート!M713)","v":""},{"$f":"IF(入力シート!N713=\"\",\"\",入力シート!P713)","v":""}]
[{"$f":"IF(入力シート!A714=\"\",\"\",入力シート!A714)","v":""},{"$f":"IF(入力シート!B714=\"\",\"\",入力シート!B714)","v":""},{"$f":"IF(入力シート!C714=\"\",\"\",TEXT(入力シート!C714,\"yyyy-mm-dd\"))","v":""},{"$f":"IF(入力シート!O714=\"\",\"\",TEXT(入力シート!O714,\"000-0000\"))","v":""},{"$f":"IF(入力シート!F714=\"\",\"\",入力シート!F714)","v":""},{"$f":"IF(入力シート!G714=\"\",\"\",入力シート!G714)","v":""},{"$f":"IF(入力シート!H714=\"\",\"\",入力シート!H714)","v":""},{"$f":"IF(入力シート!I714=\"\",\"\",入力シート!I714)","v":""},{"$f":"IF(入力シート!J714=\"\",\"\",入力シート!J714)","v":""},{"$f":"IF(入力シート!K714=\"\",\"\",入力シート!K714)","v":""},{"$f":"IF(入力シート!L714=\"\",\"\",入力シート!L714)","v":""},{"$f":"IF(入力シート!M714=\"\",\"\",入力シート!M714)","v":""},{"$f":"IF(入力シート!N714=\"\",\"\",入力シート!P714)","v":""}]
[{"$f":"IF(入力シート!A715=\"\",\"\",入力シート!A715)","v":""},{"$f":"IF(入力シート!B715=\"\",\"\",入力シート!B715)","v":""},{"$f":"IF(入力シート!C715=\"\",\"\",TEXT(入力シート!C715,\"yyyy-mm-dd\"))","v":""},{"$f":"IF(入力シート!O715=\"\",\"\",TEXT(入力シート!O715,\"000-0000\"))","v":""},{"$f":"IF(入力シート!F715=\"\",\"\",入力シート!F715)","v":""},{"$f":"IF(入力シート!G715=\"\",\"\",入力シート!G715)","v":""},{"$f":"IF(入力シート!H715=\"\",\"\",入力シート!H715)","v":""},{"$f":"IF(入力シート!I715=\"\",\"\",入力シート!I715)","v":""},{"$f":"IF(入力シート!J715=\"\",\"\",入力シート!J715)","v":""},{"$f":"IF(入力シート!K715=\"\",\"\",入力シート!K715)","v":""},{"$f":"IF(入力シート!L715=\"\",\"\",入力シート!L715)","v":""},{"$f":"IF(入力シート!M715=\"\",\"\",入力シート!M715)","v":""},{"$f":"IF(入力シート!N715=\"\",\"\",入力シート!P715)","v":""}]
[{"$f":"IF(入力シート!A716=\"\",\"\",入力シート!A716)","v":""},{"$f":"IF(入力シート!B716=\"\",\"\",入力シート!B716)","v":""},{"$f":"IF(入力シート!C716=\"\",\"\",TEXT(入力シート!C716,\"yyyy-mm-dd\"))","v":""},{"$f":"IF(入力シート!O716=\"\",\"\",TEXT(入力シート!O716,\"000-0000\"))","v":""},{"$f":"IF(入力シート!F716=\"\",\"\",入力シート!F716)","v":""},{"$f":"IF(入力シート!G716=\"\",\"\",入力シート!G716)","v":""},{"$f":"IF(入力シート!H716=\"\",\"\",入力シート!H716)","v":""},{"$f":"IF(入力シート!I716=\"\",\"\",入力シート!I716)","v":""},{"$f":"IF(入力シート!J716=\"\",\"\",入力シート!J716)","v":""},{"$f":"IF(入力シート!K716=\"\",\"\",入力シート!K716)","v":""},{"$f":"IF(入力シート!L716=\"\",\"\",入力シート!L716)","v":""},{"$f":"IF(入力シート!M716=\"\",\"\",入力シート!M716)","v":""},{"$f":"IF(入力シート!N716=\"\",\"\",入力シート!P716)","v":""}]
[{"$f":"IF(入力シート!A717=\"\",\"\",入力シート!A717)","v":""},{"$f":"IF(入力シート!B717=\"\",\"\",入力シート!B717)","v":""},{"$f":"IF(入力シート!C717=\"\",\"\",TEXT(入力シート!C717,\"yyyy-mm-dd\"))","v":""},{"$f":"IF(入力シート!O717=\"\",\"\",TEXT(入力シート!O717,\"000-0000\"))","v":""},{"$f":"IF(入力シート!F717=\"\",\"\",入力シート!F717)","v":""},{"$f":"IF(入力シート!G717=\"\",\"\",入力シート!G717)","v":""},{"$f":"IF(入力シート!H717=\"\",\"\",入力シート!H717)","v":""},{"$f":"IF(入力シート!I717=\"\",\"\",入力シート!I717)","v":""},{"$f":"IF(入力シート!J717=\"\",\"\",入力シート!J717)","v":""},{"$f":"IF(入力シート!K717=\"\",\"\",入力シート!K717)","v":""},{"$f":"IF(入力シート!L717=\"\",\"\",入力シート!L717)","v":""},{"$f":"IF(入力シート!M717=\"\",\"\",入力シート!M717)","v":""},{"$f":"IF(入力シート!N717=\"\",\"\",入力シート!P717)","v":""}]
[{"$f":"IF(入力シート!A718=\"\",\"\",入力シート!A718)","v":""},{"$f":"IF(入力シート!B718=\"\",\"\",入力シート!B718)","v":""},{"$f":"IF(入力シート!C718=\"\",\"\",TEXT(入力シート!C718,\"yyyy-mm-dd\"))","v":""},{"$f":"IF(入力シート!O718=\"\",\"\",TEXT(入力シート!O718,\"000-0000\"))","v":""},{"$f":"IF(入力シート!F718=\"\",\"\",入力シート!F718)","v":""},{"$f":"IF(入力シート!G718=\"\",\"\",入力シート!G718)","v":""},{"$f":"IF(入力シート!H718=\"\",\"\",入力シート!H718)","v":""},{"$f":"IF(入力シート!I718=\"\",\"\",入力シート!I718)","v":""},{"$f":"IF(入力シート!J718=\"\",\"\",入力シート!J718)","v":""},{"$f":"IF(入力シート!K718=\"\",\"\",入力シート!K718)","v":""},{"$f":"IF(入力シート!L718=\"\",\"\",入力シート!L718)","v":""},{"$f":"IF(入力シート!M718=\"\",\"\",入力シート!M718)","v":""},{"$f":"IF(入力シート!N718=\"\",\"\",入力シート!P718)","v":""}]
[{"$f":"IF(入力シート!A719=\"\",\"\",入力シート!A719)","v":""},{"$f":"IF(入力シート!B719=\"\",\"\",入力シート!B719)","v":""},{"$f":"IF(入力シート!C719=\"\",\"\",TEXT(入力シート!C719,\"yyyy-mm-dd\"))","v":""},{"$f":"IF(入力シート!O719=\"\",\"\",TEXT(入力シート!O719,\"000-0000\"))","v":""},{"$f":"IF(入力シート!F719=\"\",\"\",入力シート!F719)","v":""},{"$f":"IF(入力シート!G719=\"\",\"\",入力シート!G719)","v":""},{"$f":"IF(入力シート!H719=\"\",\"\",入力シート!H719)","v":""},{"$f":"IF(入力シート!I719=\"\",\"\",入力シート!I719)","v":""},{"$f":"IF(入力シート!J719=\"\",\"\",入力シート!J719)","v":""},{"$f":"IF(入力シート!K719=\"\",\"\",入力シート!K719)","v":""},{"$f":"IF(入力シート!L719=\"\",\"\",入力シート!L719)","v":""},{"$f":"IF(入力シート!M719=\"\",\"\",入力シート!M719)","v":""},{"$f":"IF(入力シート!N719=\"\",\"\",入力シート!P719)","v":""}]
[{"$f":"IF(入力シート!A720=\"\",\"\",入力シート!A720)","v":""},{"$f":"IF(入力シート!B720=\"\",\"\",入力シート!B720)","v":""},{"$f":"IF(入力シート!C720=\"\",\"\",TEXT(入力シート!C720,\"yyyy-mm-dd\"))","v":""},{"$f":"IF(入力シート!O720=\"\",\"\",TEXT(入力シート!O720,\"000-0000\"))","v":""},{"$f":"IF(入力シート!F720=\"\",\"\",入力シート!F720)","v":""},{"$f":"IF(入力シート!G720=\"\",\"\",入力シート!G720)","v":""},{"$f":"IF(入力シート!H720=\"\",\"\",入力シート!H720)","v":""},{"$f":"IF(入力シート!I720=\"\",\"\",入力シート!I720)","v":""},{"$f":"IF(入力シート!J720=\"\",\"\",入力シート!J720)","v":""},{"$f":"IF(入力シート!K720=\"\",\"\",入力シート!K720)","v":""},{"$f":"IF(入力シート!L720=\"\",\"\",入力シート!L720)","v":""},{"$f":"IF(入力シート!M720=\"\",\"\",入力シート!M720)","v":""},{"$f":"IF(入力シート!N720=\"\",\"\",入力シート!P720)","v":""}]
[{"$f":"IF(入力シート!A721=\"\",\"\",入力シート!A721)","v":""},{"$f":"IF(入力シート!B721=\"\",\"\",入力シート!B721)","v":""},{"$f":"IF(入力シート!C721=\"\",\"\",TEXT(入力シート!C721,\"yyyy-mm-dd\"))","v":""},{"$f":"IF(入力シート!O721=\"\",\"\",TEXT(入力シート!O721,\"000-0000\"))","v":""},{"$f":"IF(入力シート!F721=\"\",\"\",入力シート!F721)","v":""},{"$f":"IF(入力シート!G721=\"\",\"\",入力シート!G721)","v":""},{"$f":"IF(入力シート!H721=\"\",\"\",入力シート!H721)","v":""},{"$f":"IF(入力シート!I721=\"\",\"\",入力シート!I721)","v":""},{"$f":"IF(入力シート!J721=\"\",\"\",入力シート!J721)","v":""},{"$f":"IF(入力シート!K721=\"\",\"\",入力シート!K721)","v":""},{"$f":"IF(入力シート!L721=\"\",\"\",入力シート!L721)","v":""},{"$f":"IF(入力シート!M721=\"\",\"\",入力シート!M721)","v":""},{"$f":"IF(入力シート!N721=\"\",\"\",入力シート!P721)","v":""}]
[{"$f":"IF(入力シート!A722=\"\",\"\",入力シート!A722)","v":""},{"$f":"IF(入力シート!B722=\"\",\"\",入力シート!B722)","v":""},{"$f":"IF(入力シート!C722=\"\",\"\",TEXT(入力シート!C722,\"yyyy-mm-dd\"))","v":""},{"$f":"IF(入力シート!O722=\"\",\"\",TEXT(入力シート!O722,\"000-0000\"))","v":""},{"$f":"IF(入力シート!F722=\"\",\"\",入力シート!F722)","v":""},{"$f":"IF(入力シート!G722=\"\",\"\",入力シート!G722)","v":""},{"$f":"IF(入力シート!H722=\"\",\"\",入力シート!H722)","v":""},{"$f":"IF(入力シート!I722=\"\",\"\",入力シート!I722)","v":""},{"$f":"IF(入力シート!J722=\"\",\"\",入力シート!J722)","v":""},{"$f":"IF(入力シート!K722=\"\",\"\",入力シート!K722)","v":""},{"$f":"IF(入力シート!L722=\"\",\"\",入力シート!L722)","v":""},{"$f":"IF(入力シート!M722=\"\",\"\",入力シート!M722)","v":""},{"$f":"IF(入力シート!N722=\"\",\"\",入力シート!P722)","v":""}]
[{"$f":"IF(入力シート!A723=\"\",\"\",入力シート!A723)","v":""},{"$f":"IF(入力シート!B723=\"\",\"\",入力シート!B723)","v":""},{"$f":"IF(入力シート!C723=\"\",\"\",TEXT(入力シート!C723,\"yyyy-mm-dd\"))","v":""},{"$f":"IF(入力シート!O723=\"\",\"\",TEXT(入力シート!O723,\"000-0000\"))","v":""},{"$f":"IF(入力シート!F723=\"\",\"\",入力シート!F723)","v":""},{"$f":"IF(入力シート!G723=\"\",\"\",入力シート!G723)","v":""},{"$f":"IF(入力シート!H723=\"\",\"\",入力シート!H723)","v":""},{"$f":"IF(入力シート!I723=\"\",\"\",入力シート!I723)","v":""},{"$f":"IF(入力シート!J723=\"\",\"\",入力シート!J723)","v":""},{"$f":"IF(入力シート!K723=\"\",\"\",入力シート!K723)","v":""},{"$f":"IF(入力シート!L723=\"\",\"\",入力シート!L723)","v":""},{"$f":"IF(入力シート!M723=\"\",\"\",入力シート!M723)","v":""},{"$f":"IF(入力シート!N723=\"\",\"\",入力シート!P723)","v":""}]
[{"$f":"IF(入力シート!A724=\"\",\"\",入力シート!A724)","v":""},{"$f":"IF(入力シート!B724=\"\",\"\",入力シート!B724)","v":""},{"$f":"IF(入力シート!C724=\"\",\"\",TEXT(入力シート!C724,\"yyyy-mm-dd\"))","v":""},{"$f":"IF(入力シート!O724=\"\",\"\",TEXT(入力シート!O724,\"000-0000\"))","v":""},{"$f":"IF(入力シート!F724=\"\",\"\",入力シート!F724)","v":""},{"$f":"IF(入力シート!G724=\"\",\"\",入力シート!G724)","v":""},{"$f":"IF(入力シート!H724=\"\",\"\",入力シート!H724)","v":""},{"$f":"IF(入力シート!I724=\"\",\"\",入力シート!I724)","v":""},{"$f":"IF(入力シート!J724=\"\",\"\",入力シート!J724)","v":""},{"$f":"IF(入力シート!K724=\"\",\"\",入力シート!K724)","v":""},{"$f":"IF(入力シート!L724=\"\",\"\",入力シート!L724)","v":""},{"$f":"IF(入力シート!M724=\"\",\"\",入力シート!M724)","v":""},{"$f":"IF(入力シート!N724=\"\",\"\",入力シート!P724)","v":""}]
[{"$f":"IF(入力シート!A725=\"\",\"\",入力シート!A725)","v":""},{"$f":"IF(入力シート!B725=\"\",\"\",入力シート!B725)","v":""},{"$f":"IF(入力シート!C725=\"\",\"\",TEXT(入力シート!C725,\"yyyy-mm-dd\"))","v":""},{"$f":"IF(入力シート!O725=\"\",\"\",TEXT(入力シート!O725,\"000-0000\"))","v":""},{"$f":"IF(入力シート!F725=\"\",\"\",入力シート!F725)","v":""},{"$f":"IF(入力シート!G725=\"\",\"\",入力シート!G725)","v":""},{"$f":"IF(入力シート!H725=\"\",\"\",入力シート!H725)","v":""},{"$f":"IF(入力シート!I725=\"\",\"\",入力シート!I725)","v":""},{"$f":"IF(入力シート!J725=\"\",\"\",入力シート!J725)","v":""},{"$f":"IF(入力シート!K725=\"\",\"\",入力シート!K725)","v":""},{"$f":"IF(入力シート!L725=\"\",\"\",入力シート!L725)","v":""},{"$f":"IF(入力シート!M725=\"\",\"\",入力シート!M725)","v":""},{"$f":"IF(入力シート!N725=\"\",\"\",入力シート!P725)","v":""}]
[{"$f":"IF(入力シート!A726=\"\",\"\",入力シート!A726)","v":""},{"$f":"IF(入力シート!B726=\"\",\"\",入力シート!B726)","v":""},{"$f":"IF(入力シート!C726=\"\",\"\",TEXT(入力シート!C726,\"yyyy-mm-dd\"))","v":""},{"$f":"IF(入力シート!O726=\"\",\"\",TEXT(入力シート!O726,\"000-0000\"))","v":""},{"$f":"IF(入力シート!F726=\"\",\"\",入力シート!F726)","v":""},{"$f":"IF(入力シート!G726=\"\",\"\",入力シート!G726)","v":""},{"$f":"IF(入力シート!H726=\"\",\"\",入力シート!H726)","v":""},{"$f":"IF(入力シート!I726=\"\",\"\",入力シート!I726)","v":""},{"$f":"IF(入力シート!J726=\"\",\"\",入力シート!J726)","v":""},{"$f":"IF(入力シート!K726=\"\",\"\",入力シート!K726)","v":""},{"$f":"IF(入力シート!L726=\"\",\"\",入力シート!L726)","v":""},{"$f":"IF(入力シート!M726=\"\",\"\",入力シート!M726)","v":""},{"$f":"IF(入力シート!N726=\"\",\"\",入力シート!P726)","v":""}]
[{"$f":"IF(入力シート!A727=\"\",\"\",入力シート!A727)","v":""},{"$f":"IF(入力シート!B727=\"\",\"\",入力シート!B727)","v":""},{"$f":"IF(入力シート!C727=\"\",\"\",TEXT(入力シート!C727,\"yyyy-mm-dd\"))","v":""},{"$f":"IF(入力シート!O727=\"\",\"\",TEXT(入力シート!O727,\"000-0000\"))","v":""},{"$f":"IF(入力シート!F727=\"\",\"\",入力シート!F727)","v":""},{"$f":"IF(入力シート!G727=\"\",\"\",入力シート!G727)","v":""},{"$f":"IF(入力シート!H727=\"\",\"\",入力シート!H727)","v":""},{"$f":"IF(入力シート!I727=\"\",\"\",入力シート!I727)","v":""},{"$f":"IF(入力シート!J727=\"\",\"\",入力シート!J727)","v":""},{"$f":"IF(入力シート!K727=\"\",\"\",入力シート!K727)","v":""},{"$f":"IF(入力シート!L727=\"\",\"\",入力シート!L727)","v":""},{"$f":"IF(入力シート!M727=\"\",\"\",入力シート!M727)","v":""},{"$f":"IF(入力シート!N727=\"\",\"\",入力シート!P727)","v":""}]
[{"$f":"IF(入力シート!A728=\"\",\"\",入力シート!A728)","v":""},{"$f":"IF(入力シート!B728=\"\",\"\",入力シート!B728)","v":""},{"$f":"IF(入力シート!C728=\"\",\"\",TEXT(入力シート!C728,\"yyyy-mm-dd\"))","v":""},{"$f":"IF(入力シート!O728=\"\",\"\",TEXT(入力シート!O728,\"000-0000\"))","v":""},{"$f":"IF(入力シート!F728=\"\",\"\",入力シート!F728)","v":""},{"$f":"IF(入力シート!G728=\"\",\"\",入力シート!G728)","v":""},{"$f":"IF(入力シート!H728=\"\",\"\",入力シート!H728)","v":""},{"$f":"IF(入力シート!I728=\"\",\"\",入力シート!I728)","v":""},{"$f":"IF(入力シート!J728=\"\",\"\",入力シート!J728)","v":""},{"$f":"IF(入力シート!K728=\"\",\"\",入力シート!K728)","v":""},{"$f":"IF(入力シート!L728=\"\",\"\",入力シート!L728)","v":""},{"$f":"IF(入力シート!M728=\"\",\"\",入力シート!M728)","v":""},{"$f":"IF(入力シート!N728=\"\",\"\",入力シート!P728)","v":""}]
[{"$f":"IF(入力シート!A729=\"\",\"\",入力シート!A729)","v":""},{"$f":"IF(入力シート!B729=\"\",\"\",入力シート!B729)","v":""},{"$f":"IF(入力シート!C729=\"\",\"\",TEXT(入力シート!C729,\"yyyy-mm-dd\"))","v":""},{"$f":"IF(入力シート!O729=\"\",\"\",TEXT(入力シート!O729,\"000-0000\"))","v":""},{"$f":"IF(入力シート!F729=\"\",\"\",入力シート!F729)","v":""},{"$f":"IF(入力シート!G729=\"\",\"\",入力シート!G729)","v":""},{"$f":"IF(入力シート!H729=\"\",\"\",入力シート!H729)","v":""},{"$f":"IF(入力シート!I729=\"\",\"\",入力シート!I729)","v":""},{"$f":"IF(入力シート!J729=\"\",\"\",入力シート!J729)","v":""},{"$f":"IF(入力シート!K729=\"\",\"\",入力シート!K729)","v":""},{"$f":"IF(入力シート!L729=\"\",\"\",入力シート!L729)","v":""},{"$f":"IF(入力シート!M729=\"\",\"\",入力シート!M729)","v":""},{"$f":"IF(入力シート!N729=\"\",\"\",入力シート!P729)","v":""}]
[{"$f":"IF(入力シート!A730=\"\",\"\",入力シート!A730)","v":""},{"$f":"IF(入力シート!B730=\"\",\"\",入力シート!B730)","v":""},{"$f":"IF(入力シート!C730=\"\",\"\",TEXT(入力シート!C730,\"yyyy-mm-dd\"))","v":""},{"$f":"IF(入力シート!O730=\"\",\"\",TEXT(入力シート!O730,\"000-0000\"))","v":""},{"$f":"IF(入力シート!F730=\"\",\"\",入力シート!F730)","v":""},{"$f":"IF(入力シート!G730=\"\",\"\",入力シート!G730)","v":""},{"$f":"IF(入力シート!H730=\"\",\"\",入力シート!H730)","v":""},{"$f":"IF(入力シート!I730=\"\",\"\",入力シート!I730)","v":""},{"$f":"IF(入力シート!J730=\"\",\"\",入力シート!J730)","v":""},{"$f":"IF(入力シート!K730=\"\",\"\",入力シート!K730)","v":""},{"$f":"IF(入力シート!L730=\"\",\"\",入力シート!L730)","v":""},{"$f":"IF(入力シート!M730=\"\",\"\",入力シート!M730)","v":""},{"$f":"IF(入力シート!N730=\"\",\"\",入力シート!P730)","v":""}]
[{"$f":"IF(入力シート!A731=\"\",\"\",入力シート!A731)","v":""},{"$f":"IF(入力シート!B731=\"\",\"\",入力シート!B731)","v":""},{"$f":"IF(入力シート!C731=\"\",\"\",TEXT(入力シート!C731,\"yyyy-mm-dd\"))","v":""},{"$f":"IF(入力シート!O731=\"\",\"\",TEXT(入力シート!O731,\"000-0000\"))","v":""},{"$f":"IF(入力シート!F731=\"\",\"\",入力シート!F731)","v":""},{"$f":"IF(入力シート!G731=\"\",\"\",入力シート!G731)","v":""},{"$f":"IF(入力シート!H731=\"\",\"\",入力シート!H731)","v":""},{"$f":"IF(入力シート!I731=\"\",\"\",入力シート!I731)","v":""},{"$f":"IF(入力シート!J731=\"\",\"\",入力シート!J731)","v":""},{"$f":"IF(入力シート!K731=\"\",\"\",入力シート!K731)","v":""},{"$f":"IF(入力シート!L731=\"\",\"\",入力シート!L731)","v":""},{"$f":"IF(入力シート!M731=\"\",\"\",入力シート!M731)","v":""},{"$f":"IF(入力シート!N731=\"\",\"\",入力シート!P731)","v":""}]
[{"$f":"IF(入力シート!A732=\"\",\"\",入力シート!A732)","v":""},{"$f":"IF(入力シート!B732=\"\",\"\",入力シート!B732)","v":""},{"$f":"IF(入力シート!C732=\"\",\"\",TEXT(入力シート!C732,\"yyyy-mm-dd\"))","v":""},{"$f":"IF(入力シート!O732=\"\",\"\",TEXT(入力シート!O732,\"000-0000\"))","v":""},{"$f":"IF(入力シート!F732=\"\",\"\",入力シート!F732)","v":""},{"$f":"IF(入力シート!G732=\"\",\"\",入力シート!G732)","v":""},{"$f":"IF(入力シート!H732=\"\",\"\",入力シート!H732)","v":""},{"$f":"IF(入力シート!I732=\"\",\"\",入力シート!I732)","v":""},{"$f":"IF(入力シート!J732=\"\",\"\",入力シート!J732)","v":""},{"$f":"IF(入力シート!K732=\"\",\"\",入力シート!K732)","v":""},{"$f":"IF(入力シート!L732=\"\",\"\",入力シート!L732)","v":""},{"$f":"IF(入力シート!M732=\"\",\"\",入力シート!M732)","v":""},{"$f":"IF(入力シート!N732=\"\",\"\",入力シート!P732)","v":""}]
[{"$f":"IF(入力シート!A733=\"\",\"\",入力シート!A733)","v":""},{"$f":"IF(入力シート!B733=\"\",\"\",入力シート!B733)","v":""},{"$f":"IF(入力シート!C733=\"\",\"\",TEXT(入力シート!C733,\"yyyy-mm-dd\"))","v":""},{"$f":"IF(入力シート!O733=\"\",\"\",TEXT(入力シート!O733,\"000-0000\"))","v":""},{"$f":"IF(入力シート!F733=\"\",\"\",入力シート!F733)","v":""},{"$f":"IF(入力シート!G733=\"\",\"\",入力シート!G733)","v":""},{"$f":"IF(入力シート!H733=\"\",\"\",入力シート!H733)","v":""},{"$f":"IF(入力シート!I733=\"\",\"\",入力シート!I733)","v":""},{"$f":"IF(入力シート!J733=\"\",\"\",入力シート!J733)","v":""},{"$f":"IF(入力シート!K733=\"\",\"\",入力シート!K733)","v":""},{"$f":"IF(入力シート!L733=\"\",\"\",入力シート!L733)","v":""},{"$f":"IF(入力シート!M733=\"\",\"\",入力シート!M733)","v":""},{"$f":"IF(入力シート!N733=\"\",\"\",入力シート!P733)","v":""}]
[{"$f":"IF(入力シート!A734=\"\",\"\",入力シート!A734)","v":""},{"$f":"IF(入力シート!B734=\"\",\"\",入力シート!B734)","v":""},{"$f":"IF(入力シート!C734=\"\",\"\",TEXT(入力シート!C734,\"yyyy-mm-dd\"))","v":""},{"$f":"IF(入力シート!O734=\"\",\"\",TEXT(入力シート!O734,\"000-0000\"))","v":""},{"$f":"IF(入力シート!F734=\"\",\"\",入力シート!F734)","v":""},{"$f":"IF(入力シート!G734=\"\",\"\",入力シート!G734)","v":""},{"$f":"IF(入力シート!H734=\"\",\"\",入力シート!H734)","v":""},{"$f":"IF(入力シート!I734=\"\",\"\",入力シート!I734)","v":""},{"$f":"IF(入力シート!J734=\"\",\"\",入力シート!J734)","v":""},{"$f":"IF(入力シート!K734=\"\",\"\",入力シート!K734)","v":""},{"$f":"IF(入力シート!L734=\"\",\"\",入力シート!L734)","v":""},{"$f":"IF(入力シート!M734=\"\",\"\",入力シート!M734)","v":""},{"$f":"IF(入力シート!N734=\"\",\"\",入力シート!P734)","v":""}]
[{"$f":"IF(入力シート!A735=\"\",\"\",入力シート!A735)","v":""},{"$f":"IF(入力シート!B735=\"\",\"\",入力シート!B735)","v":""},{"$f":"IF(入力シート!C735=\"\",\"\",TEXT(入力シート!C735,\"yyyy-mm-dd\"))","v":""},{"$f":"IF(入力シート!O735=\"\",\"\",TEXT(入力シート!O735,\"000-0000\"))","v":""},{"$f":"IF(入力シート!F735=\"\",\"\",入力シート!F735)","v":""},{"$f":"IF(入力シート!G735=\"\",\"\",入力シート!G735)","v":""},{"$f":"IF(入力シート!H735=\"\",\"\",入力シート!H735)","v":""},{"$f":"IF(入力シート!I735=\"\",\"\",入力シート!I735)","v":""},{"$f":"IF(入力シート!J735=\"\",\"\",入力シート!J735)","v":""},{"$f":"IF(入力シート!K735=\"\",\"\",入力シート!K735)","v":""},{"$f":"IF(入力シート!L735=\"\",\"\",入力シート!L735)","v":""},{"$f":"IF(入力シート!M735=\"\",\"\",入力シート!M735)","v":""},{"$f":"IF(入力シート!N735=\"\",\"\",入力シート!P735)","v":""}]
[{"$f":"IF(入力シート!A736=\"\",\"\",入力シート!A736)","v":""},{"$f":"IF(入力シート!B736=\"\",\"\",入力シート!B736)","v":""},{"$f":"IF(入力シート!C736=\"\",\"\",TEXT(入力シート!C736,\"yyyy-mm-dd\"))","v":""},{"$f":"IF(入力シート!O736=\"\",\"\",TEXT(入力シート!O736,\"000-0000\"))","v":""},{"$f":"IF(入力シート!F736=\"\",\"\",入力シート!F736)","v":""},{"$f":"IF(入力シート!G736=\"\",\"\",入力シート!G736)","v":""},{"$f":"IF(入力シート!H736=\"\",\"\",入力シート!H736)","v":""},{"$f":"IF(入力シート!I736=\"\",\"\",入力シート!I736)","v":""},{"$f":"IF(入力シート!J736=\"\",\"\",入力シート!J736)","v":""},{"$f":"IF(入力シート!K736=\"\",\"\",入力シート!K736)","v":""},{"$f":"IF(入力シート!L736=\"\",\"\",入力シート!L736)","v":""},{"$f":"IF(入力シート!M736=\"\",\"\",入力シート!M736)","v":""},{"$f":"IF(入力シート!N736=\"\",\"\",入力シート!P736)","v":""}]
[{"$f":"IF(入力シート!A737=\"\",\"\",入力シート!A737)","v":""},{"$f":"IF(入力シート!B737=\"\",\"\",入力シート!B737)","v":""},{"$f":"IF(入力シート!C737=\"\",\"\",TEXT(入力シート!C737,\"yyyy-mm-dd\"))","v":""},{"$f":"IF(入力シート!O737=\"\",\"\",TEXT(入力シート!O737,\"000-0000\"))","v":""},{"$f":"IF(入力シート!F737=\"\",\"\",入力シート!F737)","v":""},{"$f":"IF(入力シート!G737=\"\",\"\",入力シート!G737)","v":""},{"$f":"IF(入力シート!H737=\"\",\"\",入力シート!H737)","v":""},{"$f":"IF(入力シート!I737=\"\",\"\",入力シート!I737)","v":""},{"$f":"IF(入力シート!J737=\"\",\"\",入力シート!J737)","v":""},{"$f":"IF(入力シート!K737=\"\",\"\",入力シート!K737)","v":""},{"$f":"IF(入力シート!L737=\"\",\"\",入力シート!L737)","v":""},{"$f":"IF(入力シート!M737=\"\",\"\",入力シート!M737)","v":""},{"$f":"IF(入力シート!N737=\"\",\"\",入力シート!P737)","v":""}]
[{"$f":"IF(入力シート!A738=\"\",\"\",入力シート!A738)","v":""},{"$f":"IF(入力シート!B738=\"\",\"\",入力シート!B738)","v":""},{"$f":"IF(入力シート!C738=\"\",\"\",TEXT(入力シート!C738,\"yyyy-mm-dd\"))","v":""},{"$f":"IF(入力シート!O738=\"\",\"\",TEXT(入力シート!O738,\"000-0000\"))","v":""},{"$f":"IF(入力シート!F738=\"\",\"\",入力シート!F738)","v":""},{"$f":"IF(入力シート!G738=\"\",\"\",入力シート!G738)","v":""},{"$f":"IF(入力シート!H738=\"\",\"\",入力シート!H738)","v":""},{"$f":"IF(入力シート!I738=\"\",\"\",入力シート!I738)","v":""},{"$f":"IF(入力シート!J738=\"\",\"\",入力シート!J738)","v":""},{"$f":"IF(入力シート!K738=\"\",\"\",入力シート!K738)","v":""},{"$f":"IF(入力シート!L738=\"\",\"\",入力シート!L738)","v":""},{"$f":"IF(入力シート!M738=\"\",\"\",入力シート!M738)","v":""},{"$f":"IF(入力シート!N738=\"\",\"\",入力シート!P738)","v":""}]
[{"$f":"IF(入力シート!A739=\"\",\"\",入力シート!A739)","v":""},{"$f":"IF(入力シート!B739=\"\",\"\",入力シート!B739)","v":""},{"$f":"IF(入力シート!C739=\"\",\"\",TEXT(入力シート!C739,\"yyyy-mm-dd\"))","v":""},{"$f":"IF(入力シート!O739=\"\",\"\",TEXT(入力シート!O739,\"000-0000\"))","v":""},{"$f":"IF(入力シート!F739=\"\",\"\",入力シート!F739)","v":""},{"$f":"IF(入力シート!G739=\"\",\"\",入力シート!G739)","v":""},{"$f":"IF(入力シート!H739=\"\",\"\",入力シート!H739)","v":""},{"$f":"IF(入力シート!I739=\"\",\"\",入力シート!I739)","v":""},{"$f":"IF(入力シート!J739=\"\",\"\",入力シート!J739)","v":""},{"$f":"IF(入力シート!K739=\"\",\"\",入力シート!K739)","v":""},{"$f":"IF(入力シート!L739=\"\",\"\",入力シート!L739)","v":""},{"$f":"IF(入力シート!M739=\"\",\"\",入力シート!M739)","v":""},{"$f":"IF(入力シート!N739=\"\",\"\",入力シート!P739)","v":""}]
[{"$f":"IF(入力シート!A740=\"\",\"\",入力シート!A740)","v":""},{"$f":"IF(入力シート!B740=\"\",\"\",入力シート!B740)","v":""},{"$f":"IF(入力シート!C740=\"\",\"\",TEXT(入力シート!C740,\"yyyy-mm-dd\"))","v":""},{"$f":"IF(入力シート!O740=\"\",\"\",TEXT(入力シート!O740,\"000-0000\"))","v":""},{"$f":"IF(入力シート!F740=\"\",\"\",入力シート!F740)","v":""},{"$f":"IF(入力シート!G740=\"\",\"\",入力シート!G740)","v":""},{"$f":"IF(入力シート!H740=\"\",\"\",入力シート!H740)","v":""},{"$f":"IF(入力シート!I740=\"\",\"\",入力シート!I740)","v":""},{"$f":"IF(入力シート!J740=\"\",\"\",入力シート!J740)","v":""},{"$f":"IF(入力シート!K740=\"\",\"\",入力シート!K740)","v":""},{"$f":"IF(入力シート!L740=\"\",\"\",入力シート!L740)","v":""},{"$f":"IF(入力シート!M740=\"\",\"\",入力シート!M740)","v":""},{"$f":"IF(入力シート!N740=\"\",\"\",入力シート!P740)","v":""}]
[{"$f":"IF(入力シート!A741=\"\",\"\",入力シート!A741)","v":""},{"$f":"IF(入力シート!B741=\"\",\"\",入力シート!B741)","v":""},{"$f":"IF(入力シート!C741=\"\",\"\",TEXT(入力シート!C741,\"yyyy-mm-dd\"))","v":""},{"$f":"IF(入力シート!O741=\"\",\"\",TEXT(入力シート!O741,\"000-0000\"))","v":""},{"$f":"IF(入力シート!F741=\"\",\"\",入力シート!F741)","v":""},{"$f":"IF(入力シート!G741=\"\",\"\",入力シート!G741)","v":""},{"$f":"IF(入力シート!H741=\"\",\"\",入力シート!H741)","v":""},{"$f":"IF(入力シート!I741=\"\",\"\",入力シート!I741)","v":""},{"$f":"IF(入力シート!J741=\"\",\"\",入力シート!J741)","v":""},{"$f":"IF(入力シート!K741=\"\",\"\",入力シート!K741)","v":""},{"$f":"IF(入力シート!L741=\"\",\"\",入力シート!L741)","v":""},{"$f":"IF(入力シート!M741=\"\",\"\",入力シート!M741)","v":""},{"$f":"IF(入力シート!N741=\"\",\"\",入力シート!P741)","v":""}]
[{"$f":"IF(入力シート!A742=\"\",\"\",入力シート!A742)","v":""},{"$f":"IF(入力シート!B742=\"\",\"\",入力シート!B742)","v":""},{"$f":"IF(入力シート!C742=\"\",\"\",TEXT(入力シート!C742,\"yyyy-mm-dd\"))","v":""},{"$f":"IF(入力シート!O742=\"\",\"\",TEXT(入力シート!O742,\"000-0000\"))","v":""},{"$f":"IF(入力シート!F742=\"\",\"\",入力シート!F742)","v":""},{"$f":"IF(入力シート!G742=\"\",\"\",入力シート!G742)","v":""},{"$f":"IF(入力シート!H742=\"\",\"\",入力シート!H742)","v":""},{"$f":"IF(入力シート!I742=\"\",\"\",入力シート!I742)","v":""},{"$f":"IF(入力シート!J742=\"\",\"\",入力シート!J742)","v":""},{"$f":"IF(入力シート!K742=\"\",\"\",入力シート!K742)","v":""},{"$f":"IF(入力シート!L742=\"\",\"\",入力シート!L742)","v":""},{"$f":"IF(入力シート!M742=\"\",\"\",入力シート!M742)","v":""},{"$f":"IF(入力シート!N742=\"\",\"\",入力シート!P742)","v":""}]
[{"$f":"IF(入力シート!A743=\"\",\"\",入力シート!A743)","v":""},{"$f":"IF(入力シート!B743=\"\",\"\",入力シート!B743)","v":""},{"$f":"IF(入力シート!C743=\"\",\"\",TEXT(入力シート!C743,\"yyyy-mm-dd\"))","v":""},{"$f":"IF(入力シート!O743=\"\",\"\",TEXT(入力シート!O743,\"000-0000\"))","v":""},{"$f":"IF(入力シート!F743=\"\",\"\",入力シート!F743)","v":""},{"$f":"IF(入力シート!G743=\"\",\"\",入力シート!G743)","v":""},{"$f":"IF(入力シート!H743=\"\",\"\",入力シート!H743)","v":""},{"$f":"IF(入力シート!I743=\"\",\"\",入力シート!I743)","v":""},{"$f":"IF(入力シート!J743=\"\",\"\",入力シート!J743)","v":""},{"$f":"IF(入力シート!K743=\"\",\"\",入力シート!K743)","v":""},{"$f":"IF(入力シート!L743=\"\",\"\",入力シート!L743)","v":""},{"$f":"IF(入力シート!M743=\"\",\"\",入力シート!M743)","v":""},{"$f":"IF(入力シート!N743=\"\",\"\",入力シート!P743)","v":""}]
[{"$f":"IF(入力シート!A744=\"\",\"\",入力シート!A744)","v":""},{"$f":"IF(入力シート!B744=\"\",\"\",入力シート!B744)","v":""},{"$f":"IF(入力シート!C744=\"\",\"\",TEXT(入力シート!C744,\"yyyy-mm-dd\"))","v":""},{"$f":"IF(入力シート!O744=\"\",\"\",TEXT(入力シート!O744,\"000-0000\"))","v":""},{"$f":"IF(入力シート!F744=\"\",\"\",入力シート!F744)","v":""},{"$f":"IF(入力シート!G744=\"\",\"\",入力シート!G744)","v":""},{"$f":"IF(入力シート!H744=\"\",\"\",入力シート!H744)","v":""},{"$f":"IF(入力シート!I744=\"\",\"\",入力シート!I744)","v":""},{"$f":"IF(入力シート!J744=\"\",\"\",入力シート!J744)","v":""},{"$f":"IF(入力シート!K744=\"\",\"\",入力シート!K744)","v":""},{"$f":"IF(入力シート!L744=\"\",\"\",入力シート!L744)","v":""},{"$f":"IF(入力シート!M744=\"\",\"\",入力シート!M744)","v":""},{"$f":"IF(入力シート!N744=\"\",\"\",入力シート!P744)","v":""}]
[{"$f":"IF(入力シート!A745=\"\",\"\",入力シート!A745)","v":""},{"$f":"IF(入力シート!B745=\"\",\"\",入力シート!B745)","v":""},{"$f":"IF(入力シート!C745=\"\",\"\",TEXT(入力シート!C745,\"yyyy-mm-dd\"))","v":""},{"$f":"IF(入力シート!O745=\"\",\"\",TEXT(入力シート!O745,\"000-0000\"))","v":""},{"$f":"IF(入力シート!F745=\"\",\"\",入力シート!F745)","v":""},{"$f":"IF(入力シート!G745=\"\",\"\",入力シート!G745)","v":""},{"$f":"IF(入力シート!H745=\"\",\"\",入力シート!H745)","v":""},{"$f":"IF(入力シート!I745=\"\",\"\",入力シート!I745)","v":""},{"$f":"IF(入力シート!J745=\"\",\"\",入力シート!J745)","v":""},{"$f":"IF(入力シート!K745=\"\",\"\",入力シート!K745)","v":""},{"$f":"IF(入力シート!L745=\"\",\"\",入力シート!L745)","v":""},{"$f":"IF(入力シート!M745=\"\",\"\",入力シート!M745)","v":""},{"$f":"IF(入力シート!N745=\"\",\"\",入力シート!P745)","v":""}]
[{"$f":"IF(入力シート!A746=\"\",\"\",入力シート!A746)","v":""},{"$f":"IF(入力シート!B746=\"\",\"\",入力シート!B746)","v":""},{"$f":"IF(入力シート!C746=\"\",\"\",TEXT(入力シート!C746,\"yyyy-mm-dd\"))","v":""},{"$f":"IF(入力シート!O746=\"\",\"\",TEXT(入力シート!O746,\"000-0000\"))","v":""},{"$f":"IF(入力シート!F746=\"\",\"\",入力シート!F746)","v":""},{"$f":"IF(入力シート!G746=\"\",\"\",入力シート!G746)","v":""},{"$f":"IF(入力シート!H746=\"\",\"\",入力シート!H746)","v":""},{"$f":"IF(入力シート!I746=\"\",\"\",入力シート!I746)","v":""},{"$f":"IF(入力シート!J746=\"\",\"\",入力シート!J746)","v":""},{"$f":"IF(入力シート!K746=\"\",\"\",入力シート!K746)","v":""},{"$f":"IF(入力シート!L746=\"\",\"\",入力シート!L746)","v":""},{"$f":"IF(入力シート!M746=\"\",\"\",入力シート!M746)","v":""},{"$f":"IF(入力シート!N746=\"\",\"\",入力シート!P746)","v":""}]
[{"$f":"IF(入力シート!A747=\"\",\"\",入力シート!A747)","v":""},{"$f":"IF(入力シート!B747=\"\",\"\",入力シート!B747)","v":""},{"$f":"IF(入力シート!C747=\"\",\"\",TEXT(入力シート!C747,\"yyyy-mm-dd\"))","v":""},{"$f":"IF(入力シート!O747=\"\",\"\",TEXT(入力シート!O747,\"000-0000\"))","v":""},{"$f":"IF(入力シート!F747=\"\",\"\",入力シート!F747)","v":""},{"$f":"IF(入力シート!G747=\"\",\"\",入力シート!G747)","v":""},{"$f":"IF(入力シート!H747=\"\",\"\",入力シート!H747)","v":""},{"$f":"IF(入力シート!I747=\"\",\"\",入力シート!I747)","v":""},{"$f":"IF(入力シート!J747=\"\",\"\",入力シート!J747)","v":""},{"$f":"IF(入力シート!K747=\"\",\"\",入力シート!K747)","v":""},{"$f":"IF(入力シート!L747=\"\",\"\",入力シート!L747)","v":""},{"$f":"IF(入力シート!M747=\"\",\"\",入力シート!M747)","v":""},{"$f":"IF(入力シート!N747=\"\",\"\",入力シート!P747)","v":""}]
[{"$f":"IF(入力シート!A748=\"\",\"\",入力シート!A748)","v":""},{"$f":"IF(入力シート!B748=\"\",\"\",入力シート!B748)","v":""},{"$f":"IF(入力シート!C748=\"\",\"\",TEXT(入力シート!C748,\"yyyy-mm-dd\"))","v":""},{"$f":"IF(入力シート!O748=\"\",\"\",TEXT(入力シート!O748,\"000-0000\"))","v":""},{"$f":"IF(入力シート!F748=\"\",\"\",入力シート!F748)","v":""},{"$f":"IF(入力シート!G748=\"\",\"\",入力シート!G748)","v":""},{"$f":"IF(入力シート!H748=\"\",\"\",入力シート!H748)","v":""},{"$f":"IF(入力シート!I748=\"\",\"\",入力シート!I748)","v":""},{"$f":"IF(入力シート!J748=\"\",\"\",入力シート!J748)","v":""},{"$f":"IF(入力シート!K748=\"\",\"\",入力シート!K748)","v":""},{"$f":"IF(入力シート!L748=\"\",\"\",入力シート!L748)","v":""},{"$f":"IF(入力シート!M748=\"\",\"\",入力シート!M748)","v":""},{"$f":"IF(入力シート!N748=\"\",\"\",入力シート!P748)","v":""}]
[{"$f":"IF(入力シート!A749=\"\",\"\",入力シート!A749)","v":""},{"$f":"IF(入力シート!B749=\"\",\"\",入力シート!B749)","v":""},{"$f":"IF(入力シート!C749=\"\",\"\",TEXT(入力シート!C749,\"yyyy-mm-dd\"))","v":""},{"$f":"IF(入力シート!O749=\"\",\"\",TEXT(入力シート!O749,\"000-0000\"))","v":""},{"$f":"IF(入力シート!F749=\"\",\"\",入力シート!F749)","v":""},{"$f":"IF(入力シート!G749=\"\",\"\",入力シート!G749)","v":""},{"$f":"IF(入力シート!H749=\"\",\"\",入力シート!H749)","v":""},{"$f":"IF(入力シート!I749=\"\",\"\",入力シート!I749)","v":""},{"$f":"IF(入力シート!J749=\"\",\"\",入力シート!J749)","v":""},{"$f":"IF(入力シート!K749=\"\",\"\",入力シート!K749)","v":""},{"$f":"IF(入力シート!L749=\"\",\"\",入力シート!L749)","v":""},{"$f":"IF(入力シート!M749=\"\",\"\",入力シート!M749)","v":""},{"$f":"IF(入力シート!N749=\"\",\"\",入力シート!P749)","v":""}]
[{"$f":"IF(入力シート!A750=\"\",\"\",入力シート!A750)","v":""},{"$f":"IF(入力シート!B750=\"\",\"\",入力シート!B750)","v":""},{"$f":"IF(入力シート!C750=\"\",\"\",TEXT(入力シート!C750,\"yyyy-mm-dd\"))","v":""},{"$f":"IF(入力シート!O750=\"\",\"\",TEXT(入力シート!O750,\"000-0000\"))","v":""},{"$f":"IF(入力シート!F750=\"\",\"\",入力シート!F750)","v":""},{"$f":"IF(入力シート!G750=\"\",\"\",入力シート!G750)","v":""},{"$f":"IF(入力シート!H750=\"\",\"\",入力シート!H750)","v":""},{"$f":"IF(入力シート!I750=\"\",\"\",入力シート!I750)","v":""},{"$f":"IF(入力シート!J750=\"\",\"\",入力シート!J750)","v":""},{"$f":"IF(入力シート!K750=\"\",\"\",入力シート!K750)","v":""},{"$f":"IF(入力シート!L750=\"\",\"\",入力シート!L750)","v":""},{"$f":"IF(入力シート!M750=\"\",\"\",入力シート!M750)","v":""},{"$f":"IF(入力シート!N750=\"\",\"\",入力シート!P750)","v":""}]
[{"$f":"IF(入力シート!A751=\"\",\"\",入力シート!A751)","v":""},{"$f":"IF(入力シート!B751=\"\",\"\",入力シート!B751)","v":""},{"$f":"IF(入力シート!C751=\"\",\"\",TEXT(入力シート!C751,\"yyyy-mm-dd\"))","v":""},{"$f":"IF(入力シート!O751=\"\",\"\",TEXT(入力シート!O751,\"000-0000\"))","v":""},{"$f":"IF(入力シート!F751=\"\",\"\",入力シート!F751)","v":""},{"$f":"IF(入力シート!G751=\"\",\"\",入力シート!G751)","v":""},{"$f":"IF(入力シート!H751=\"\",\"\",入力シート!H751)","v":""},{"$f":"IF(入力シート!I751=\"\",\"\",入力シート!I751)","v":""},{"$f":"IF(入力シート!J751=\"\",\"\",入力シート!J751)","v":""},{"$f":"IF(入力シート!K751=\"\",\"\",入力シート!K751)","v":""},{"$f":"IF(入力シート!L751=\"\",\"\",入力シート!L751)","v":""},{"$f":"IF(入力シート!M751=\"\",\"\",入力シート!M751)","v":""},{"$f":"IF(入力シート!N751=\"\",\"\",入力シート!P751)","v":""}]
[{"$f":"IF(入力シート!A752=\"\",\"\",入力シート!A752)","v":""},{"$f":"IF(入力シート!B752=\"\",\"\",入力シート!B752)","v":""},{"$f":"IF(入力シート!C752=\"\",\"\",TEXT(入力シート!C752,\"yyyy-mm-dd\"))","v":""},{"$f":"IF(入力シート!O752=\"\",\"\",TEXT(入力シート!O752,\"000-0000\"))","v":""},{"$f":"IF(入力シート!F752=\"\",\"\",入力シート!F752)","v":""},{"$f":"IF(入力シート!G752=\"\",\"\",入力シート!G752)","v":""},{"$f":"IF(入力シート!H752=\"\",\"\",入力シート!H752)","v":""},{"$f":"IF(入力シート!I752=\"\",\"\",入力シート!I752)","v":""},{"$f":"IF(入力シート!J752=\"\",\"\",入力シート!J752)","v":""},{"$f":"IF(入力シート!K752=\"\",\"\",入力シート!K752)","v":""},{"$f":"IF(入力シート!L752=\"\",\"\",入力シート!L752)","v":""},{"$f":"IF(入力シート!M752=\"\",\"\",入力シート!M752)","v":""},{"$f":"IF(入力シート!N752=\"\",\"\",入力シート!P752)","v":""}]
[{"$f":"IF(入力シート!A753=\"\",\"\",入力シート!A753)","v":""},{"$f":"IF(入力シート!B753=\"\",\"\",入力シート!B753)","v":""},{"$f":"IF(入力シート!C753=\"\",\"\",TEXT(入力シート!C753,\"yyyy-mm-dd\"))","v":""},{"$f":"IF(入力シート!O753=\"\",\"\",TEXT(入力シート!O753,\"000-0000\"))","v":""},{"$f":"IF(入力シート!F753=\"\",\"\",入力シート!F753)","v":""},{"$f":"IF(入力シート!G753=\"\",\"\",入力シート!G753)","v":""},{"$f":"IF(入力シート!H753=\"\",\"\",入力シート!H753)","v":""},{"$f":"IF(入力シート!I753=\"\",\"\",入力シート!I753)","v":""},{"$f":"IF(入力シート!J753=\"\",\"\",入力シート!J753)","v":""},{"$f":"IF(入力シート!K753=\"\",\"\",入力シート!K753)","v":""},{"$f":"IF(入力シート!L753=\"\",\"\",入力シート!L753)","v":""},{"$f":"IF(入力シート!M753=\"\",\"\",入力シート!M753)","v":""},{"$f":"IF(入力シート!N753=\"\",\"\",入力シート!P753)","v":""}]
[{"$f":"IF(入力シート!A754=\"\",\"\",入力シート!A754)","v":""},{"$f":"IF(入力シート!B754=\"\",\"\",入力シート!B754)","v":""},{"$f":"IF(入力シート!C754=\"\",\"\",TEXT(入力シート!C754,\"yyyy-mm-dd\"))","v":""},{"$f":"IF(入力シート!O754=\"\",\"\",TEXT(入力シート!O754,\"000-0000\"))","v":""},{"$f":"IF(入力シート!F754=\"\",\"\",入力シート!F754)","v":""},{"$f":"IF(入力シート!G754=\"\",\"\",入力シート!G754)","v":""},{"$f":"IF(入力シート!H754=\"\",\"\",入力シート!H754)","v":""},{"$f":"IF(入力シート!I754=\"\",\"\",入力シート!I754)","v":""},{"$f":"IF(入力シート!J754=\"\",\"\",入力シート!J754)","v":""},{"$f":"IF(入力シート!K754=\"\",\"\",入力シート!K754)","v":""},{"$f":"IF(入力シート!L754=\"\",\"\",入力シート!L754)","v":""},{"$f":"IF(入力シート!M754=\"\",\"\",入力シート!M754)","v":""},{"$f":"IF(入力シート!N754=\"\",\"\",入力シート!P754)","v":""}]
[{"$f":"IF(入力シート!A755=\"\",\"\",入力シート!A755)","v":""},{"$f":"IF(入力シート!B755=\"\",\"\",入力シート!B755)","v":""},{"$f":"IF(入力シート!C755=\"\",\"\",TEXT(入力シート!C755,\"yyyy-mm-dd\"))","v":""},{"$f":"IF(入力シート!O755=\"\",\"\",TEXT(入力シート!O755,\"000-0000\"))","v":""},{"$f":"IF(入力シート!F755=\"\",\"\",入力シート!F755)","v":""},{"$f":"IF(入力シート!G755=\"\",\"\",入力シート!G755)","v":""},{"$f":"IF(入力シート!H755=\"\",\"\",入力シート!H755)","v":""},{"$f":"IF(入力シート!I755=\"\",\"\",入力シート!I755)","v":""},{"$f":"IF(入力シート!J755=\"\",\"\",入力シート!J755)","v":""},{"$f":"IF(入力シート!K755=\"\",\"\",入力シート!K755)","v":""},{"$f":"IF(入力シート!L755=\"\",\"\",入力シート!L755)","v":""},{"$f":"IF(入力シート!M755=\"\",\"\",入力シート!M755)","v":""},{"$f":"IF(入力シート!N755=\"\",\"\",入力シート!P755)","v":""}]
[{"$f":"IF(入力シート!A756=\"\",\"\",入力シート!A756)","v":""},{"$f":"IF(入力シート!B756=\"\",\"\",入力シート!B756)","v":""},{"$f":"IF(入力シート!C756=\"\",\"\",TEXT(入力シート!C756,\"yyyy-mm-dd\"))","v":""},{"$f":"IF(入力シート!O756=\"\",\"\",TEXT(入力シート!O756,\"000-0000\"))","v":""},{"$f":"IF(入力シート!F756=\"\",\"\",入力シート!F756)","v":""},{"$f":"IF(入力シート!G756=\"\",\"\",入力シート!G756)","v":""},{"$f":"IF(入力シート!H756=\"\",\"\",入力シート!H756)","v":""},{"$f":"IF(入力シート!I756=\"\",\"\",入力シート!I756)","v":""},{"$f":"IF(入力シート!J756=\"\",\"\",入力シート!J756)","v":""},{"$f":"IF(入力シート!K756=\"\",\"\",入力シート!K756)","v":""},{"$f":"IF(入力シート!L756=\"\",\"\",入力シート!L756)","v":""},{"$f":"IF(入力シート!M756=\"\",\"\",入力シート!M756)","v":""},{"$f":"IF(入力シート!N756=\"\",\"\",入力シート!P756)","v":""}]
[{"$f":"IF(入力シート!A757=\"\",\"\",入力シート!A757)","v":""},{"$f":"IF(入力シート!B757=\"\",\"\",入力シート!B757)","v":""},{"$f":"IF(入力シート!C757=\"\",\"\",TEXT(入力シート!C757,\"yyyy-mm-dd\"))","v":""},{"$f":"IF(入力シート!O757=\"\",\"\",TEXT(入力シート!O757,\"000-0000\"))","v":""},{"$f":"IF(入力シート!F757=\"\",\"\",入力シート!F757)","v":""},{"$f":"IF(入力シート!G757=\"\",\"\",入力シート!G757)","v":""},{"$f":"IF(入力シート!H757=\"\",\"\",入力シート!H757)","v":""},{"$f":"IF(入力シート!I757=\"\",\"\",入力シート!I757)","v":""},{"$f":"IF(入力シート!J757=\"\",\"\",入力シート!J757)","v":""},{"$f":"IF(入力シート!K757=\"\",\"\",入力シート!K757)","v":""},{"$f":"IF(入力シート!L757=\"\",\"\",入力シート!L757)","v":""},{"$f":"IF(入力シート!M757=\"\",\"\",入力シート!M757)","v":""},{"$f":"IF(入力シート!N757=\"\",\"\",入力シート!P757)","v":""}]
[{"$f":"IF(入力シート!A758=\"\",\"\",入力シート!A758)","v":""},{"$f":"IF(入力シート!B758=\"\",\"\",入力シート!B758)","v":""},{"$f":"IF(入力シート!C758=\"\",\"\",TEXT(入力シート!C758,\"yyyy-mm-dd\"))","v":""},{"$f":"IF(入力シート!O758=\"\",\"\",TEXT(入力シート!O758,\"000-0000\"))","v":""},{"$f":"IF(入力シート!F758=\"\",\"\",入力シート!F758)","v":""},{"$f":"IF(入力シート!G758=\"\",\"\",入力シート!G758)","v":""},{"$f":"IF(入力シート!H758=\"\",\"\",入力シート!H758)","v":""},{"$f":"IF(入力シート!I758=\"\",\"\",入力シート!I758)","v":""},{"$f":"IF(入力シート!J758=\"\",\"\",入力シート!J758)","v":""},{"$f":"IF(入力シート!K758=\"\",\"\",入力シート!K758)","v":""},{"$f":"IF(入力シート!L758=\"\",\"\",入力シート!L758)","v":""},{"$f":"IF(入力シート!M758=\"\",\"\",入力シート!M758)","v":""},{"$f":"IF(入力シート!N758=\"\",\"\",入力シート!P758)","v":""}]
[{"$f":"IF(入力シート!A759=\"\",\"\",入力シート!A759)","v":""},{"$f":"IF(入力シート!B759=\"\",\"\",入力シート!B759)","v":""},{"$f":"IF(入力シート!C759=\"\",\"\",TEXT(入力シート!C759,\"yyyy-mm-dd\"))","v":""},{"$f":"IF(入力シート!O759=\"\",\"\",TEXT(入力シート!O759,\"000-0000\"))","v":""},{"$f":"IF(入力シート!F759=\"\",\"\",入力シート!F759)","v":""},{"$f":"IF(入力シート!G759=\"\",\"\",入力シート!G759)","v":""},{"$f":"IF(入力シート!H759=\"\",\"\",入力シート!H759)","v":""},{"$f":"IF(入力シート!I759=\"\",\"\",入力シート!I759)","v":""},{"$f":"IF(入力シート!J759=\"\",\"\",入力シート!J759)","v":""},{"$f":"IF(入力シート!K759=\"\",\"\",入力シート!K759)","v":""},{"$f":"IF(入力シート!L759=\"\",\"\",入力シート!L759)","v":""},{"$f":"IF(入力シート!M759=\"\",\"\",入力シート!M759)","v":""},{"$f":"IF(入力シート!N759=\"\",\"\",入力シート!P759)","v":""}]
[{"$f":"IF(入力シート!A760=\"\",\"\",入力シート!A760)","v":""},{"$f":"IF(入力シート!B760=\"\",\"\",入力シート!B760)","v":""},{"$f":"IF(入力シート!C760=\"\",\"\",TEXT(入力シート!C760,\"yyyy-mm-dd\"))","v":""},{"$f":"IF(入力シート!O760=\"\",\"\",TEXT(入力シート!O760,\"000-0000\"))","v":""},{"$f":"IF(入力シート!F760=\"\",\"\",入力シート!F760)","v":""},{"$f":"IF(入力シート!G760=\"\",\"\",入力シート!G760)","v":""},{"$f":"IF(入力シート!H760=\"\",\"\",入力シート!H760)","v":""},{"$f":"IF(入力シート!I760=\"\",\"\",入力シート!I760)","v":""},{"$f":"IF(入力シート!J760=\"\",\"\",入力シート!J760)","v":""},{"$f":"IF(入力シート!K760=\"\",\"\",入力シート!K760)","v":""},{"$f":"IF(入力シート!L760=\"\",\"\",入力シート!L760)","v":""},{"$f":"IF(入力シート!M760=\"\",\"\",入力シート!M760)","v":""},{"$f":"IF(入力シート!N760=\"\",\"\",入力シート!P760)","v":""}]
[{"$f":"IF(入力シート!A761=\"\",\"\",入力シート!A761)","v":""},{"$f":"IF(入力シート!B761=\"\",\"\",入力シート!B761)","v":""},{"$f":"IF(入力シート!C761=\"\",\"\",TEXT(入力シート!C761,\"yyyy-mm-dd\"))","v":""},{"$f":"IF(入力シート!O761=\"\",\"\",TEXT(入力シート!O761,\"000-0000\"))","v":""},{"$f":"IF(入力シート!F761=\"\",\"\",入力シート!F761)","v":""},{"$f":"IF(入力シート!G761=\"\",\"\",入力シート!G761)","v":""},{"$f":"IF(入力シート!H761=\"\",\"\",入力シート!H761)","v":""},{"$f":"IF(入力シート!I761=\"\",\"\",入力シート!I761)","v":""},{"$f":"IF(入力シート!J761=\"\",\"\",入力シート!J761)","v":""},{"$f":"IF(入力シート!K761=\"\",\"\",入力シート!K761)","v":""},{"$f":"IF(入力シート!L761=\"\",\"\",入力シート!L761)","v":""},{"$f":"IF(入力シート!M761=\"\",\"\",入力シート!M761)","v":""},{"$f":"IF(入力シート!N761=\"\",\"\",入力シート!P761)","v":""}]
[{"$f":"IF(入力シート!A762=\"\",\"\",入力シート!A762)","v":""},{"$f":"IF(入力シート!B762=\"\",\"\",入力シート!B762)","v":""},{"$f":"IF(入力シート!C762=\"\",\"\",TEXT(入力シート!C762,\"yyyy-mm-dd\"))","v":""},{"$f":"IF(入力シート!O762=\"\",\"\",TEXT(入力シート!O762,\"000-0000\"))","v":""},{"$f":"IF(入力シート!F762=\"\",\"\",入力シート!F762)","v":""},{"$f":"IF(入力シート!G762=\"\",\"\",入力シート!G762)","v":""},{"$f":"IF(入力シート!H762=\"\",\"\",入力シート!H762)","v":""},{"$f":"IF(入力シート!I762=\"\",\"\",入力シート!I762)","v":""},{"$f":"IF(入力シート!J762=\"\",\"\",入力シート!J762)","v":""},{"$f":"IF(入力シート!K762=\"\",\"\",入力シート!K762)","v":""},{"$f":"IF(入力シート!L762=\"\",\"\",入力シート!L762)","v":""},{"$f":"IF(入力シート!M762=\"\",\"\",入力シート!M762)","v":""},{"$f":"IF(入力シート!N762=\"\",\"\",入力シート!P762)","v":""}]
[{"$f":"IF(入力シート!A763=\"\",\"\",入力シート!A763)","v":""},{"$f":"IF(入力シート!B763=\"\",\"\",入力シート!B763)","v":""},{"$f":"IF(入力シート!C763=\"\",\"\",TEXT(入力シート!C763,\"yyyy-mm-dd\"))","v":""},{"$f":"IF(入力シート!O763=\"\",\"\",TEXT(入力シート!O763,\"000-0000\"))","v":""},{"$f":"IF(入力シート!F763=\"\",\"\",入力シート!F763)","v":""},{"$f":"IF(入力シート!G763=\"\",\"\",入力シート!G763)","v":""},{"$f":"IF(入力シート!H763=\"\",\"\",入力シート!H763)","v":""},{"$f":"IF(入力シート!I763=\"\",\"\",入力シート!I763)","v":""},{"$f":"IF(入力シート!J763=\"\",\"\",入力シート!J763)","v":""},{"$f":"IF(入力シート!K763=\"\",\"\",入力シート!K763)","v":""},{"$f":"IF(入力シート!L763=\"\",\"\",入力シート!L763)","v":""},{"$f":"IF(入力シート!M763=\"\",\"\",入力シート!M763)","v":""},{"$f":"IF(入力シート!N763=\"\",\"\",入力シート!P763)","v":""}]
[{"$f":"IF(入力シート!A764=\"\",\"\",入力シート!A764)","v":""},{"$f":"IF(入力シート!B764=\"\",\"\",入力シート!B764)","v":""},{"$f":"IF(入力シート!C764=\"\",\"\",TEXT(入力シート!C764,\"yyyy-mm-dd\"))","v":""},{"$f":"IF(入力シート!O764=\"\",\"\",TEXT(入力シート!O764,\"000-0000\"))","v":""},{"$f":"IF(入力シート!F764=\"\",\"\",入力シート!F764)","v":""},{"$f":"IF(入力シート!G764=\"\",\"\",入力シート!G764)","v":""},{"$f":"IF(入力シート!H764=\"\",\"\",入力シート!H764)","v":""},{"$f":"IF(入力シート!I764=\"\",\"\",入力シート!I764)","v":""},{"$f":"IF(入力シート!J764=\"\",\"\",入力シート!J764)","v":""},{"$f":"IF(入力シート!K764=\"\",\"\",入力シート!K764)","v":""},{"$f":"IF(入力シート!L764=\"\",\"\",入力シート!L764)","v":""},{"$f":"IF(入力シート!M764=\"\",\"\",入力シート!M764)","v":""},{"$f":"IF(入力シート!N764=\"\",\"\",入力シート!P764)","v":""}]
[{"$f":"IF(入力シート!A765=\"\",\"\",入力シート!A765)","v":""},{"$f":"IF(入力シート!B765=\"\",\"\",入力シート!B765)","v":""},{"$f":"IF(入力シート!C765=\"\",\"\",TEXT(入力シート!C765,\"yyyy-mm-dd\"))","v":""},{"$f":"IF(入力シート!O765=\"\",\"\",TEXT(入力シート!O765,\"000-0000\"))","v":""},{"$f":"IF(入力シート!F765=\"\",\"\",入力シート!F765)","v":""},{"$f":"IF(入力シート!G765=\"\",\"\",入力シート!G765)","v":""},{"$f":"IF(入力シート!H765=\"\",\"\",入力シート!H765)","v":""},{"$f":"IF(入力シート!I765=\"\",\"\",入力シート!I765)","v":""},{"$f":"IF(入力シート!J765=\"\",\"\",入力シート!J765)","v":""},{"$f":"IF(入力シート!K765=\"\",\"\",入力シート!K765)","v":""},{"$f":"IF(入力シート!L765=\"\",\"\",入力シート!L765)","v":""},{"$f":"IF(入力シート!M765=\"\",\"\",入力シート!M765)","v":""},{"$f":"IF(入力シート!N765=\"\",\"\",入力シート!P765)","v":""}]
[{"$f":"IF(入力シート!A766=\"\",\"\",入力シート!A766)","v":""},{"$f":"IF(入力シート!B766=\"\",\"\",入力シート!B766)","v":""},{"$f":"IF(入力シート!C766=\"\",\"\",TEXT(入力シート!C766,\"yyyy-mm-dd\"))","v":""},{"$f":"IF(入力シート!O766=\"\",\"\",TEXT(入力シート!O766,\"000-0000\"))","v":""},{"$f":"IF(入力シート!F766=\"\",\"\",入力シート!F766)","v":""},{"$f":"IF(入力シート!G766=\"\",\"\",入力シート!G766)","v":""},{"$f":"IF(入力シート!H766=\"\",\"\",入力シート!H766)","v":""},{"$f":"IF(入力シート!I766=\"\",\"\",入力シート!I766)","v":""},{"$f":"IF(入力シート!J766=\"\",\"\",入力シート!J766)","v":""},{"$f":"IF(入力シート!K766=\"\",\"\",入力シート!K766)","v":""},{"$f":"IF(入力シート!L766=\"\",\"\",入力シート!L766)","v":""},{"$f":"IF(入力シート!M766=\"\",\"\",入力シート!M766)","v":""},{"$f":"IF(入力シート!N766=\"\",\"\",入力シート!P766)","v":""}]
[{"$f":"IF(入力シート!A767=\"\",\"\",入力シート!A767)","v":""},{"$f":"IF(入力シート!B767=\"\",\"\",入力シート!B767)","v":""},{"$f":"IF(入力シート!C767=\"\",\"\",TEXT(入力シート!C767,\"yyyy-mm-dd\"))","v":""},{"$f":"IF(入力シート!O767=\"\",\"\",TEXT(入力シート!O767,\"000-0000\"))","v":""},{"$f":"IF(入力シート!F767=\"\",\"\",入力シート!F767)","v":""},{"$f":"IF(入力シート!G767=\"\",\"\",入力シート!G767)","v":""},{"$f":"IF(入力シート!H767=\"\",\"\",入力シート!H767)","v":""},{"$f":"IF(入力シート!I767=\"\",\"\",入力シート!I767)","v":""},{"$f":"IF(入力シート!J767=\"\",\"\",入力シート!J767)","v":""},{"$f":"IF(入力シート!K767=\"\",\"\",入力シート!K767)","v":""},{"$f":"IF(入力シート!L767=\"\",\"\",入力シート!L767)","v":""},{"$f":"IF(入力シート!M767=\"\",\"\",入力シート!M767)","v":""},{"$f":"IF(入力シート!N767=\"\",\"\",入力シート!P767)","v":""}]
[{"$f":"IF(入力シート!A768=\"\",\"\",入力シート!A768)","v":""},{"$f":"IF(入力シート!B768=\"\",\"\",入力シート!B768)","v":""},{"$f":"IF(入力シート!C768=\"\",\"\",TEXT(入力シート!C768,\"yyyy-mm-dd\"))","v":""},{"$f":"IF(入力シート!O768=\"\",\"\",TEXT(入力シート!O768,\"000-0000\"))","v":""},{"$f":"IF(入力シート!F768=\"\",\"\",入力シート!F768)","v":""},{"$f":"IF(入力シート!G768=\"\",\"\",入力シート!G768)","v":""},{"$f":"IF(入力シート!H768=\"\",\"\",入力シート!H768)","v":""},{"$f":"IF(入力シート!I768=\"\",\"\",入力シート!I768)","v":""},{"$f":"IF(入力シート!J768=\"\",\"\",入力シート!J768)","v":""},{"$f":"IF(入力シート!K768=\"\",\"\",入力シート!K768)","v":""},{"$f":"IF(入力シート!L768=\"\",\"\",入力シート!L768)","v":""},{"$f":"IF(入力シート!M768=\"\",\"\",入力シート!M768)","v":""},{"$f":"IF(入力シート!N768=\"\",\"\",入力シート!P768)","v":""}]
[{"$f":"IF(入力シート!A769=\"\",\"\",入力シート!A769)","v":""},{"$f":"IF(入力シート!B769=\"\",\"\",入力シート!B769)","v":""},{"$f":"IF(入力シート!C769=\"\",\"\",TEXT(入力シート!C769,\"yyyy-mm-dd\"))","v":""},{"$f":"IF(入力シート!O769=\"\",\"\",TEXT(入力シート!O769,\"000-0000\"))","v":""},{"$f":"IF(入力シート!F769=\"\",\"\",入力シート!F769)","v":""},{"$f":"IF(入力シート!G769=\"\",\"\",入力シート!G769)","v":""},{"$f":"IF(入力シート!H769=\"\",\"\",入力シート!H769)","v":""},{"$f":"IF(入力シート!I769=\"\",\"\",入力シート!I769)","v":""},{"$f":"IF(入力シート!J769=\"\",\"\",入力シート!J769)","v":""},{"$f":"IF(入力シート!K769=\"\",\"\",入力シート!K769)","v":""},{"$f":"IF(入力シート!L769=\"\",\"\",入力シート!L769)","v":""},{"$f":"IF(入力シート!M769=\"\",\"\",入力シート!M769)","v":""},{"$f":"IF(入力シート!N769=\"\",\"\",入力シート!P769)","v":""}]
[{"$f":"IF(入力シート!A770=\"\",\"\",入力シート!A770)","v":""},{"$f":"IF(入力シート!B770=\"\",\"\",入力シート!B770)","v":""},{"$f":"IF(入力シート!C770=\"\",\"\",TEXT(入力シート!C770,\"yyyy-mm-dd\"))","v":""},{"$f":"IF(入力シート!O770=\"\",\"\",TEXT(入力シート!O770,\"000-0000\"))","v":""},{"$f":"IF(入力シート!F770=\"\",\"\",入力シート!F770)","v":""},{"$f":"IF(入力シート!G770=\"\",\"\",入力シート!G770)","v":""},{"$f":"IF(入力シート!H770=\"\",\"\",入力シート!H770)","v":""},{"$f":"IF(入力シート!I770=\"\",\"\",入力シート!I770)","v":""},{"$f":"IF(入力シート!J770=\"\",\"\",入力シート!J770)","v":""},{"$f":"IF(入力シート!K770=\"\",\"\",入力シート!K770)","v":""},{"$f":"IF(入力シート!L770=\"\",\"\",入力シート!L770)","v":""},{"$f":"IF(入力シート!M770=\"\",\"\",入力シート!M770)","v":""},{"$f":"IF(入力シート!N770=\"\",\"\",入力シート!P770)","v":""}]
[{"$f":"IF(入力シート!A771=\"\",\"\",入力シート!A771)","v":""},{"$f":"IF(入力シート!B771=\"\",\"\",入力シート!B771)","v":""},{"$f":"IF(入力シート!C771=\"\",\"\",TEXT(入力シート!C771,\"yyyy-mm-dd\"))","v":""},{"$f":"IF(入力シート!O771=\"\",\"\",TEXT(入力シート!O771,\"000-0000\"))","v":""},{"$f":"IF(入力シート!F771=\"\",\"\",入力シート!F771)","v":""},{"$f":"IF(入力シート!G771=\"\",\"\",入力シート!G771)","v":""},{"$f":"IF(入力シート!H771=\"\",\"\",入力シート!H771)","v":""},{"$f":"IF(入力シート!I771=\"\",\"\",入力シート!I771)","v":""},{"$f":"IF(入力シート!J771=\"\",\"\",入力シート!J771)","v":""},{"$f":"IF(入力シート!K771=\"\",\"\",入力シート!K771)","v":""},{"$f":"IF(入力シート!L771=\"\",\"\",入力シート!L771)","v":""},{"$f":"IF(入力シート!M771=\"\",\"\",入力シート!M771)","v":""},{"$f":"IF(入力シート!N771=\"\",\"\",入力シート!P771)","v":""}]
[{"$f":"IF(入力シート!A772=\"\",\"\",入力シート!A772)","v":""},{"$f":"IF(入力シート!B772=\"\",\"\",入力シート!B772)","v":""},{"$f":"IF(入力シート!C772=\"\",\"\",TEXT(入力シート!C772,\"yyyy-mm-dd\"))","v":""},{"$f":"IF(入力シート!O772=\"\",\"\",TEXT(入力シート!O772,\"000-0000\"))","v":""},{"$f":"IF(入力シート!F772=\"\",\"\",入力シート!F772)","v":""},{"$f":"IF(入力シート!G772=\"\",\"\",入力シート!G772)","v":""},{"$f":"IF(入力シート!H772=\"\",\"\",入力シート!H772)","v":""},{"$f":"IF(入力シート!I772=\"\",\"\",入力シート!I772)","v":""},{"$f":"IF(入力シート!J772=\"\",\"\",入力シート!J772)","v":""},{"$f":"IF(入力シート!K772=\"\",\"\",入力シート!K772)","v":""},{"$f":"IF(入力シート!L772=\"\",\"\",入力シート!L772)","v":""},{"$f":"IF(入力シート!M772=\"\",\"\",入力シート!M772)","v":""},{"$f":"IF(入力シート!N772=\"\",\"\",入力シート!P772)","v":""}]
[{"$f":"IF(入力シート!A773=\"\",\"\",入力シート!A773)","v":""},{"$f":"IF(入力シート!B773=\"\",\"\",入力シート!B773)","v":""},{"$f":"IF(入力シート!C773=\"\",\"\",TEXT(入力シート!C773,\"yyyy-mm-dd\"))","v":""},{"$f":"IF(入力シート!O773=\"\",\"\",TEXT(入力シート!O773,\"000-0000\"))","v":""},{"$f":"IF(入力シート!F773=\"\",\"\",入力シート!F773)","v":""},{"$f":"IF(入力シート!G773=\"\",\"\",入力シート!G773)","v":""},{"$f":"IF(入力シート!H773=\"\",\"\",入力シート!H773)","v":""},{"$f":"IF(入力シート!I773=\"\",\"\",入力シート!I773)","v":""},{"$f":"IF(入力シート!J773=\"\",\"\",入力シート!J773)","v":""},{"$f":"IF(入力シート!K773=\"\",\"\",入力シート!K773)","v":""},{"$f":"IF(入力シート!L773=\"\",\"\",入力シート!L773)","v":""},{"$f":"IF(入力シート!M773=\"\",\"\",入力シート!M773)","v":""},{"$f":"IF(入力シート!N773=\"\",\"\",入力シート!P773)","v":""}]
[{"$f":"IF(入力シート!A774=\"\",\"\",入力シート!A774)","v":""},{"$f":"IF(入力シート!B774=\"\",\"\",入力シート!B774)","v":""},{"$f":"IF(入力シート!C774=\"\",\"\",TEXT(入力シート!C774,\"yyyy-mm-dd\"))","v":""},{"$f":"IF(入力シート!O774=\"\",\"\",TEXT(入力シート!O774,\"000-0000\"))","v":""},{"$f":"IF(入力シート!F774=\"\",\"\",入力シート!F774)","v":""},{"$f":"IF(入力シート!G774=\"\",\"\",入力シート!G774)","v":""},{"$f":"IF(入力シート!H774=\"\",\"\",入力シート!H774)","v":""},{"$f":"IF(入力シート!I774=\"\",\"\",入力シート!I774)","v":""},{"$f":"IF(入力シート!J774=\"\",\"\",入力シート!J774)","v":""},{"$f":"IF(入力シート!K774=\"\",\"\",入力シート!K774)","v":""},{"$f":"IF(入力シート!L774=\"\",\"\",入力シート!L774)","v":""},{"$f":"IF(入力シート!M774=\"\",\"\",入力シート!M774)","v":""},{"$f":"IF(入力シート!N774=\"\",\"\",入力シート!P774)","v":""}]
[{"$f":"IF(入力シート!A775=\"\",\"\",入力シート!A775)","v":""},{"$f":"IF(入力シート!B775=\"\",\"\",入力シート!B775)","v":""},{"$f":"IF(入力シート!C775=\"\",\"\",TEXT(入力シート!C775,\"yyyy-mm-dd\"))","v":""},{"$f":"IF(入力シート!O775=\"\",\"\",TEXT(入力シート!O775,\"000-0000\"))","v":""},{"$f":"IF(入力シート!F775=\"\",\"\",入力シート!F775)","v":""},{"$f":"IF(入力シート!G775=\"\",\"\",入力シート!G775)","v":""},{"$f":"IF(入力シート!H775=\"\",\"\",入力シート!H775)","v":""},{"$f":"IF(入力シート!I775=\"\",\"\",入力シート!I775)","v":""},{"$f":"IF(入力シート!J775=\"\",\"\",入力シート!J775)","v":""},{"$f":"IF(入力シート!K775=\"\",\"\",入力シート!K775)","v":""},{"$f":"IF(入力シート!L775=\"\",\"\",入力シート!L775)","v":""},{"$f":"IF(入力シート!M775=\"\",\"\",入力シート!M775)","v":""},{"$f":"IF(入力シート!N775=\"\",\"\",入力シート!P775)","v":""}]
[{"$f":"IF(入力シート!A776=\"\",\"\",入力シート!A776)","v":""},{"$f":"IF(入力シート!B776=\"\",\"\",入力シート!B776)","v":""},{"$f":"IF(入力シート!C776=\"\",\"\",TEXT(入力シート!C776,\"yyyy-mm-dd\"))","v":""},{"$f":"IF(入力シート!O776=\"\",\"\",TEXT(入力シート!O776,\"000-0000\"))","v":""},{"$f":"IF(入力シート!F776=\"\",\"\",入力シート!F776)","v":""},{"$f":"IF(入力シート!G776=\"\",\"\",入力シート!G776)","v":""},{"$f":"IF(入力シート!H776=\"\",\"\",入力シート!H776)","v":""},{"$f":"IF(入力シート!I776=\"\",\"\",入力シート!I776)","v":""},{"$f":"IF(入力シート!J776=\"\",\"\",入力シート!J776)","v":""},{"$f":"IF(入力シート!K776=\"\",\"\",入力シート!K776)","v":""},{"$f":"IF(入力シート!L776=\"\",\"\",入力シート!L776)","v":""},{"$f":"IF(入力シート!M776=\"\",\"\",入力シート!M776)","v":""},{"$f":"IF(入力シート!N776=\"\",\"\",入力シート!P776)","v":""}]
[{"$f":"IF(入力シート!A777=\"\",\"\",入力シート!A777)","v":""},{"$f":"IF(入力シート!B777=\"\",\"\",入力シート!B777)","v":""},{"$f":"IF(入力シート!C777=\"\",\"\",TEXT(入力シート!C777,\"yyyy-mm-dd\"))","v":""},{"$f":"IF(入力シート!O777=\"\",\"\",TEXT(入力シート!O777,\"000-0000\"))","v":""},{"$f":"IF(入力シート!F777=\"\",\"\",入力シート!F777)","v":""},{"$f":"IF(入力シート!G777=\"\",\"\",入力シート!G777)","v":""},{"$f":"IF(入力シート!H777=\"\",\"\",入力シート!H777)","v":""},{"$f":"IF(入力シート!I777=\"\",\"\",入力シート!I777)","v":""},{"$f":"IF(入力シート!J777=\"\",\"\",入力シート!J777)","v":""},{"$f":"IF(入力シート!K777=\"\",\"\",入力シート!K777)","v":""},{"$f":"IF(入力シート!L777=\"\",\"\",入力シート!L777)","v":""},{"$f":"IF(入力シート!M777=\"\",\"\",入力シート!M777)","v":""},{"$f":"IF(入力シート!N777=\"\",\"\",入力シート!P777)","v":""}]
[{"$f":"IF(入力シート!A778=\"\",\"\",入力シート!A778)","v":""},{"$f":"IF(入力シート!B778=\"\",\"\",入力シート!B778)","v":""},{"$f":"IF(入力シート!C778=\"\",\"\",TEXT(入力シート!C778,\"yyyy-mm-dd\"))","v":""},{"$f":"IF(入力シート!O778=\"\",\"\",TEXT(入力シート!O778,\"000-0000\"))","v":""},{"$f":"IF(入力シート!F778=\"\",\"\",入力シート!F778)","v":""},{"$f":"IF(入力シート!G778=\"\",\"\",入力シート!G778)","v":""},{"$f":"IF(入力シート!H778=\"\",\"\",入力シート!H778)","v":""},{"$f":"IF(入力シート!I778=\"\",\"\",入力シート!I778)","v":""},{"$f":"IF(入力シート!J778=\"\",\"\",入力シート!J778)","v":""},{"$f":"IF(入力シート!K778=\"\",\"\",入力シート!K778)","v":""},{"$f":"IF(入力シート!L778=\"\",\"\",入力シート!L778)","v":""},{"$f":"IF(入力シート!M778=\"\",\"\",入力シート!M778)","v":""},{"$f":"IF(入力シート!N778=\"\",\"\",入力シート!P778)","v":""}]
[{"$f":"IF(入力シート!A779=\"\",\"\",入力シート!A779)","v":""},{"$f":"IF(入力シート!B779=\"\",\"\",入力シート!B779)","v":""},{"$f":"IF(入力シート!C779=\"\",\"\",TEXT(入力シート!C779,\"yyyy-mm-dd\"))","v":""},{"$f":"IF(入力シート!O779=\"\",\"\",TEXT(入力シート!O779,\"000-0000\"))","v":""},{"$f":"IF(入力シート!F779=\"\",\"\",入力シート!F779)","v":""},{"$f":"IF(入力シート!G779=\"\",\"\",入力シート!G779)","v":""},{"$f":"IF(入力シート!H779=\"\",\"\",入力シート!H779)","v":""},{"$f":"IF(入力シート!I779=\"\",\"\",入力シート!I779)","v":""},{"$f":"IF(入力シート!J779=\"\",\"\",入力シート!J779)","v":""},{"$f":"IF(入力シート!K779=\"\",\"\",入力シート!K779)","v":""},{"$f":"IF(入力シート!L779=\"\",\"\",入力シート!L779)","v":""},{"$f":"IF(入力シート!M779=\"\",\"\",入力シート!M779)","v":""},{"$f":"IF(入力シート!N779=\"\",\"\",入力シート!P779)","v":""}]
[{"$f":"IF(入力シート!A780=\"\",\"\",入力シート!A780)","v":""},{"$f":"IF(入力シート!B780=\"\",\"\",入力シート!B780)","v":""},{"$f":"IF(入力シート!C780=\"\",\"\",TEXT(入力シート!C780,\"yyyy-mm-dd\"))","v":""},{"$f":"IF(入力シート!O780=\"\",\"\",TEXT(入力シート!O780,\"000-0000\"))","v":""},{"$f":"IF(入力シート!F780=\"\",\"\",入力シート!F780)","v":""},{"$f":"IF(入力シート!G780=\"\",\"\",入力シート!G780)","v":""},{"$f":"IF(入力シート!H780=\"\",\"\",入力シート!H780)","v":""},{"$f":"IF(入力シート!I780=\"\",\"\",入力シート!I780)","v":""},{"$f":"IF(入力シート!J780=\"\",\"\",入力シート!J780)","v":""},{"$f":"IF(入力シート!K780=\"\",\"\",入力シート!K780)","v":""},{"$f":"IF(入力シート!L780=\"\",\"\",入力シート!L780)","v":""},{"$f":"IF(入力シート!M780=\"\",\"\",入力シート!M780)","v":""},{"$f":"IF(入力シート!N780=\"\",\"\",入力シート!P780)","v":""}]
[{"$f":"IF(入力シート!A781=\"\",\"\",入力シート!A781)","v":""},{"$f":"IF(入力シート!B781=\"\",\"\",入力シート!B781)","v":""},{"$f":"IF(入力シート!C781=\"\",\"\",TEXT(入力シート!C781,\"yyyy-mm-dd\"))","v":""},{"$f":"IF(入力シート!O781=\"\",\"\",TEXT(入力シート!O781,\"000-0000\"))","v":""},{"$f":"IF(入力シート!F781=\"\",\"\",入力シート!F781)","v":""},{"$f":"IF(入力シート!G781=\"\",\"\",入力シート!G781)","v":""},{"$f":"IF(入力シート!H781=\"\",\"\",入力シート!H781)","v":""},{"$f":"IF(入力シート!I781=\"\",\"\",入力シート!I781)","v":""},{"$f":"IF(入力シート!J781=\"\",\"\",入力シート!J781)","v":""},{"$f":"IF(入力シート!K781=\"\",\"\",入力シート!K781)","v":""},{"$f":"IF(入力シート!L781=\"\",\"\",入力シート!L781)","v":""},{"$f":"IF(入力シート!M781=\"\",\"\",入力シート!M781)","v":""},{"$f":"IF(入力シート!N781=\"\",\"\",入力シート!P781)","v":""}]
[{"$f":"IF(入力シート!A782=\"\",\"\",入力シート!A782)","v":""},{"$f":"IF(入力シート!B782=\"\",\"\",入力シート!B782)","v":""},{"$f":"IF(入力シート!C782=\"\",\"\",TEXT(入力シート!C782,\"yyyy-mm-dd\"))","v":""},{"$f":"IF(入力シート!O782=\"\",\"\",TEXT(入力シート!O782,\"000-0000\"))","v":""},{"$f":"IF(入力シート!F782=\"\",\"\",入力シート!F782)","v":""},{"$f":"IF(入力シート!G782=\"\",\"\",入力シート!G782)","v":""},{"$f":"IF(入力シート!H782=\"\",\"\",入力シート!H782)","v":""},{"$f":"IF(入力シート!I782=\"\",\"\",入力シート!I782)","v":""},{"$f":"IF(入力シート!J782=\"\",\"\",入力シート!J782)","v":""},{"$f":"IF(入力シート!K782=\"\",\"\",入力シート!K782)","v":""},{"$f":"IF(入力シート!L782=\"\",\"\",入力シート!L782)","v":""},{"$f":"IF(入力シート!M782=\"\",\"\",入力シート!M782)","v":""},{"$f":"IF(入力シート!N782=\"\",\"\",入力シート!P782)","v":""}]
[{"$f":"IF(入力シート!A783=\"\",\"\",入力シート!A783)","v":""},{"$f":"IF(入力シート!B783=\"\",\"\",入力シート!B783)","v":""},{"$f":"IF(入力シート!C783=\"\",\"\",TEXT(入力シート!C783,\"yyyy-mm-dd\"))","v":""},{"$f":"IF(入力シート!O783=\"\",\"\",TEXT(入力シート!O783,\"000-0000\"))","v":""},{"$f":"IF(入力シート!F783=\"\",\"\",入力シート!F783)","v":""},{"$f":"IF(入力シート!G783=\"\",\"\",入力シート!G783)","v":""},{"$f":"IF(入力シート!H783=\"\",\"\",入力シート!H783)","v":""},{"$f":"IF(入力シート!I783=\"\",\"\",入力シート!I783)","v":""},{"$f":"IF(入力シート!J783=\"\",\"\",入力シート!J783)","v":""},{"$f":"IF(入力シート!K783=\"\",\"\",入力シート!K783)","v":""},{"$f":"IF(入力シート!L783=\"\",\"\",入力シート!L783)","v":""},{"$f":"IF(入力シート!M783=\"\",\"\",入力シート!M783)","v":""},{"$f":"IF(入力シート!N783=\"\",\"\",入力シート!P783)","v":""}]
[{"$f":"IF(入力シート!A784=\"\",\"\",入力シート!A784)","v":""},{"$f":"IF(入力シート!B784=\"\",\"\",入力シート!B784)","v":""},{"$f":"IF(入力シート!C784=\"\",\"\",TEXT(入力シート!C784,\"yyyy-mm-dd\"))","v":""},{"$f":"IF(入力シート!O784=\"\",\"\",TEXT(入力シート!O784,\"000-0000\"))","v":""},{"$f":"IF(入力シート!F784=\"\",\"\",入力シート!F784)","v":""},{"$f":"IF(入力シート!G784=\"\",\"\",入力シート!G784)","v":""},{"$f":"IF(入力シート!H784=\"\",\"\",入力シート!H784)","v":""},{"$f":"IF(入力シート!I784=\"\",\"\",入力シート!I784)","v":""},{"$f":"IF(入力シート!J784=\"\",\"\",入力シート!J784)","v":""},{"$f":"IF(入力シート!K784=\"\",\"\",入力シート!K784)","v":""},{"$f":"IF(入力シート!L784=\"\",\"\",入力シート!L784)","v":""},{"$f":"IF(入力シート!M784=\"\",\"\",入力シート!M784)","v":""},{"$f":"IF(入力シート!N784=\"\",\"\",入力シート!P784)","v":""}]
[{"$f":"IF(入力シート!A785=\"\",\"\",入力シート!A785)","v":""},{"$f":"IF(入力シート!B785=\"\",\"\",入力シート!B785)","v":""},{"$f":"IF(入力シート!C785=\"\",\"\",TEXT(入力シート!C785,\"yyyy-mm-dd\"))","v":""},{"$f":"IF(入力シート!O785=\"\",\"\",TEXT(入力シート!O785,\"000-0000\"))","v":""},{"$f":"IF(入力シート!F785=\"\",\"\",入力シート!F785)","v":""},{"$f":"IF(入力シート!G785=\"\",\"\",入力シート!G785)","v":""},{"$f":"IF(入力シート!H785=\"\",\"\",入力シート!H785)","v":""},{"$f":"IF(入力シート!I785=\"\",\"\",入力シート!I785)","v":""},{"$f":"IF(入力シート!J785=\"\",\"\",入力シート!J785)","v":""},{"$f":"IF(入力シート!K785=\"\",\"\",入力シート!K785)","v":""},{"$f":"IF(入力シート!L785=\"\",\"\",入力シート!L785)","v":""},{"$f":"IF(入力シート!M785=\"\",\"\",入力シート!M785)","v":""},{"$f":"IF(入力シート!N785=\"\",\"\",入力シート!P785)","v":""}]
[{"$f":"IF(入力シート!A786=\"\",\"\",入力シート!A786)","v":""},{"$f":"IF(入力シート!B786=\"\",\"\",入力シート!B786)","v":""},{"$f":"IF(入力シート!C786=\"\",\"\",TEXT(入力シート!C786,\"yyyy-mm-dd\"))","v":""},{"$f":"IF(入力シート!O786=\"\",\"\",TEXT(入力シート!O786,\"000-0000\"))","v":""},{"$f":"IF(入力シート!F786=\"\",\"\",入力シート!F786)","v":""},{"$f":"IF(入力シート!G786=\"\",\"\",入力シート!G786)","v":""},{"$f":"IF(入力シート!H786=\"\",\"\",入力シート!H786)","v":""},{"$f":"IF(入力シート!I786=\"\",\"\",入力シート!I786)","v":""},{"$f":"IF(入力シート!J786=\"\",\"\",入力シート!J786)","v":""},{"$f":"IF(入力シート!K786=\"\",\"\",入力シート!K786)","v":""},{"$f":"IF(入力シート!L786=\"\",\"\",入力シート!L786)","v":""},{"$f":"IF(入力シート!M786=\"\",\"\",入力シート!M786)","v":""},{"$f":"IF(入力シート!N786=\"\",\"\",入力シート!P786)","v":""}]
[{"$f":"IF(入力シート!A787=\"\",\"\",入力シート!A787)","v":""},{"$f":"IF(入力シート!B787=\"\",\"\",入力シート!B787)","v":""},{"$f":"IF(入力シート!C787=\"\",\"\",TEXT(入力シート!C787,\"yyyy-mm-dd\"))","v":""},{"$f":"IF(入力シート!O787=\"\",\"\",TEXT(入力シート!O787,\"000-0000\"))","v":""},{"$f":"IF(入力シート!F787=\"\",\"\",入力シート!F787)","v":""},{"$f":"IF(入力シート!G787=\"\",\"\",入力シート!G787)","v":""},{"$f":"IF(入力シート!H787=\"\",\"\",入力シート!H787)","v":""},{"$f":"IF(入力シート!I787=\"\",\"\",入力シート!I787)","v":""},{"$f":"IF(入力シート!J787=\"\",\"\",入力シート!J787)","v":""},{"$f":"IF(入力シート!K787=\"\",\"\",入力シート!K787)","v":""},{"$f":"IF(入力シート!L787=\"\",\"\",入力シート!L787)","v":""},{"$f":"IF(入力シート!M787=\"\",\"\",入力シート!M787)","v":""},{"$f":"IF(入力シート!N787=\"\",\"\",入力シート!P787)","v":""}]
[{"$f":"IF(入力シート!A788=\"\",\"\",入力シート!A788)","v":""},{"$f":"IF(入力シート!B788=\"\",\"\",入力シート!B788)","v":""},{"$f":"IF(入力シート!C788=\"\",\"\",TEXT(入力シート!C788,\"yyyy-mm-dd\"))","v":""},{"$f":"IF(入力シート!O788=\"\",\"\",TEXT(入力シート!O788,\"000-0000\"))","v":""},{"$f":"IF(入力シート!F788=\"\",\"\",入力シート!F788)","v":""},{"$f":"IF(入力シート!G788=\"\",\"\",入力シート!G788)","v":""},{"$f":"IF(入力シート!H788=\"\",\"\",入力シート!H788)","v":""},{"$f":"IF(入力シート!I788=\"\",\"\",入力シート!I788)","v":""},{"$f":"IF(入力シート!J788=\"\",\"\",入力シート!J788)","v":""},{"$f":"IF(入力シート!K788=\"\",\"\",入力シート!K788)","v":""},{"$f":"IF(入力シート!L788=\"\",\"\",入力シート!L788)","v":""},{"$f":"IF(入力シート!M788=\"\",\"\",入力シート!M788)","v":""},{"$f":"IF(入力シート!N788=\"\",\"\",入力シート!P788)","v":""}]
[{"$f":"IF(入力シート!A789=\"\",\"\",入力シート!A789)","v":""},{"$f":"IF(入力シート!B789=\"\",\"\",入力シート!B789)","v":""},{"$f":"IF(入力シート!C789=\"\",\"\",TEXT(入力シート!C789,\"yyyy-mm-dd\"))","v":""},{"$f":"IF(入力シート!O789=\"\",\"\",TEXT(入力シート!O789,\"000-0000\"))","v":""},{"$f":"IF(入力シート!F789=\"\",\"\",入力シート!F789)","v":""},{"$f":"IF(入力シート!G789=\"\",\"\",入力シート!G789)","v":""},{"$f":"IF(入力シート!H789=\"\",\"\",入力シート!H789)","v":""},{"$f":"IF(入力シート!I789=\"\",\"\",入力シート!I789)","v":""},{"$f":"IF(入力シート!J789=\"\",\"\",入力シート!J789)","v":""},{"$f":"IF(入力シート!K789=\"\",\"\",入力シート!K789)","v":""},{"$f":"IF(入力シート!L789=\"\",\"\",入力シート!L789)","v":""},{"$f":"IF(入力シート!M789=\"\",\"\",入力シート!M789)","v":""},{"$f":"IF(入力シート!N789=\"\",\"\",入力シート!P789)","v":""}]
[{"$f":"IF(入力シート!A790=\"\",\"\",入力シート!A790)","v":""},{"$f":"IF(入力シート!B790=\"\",\"\",入力シート!B790)","v":""},{"$f":"IF(入力シート!C790=\"\",\"\",TEXT(入力シート!C790,\"yyyy-mm-dd\"))","v":""},{"$f":"IF(入力シート!O790=\"\",\"\",TEXT(入力シート!O790,\"000-0000\"))","v":""},{"$f":"IF(入力シート!F790=\"\",\"\",入力シート!F790)","v":""},{"$f":"IF(入力シート!G790=\"\",\"\",入力シート!G790)","v":""},{"$f":"IF(入力シート!H790=\"\",\"\",入力シート!H790)","v":""},{"$f":"IF(入力シート!I790=\"\",\"\",入力シート!I790)","v":""},{"$f":"IF(入力シート!J790=\"\",\"\",入力シート!J790)","v":""},{"$f":"IF(入力シート!K790=\"\",\"\",入力シート!K790)","v":""},{"$f":"IF(入力シート!L790=\"\",\"\",入力シート!L790)","v":""},{"$f":"IF(入力シート!M790=\"\",\"\",入力シート!M790)","v":""},{"$f":"IF(入力シート!N790=\"\",\"\",入力シート!P790)","v":""}]
[{"$f":"IF(入力シート!A791=\"\",\"\",入力シート!A791)","v":""},{"$f":"IF(入力シート!B791=\"\",\"\",入力シート!B791)","v":""},{"$f":"IF(入力シート!C791=\"\",\"\",TEXT(入力シート!C791,\"yyyy-mm-dd\"))","v":""},{"$f":"IF(入力シート!O791=\"\",\"\",TEXT(入力シート!O791,\"000-0000\"))","v":""},{"$f":"IF(入力シート!F791=\"\",\"\",入力シート!F791)","v":""},{"$f":"IF(入力シート!G791=\"\",\"\",入力シート!G791)","v":""},{"$f":"IF(入力シート!H791=\"\",\"\",入力シート!H791)","v":""},{"$f":"IF(入力シート!I791=\"\",\"\",入力シート!I791)","v":""},{"$f":"IF(入力シート!J791=\"\",\"\",入力シート!J791)","v":""},{"$f":"IF(入力シート!K791=\"\",\"\",入力シート!K791)","v":""},{"$f":"IF(入力シート!L791=\"\",\"\",入力シート!L791)","v":""},{"$f":"IF(入力シート!M791=\"\",\"\",入力シート!M791)","v":""},{"$f":"IF(入力シート!N791=\"\",\"\",入力シート!P791)","v":""}]
[{"$f":"IF(入力シート!A792=\"\",\"\",入力シート!A792)","v":""},{"$f":"IF(入力シート!B792=\"\",\"\",入力シート!B792)","v":""},{"$f":"IF(入力シート!C792=\"\",\"\",TEXT(入力シート!C792,\"yyyy-mm-dd\"))","v":""},{"$f":"IF(入力シート!O792=\"\",\"\",TEXT(入力シート!O792,\"000-0000\"))","v":""},{"$f":"IF(入力シート!F792=\"\",\"\",入力シート!F792)","v":""},{"$f":"IF(入力シート!G792=\"\",\"\",入力シート!G792)","v":""},{"$f":"IF(入力シート!H792=\"\",\"\",入力シート!H792)","v":""},{"$f":"IF(入力シート!I792=\"\",\"\",入力シート!I792)","v":""},{"$f":"IF(入力シート!J792=\"\",\"\",入力シート!J792)","v":""},{"$f":"IF(入力シート!K792=\"\",\"\",入力シート!K792)","v":""},{"$f":"IF(入力シート!L792=\"\",\"\",入力シート!L792)","v":""},{"$f":"IF(入力シート!M792=\"\",\"\",入力シート!M792)","v":""},{"$f":"IF(入力シート!N792=\"\",\"\",入力シート!P792)","v":""}]
[{"$f":"IF(入力シート!A793=\"\",\"\",入力シート!A793)","v":""},{"$f":"IF(入力シート!B793=\"\",\"\",入力シート!B793)","v":""},{"$f":"IF(入力シート!C793=\"\",\"\",TEXT(入力シート!C793,\"yyyy-mm-dd\"))","v":""},{"$f":"IF(入力シート!O793=\"\",\"\",TEXT(入力シート!O793,\"000-0000\"))","v":""},{"$f":"IF(入力シート!F793=\"\",\"\",入力シート!F793)","v":""},{"$f":"IF(入力シート!G793=\"\",\"\",入力シート!G793)","v":""},{"$f":"IF(入力シート!H793=\"\",\"\",入力シート!H793)","v":""},{"$f":"IF(入力シート!I793=\"\",\"\",入力シート!I793)","v":""},{"$f":"IF(入力シート!J793=\"\",\"\",入力シート!J793)","v":""},{"$f":"IF(入力シート!K793=\"\",\"\",入力シート!K793)","v":""},{"$f":"IF(入力シート!L793=\"\",\"\",入力シート!L793)","v":""},{"$f":"IF(入力シート!M793=\"\",\"\",入力シート!M793)","v":""},{"$f":"IF(入力シート!N793=\"\",\"\",入力シート!P793)","v":""}]
[{"$f":"IF(入力シート!A794=\"\",\"\",入力シート!A794)","v":""},{"$f":"IF(入力シート!B794=\"\",\"\",入力シート!B794)","v":""},{"$f":"IF(入力シート!C794=\"\",\"\",TEXT(入力シート!C794,\"yyyy-mm-dd\"))","v":""},{"$f":"IF(入力シート!O794=\"\",\"\",TEXT(入力シート!O794,\"000-0000\"))","v":""},{"$f":"IF(入力シート!F794=\"\",\"\",入力シート!F794)","v":""},{"$f":"IF(入力シート!G794=\"\",\"\",入力シート!G794)","v":""},{"$f":"IF(入力シート!H794=\"\",\"\",入力シート!H794)","v":""},{"$f":"IF(入力シート!I794=\"\",\"\",入力シート!I794)","v":""},{"$f":"IF(入力シート!J794=\"\",\"\",入力シート!J794)","v":""},{"$f":"IF(入力シート!K794=\"\",\"\",入力シート!K794)","v":""},{"$f":"IF(入力シート!L794=\"\",\"\",入力シート!L794)","v":""},{"$f":"IF(入力シート!M794=\"\",\"\",入力シート!M794)","v":""},{"$f":"IF(入力シート!N794=\"\",\"\",入力シート!P794)","v":""}]
[{"$f":"IF(入力シート!A795=\"\",\"\",入力シート!A795)","v":""},{"$f":"IF(入力シート!B795=\"\",\"\",入力シート!B795)","v":""},{"$f":"IF(入力シート!C795=\"\",\"\",TEXT(入力シート!C795,\"yyyy-mm-dd\"))","v":""},{"$f":"IF(入力シート!O795=\"\",\"\",TEXT(入力シート!O795,\"000-0000\"))","v":""},{"$f":"IF(入力シート!F795=\"\",\"\",入力シート!F795)","v":""},{"$f":"IF(入力シート!G795=\"\",\"\",入力シート!G795)","v":""},{"$f":"IF(入力シート!H795=\"\",\"\",入力シート!H795)","v":""},{"$f":"IF(入力シート!I795=\"\",\"\",入力シート!I795)","v":""},{"$f":"IF(入力シート!J795=\"\",\"\",入力シート!J795)","v":""},{"$f":"IF(入力シート!K795=\"\",\"\",入力シート!K795)","v":""},{"$f":"IF(入力シート!L795=\"\",\"\",入力シート!L795)","v":""},{"$f":"IF(入力シート!M795=\"\",\"\",入力シート!M795)","v":""},{"$f":"IF(入力シート!N795=\"\",\"\",入力シート!P795)","v":""}]
[{"$f":"IF(入力シート!A796=\"\",\"\",入力シート!A796)","v":""},{"$f":"IF(入力シート!B796=\"\",\"\",入力シート!B796)","v":""},{"$f":"IF(入力シート!C796=\"\",\"\",TEXT(入力シート!C796,\"yyyy-mm-dd\"))","v":""},{"$f":"IF(入力シート!O796=\"\",\"\",TEXT(入力シート!O796,\"000-0000\"))","v":""},{"$f":"IF(入力シート!F796=\"\",\"\",入力シート!F796)","v":""},{"$f":"IF(入力シート!G796=\"\",\"\",入力シート!G796)","v":""},{"$f":"IF(入力シート!H796=\"\",\"\",入力シート!H796)","v":""},{"$f":"IF(入力シート!I796=\"\",\"\",入力シート!I796)","v":""},{"$f":"IF(入力シート!J796=\"\",\"\",入力シート!J796)","v":""},{"$f":"IF(入力シート!K796=\"\",\"\",入力シート!K796)","v":""},{"$f":"IF(入力シート!L796=\"\",\"\",入力シート!L796)","v":""},{"$f":"IF(入力シート!M796=\"\",\"\",入力シート!M796)","v":""},{"$f":"IF(入力シート!N796=\"\",\"\",入力シート!P796)","v":""}]
[{"$f":"IF(入力シート!A797=\"\",\"\",入力シート!A797)","v":""},{"$f":"IF(入力シート!B797=\"\",\"\",入力シート!B797)","v":""},{"$f":"IF(入力シート!C797=\"\",\"\",TEXT(入力シート!C797,\"yyyy-mm-dd\"))","v":""},{"$f":"IF(入力シート!O797=\"\",\"\",TEXT(入力シート!O797,\"000-0000\"))","v":""},{"$f":"IF(入力シート!F797=\"\",\"\",入力シート!F797)","v":""},{"$f":"IF(入力シート!G797=\"\",\"\",入力シート!G797)","v":""},{"$f":"IF(入力シート!H797=\"\",\"\",入力シート!H797)","v":""},{"$f":"IF(入力シート!I797=\"\",\"\",入力シート!I797)","v":""},{"$f":"IF(入力シート!J797=\"\",\"\",入力シート!J797)","v":""},{"$f":"IF(入力シート!K797=\"\",\"\",入力シート!K797)","v":""},{"$f":"IF(入力シート!L797=\"\",\"\",入力シート!L797)","v":""},{"$f":"IF(入力シート!M797=\"\",\"\",入力シート!M797)","v":""},{"$f":"IF(入力シート!N797=\"\",\"\",入力シート!P797)","v":""}]
[{"$f":"IF(入力シート!A798=\"\",\"\",入力シート!A798)","v":""},{"$f":"IF(入力シート!B798=\"\",\"\",入力シート!B798)","v":""},{"$f":"IF(入力シート!C798=\"\",\"\",TEXT(入力シート!C798,\"yyyy-mm-dd\"))","v":""},{"$f":"IF(入力シート!O798=\"\",\"\",TEXT(入力シート!O798,\"000-0000\"))","v":""},{"$f":"IF(入力シート!F798=\"\",\"\",入力シート!F798)","v":""},{"$f":"IF(入力シート!G798=\"\",\"\",入力シート!G798)","v":""},{"$f":"IF(入力シート!H798=\"\",\"\",入力シート!H798)","v":""},{"$f":"IF(入力シート!I798=\"\",\"\",入力シート!I798)","v":""},{"$f":"IF(入力シート!J798=\"\",\"\",入力シート!J798)","v":""},{"$f":"IF(入力シート!K798=\"\",\"\",入力シート!K798)","v":""},{"$f":"IF(入力シート!L798=\"\",\"\",入力シート!L798)","v":""},{"$f":"IF(入力シート!M798=\"\",\"\",入力シート!M798)","v":""},{"$f":"IF(入力シート!N798=\"\",\"\",入力シート!P798)","v":""}]
[{"$f":"IF(入力シート!A799=\"\",\"\",入力シート!A799)","v":""},{"$f":"IF(入力シート!B799=\"\",\"\",入力シート!B799)","v":""},{"$f":"IF(入力シート!C799=\"\",\"\",TEXT(入力シート!C799,\"yyyy-mm-dd\"))","v":""},{"$f":"IF(入力シート!O799=\"\",\"\",TEXT(入力シート!O799,\"000-0000\"))","v":""},{"$f":"IF(入力シート!F799=\"\",\"\",入力シート!F799)","v":""},{"$f":"IF(入力シート!G799=\"\",\"\",入力シート!G799)","v":""},{"$f":"IF(入力シート!H799=\"\",\"\",入力シート!H799)","v":""},{"$f":"IF(入力シート!I799=\"\",\"\",入力シート!I799)","v":""},{"$f":"IF(入力シート!J799=\"\",\"\",入力シート!J799)","v":""},{"$f":"IF(入力シート!K799=\"\",\"\",入力シート!K799)","v":""},{"$f":"IF(入力シート!L799=\"\",\"\",入力シート!L799)","v":""},{"$f":"IF(入力シート!M799=\"\",\"\",入力シート!M799)","v":""},{"$f":"IF(入力シート!N799=\"\",\"\",入力シート!P799)","v":""}]
[{"$f":"IF(入力シート!A800=\"\",\"\",入力シート!A800)","v":""},{"$f":"IF(入力シート!B800=\"\",\"\",入力シート!B800)","v":""},{"$f":"IF(入力シート!C800=\"\",\"\",TEXT(入力シート!C800,\"yyyy-mm-dd\"))","v":""},{"$f":"IF(入力シート!O800=\"\",\"\",TEXT(入力シート!O800,\"000-0000\"))","v":""},{"$f":"IF(入力シート!F800=\"\",\"\",入力シート!F800)","v":""},{"$f":"IF(入力シート!G800=\"\",\"\",入力シート!G800)","v":""},{"$f":"IF(入力シート!H800=\"\",\"\",入力シート!H800)","v":""},{"$f":"IF(入力シート!I800=\"\",\"\",入力シート!I800)","v":""},{"$f":"IF(入力シート!J800=\"\",\"\",入力シート!J800)","v":""},{"$f":"IF(入力シート!K800=\"\",\"\",入力シート!K800)","v":""},{"$f":"IF(入力シート!L800=\"\",\"\",入力シート!L800)","v":""},{"$f":"IF(入力シート!M800=\"\",\"\",入力シート!M800)","v":""},{"$f":"IF(入力シート!N800=\"\",\"\",入力シート!P800)","v":""}]
[{"$f":"IF(入力シート!A801=\"\",\"\",入力シート!A801)","v":""},{"$f":"IF(入力シート!B801=\"\",\"\",入力シート!B801)","v":""},{"$f":"IF(入力シート!C801=\"\",\"\",TEXT(入力シート!C801,\"yyyy-mm-dd\"))","v":""},{"$f":"IF(入力シート!O801=\"\",\"\",TEXT(入力シート!O801,\"000-0000\"))","v":""},{"$f":"IF(入力シート!F801=\"\",\"\",入力シート!F801)","v":""},{"$f":"IF(入力シート!G801=\"\",\"\",入力シート!G801)","v":""},{"$f":"IF(入力シート!H801=\"\",\"\",入力シート!H801)","v":""},{"$f":"IF(入力シート!I801=\"\",\"\",入力シート!I801)","v":""},{"$f":"IF(入力シート!J801=\"\",\"\",入力シート!J801)","v":""},{"$f":"IF(入力シート!K801=\"\",\"\",入力シート!K801)","v":""},{"$f":"IF(入力シート!L801=\"\",\"\",入力シート!L801)","v":""},{"$f":"IF(入力シート!M801=\"\",\"\",入力シート!M801)","v":""},{"$f":"IF(入力シート!N801=\"\",\"\",入力シート!P801)","v":""}]
[{"$f":"IF(入力シート!A802=\"\",\"\",入力シート!A802)","v":""},{"$f":"IF(入力シート!B802=\"\",\"\",入力シート!B802)","v":""},{"$f":"IF(入力シート!C802=\"\",\"\",TEXT(入力シート!C802,\"yyyy-mm-dd\"))","v":""},{"$f":"IF(入力シート!O802=\"\",\"\",TEXT(入力シート!O802,\"000-0000\"))","v":""},{"$f":"IF(入力シート!F802=\"\",\"\",入力シート!F802)","v":""},{"$f":"IF(入力シート!G802=\"\",\"\",入力シート!G802)","v":""},{"$f":"IF(入力シート!H802=\"\",\"\",入力シート!H802)","v":""},{"$f":"IF(入力シート!I802=\"\",\"\",入力シート!I802)","v":""},{"$f":"IF(入力シート!J802=\"\",\"\",入力シート!J802)","v":""},{"$f":"IF(入力シート!K802=\"\",\"\",入力シート!K802)","v":""},{"$f":"IF(入力シート!L802=\"\",\"\",入力シート!L802)","v":""},{"$f":"IF(入力シート!M802=\"\",\"\",入力シート!M802)","v":""},{"$f":"IF(入力シート!N802=\"\",\"\",入力シート!P802)","v":""}]
[{"$f":"IF(入力シート!A803=\"\",\"\",入力シート!A803)","v":""},{"$f":"IF(入力シート!B803=\"\",\"\",入力シート!B803)","v":""},{"$f":"IF(入力シート!C803=\"\",\"\",TEXT(入力シート!C803,\"yyyy-mm-dd\"))","v":""},{"$f":"IF(入力シート!O803=\"\",\"\",TEXT(入力シート!O803,\"000-0000\"))","v":""},{"$f":"IF(入力シート!F803=\"\",\"\",入力シート!F803)","v":""},{"$f":"IF(入力シート!G803=\"\",\"\",入力シート!G803)","v":""},{"$f":"IF(入力シート!H803=\"\",\"\",入力シート!H803)","v":""},{"$f":"IF(入力シート!I803=\"\",\"\",入力シート!I803)","v":""},{"$f":"IF(入力シート!J803=\"\",\"\",入力シート!J803)","v":""},{"$f":"IF(入力シート!K803=\"\",\"\",入力シート!K803)","v":""},{"$f":"IF(入力シート!L803=\"\",\"\",入力シート!L803)","v":""},{"$f":"IF(入力シート!M803=\"\",\"\",入力シート!M803)","v":""},{"$f":"IF(入力シート!N803=\"\",\"\",入力シート!P803)","v":""}]
[{"$f":"IF(入力シート!A804=\"\",\"\",入力シート!A804)","v":""},{"$f":"IF(入力シート!B804=\"\",\"\",入力シート!B804)","v":""},{"$f":"IF(入力シート!C804=\"\",\"\",TEXT(入力シート!C804,\"yyyy-mm-dd\"))","v":""},{"$f":"IF(入力シート!O804=\"\",\"\",TEXT(入力シート!O804,\"000-0000\"))","v":""},{"$f":"IF(入力シート!F804=\"\",\"\",入力シート!F804)","v":""},{"$f":"IF(入力シート!G804=\"\",\"\",入力シート!G804)","v":""},{"$f":"IF(入力シート!H804=\"\",\"\",入力シート!H804)","v":""},{"$f":"IF(入力シート!I804=\"\",\"\",入力シート!I804)","v":""},{"$f":"IF(入力シート!J804=\"\",\"\",入力シート!J804)","v":""},{"$f":"IF(入力シート!K804=\"\",\"\",入力シート!K804)","v":""},{"$f":"IF(入力シート!L804=\"\",\"\",入力シート!L804)","v":""},{"$f":"IF(入力シート!M804=\"\",\"\",入力シート!M804)","v":""},{"$f":"IF(入力シート!N804=\"\",\"\",入力シート!P804)","v":""}]
[{"$f":"IF(入力シート!A805=\"\",\"\",入力シート!A805)","v":""},{"$f":"IF(入力シート!B805=\"\",\"\",入力シート!B805)","v":""},{"$f":"IF(入力シート!C805=\"\",\"\",TEXT(入力シート!C805,\"yyyy-mm-dd\"))","v":""},{"$f":"IF(入力シート!O805=\"\",\"\",TEXT(入力シート!O805,\"000-0000\"))","v":""},{"$f":"IF(入力シート!F805=\"\",\"\",入力シート!F805)","v":""},{"$f":"IF(入力シート!G805=\"\",\"\",入力シート!G805)","v":""},{"$f":"IF(入力シート!H805=\"\",\"\",入力シート!H805)","v":""},{"$f":"IF(入力シート!I805=\"\",\"\",入力シート!I805)","v":""},{"$f":"IF(入力シート!J805=\"\",\"\",入力シート!J805)","v":""},{"$f":"IF(入力シート!K805=\"\",\"\",入力シート!K805)","v":""},{"$f":"IF(入力シート!L805=\"\",\"\",入力シート!L805)","v":""},{"$f":"IF(入力シート!M805=\"\",\"\",入力シート!M805)","v":""},{"$f":"IF(入力シート!N805=\"\",\"\",入力シート!P805)","v":""}]
[{"$f":"IF(入力シート!A806=\"\",\"\",入力シート!A806)","v":""},{"$f":"IF(入力シート!B806=\"\",\"\",入力シート!B806)","v":""},{"$f":"IF(入力シート!C806=\"\",\"\",TEXT(入力シート!C806,\"yyyy-mm-dd\"))","v":""},{"$f":"IF(入力シート!O806=\"\",\"\",TEXT(入力シート!O806,\"000-0000\"))","v":""},{"$f":"IF(入力シート!F806=\"\",\"\",入力シート!F806)","v":""},{"$f":"IF(入力シート!G806=\"\",\"\",入力シート!G806)","v":""},{"$f":"IF(入力シート!H806=\"\",\"\",入力シート!H806)","v":""},{"$f":"IF(入力シート!I806=\"\",\"\",入力シート!I806)","v":""},{"$f":"IF(入力シート!J806=\"\",\"\",入力シート!J806)","v":""},{"$f":"IF(入力シート!K806=\"\",\"\",入力シート!K806)","v":""},{"$f":"IF(入力シート!L806=\"\",\"\",入力シート!L806)","v":""},{"$f":"IF(入力シート!M806=\"\",\"\",入力シート!M806)","v":""},{"$f":"IF(入力シート!N806=\"\",\"\",入力シート!P806)","v":""}]
[{"$f":"IF(入力シート!A807=\"\",\"\",入力シート!A807)","v":""},{"$f":"IF(入力シート!B807=\"\",\"\",入力シート!B807)","v":""},{"$f":"IF(入力シート!C807=\"\",\"\",TEXT(入力シート!C807,\"yyyy-mm-dd\"))","v":""},{"$f":"IF(入力シート!O807=\"\",\"\",TEXT(入力シート!O807,\"000-0000\"))","v":""},{"$f":"IF(入力シート!F807=\"\",\"\",入力シート!F807)","v":""},{"$f":"IF(入力シート!G807=\"\",\"\",入力シート!G807)","v":""},{"$f":"IF(入力シート!H807=\"\",\"\",入力シート!H807)","v":""},{"$f":"IF(入力シート!I807=\"\",\"\",入力シート!I807)","v":""},{"$f":"IF(入力シート!J807=\"\",\"\",入力シート!J807)","v":""},{"$f":"IF(入力シート!K807=\"\",\"\",入力シート!K807)","v":""},{"$f":"IF(入力シート!L807=\"\",\"\",入力シート!L807)","v":""},{"$f":"IF(入力シート!M807=\"\",\"\",入力シート!M807)","v":""},{"$f":"IF(入力シート!N807=\"\",\"\",入力シート!P807)","v":""}]
[{"$f":"IF(入力シート!A808=\"\",\"\",入力シート!A808)","v":""},{"$f":"IF(入力シート!B808=\"\",\"\",入力シート!B808)","v":""},{"$f":"IF(入力シート!C808=\"\",\"\",TEXT(入力シート!C808,\"yyyy-mm-dd\"))","v":""},{"$f":"IF(入力シート!O808=\"\",\"\",TEXT(入力シート!O808,\"000-0000\"))","v":""},{"$f":"IF(入力シート!F808=\"\",\"\",入力シート!F808)","v":""},{"$f":"IF(入力シート!G808=\"\",\"\",入力シート!G808)","v":""},{"$f":"IF(入力シート!H808=\"\",\"\",入力シート!H808)","v":""},{"$f":"IF(入力シート!I808=\"\",\"\",入力シート!I808)","v":""},{"$f":"IF(入力シート!J808=\"\",\"\",入力シート!J808)","v":""},{"$f":"IF(入力シート!K808=\"\",\"\",入力シート!K808)","v":""},{"$f":"IF(入力シート!L808=\"\",\"\",入力シート!L808)","v":""},{"$f":"IF(入力シート!M808=\"\",\"\",入力シート!M808)","v":""},{"$f":"IF(入力シート!N808=\"\",\"\",入力シート!P808)","v":""}]
[{"$f":"IF(入力シート!A809=\"\",\"\",入力シート!A809)","v":""},{"$f":"IF(入力シート!B809=\"\",\"\",入力シート!B809)","v":""},{"$f":"IF(入力シート!C809=\"\",\"\",TEXT(入力シート!C809,\"yyyy-mm-dd\"))","v":""},{"$f":"IF(入力シート!O809=\"\",\"\",TEXT(入力シート!O809,\"000-0000\"))","v":""},{"$f":"IF(入力シート!F809=\"\",\"\",入力シート!F809)","v":""},{"$f":"IF(入力シート!G809=\"\",\"\",入力シート!G809)","v":""},{"$f":"IF(入力シート!H809=\"\",\"\",入力シート!H809)","v":""},{"$f":"IF(入力シート!I809=\"\",\"\",入力シート!I809)","v":""},{"$f":"IF(入力シート!J809=\"\",\"\",入力シート!J809)","v":""},{"$f":"IF(入力シート!K809=\"\",\"\",入力シート!K809)","v":""},{"$f":"IF(入力シート!L809=\"\",\"\",入力シート!L809)","v":""},{"$f":"IF(入力シート!M809=\"\",\"\",入力シート!M809)","v":""},{"$f":"IF(入力シート!N809=\"\",\"\",入力シート!P809)","v":""}]
[{"$f":"IF(入力シート!A810=\"\",\"\",入力シート!A810)","v":""},{"$f":"IF(入力シート!B810=\"\",\"\",入力シート!B810)","v":""},{"$f":"IF(入力シート!C810=\"\",\"\",TEXT(入力シート!C810,\"yyyy-mm-dd\"))","v":""},{"$f":"IF(入力シート!O810=\"\",\"\",TEXT(入力シート!O810,\"000-0000\"))","v":""},{"$f":"IF(入力シート!F810=\"\",\"\",入力シート!F810)","v":""},{"$f":"IF(入力シート!G810=\"\",\"\",入力シート!G810)","v":""},{"$f":"IF(入力シート!H810=\"\",\"\",入力シート!H810)","v":""},{"$f":"IF(入力シート!I810=\"\",\"\",入力シート!I810)","v":""},{"$f":"IF(入力シート!J810=\"\",\"\",入力シート!J810)","v":""},{"$f":"IF(入力シート!K810=\"\",\"\",入力シート!K810)","v":""},{"$f":"IF(入力シート!L810=\"\",\"\",入力シート!L810)","v":""},{"$f":"IF(入力シート!M810=\"\",\"\",入力シート!M810)","v":""},{"$f":"IF(入力シート!N810=\"\",\"\",入力シート!P810)","v":""}]
[{"$f":"IF(入力シート!A811=\"\",\"\",入力シート!A811)","v":""},{"$f":"IF(入力シート!B811=\"\",\"\",入力シート!B811)","v":""},{"$f":"IF(入力シート!C811=\"\",\"\",TEXT(入力シート!C811,\"yyyy-mm-dd\"))","v":""},{"$f":"IF(入力シート!O811=\"\",\"\",TEXT(入力シート!O811,\"000-0000\"))","v":""},{"$f":"IF(入力シート!F811=\"\",\"\",入力シート!F811)","v":""},{"$f":"IF(入力シート!G811=\"\",\"\",入力シート!G811)","v":""},{"$f":"IF(入力シート!H811=\"\",\"\",入力シート!H811)","v":""},{"$f":"IF(入力シート!I811=\"\",\"\",入力シート!I811)","v":""},{"$f":"IF(入力シート!J811=\"\",\"\",入力シート!J811)","v":""},{"$f":"IF(入力シート!K811=\"\",\"\",入力シート!K811)","v":""},{"$f":"IF(入力シート!L811=\"\",\"\",入力シート!L811)","v":""},{"$f":"IF(入力シート!M811=\"\",\"\",入力シート!M811)","v":""},{"$f":"IF(入力シート!N811=\"\",\"\",入力シート!P811)","v":""}]
[{"$f":"IF(入力シート!A812=\"\",\"\",入力シート!A812)","v":""},{"$f":"IF(入力シート!B812=\"\",\"\",入力シート!B812)","v":""},{"$f":"IF(入力シート!C812=\"\",\"\",TEXT(入力シート!C812,\"yyyy-mm-dd\"))","v":""},{"$f":"IF(入力シート!O812=\"\",\"\",TEXT(入力シート!O812,\"000-0000\"))","v":""},{"$f":"IF(入力シート!F812=\"\",\"\",入力シート!F812)","v":""},{"$f":"IF(入力シート!G812=\"\",\"\",入力シート!G812)","v":""},{"$f":"IF(入力シート!H812=\"\",\"\",入力シート!H812)","v":""},{"$f":"IF(入力シート!I812=\"\",\"\",入力シート!I812)","v":""},{"$f":"IF(入力シート!J812=\"\",\"\",入力シート!J812)","v":""},{"$f":"IF(入力シート!K812=\"\",\"\",入力シート!K812)","v":""},{"$f":"IF(入力シート!L812=\"\",\"\",入力シート!L812)","v":""},{"$f":"IF(入力シート!M812=\"\",\"\",入力シート!M812)","v":""},{"$f":"IF(入力シート!N812=\"\",\"\",入力シート!P812)","v":""}]
[{"$f":"IF(入力シート!A813=\"\",\"\",入力シート!A813)","v":""},{"$f":"IF(入力シート!B813=\"\",\"\",入力シート!B813)","v":""},{"$f":"IF(入力シート!C813=\"\",\"\",TEXT(入力シート!C813,\"yyyy-mm-dd\"))","v":""},{"$f":"IF(入力シート!O813=\"\",\"\",TEXT(入力シート!O813,\"000-0000\"))","v":""},{"$f":"IF(入力シート!F813=\"\",\"\",入力シート!F813)","v":""},{"$f":"IF(入力シート!G813=\"\",\"\",入力シート!G813)","v":""},{"$f":"IF(入力シート!H813=\"\",\"\",入力シート!H813)","v":""},{"$f":"IF(入力シート!I813=\"\",\"\",入力シート!I813)","v":""},{"$f":"IF(入力シート!J813=\"\",\"\",入力シート!J813)","v":""},{"$f":"IF(入力シート!K813=\"\",\"\",入力シート!K813)","v":""},{"$f":"IF(入力シート!L813=\"\",\"\",入力シート!L813)","v":""},{"$f":"IF(入力シート!M813=\"\",\"\",入力シート!M813)","v":""},{"$f":"IF(入力シート!N813=\"\",\"\",入力シート!P813)","v":""}]
[{"$f":"IF(入力シート!A814=\"\",\"\",入力シート!A814)","v":""},{"$f":"IF(入力シート!B814=\"\",\"\",入力シート!B814)","v":""},{"$f":"IF(入力シート!C814=\"\",\"\",TEXT(入力シート!C814,\"yyyy-mm-dd\"))","v":""},{"$f":"IF(入力シート!O814=\"\",\"\",TEXT(入力シート!O814,\"000-0000\"))","v":""},{"$f":"IF(入力シート!F814=\"\",\"\",入力シート!F814)","v":""},{"$f":"IF(入力シート!G814=\"\",\"\",入力シート!G814)","v":""},{"$f":"IF(入力シート!H814=\"\",\"\",入力シート!H814)","v":""},{"$f":"IF(入力シート!I814=\"\",\"\",入力シート!I814)","v":""},{"$f":"IF(入力シート!J814=\"\",\"\",入力シート!J814)","v":""},{"$f":"IF(入力シート!K814=\"\",\"\",入力シート!K814)","v":""},{"$f":"IF(入力シート!L814=\"\",\"\",入力シート!L814)","v":""},{"$f":"IF(入力シート!M814=\"\",\"\",入力シート!M814)","v":""},{"$f":"IF(入力シート!N814=\"\",\"\",入力シート!P814)","v":""}]
[{"$f":"IF(入力シート!A815=\"\",\"\",入力シート!A815)","v":""},{"$f":"IF(入力シート!B815=\"\",\"\",入力シート!B815)","v":""},{"$f":"IF(入力シート!C815=\"\",\"\",TEXT(入力シート!C815,\"yyyy-mm-dd\"))","v":""},{"$f":"IF(入力シート!O815=\"\",\"\",TEXT(入力シート!O815,\"000-0000\"))","v":""},{"$f":"IF(入力シート!F815=\"\",\"\",入力シート!F815)","v":""},{"$f":"IF(入力シート!G815=\"\",\"\",入力シート!G815)","v":""},{"$f":"IF(入力シート!H815=\"\",\"\",入力シート!H815)","v":""},{"$f":"IF(入力シート!I815=\"\",\"\",入力シート!I815)","v":""},{"$f":"IF(入力シート!J815=\"\",\"\",入力シート!J815)","v":""},{"$f":"IF(入力シート!K815=\"\",\"\",入力シート!K815)","v":""},{"$f":"IF(入力シート!L815=\"\",\"\",入力シート!L815)","v":""},{"$f":"IF(入力シート!M815=\"\",\"\",入力シート!M815)","v":""},{"$f":"IF(入力シート!N815=\"\",\"\",入力シート!P815)","v":""}]
[{"$f":"IF(入力シート!A816=\"\",\"\",入力シート!A816)","v":""},{"$f":"IF(入力シート!B816=\"\",\"\",入力シート!B816)","v":""},{"$f":"IF(入力シート!C816=\"\",\"\",TEXT(入力シート!C816,\"yyyy-mm-dd\"))","v":""},{"$f":"IF(入力シート!O816=\"\",\"\",TEXT(入力シート!O816,\"000-0000\"))","v":""},{"$f":"IF(入力シート!F816=\"\",\"\",入力シート!F816)","v":""},{"$f":"IF(入力シート!G816=\"\",\"\",入力シート!G816)","v":""},{"$f":"IF(入力シート!H816=\"\",\"\",入力シート!H816)","v":""},{"$f":"IF(入力シート!I816=\"\",\"\",入力シート!I816)","v":""},{"$f":"IF(入力シート!J816=\"\",\"\",入力シート!J816)","v":""},{"$f":"IF(入力シート!K816=\"\",\"\",入力シート!K816)","v":""},{"$f":"IF(入力シート!L816=\"\",\"\",入力シート!L816)","v":""},{"$f":"IF(入力シート!M816=\"\",\"\",入力シート!M816)","v":""},{"$f":"IF(入力シート!N816=\"\",\"\",入力シート!P816)","v":""}]
[{"$f":"IF(入力シート!A817=\"\",\"\",入力シート!A817)","v":""},{"$f":"IF(入力シート!B817=\"\",\"\",入力シート!B817)","v":""},{"$f":"IF(入力シート!C817=\"\",\"\",TEXT(入力シート!C817,\"yyyy-mm-dd\"))","v":""},{"$f":"IF(入力シート!O817=\"\",\"\",TEXT(入力シート!O817,\"000-0000\"))","v":""},{"$f":"IF(入力シート!F817=\"\",\"\",入力シート!F817)","v":""},{"$f":"IF(入力シート!G817=\"\",\"\",入力シート!G817)","v":""},{"$f":"IF(入力シート!H817=\"\",\"\",入力シート!H817)","v":""},{"$f":"IF(入力シート!I817=\"\",\"\",入力シート!I817)","v":""},{"$f":"IF(入力シート!J817=\"\",\"\",入力シート!J817)","v":""},{"$f":"IF(入力シート!K817=\"\",\"\",入力シート!K817)","v":""},{"$f":"IF(入力シート!L817=\"\",\"\",入力シート!L817)","v":""},{"$f":"IF(入力シート!M817=\"\",\"\",入力シート!M817)","v":""},{"$f":"IF(入力シート!N817=\"\",\"\",入力シート!P817)","v":""}]
[{"$f":"IF(入力シート!A818=\"\",\"\",入力シート!A818)","v":""},{"$f":"IF(入力シート!B818=\"\",\"\",入力シート!B818)","v":""},{"$f":"IF(入力シート!C818=\"\",\"\",TEXT(入力シート!C818,\"yyyy-mm-dd\"))","v":""},{"$f":"IF(入力シート!O818=\"\",\"\",TEXT(入力シート!O818,\"000-0000\"))","v":""},{"$f":"IF(入力シート!F818=\"\",\"\",入力シート!F818)","v":""},{"$f":"IF(入力シート!G818=\"\",\"\",入力シート!G818)","v":""},{"$f":"IF(入力シート!H818=\"\",\"\",入力シート!H818)","v":""},{"$f":"IF(入力シート!I818=\"\",\"\",入力シート!I818)","v":""},{"$f":"IF(入力シート!J818=\"\",\"\",入力シート!J818)","v":""},{"$f":"IF(入力シート!K818=\"\",\"\",入力シート!K818)","v":""},{"$f":"IF(入力シート!L818=\"\",\"\",入力シート!L818)","v":""},{"$f":"IF(入力シート!M818=\"\",\"\",入力シート!M818)","v":""},{"$f":"IF(入力シート!N818=\"\",\"\",入力シート!P818)","v":""}]
[{"$f":"IF(入力シート!A819=\"\",\"\",入力シート!A819)","v":""},{"$f":"IF(入力シート!B819=\"\",\"\",入力シート!B819)","v":""},{"$f":"IF(入力シート!C819=\"\",\"\",TEXT(入力シート!C819,\"yyyy-mm-dd\"))","v":""},{"$f":"IF(入力シート!O819=\"\",\"\",TEXT(入力シート!O819,\"000-0000\"))","v":""},{"$f":"IF(入力シート!F819=\"\",\"\",入力シート!F819)","v":""},{"$f":"IF(入力シート!G819=\"\",\"\",入力シート!G819)","v":""},{"$f":"IF(入力シート!H819=\"\",\"\",入力シート!H819)","v":""},{"$f":"IF(入力シート!I819=\"\",\"\",入力シート!I819)","v":""},{"$f":"IF(入力シート!J819=\"\",\"\",入力シート!J819)","v":""},{"$f":"IF(入力シート!K819=\"\",\"\",入力シート!K819)","v":""},{"$f":"IF(入力シート!L819=\"\",\"\",入力シート!L819)","v":""},{"$f":"IF(入力シート!M819=\"\",\"\",入力シート!M819)","v":""},{"$f":"IF(入力シート!N819=\"\",\"\",入力シート!P819)","v":""}]
[{"$f":"IF(入力シート!A820=\"\",\"\",入力シート!A820)","v":""},{"$f":"IF(入力シート!B820=\"\",\"\",入力シート!B820)","v":""},{"$f":"IF(入力シート!C820=\"\",\"\",TEXT(入力シート!C820,\"yyyy-mm-dd\"))","v":""},{"$f":"IF(入力シート!O820=\"\",\"\",TEXT(入力シート!O820,\"000-0000\"))","v":""},{"$f":"IF(入力シート!F820=\"\",\"\",入力シート!F820)","v":""},{"$f":"IF(入力シート!G820=\"\",\"\",入力シート!G820)","v":""},{"$f":"IF(入力シート!H820=\"\",\"\",入力シート!H820)","v":""},{"$f":"IF(入力シート!I820=\"\",\"\",入力シート!I820)","v":""},{"$f":"IF(入力シート!J820=\"\",\"\",入力シート!J820)","v":""},{"$f":"IF(入力シート!K820=\"\",\"\",入力シート!K820)","v":""},{"$f":"IF(入力シート!L820=\"\",\"\",入力シート!L820)","v":""},{"$f":"IF(入力シート!M820=\"\",\"\",入力シート!M820)","v":""},{"$f":"IF(入力シート!N820=\"\",\"\",入力シート!P820)","v":""}]
[{"$f":"IF(入力シート!A821=\"\",\"\",入力シート!A821)","v":""},{"$f":"IF(入力シート!B821=\"\",\"\",入力シート!B821)","v":""},{"$f":"IF(入力シート!C821=\"\",\"\",TEXT(入力シート!C821,\"yyyy-mm-dd\"))","v":""},{"$f":"IF(入力シート!O821=\"\",\"\",TEXT(入力シート!O821,\"000-0000\"))","v":""},{"$f":"IF(入力シート!F821=\"\",\"\",入力シート!F821)","v":""},{"$f":"IF(入力シート!G821=\"\",\"\",入力シート!G821)","v":""},{"$f":"IF(入力シート!H821=\"\",\"\",入力シート!H821)","v":""},{"$f":"IF(入力シート!I821=\"\",\"\",入力シート!I821)","v":""},{"$f":"IF(入力シート!J821=\"\",\"\",入力シート!J821)","v":""},{"$f":"IF(入力シート!K821=\"\",\"\",入力シート!K821)","v":""},{"$f":"IF(入力シート!L821=\"\",\"\",入力シート!L821)","v":""},{"$f":"IF(入力シート!M821=\"\",\"\",入力シート!M821)","v":""},{"$f":"IF(入力シート!N821=\"\",\"\",入力シート!P821)","v":""}]
[{"$f":"IF(入力シート!A822=\"\",\"\",入力シート!A822)","v":""},{"$f":"IF(入力シート!B822=\"\",\"\",入力シート!B822)","v":""},{"$f":"IF(入力シート!C822=\"\",\"\",TEXT(入力シート!C822,\"yyyy-mm-dd\"))","v":""},{"$f":"IF(入力シート!O822=\"\",\"\",TEXT(入力シート!O822,\"000-0000\"))","v":""},{"$f":"IF(入力シート!F822=\"\",\"\",入力シート!F822)","v":""},{"$f":"IF(入力シート!G822=\"\",\"\",入力シート!G822)","v":""},{"$f":"IF(入力シート!H822=\"\",\"\",入力シート!H822)","v":""},{"$f":"IF(入力シート!I822=\"\",\"\",入力シート!I822)","v":""},{"$f":"IF(入力シート!J822=\"\",\"\",入力シート!J822)","v":""},{"$f":"IF(入力シート!K822=\"\",\"\",入力シート!K822)","v":""},{"$f":"IF(入力シート!L822=\"\",\"\",入力シート!L822)","v":""},{"$f":"IF(入力シート!M822=\"\",\"\",入力シート!M822)","v":""},{"$f":"IF(入力シート!N822=\"\",\"\",入力シート!P822)","v":""}]
[{"$f":"IF(入力シート!A823=\"\",\"\",入力シート!A823)","v":""},{"$f":"IF(入力シート!B823=\"\",\"\",入力シート!B823)","v":""},{"$f":"IF(入力シート!C823=\"\",\"\",TEXT(入力シート!C823,\"yyyy-mm-dd\"))","v":""},{"$f":"IF(入力シート!O823=\"\",\"\",TEXT(入力シート!O823,\"000-0000\"))","v":""},{"$f":"IF(入力シート!F823=\"\",\"\",入力シート!F823)","v":""},{"$f":"IF(入力シート!G823=\"\",\"\",入力シート!G823)","v":""},{"$f":"IF(入力シート!H823=\"\",\"\",入力シート!H823)","v":""},{"$f":"IF(入力シート!I823=\"\",\"\",入力シート!I823)","v":""},{"$f":"IF(入力シート!J823=\"\",\"\",入力シート!J823)","v":""},{"$f":"IF(入力シート!K823=\"\",\"\",入力シート!K823)","v":""},{"$f":"IF(入力シート!L823=\"\",\"\",入力シート!L823)","v":""},{"$f":"IF(入力シート!M823=\"\",\"\",入力シート!M823)","v":""},{"$f":"IF(入力シート!N823=\"\",\"\",入力シート!P823)","v":""}]
[{"$f":"IF(入力シート!A824=\"\",\"\",入力シート!A824)","v":""},{"$f":"IF(入力シート!B824=\"\",\"\",入力シート!B824)","v":""},{"$f":"IF(入力シート!C824=\"\",\"\",TEXT(入力シート!C824,\"yyyy-mm-dd\"))","v":""},{"$f":"IF(入力シート!O824=\"\",\"\",TEXT(入力シート!O824,\"000-0000\"))","v":""},{"$f":"IF(入力シート!F824=\"\",\"\",入力シート!F824)","v":""},{"$f":"IF(入力シート!G824=\"\",\"\",入力シート!G824)","v":""},{"$f":"IF(入力シート!H824=\"\",\"\",入力シート!H824)","v":""},{"$f":"IF(入力シート!I824=\"\",\"\",入力シート!I824)","v":""},{"$f":"IF(入力シート!J824=\"\",\"\",入力シート!J824)","v":""},{"$f":"IF(入力シート!K824=\"\",\"\",入力シート!K824)","v":""},{"$f":"IF(入力シート!L824=\"\",\"\",入力シート!L824)","v":""},{"$f":"IF(入力シート!M824=\"\",\"\",入力シート!M824)","v":""},{"$f":"IF(入力シート!N824=\"\",\"\",入力シート!P824)","v":""}]
[{"$f":"IF(入力シート!A825=\"\",\"\",入力シート!A825)","v":""},{"$f":"IF(入力シート!B825=\"\",\"\",入力シート!B825)","v":""},{"$f":"IF(入力シート!C825=\"\",\"\",TEXT(入力シート!C825,\"yyyy-mm-dd\"))","v":""},{"$f":"IF(入力シート!O825=\"\",\"\",TEXT(入力シート!O825,\"000-0000\"))","v":""},{"$f":"IF(入力シート!F825=\"\",\"\",入力シート!F825)","v":""},{"$f":"IF(入力シート!G825=\"\",\"\",入力シート!G825)","v":""},{"$f":"IF(入力シート!H825=\"\",\"\",入力シート!H825)","v":""},{"$f":"IF(入力シート!I825=\"\",\"\",入力シート!I825)","v":""},{"$f":"IF(入力シート!J825=\"\",\"\",入力シート!J825)","v":""},{"$f":"IF(入力シート!K825=\"\",\"\",入力シート!K825)","v":""},{"$f":"IF(入力シート!L825=\"\",\"\",入力シート!L825)","v":""},{"$f":"IF(入力シート!M825=\"\",\"\",入力シート!M825)","v":""},{"$f":"IF(入力シート!N825=\"\",\"\",入力シート!P825)","v":""}]
[{"$f":"IF(入力シート!A826=\"\",\"\",入力シート!A826)","v":""},{"$f":"IF(入力シート!B826=\"\",\"\",入力シート!B826)","v":""},{"$f":"IF(入力シート!C826=\"\",\"\",TEXT(入力シート!C826,\"yyyy-mm-dd\"))","v":""},{"$f":"IF(入力シート!O826=\"\",\"\",TEXT(入力シート!O826,\"000-0000\"))","v":""},{"$f":"IF(入力シート!F826=\"\",\"\",入力シート!F826)","v":""},{"$f":"IF(入力シート!G826=\"\",\"\",入力シート!G826)","v":""},{"$f":"IF(入力シート!H826=\"\",\"\",入力シート!H826)","v":""},{"$f":"IF(入力シート!I826=\"\",\"\",入力シート!I826)","v":""},{"$f":"IF(入力シート!J826=\"\",\"\",入力シート!J826)","v":""},{"$f":"IF(入力シート!K826=\"\",\"\",入力シート!K826)","v":""},{"$f":"IF(入力シート!L826=\"\",\"\",入力シート!L826)","v":""},{"$f":"IF(入力シート!M826=\"\",\"\",入力シート!M826)","v":""},{"$f":"IF(入力シート!N826=\"\",\"\",入力シート!P826)","v":""}]
[{"$f":"IF(入力シート!A827=\"\",\"\",入力シート!A827)","v":""},{"$f":"IF(入力シート!B827=\"\",\"\",入力シート!B827)","v":""},{"$f":"IF(入力シート!C827=\"\",\"\",TEXT(入力シート!C827,\"yyyy-mm-dd\"))","v":""},{"$f":"IF(入力シート!O827=\"\",\"\",TEXT(入力シート!O827,\"000-0000\"))","v":""},{"$f":"IF(入力シート!F827=\"\",\"\",入力シート!F827)","v":""},{"$f":"IF(入力シート!G827=\"\",\"\",入力シート!G827)","v":""},{"$f":"IF(入力シート!H827=\"\",\"\",入力シート!H827)","v":""},{"$f":"IF(入力シート!I827=\"\",\"\",入力シート!I827)","v":""},{"$f":"IF(入力シート!J827=\"\",\"\",入力シート!J827)","v":""},{"$f":"IF(入力シート!K827=\"\",\"\",入力シート!K827)","v":""},{"$f":"IF(入力シート!L827=\"\",\"\",入力シート!L827)","v":""},{"$f":"IF(入力シート!M827=\"\",\"\",入力シート!M827)","v":""},{"$f":"IF(入力シート!N827=\"\",\"\",入力シート!P827)","v":""}]
[{"$f":"IF(入力シート!A828=\"\",\"\",入力シート!A828)","v":""},{"$f":"IF(入力シート!B828=\"\",\"\",入力シート!B828)","v":""},{"$f":"IF(入力シート!C828=\"\",\"\",TEXT(入力シート!C828,\"yyyy-mm-dd\"))","v":""},{"$f":"IF(入力シート!O828=\"\",\"\",TEXT(入力シート!O828,\"000-0000\"))","v":""},{"$f":"IF(入力シート!F828=\"\",\"\",入力シート!F828)","v":""},{"$f":"IF(入力シート!G828=\"\",\"\",入力シート!G828)","v":""},{"$f":"IF(入力シート!H828=\"\",\"\",入力シート!H828)","v":""},{"$f":"IF(入力シート!I828=\"\",\"\",入力シート!I828)","v":""},{"$f":"IF(入力シート!J828=\"\",\"\",入力シート!J828)","v":""},{"$f":"IF(入力シート!K828=\"\",\"\",入力シート!K828)","v":""},{"$f":"IF(入力シート!L828=\"\",\"\",入力シート!L828)","v":""},{"$f":"IF(入力シート!M828=\"\",\"\",入力シート!M828)","v":""},{"$f":"IF(入力シート!N828=\"\",\"\",入力シート!P828)","v":""}]
[{"$f":"IF(入力シート!A829=\"\",\"\",入力シート!A829)","v":""},{"$f":"IF(入力シート!B829=\"\",\"\",入力シート!B829)","v":""},{"$f":"IF(入力シート!C829=\"\",\"\",TEXT(入力シート!C829,\"yyyy-mm-dd\"))","v":""},{"$f":"IF(入力シート!O829=\"\",\"\",TEXT(入力シート!O829,\"000-0000\"))","v":""},{"$f":"IF(入力シート!F829=\"\",\"\",入力シート!F829)","v":""},{"$f":"IF(入力シート!G829=\"\",\"\",入力シート!G829)","v":""},{"$f":"IF(入力シート!H829=\"\",\"\",入力シート!H829)","v":""},{"$f":"IF(入力シート!I829=\"\",\"\",入力シート!I829)","v":""},{"$f":"IF(入力シート!J829=\"\",\"\",入力シート!J829)","v":""},{"$f":"IF(入力シート!K829=\"\",\"\",入力シート!K829)","v":""},{"$f":"IF(入力シート!L829=\"\",\"\",入力シート!L829)","v":""},{"$f":"IF(入力シート!M829=\"\",\"\",入力シート!M829)","v":""},{"$f":"IF(入力シート!N829=\"\",\"\",入力シート!P829)","v":""}]
[{"$f":"IF(入力シート!A830=\"\",\"\",入力シート!A830)","v":""},{"$f":"IF(入力シート!B830=\"\",\"\",入力シート!B830)","v":""},{"$f":"IF(入力シート!C830=\"\",\"\",TEXT(入力シート!C830,\"yyyy-mm-dd\"))","v":""},{"$f":"IF(入力シート!O830=\"\",\"\",TEXT(入力シート!O830,\"000-0000\"))","v":""},{"$f":"IF(入力シート!F830=\"\",\"\",入力シート!F830)","v":""},{"$f":"IF(入力シート!G830=\"\",\"\",入力シート!G830)","v":""},{"$f":"IF(入力シート!H830=\"\",\"\",入力シート!H830)","v":""},{"$f":"IF(入力シート!I830=\"\",\"\",入力シート!I830)","v":""},{"$f":"IF(入力シート!J830=\"\",\"\",入力シート!J830)","v":""},{"$f":"IF(入力シート!K830=\"\",\"\",入力シート!K830)","v":""},{"$f":"IF(入力シート!L830=\"\",\"\",入力シート!L830)","v":""},{"$f":"IF(入力シート!M830=\"\",\"\",入力シート!M830)","v":""},{"$f":"IF(入力シート!N830=\"\",\"\",入力シート!P830)","v":""}]
[{"$f":"IF(入力シート!A831=\"\",\"\",入力シート!A831)","v":""},{"$f":"IF(入力シート!B831=\"\",\"\",入力シート!B831)","v":""},{"$f":"IF(入力シート!C831=\"\",\"\",TEXT(入力シート!C831,\"yyyy-mm-dd\"))","v":""},{"$f":"IF(入力シート!O831=\"\",\"\",TEXT(入力シート!O831,\"000-0000\"))","v":""},{"$f":"IF(入力シート!F831=\"\",\"\",入力シート!F831)","v":""},{"$f":"IF(入力シート!G831=\"\",\"\",入力シート!G831)","v":""},{"$f":"IF(入力シート!H831=\"\",\"\",入力シート!H831)","v":""},{"$f":"IF(入力シート!I831=\"\",\"\",入力シート!I831)","v":""},{"$f":"IF(入力シート!J831=\"\",\"\",入力シート!J831)","v":""},{"$f":"IF(入力シート!K831=\"\",\"\",入力シート!K831)","v":""},{"$f":"IF(入力シート!L831=\"\",\"\",入力シート!L831)","v":""},{"$f":"IF(入力シート!M831=\"\",\"\",入力シート!M831)","v":""},{"$f":"IF(入力シート!N831=\"\",\"\",入力シート!P831)","v":""}]
[{"$f":"IF(入力シート!A832=\"\",\"\",入力シート!A832)","v":""},{"$f":"IF(入力シート!B832=\"\",\"\",入力シート!B832)","v":""},{"$f":"IF(入力シート!C832=\"\",\"\",TEXT(入力シート!C832,\"yyyy-mm-dd\"))","v":""},{"$f":"IF(入力シート!O832=\"\",\"\",TEXT(入力シート!O832,\"000-0000\"))","v":""},{"$f":"IF(入力シート!F832=\"\",\"\",入力シート!F832)","v":""},{"$f":"IF(入力シート!G832=\"\",\"\",入力シート!G832)","v":""},{"$f":"IF(入力シート!H832=\"\",\"\",入力シート!H832)","v":""},{"$f":"IF(入力シート!I832=\"\",\"\",入力シート!I832)","v":""},{"$f":"IF(入力シート!J832=\"\",\"\",入力シート!J832)","v":""},{"$f":"IF(入力シート!K832=\"\",\"\",入力シート!K832)","v":""},{"$f":"IF(入力シート!L832=\"\",\"\",入力シート!L832)","v":""},{"$f":"IF(入力シート!M832=\"\",\"\",入力シート!M832)","v":""},{"$f":"IF(入力シート!N832=\"\",\"\",入力シート!P832)","v":""}]
[{"$f":"IF(入力シート!A833=\"\",\"\",入力シート!A833)","v":""},{"$f":"IF(入力シート!B833=\"\",\"\",入力シート!B833)","v":""},{"$f":"IF(入力シート!C833=\"\",\"\",TEXT(入力シート!C833,\"yyyy-mm-dd\"))","v":""},{"$f":"IF(入力シート!O833=\"\",\"\",TEXT(入力シート!O833,\"000-0000\"))","v":""},{"$f":"IF(入力シート!F833=\"\",\"\",入力シート!F833)","v":""},{"$f":"IF(入力シート!G833=\"\",\"\",入力シート!G833)","v":""},{"$f":"IF(入力シート!H833=\"\",\"\",入力シート!H833)","v":""},{"$f":"IF(入力シート!I833=\"\",\"\",入力シート!I833)","v":""},{"$f":"IF(入力シート!J833=\"\",\"\",入力シート!J833)","v":""},{"$f":"IF(入力シート!K833=\"\",\"\",入力シート!K833)","v":""},{"$f":"IF(入力シート!L833=\"\",\"\",入力シート!L833)","v":""},{"$f":"IF(入力シート!M833=\"\",\"\",入力シート!M833)","v":""},{"$f":"IF(入力シート!N833=\"\",\"\",入力シート!P833)","v":""}]
[{"$f":"IF(入力シート!A834=\"\",\"\",入力シート!A834)","v":""},{"$f":"IF(入力シート!B834=\"\",\"\",入力シート!B834)","v":""},{"$f":"IF(入力シート!C834=\"\",\"\",TEXT(入力シート!C834,\"yyyy-mm-dd\"))","v":""},{"$f":"IF(入力シート!O834=\"\",\"\",TEXT(入力シート!O834,\"000-0000\"))","v":""},{"$f":"IF(入力シート!F834=\"\",\"\",入力シート!F834)","v":""},{"$f":"IF(入力シート!G834=\"\",\"\",入力シート!G834)","v":""},{"$f":"IF(入力シート!H834=\"\",\"\",入力シート!H834)","v":""},{"$f":"IF(入力シート!I834=\"\",\"\",入力シート!I834)","v":""},{"$f":"IF(入力シート!J834=\"\",\"\",入力シート!J834)","v":""},{"$f":"IF(入力シート!K834=\"\",\"\",入力シート!K834)","v":""},{"$f":"IF(入力シート!L834=\"\",\"\",入力シート!L834)","v":""},{"$f":"IF(入力シート!M834=\"\",\"\",入力シート!M834)","v":""},{"$f":"IF(入力シート!N834=\"\",\"\",入力シート!P834)","v":""}]
[{"$f":"IF(入力シート!A835=\"\",\"\",入力シート!A835)","v":""},{"$f":"IF(入力シート!B835=\"\",\"\",入力シート!B835)","v":""},{"$f":"IF(入力シート!C835=\"\",\"\",TEXT(入力シート!C835,\"yyyy-mm-dd\"))","v":""},{"$f":"IF(入力シート!O835=\"\",\"\",TEXT(入力シート!O835,\"000-0000\"))","v":""},{"$f":"IF(入力シート!F835=\"\",\"\",入力シート!F835)","v":""},{"$f":"IF(入力シート!G835=\"\",\"\",入力シート!G835)","v":""},{"$f":"IF(入力シート!H835=\"\",\"\",入力シート!H835)","v":""},{"$f":"IF(入力シート!I835=\"\",\"\",入力シート!I835)","v":""},{"$f":"IF(入力シート!J835=\"\",\"\",入力シート!J835)","v":""},{"$f":"IF(入力シート!K835=\"\",\"\",入力シート!K835)","v":""},{"$f":"IF(入力シート!L835=\"\",\"\",入力シート!L835)","v":""},{"$f":"IF(入力シート!M835=\"\",\"\",入力シート!M835)","v":""},{"$f":"IF(入力シート!N835=\"\",\"\",入力シート!P835)","v":""}]
[{"$f":"IF(入力シート!A836=\"\",\"\",入力シート!A836)","v":""},{"$f":"IF(入力シート!B836=\"\",\"\",入力シート!B836)","v":""},{"$f":"IF(入力シート!C836=\"\",\"\",TEXT(入力シート!C836,\"yyyy-mm-dd\"))","v":""},{"$f":"IF(入力シート!O836=\"\",\"\",TEXT(入力シート!O836,\"000-0000\"))","v":""},{"$f":"IF(入力シート!F836=\"\",\"\",入力シート!F836)","v":""},{"$f":"IF(入力シート!G836=\"\",\"\",入力シート!G836)","v":""},{"$f":"IF(入力シート!H836=\"\",\"\",入力シート!H836)","v":""},{"$f":"IF(入力シート!I836=\"\",\"\",入力シート!I836)","v":""},{"$f":"IF(入力シート!J836=\"\",\"\",入力シート!J836)","v":""},{"$f":"IF(入力シート!K836=\"\",\"\",入力シート!K836)","v":""},{"$f":"IF(入力シート!L836=\"\",\"\",入力シート!L836)","v":""},{"$f":"IF(入力シート!M836=\"\",\"\",入力シート!M836)","v":""},{"$f":"IF(入力シート!N836=\"\",\"\",入力シート!P836)","v":""}]
[{"$f":"IF(入力シート!A837=\"\",\"\",入力シート!A837)","v":""},{"$f":"IF(入力シート!B837=\"\",\"\",入力シート!B837)","v":""},{"$f":"IF(入力シート!C837=\"\",\"\",TEXT(入力シート!C837,\"yyyy-mm-dd\"))","v":""},{"$f":"IF(入力シート!O837=\"\",\"\",TEXT(入力シート!O837,\"000-0000\"))","v":""},{"$f":"IF(入力シート!F837=\"\",\"\",入力シート!F837)","v":""},{"$f":"IF(入力シート!G837=\"\",\"\",入力シート!G837)","v":""},{"$f":"IF(入力シート!H837=\"\",\"\",入力シート!H837)","v":""},{"$f":"IF(入力シート!I837=\"\",\"\",入力シート!I837)","v":""},{"$f":"IF(入力シート!J837=\"\",\"\",入力シート!J837)","v":""},{"$f":"IF(入力シート!K837=\"\",\"\",入力シート!K837)","v":""},{"$f":"IF(入力シート!L837=\"\",\"\",入力シート!L837)","v":""},{"$f":"IF(入力シート!M837=\"\",\"\",入力シート!M837)","v":""},{"$f":"IF(入力シート!N837=\"\",\"\",入力シート!P837)","v":""}]
[{"$f":"IF(入力シート!A838=\"\",\"\",入力シート!A838)","v":""},{"$f":"IF(入力シート!B838=\"\",\"\",入力シート!B838)","v":""},{"$f":"IF(入力シート!C838=\"\",\"\",TEXT(入力シート!C838,\"yyyy-mm-dd\"))","v":""},{"$f":"IF(入力シート!O838=\"\",\"\",TEXT(入力シート!O838,\"000-0000\"))","v":""},{"$f":"IF(入力シート!F838=\"\",\"\",入力シート!F838)","v":""},{"$f":"IF(入力シート!G838=\"\",\"\",入力シート!G838)","v":""},{"$f":"IF(入力シート!H838=\"\",\"\",入力シート!H838)","v":""},{"$f":"IF(入力シート!I838=\"\",\"\",入力シート!I838)","v":""},{"$f":"IF(入力シート!J838=\"\",\"\",入力シート!J838)","v":""},{"$f":"IF(入力シート!K838=\"\",\"\",入力シート!K838)","v":""},{"$f":"IF(入力シート!L838=\"\",\"\",入力シート!L838)","v":""},{"$f":"IF(入力シート!M838=\"\",\"\",入力シート!M838)","v":""},{"$f":"IF(入力シート!N838=\"\",\"\",入力シート!P838)","v":""}]
[{"$f":"IF(入力シート!A839=\"\",\"\",入力シート!A839)","v":""},{"$f":"IF(入力シート!B839=\"\",\"\",入力シート!B839)","v":""},{"$f":"IF(入力シート!C839=\"\",\"\",TEXT(入力シート!C839,\"yyyy-mm-dd\"))","v":""},{"$f":"IF(入力シート!O839=\"\",\"\",TEXT(入力シート!O839,\"000-0000\"))","v":""},{"$f":"IF(入力シート!F839=\"\",\"\",入力シート!F839)","v":""},{"$f":"IF(入力シート!G839=\"\",\"\",入力シート!G839)","v":""},{"$f":"IF(入力シート!H839=\"\",\"\",入力シート!H839)","v":""},{"$f":"IF(入力シート!I839=\"\",\"\",入力シート!I839)","v":""},{"$f":"IF(入力シート!J839=\"\",\"\",入力シート!J839)","v":""},{"$f":"IF(入力シート!K839=\"\",\"\",入力シート!K839)","v":""},{"$f":"IF(入力シート!L839=\"\",\"\",入力シート!L839)","v":""},{"$f":"IF(入力シート!M839=\"\",\"\",入力シート!M839)","v":""},{"$f":"IF(入力シート!N839=\"\",\"\",入力シート!P839)","v":""}]
[{"$f":"IF(入力シート!A840=\"\",\"\",入力シート!A840)","v":""},{"$f":"IF(入力シート!B840=\"\",\"\",入力シート!B840)","v":""},{"$f":"IF(入力シート!C840=\"\",\"\",TEXT(入力シート!C840,\"yyyy-mm-dd\"))","v":""},{"$f":"IF(入力シート!O840=\"\",\"\",TEXT(入力シート!O840,\"000-0000\"))","v":""},{"$f":"IF(入力シート!F840=\"\",\"\",入力シート!F840)","v":""},{"$f":"IF(入力シート!G840=\"\",\"\",入力シート!G840)","v":""},{"$f":"IF(入力シート!H840=\"\",\"\",入力シート!H840)","v":""},{"$f":"IF(入力シート!I840=\"\",\"\",入力シート!I840)","v":""},{"$f":"IF(入力シート!J840=\"\",\"\",入力シート!J840)","v":""},{"$f":"IF(入力シート!K840=\"\",\"\",入力シート!K840)","v":""},{"$f":"IF(入力シート!L840=\"\",\"\",入力シート!L840)","v":""},{"$f":"IF(入力シート!M840=\"\",\"\",入力シート!M840)","v":""},{"$f":"IF(入力シート!N840=\"\",\"\",入力シート!P840)","v":""}]
[{"$f":"IF(入力シート!A841=\"\",\"\",入力シート!A841)","v":""},{"$f":"IF(入力シート!B841=\"\",\"\",入力シート!B841)","v":""},{"$f":"IF(入力シート!C841=\"\",\"\",TEXT(入力シート!C841,\"yyyy-mm-dd\"))","v":""},{"$f":"IF(入力シート!O841=\"\",\"\",TEXT(入力シート!O841,\"000-0000\"))","v":""},{"$f":"IF(入力シート!F841=\"\",\"\",入力シート!F841)","v":""},{"$f":"IF(入力シート!G841=\"\",\"\",入力シート!G841)","v":""},{"$f":"IF(入力シート!H841=\"\",\"\",入力シート!H841)","v":""},{"$f":"IF(入力シート!I841=\"\",\"\",入力シート!I841)","v":""},{"$f":"IF(入力シート!J841=\"\",\"\",入力シート!J841)","v":""},{"$f":"IF(入力シート!K841=\"\",\"\",入力シート!K841)","v":""},{"$f":"IF(入力シート!L841=\"\",\"\",入力シート!L841)","v":""},{"$f":"IF(入力シート!M841=\"\",\"\",入力シート!M841)","v":""},{"$f":"IF(入力シート!N841=\"\",\"\",入力シート!P841)","v":""}]
[{"$f":"IF(入力シート!A842=\"\",\"\",入力シート!A842)","v":""},{"$f":"IF(入力シート!B842=\"\",\"\",入力シート!B842)","v":""},{"$f":"IF(入力シート!C842=\"\",\"\",TEXT(入力シート!C842,\"yyyy-mm-dd\"))","v":""},{"$f":"IF(入力シート!O842=\"\",\"\",TEXT(入力シート!O842,\"000-0000\"))","v":""},{"$f":"IF(入力シート!F842=\"\",\"\",入力シート!F842)","v":""},{"$f":"IF(入力シート!G842=\"\",\"\",入力シート!G842)","v":""},{"$f":"IF(入力シート!H842=\"\",\"\",入力シート!H842)","v":""},{"$f":"IF(入力シート!I842=\"\",\"\",入力シート!I842)","v":""},{"$f":"IF(入力シート!J842=\"\",\"\",入力シート!J842)","v":""},{"$f":"IF(入力シート!K842=\"\",\"\",入力シート!K842)","v":""},{"$f":"IF(入力シート!L842=\"\",\"\",入力シート!L842)","v":""},{"$f":"IF(入力シート!M842=\"\",\"\",入力シート!M842)","v":""},{"$f":"IF(入力シート!N842=\"\",\"\",入力シート!P842)","v":""}]
[{"$f":"IF(入力シート!A843=\"\",\"\",入力シート!A843)","v":""},{"$f":"IF(入力シート!B843=\"\",\"\",入力シート!B843)","v":""},{"$f":"IF(入力シート!C843=\"\",\"\",TEXT(入力シート!C843,\"yyyy-mm-dd\"))","v":""},{"$f":"IF(入力シート!O843=\"\",\"\",TEXT(入力シート!O843,\"000-0000\"))","v":""},{"$f":"IF(入力シート!F843=\"\",\"\",入力シート!F843)","v":""},{"$f":"IF(入力シート!G843=\"\",\"\",入力シート!G843)","v":""},{"$f":"IF(入力シート!H843=\"\",\"\",入力シート!H843)","v":""},{"$f":"IF(入力シート!I843=\"\",\"\",入力シート!I843)","v":""},{"$f":"IF(入力シート!J843=\"\",\"\",入力シート!J843)","v":""},{"$f":"IF(入力シート!K843=\"\",\"\",入力シート!K843)","v":""},{"$f":"IF(入力シート!L843=\"\",\"\",入力シート!L843)","v":""},{"$f":"IF(入力シート!M843=\"\",\"\",入力シート!M843)","v":""},{"$f":"IF(入力シート!N843=\"\",\"\",入力シート!P843)","v":""}]
[{"$f":"IF(入力シート!A844=\"\",\"\",入力シート!A844)","v":""},{"$f":"IF(入力シート!B844=\"\",\"\",入力シート!B844)","v":""},{"$f":"IF(入力シート!C844=\"\",\"\",TEXT(入力シート!C844,\"yyyy-mm-dd\"))","v":""},{"$f":"IF(入力シート!O844=\"\",\"\",TEXT(入力シート!O844,\"000-0000\"))","v":""},{"$f":"IF(入力シート!F844=\"\",\"\",入力シート!F844)","v":""},{"$f":"IF(入力シート!G844=\"\",\"\",入力シート!G844)","v":""},{"$f":"IF(入力シート!H844=\"\",\"\",入力シート!H844)","v":""},{"$f":"IF(入力シート!I844=\"\",\"\",入力シート!I844)","v":""},{"$f":"IF(入力シート!J844=\"\",\"\",入力シート!J844)","v":""},{"$f":"IF(入力シート!K844=\"\",\"\",入力シート!K844)","v":""},{"$f":"IF(入力シート!L844=\"\",\"\",入力シート!L844)","v":""},{"$f":"IF(入力シート!M844=\"\",\"\",入力シート!M844)","v":""},{"$f":"IF(入力シート!N844=\"\",\"\",入力シート!P844)","v":""}]
[{"$f":"IF(入力シート!A845=\"\",\"\",入力シート!A845)","v":""},{"$f":"IF(入力シート!B845=\"\",\"\",入力シート!B845)","v":""},{"$f":"IF(入力シート!C845=\"\",\"\",TEXT(入力シート!C845,\"yyyy-mm-dd\"))","v":""},{"$f":"IF(入力シート!O845=\"\",\"\",TEXT(入力シート!O845,\"000-0000\"))","v":""},{"$f":"IF(入力シート!F845=\"\",\"\",入力シート!F845)","v":""},{"$f":"IF(入力シート!G845=\"\",\"\",入力シート!G845)","v":""},{"$f":"IF(入力シート!H845=\"\",\"\",入力シート!H845)","v":""},{"$f":"IF(入力シート!I845=\"\",\"\",入力シート!I845)","v":""},{"$f":"IF(入力シート!J845=\"\",\"\",入力シート!J845)","v":""},{"$f":"IF(入力シート!K845=\"\",\"\",入力シート!K845)","v":""},{"$f":"IF(入力シート!L845=\"\",\"\",入力シート!L845)","v":""},{"$f":"IF(入力シート!M845=\"\",\"\",入力シート!M845)","v":""},{"$f":"IF(入力シート!N845=\"\",\"\",入力シート!P845)","v":""}]
[{"$f":"IF(入力シート!A846=\"\",\"\",入力シート!A846)","v":""},{"$f":"IF(入力シート!B846=\"\",\"\",入力シート!B846)","v":""},{"$f":"IF(入力シート!C846=\"\",\"\",TEXT(入力シート!C846,\"yyyy-mm-dd\"))","v":""},{"$f":"IF(入力シート!O846=\"\",\"\",TEXT(入力シート!O846,\"000-0000\"))","v":""},{"$f":"IF(入力シート!F846=\"\",\"\",入力シート!F846)","v":""},{"$f":"IF(入力シート!G846=\"\",\"\",入力シート!G846)","v":""},{"$f":"IF(入力シート!H846=\"\",\"\",入力シート!H846)","v":""},{"$f":"IF(入力シート!I846=\"\",\"\",入力シート!I846)","v":""},{"$f":"IF(入力シート!J846=\"\",\"\",入力シート!J846)","v":""},{"$f":"IF(入力シート!K846=\"\",\"\",入力シート!K846)","v":""},{"$f":"IF(入力シート!L846=\"\",\"\",入力シート!L846)","v":""},{"$f":"IF(入力シート!M846=\"\",\"\",入力シート!M846)","v":""},{"$f":"IF(入力シート!N846=\"\",\"\",入力シート!P846)","v":""}]
[{"$f":"IF(入力シート!A847=\"\",\"\",入力シート!A847)","v":""},{"$f":"IF(入力シート!B847=\"\",\"\",入力シート!B847)","v":""},{"$f":"IF(入力シート!C847=\"\",\"\",TEXT(入力シート!C847,\"yyyy-mm-dd\"))","v":""},{"$f":"IF(入力シート!O847=\"\",\"\",TEXT(入力シート!O847,\"000-0000\"))","v":""},{"$f":"IF(入力シート!F847=\"\",\"\",入力シート!F847)","v":""},{"$f":"IF(入力シート!G847=\"\",\"\",入力シート!G847)","v":""},{"$f":"IF(入力シート!H847=\"\",\"\",入力シート!H847)","v":""},{"$f":"IF(入力シート!I847=\"\",\"\",入力シート!I847)","v":""},{"$f":"IF(入力シート!J847=\"\",\"\",入力シート!J847)","v":""},{"$f":"IF(入力シート!K847=\"\",\"\",入力シート!K847)","v":""},{"$f":"IF(入力シート!L847=\"\",\"\",入力シート!L847)","v":""},{"$f":"IF(入力シート!M847=\"\",\"\",入力シート!M847)","v":""},{"$f":"IF(入力シート!N847=\"\",\"\",入力シート!P847)","v":""}]
[{"$f":"IF(入力シート!A848=\"\",\"\",入力シート!A848)","v":""},{"$f":"IF(入力シート!B848=\"\",\"\",入力シート!B848)","v":""},{"$f":"IF(入力シート!C848=\"\",\"\",TEXT(入力シート!C848,\"yyyy-mm-dd\"))","v":""},{"$f":"IF(入力シート!O848=\"\",\"\",TEXT(入力シート!O848,\"000-0000\"))","v":""},{"$f":"IF(入力シート!F848=\"\",\"\",入力シート!F848)","v":""},{"$f":"IF(入力シート!G848=\"\",\"\",入力シート!G848)","v":""},{"$f":"IF(入力シート!H848=\"\",\"\",入力シート!H848)","v":""},{"$f":"IF(入力シート!I848=\"\",\"\",入力シート!I848)","v":""},{"$f":"IF(入力シート!J848=\"\",\"\",入力シート!J848)","v":""},{"$f":"IF(入力シート!K848=\"\",\"\",入力シート!K848)","v":""},{"$f":"IF(入力シート!L848=\"\",\"\",入力シート!L848)","v":""},{"$f":"IF(入力シート!M848=\"\",\"\",入力シート!M848)","v":""},{"$f":"IF(入力シート!N848=\"\",\"\",入力シート!P848)","v":""}]
[{"$f":"IF(入力シート!A849=\"\",\"\",入力シート!A849)","v":""},{"$f":"IF(入力シート!B849=\"\",\"\",入力シート!B849)","v":""},{"$f":"IF(入力シート!C849=\"\",\"\",TEXT(入力シート!C849,\"yyyy-mm-dd\"))","v":""},{"$f":"IF(入力シート!O849=\"\",\"\",TEXT(入力シート!O849,\"000-0000\"))","v":""},{"$f":"IF(入力シート!F849=\"\",\"\",入力シート!F849)","v":""},{"$f":"IF(入力シート!G849=\"\",\"\",入力シート!G849)","v":""},{"$f":"IF(入力シート!H849=\"\",\"\",入力シート!H849)","v":""},{"$f":"IF(入力シート!I849=\"\",\"\",入力シート!I849)","v":""},{"$f":"IF(入力シート!J849=\"\",\"\",入力シート!J849)","v":""},{"$f":"IF(入力シート!K849=\"\",\"\",入力シート!K849)","v":""},{"$f":"IF(入力シート!L849=\"\",\"\",入力シート!L849)","v":""},{"$f":"IF(入力シート!M849=\"\",\"\",入力シート!M849)","v":""},{"$f":"IF(入力シート!N849=\"\",\"\",入力シート!P849)","v":""}]
[{"$f":"IF(入力シート!A850=\"\",\"\",入力シート!A850)","v":""},{"$f":"IF(入力シート!B850=\"\",\"\",入力シート!B850)","v":""},{"$f":"IF(入力シート!C850=\"\",\"\",TEXT(入力シート!C850,\"yyyy-mm-dd\"))","v":""},{"$f":"IF(入力シート!O850=\"\",\"\",TEXT(入力シート!O850,\"000-0000\"))","v":""},{"$f":"IF(入力シート!F850=\"\",\"\",入力シート!F850)","v":""},{"$f":"IF(入力シート!G850=\"\",\"\",入力シート!G850)","v":""},{"$f":"IF(入力シート!H850=\"\",\"\",入力シート!H850)","v":""},{"$f":"IF(入力シート!I850=\"\",\"\",入力シート!I850)","v":""},{"$f":"IF(入力シート!J850=\"\",\"\",入力シート!J850)","v":""},{"$f":"IF(入力シート!K850=\"\",\"\",入力シート!K850)","v":""},{"$f":"IF(入力シート!L850=\"\",\"\",入力シート!L850)","v":""},{"$f":"IF(入力シート!M850=\"\",\"\",入力シート!M850)","v":""},{"$f":"IF(入力シート!N850=\"\",\"\",入力シート!P850)","v":""}]
[{"$f":"IF(入力シート!A851=\"\",\"\",入力シート!A851)","v":""},{"$f":"IF(入力シート!B851=\"\",\"\",入力シート!B851)","v":""},{"$f":"IF(入力シート!C851=\"\",\"\",TEXT(入力シート!C851,\"yyyy-mm-dd\"))","v":""},{"$f":"IF(入力シート!O851=\"\",\"\",TEXT(入力シート!O851,\"000-0000\"))","v":""},{"$f":"IF(入力シート!F851=\"\",\"\",入力シート!F851)","v":""},{"$f":"IF(入力シート!G851=\"\",\"\",入力シート!G851)","v":""},{"$f":"IF(入力シート!H851=\"\",\"\",入力シート!H851)","v":""},{"$f":"IF(入力シート!I851=\"\",\"\",入力シート!I851)","v":""},{"$f":"IF(入力シート!J851=\"\",\"\",入力シート!J851)","v":""},{"$f":"IF(入力シート!K851=\"\",\"\",入力シート!K851)","v":""},{"$f":"IF(入力シート!L851=\"\",\"\",入力シート!L851)","v":""},{"$f":"IF(入力シート!M851=\"\",\"\",入力シート!M851)","v":""},{"$f":"IF(入力シート!N851=\"\",\"\",入力シート!P851)","v":""}]
[{"$f":"IF(入力シート!A852=\"\",\"\",入力シート!A852)","v":""},{"$f":"IF(入力シート!B852=\"\",\"\",入力シート!B852)","v":""},{"$f":"IF(入力シート!C852=\"\",\"\",TEXT(入力シート!C852,\"yyyy-mm-dd\"))","v":""},{"$f":"IF(入力シート!O852=\"\",\"\",TEXT(入力シート!O852,\"000-0000\"))","v":""},{"$f":"IF(入力シート!F852=\"\",\"\",入力シート!F852)","v":""},{"$f":"IF(入力シート!G852=\"\",\"\",入力シート!G852)","v":""},{"$f":"IF(入力シート!H852=\"\",\"\",入力シート!H852)","v":""},{"$f":"IF(入力シート!I852=\"\",\"\",入力シート!I852)","v":""},{"$f":"IF(入力シート!J852=\"\",\"\",入力シート!J852)","v":""},{"$f":"IF(入力シート!K852=\"\",\"\",入力シート!K852)","v":""},{"$f":"IF(入力シート!L852=\"\",\"\",入力シート!L852)","v":""},{"$f":"IF(入力シート!M852=\"\",\"\",入力シート!M852)","v":""},{"$f":"IF(入力シート!N852=\"\",\"\",入力シート!P852)","v":""}]
[{"$f":"IF(入力シート!A853=\"\",\"\",入力シート!A853)","v":""},{"$f":"IF(入力シート!B853=\"\",\"\",入力シート!B853)","v":""},{"$f":"IF(入力シート!C853=\"\",\"\",TEXT(入力シート!C853,\"yyyy-mm-dd\"))","v":""},{"$f":"IF(入力シート!O853=\"\",\"\",TEXT(入力シート!O853,\"000-0000\"))","v":""},{"$f":"IF(入力シート!F853=\"\",\"\",入力シート!F853)","v":""},{"$f":"IF(入力シート!G853=\"\",\"\",入力シート!G853)","v":""},{"$f":"IF(入力シート!H853=\"\",\"\",入力シート!H853)","v":""},{"$f":"IF(入力シート!I853=\"\",\"\",入力シート!I853)","v":""},{"$f":"IF(入力シート!J853=\"\",\"\",入力シート!J853)","v":""},{"$f":"IF(入力シート!K853=\"\",\"\",入力シート!K853)","v":""},{"$f":"IF(入力シート!L853=\"\",\"\",入力シート!L853)","v":""},{"$f":"IF(入力シート!M853=\"\",\"\",入力シート!M853)","v":""},{"$f":"IF(入力シート!N853=\"\",\"\",入力シート!P853)","v":""}]
[{"$f":"IF(入力シート!A854=\"\",\"\",入力シート!A854)","v":""},{"$f":"IF(入力シート!B854=\"\",\"\",入力シート!B854)","v":""},{"$f":"IF(入力シート!C854=\"\",\"\",TEXT(入力シート!C854,\"yyyy-mm-dd\"))","v":""},{"$f":"IF(入力シート!O854=\"\",\"\",TEXT(入力シート!O854,\"000-0000\"))","v":""},{"$f":"IF(入力シート!F854=\"\",\"\",入力シート!F854)","v":""},{"$f":"IF(入力シート!G854=\"\",\"\",入力シート!G854)","v":""},{"$f":"IF(入力シート!H854=\"\",\"\",入力シート!H854)","v":""},{"$f":"IF(入力シート!I854=\"\",\"\",入力シート!I854)","v":""},{"$f":"IF(入力シート!J854=\"\",\"\",入力シート!J854)","v":""},{"$f":"IF(入力シート!K854=\"\",\"\",入力シート!K854)","v":""},{"$f":"IF(入力シート!L854=\"\",\"\",入力シート!L854)","v":""},{"$f":"IF(入力シート!M854=\"\",\"\",入力シート!M854)","v":""},{"$f":"IF(入力シート!N854=\"\",\"\",入力シート!P854)","v":""}]
[{"$f":"IF(入力シート!A855=\"\",\"\",入力シート!A855)","v":""},{"$f":"IF(入力シート!B855=\"\",\"\",入力シート!B855)","v":""},{"$f":"IF(入力シート!C855=\"\",\"\",TEXT(入力シート!C855,\"yyyy-mm-dd\"))","v":""},{"$f":"IF(入力シート!O855=\"\",\"\",TEXT(入力シート!O855,\"000-0000\"))","v":""},{"$f":"IF(入力シート!F855=\"\",\"\",入力シート!F855)","v":""},{"$f":"IF(入力シート!G855=\"\",\"\",入力シート!G855)","v":""},{"$f":"IF(入力シート!H855=\"\",\"\",入力シート!H855)","v":""},{"$f":"IF(入力シート!I855=\"\",\"\",入力シート!I855)","v":""},{"$f":"IF(入力シート!J855=\"\",\"\",入力シート!J855)","v":""},{"$f":"IF(入力シート!K855=\"\",\"\",入力シート!K855)","v":""},{"$f":"IF(入力シート!L855=\"\",\"\",入力シート!L855)","v":""},{"$f":"IF(入力シート!M855=\"\",\"\",入力シート!M855)","v":""},{"$f":"IF(入力シート!N855=\"\",\"\",入力シート!P855)","v":""}]
[{"$f":"IF(入力シート!A856=\"\",\"\",入力シート!A856)","v":""},{"$f":"IF(入力シート!B856=\"\",\"\",入力シート!B856)","v":""},{"$f":"IF(入力シート!C856=\"\",\"\",TEXT(入力シート!C856,\"yyyy-mm-dd\"))","v":""},{"$f":"IF(入力シート!O856=\"\",\"\",TEXT(入力シート!O856,\"000-0000\"))","v":""},{"$f":"IF(入力シート!F856=\"\",\"\",入力シート!F856)","v":""},{"$f":"IF(入力シート!G856=\"\",\"\",入力シート!G856)","v":""},{"$f":"IF(入力シート!H856=\"\",\"\",入力シート!H856)","v":""},{"$f":"IF(入力シート!I856=\"\",\"\",入力シート!I856)","v":""},{"$f":"IF(入力シート!J856=\"\",\"\",入力シート!J856)","v":""},{"$f":"IF(入力シート!K856=\"\",\"\",入力シート!K856)","v":""},{"$f":"IF(入力シート!L856=\"\",\"\",入力シート!L856)","v":""},{"$f":"IF(入力シート!M856=\"\",\"\",入力シート!M856)","v":""},{"$f":"IF(入力シート!N856=\"\",\"\",入力シート!P856)","v":""}]
[{"$f":"IF(入力シート!A857=\"\",\"\",入力シート!A857)","v":""},{"$f":"IF(入力シート!B857=\"\",\"\",入力シート!B857)","v":""},{"$f":"IF(入力シート!C857=\"\",\"\",TEXT(入力シート!C857,\"yyyy-mm-dd\"))","v":""},{"$f":"IF(入力シート!O857=\"\",\"\",TEXT(入力シート!O857,\"000-0000\"))","v":""},{"$f":"IF(入力シート!F857=\"\",\"\",入力シート!F857)","v":""},{"$f":"IF(入力シート!G857=\"\",\"\",入力シート!G857)","v":""},{"$f":"IF(入力シート!H857=\"\",\"\",入力シート!H857)","v":""},{"$f":"IF(入力シート!I857=\"\",\"\",入力シート!I857)","v":""},{"$f":"IF(入力シート!J857=\"\",\"\",入力シート!J857)","v":""},{"$f":"IF(入力シート!K857=\"\",\"\",入力シート!K857)","v":""},{"$f":"IF(入力シート!L857=\"\",\"\",入力シート!L857)","v":""},{"$f":"IF(入力シート!M857=\"\",\"\",入力シート!M857)","v":""},{"$f":"IF(入力シート!N857=\"\",\"\",入力シート!P857)","v":""}]
[{"$f":"IF(入力シート!A858=\"\",\"\",入力シート!A858)","v":""},{"$f":"IF(入力シート!B858=\"\",\"\",入力シート!B858)","v":""},{"$f":"IF(入力シート!C858=\"\",\"\",TEXT(入力シート!C858,\"yyyy-mm-dd\"))","v":""},{"$f":"IF(入力シート!O858=\"\",\"\",TEXT(入力シート!O858,\"000-0000\"))","v":""},{"$f":"IF(入力シート!F858=\"\",\"\",入力シート!F858)","v":""},{"$f":"IF(入力シート!G858=\"\",\"\",入力シート!G858)","v":""},{"$f":"IF(入力シート!H858=\"\",\"\",入力シート!H858)","v":""},{"$f":"IF(入力シート!I858=\"\",\"\",入力シート!I858)","v":""},{"$f":"IF(入力シート!J858=\"\",\"\",入力シート!J858)","v":""},{"$f":"IF(入力シート!K858=\"\",\"\",入力シート!K858)","v":""},{"$f":"IF(入力シート!L858=\"\",\"\",入力シート!L858)","v":""},{"$f":"IF(入力シート!M858=\"\",\"\",入力シート!M858)","v":""},{"$f":"IF(入力シート!N858=\"\",\"\",入力シート!P858)","v":""}]
[{"$f":"IF(入力シート!A859=\"\",\"\",入力シート!A859)","v":""},{"$f":"IF(入力シート!B859=\"\",\"\",入力シート!B859)","v":""},{"$f":"IF(入力シート!C859=\"\",\"\",TEXT(入力シート!C859,\"yyyy-mm-dd\"))","v":""},{"$f":"IF(入力シート!O859=\"\",\"\",TEXT(入力シート!O859,\"000-0000\"))","v":""},{"$f":"IF(入力シート!F859=\"\",\"\",入力シート!F859)","v":""},{"$f":"IF(入力シート!G859=\"\",\"\",入力シート!G859)","v":""},{"$f":"IF(入力シート!H859=\"\",\"\",入力シート!H859)","v":""},{"$f":"IF(入力シート!I859=\"\",\"\",入力シート!I859)","v":""},{"$f":"IF(入力シート!J859=\"\",\"\",入力シート!J859)","v":""},{"$f":"IF(入力シート!K859=\"\",\"\",入力シート!K859)","v":""},{"$f":"IF(入力シート!L859=\"\",\"\",入力シート!L859)","v":""},{"$f":"IF(入力シート!M859=\"\",\"\",入力シート!M859)","v":""},{"$f":"IF(入力シート!N859=\"\",\"\",入力シート!P859)","v":""}]
[{"$f":"IF(入力シート!A860=\"\",\"\",入力シート!A860)","v":""},{"$f":"IF(入力シート!B860=\"\",\"\",入力シート!B860)","v":""},{"$f":"IF(入力シート!C860=\"\",\"\",TEXT(入力シート!C860,\"yyyy-mm-dd\"))","v":""},{"$f":"IF(入力シート!O860=\"\",\"\",TEXT(入力シート!O860,\"000-0000\"))","v":""},{"$f":"IF(入力シート!F860=\"\",\"\",入力シート!F860)","v":""},{"$f":"IF(入力シート!G860=\"\",\"\",入力シート!G860)","v":""},{"$f":"IF(入力シート!H860=\"\",\"\",入力シート!H860)","v":""},{"$f":"IF(入力シート!I860=\"\",\"\",入力シート!I860)","v":""},{"$f":"IF(入力シート!J860=\"\",\"\",入力シート!J860)","v":""},{"$f":"IF(入力シート!K860=\"\",\"\",入力シート!K860)","v":""},{"$f":"IF(入力シート!L860=\"\",\"\",入力シート!L860)","v":""},{"$f":"IF(入力シート!M860=\"\",\"\",入力シート!M860)","v":""},{"$f":"IF(入力シート!N860=\"\",\"\",入力シート!P860)","v":""}]
[{"$f":"IF(入力シート!A861=\"\",\"\",入力シート!A861)","v":""},{"$f":"IF(入力シート!B861=\"\",\"\",入力シート!B861)","v":""},{"$f":"IF(入力シート!C861=\"\",\"\",TEXT(入力シート!C861,\"yyyy-mm-dd\"))","v":""},{"$f":"IF(入力シート!O861=\"\",\"\",TEXT(入力シート!O861,\"000-0000\"))","v":""},{"$f":"IF(入力シート!F861=\"\",\"\",入力シート!F861)","v":""},{"$f":"IF(入力シート!G861=\"\",\"\",入力シート!G861)","v":""},{"$f":"IF(入力シート!H861=\"\",\"\",入力シート!H861)","v":""},{"$f":"IF(入力シート!I861=\"\",\"\",入力シート!I861)","v":""},{"$f":"IF(入力シート!J861=\"\",\"\",入力シート!J861)","v":""},{"$f":"IF(入力シート!K861=\"\",\"\",入力シート!K861)","v":""},{"$f":"IF(入力シート!L861=\"\",\"\",入力シート!L861)","v":""},{"$f":"IF(入力シート!M861=\"\",\"\",入力シート!M861)","v":""},{"$f":"IF(入力シート!N861=\"\",\"\",入力シート!P861)","v":""}]
[{"$f":"IF(入力シート!A862=\"\",\"\",入力シート!A862)","v":""},{"$f":"IF(入力シート!B862=\"\",\"\",入力シート!B862)","v":""},{"$f":"IF(入力シート!C862=\"\",\"\",TEXT(入力シート!C862,\"yyyy-mm-dd\"))","v":""},{"$f":"IF(入力シート!O862=\"\",\"\",TEXT(入力シート!O862,\"000-0000\"))","v":""},{"$f":"IF(入力シート!F862=\"\",\"\",入力シート!F862)","v":""},{"$f":"IF(入力シート!G862=\"\",\"\",入力シート!G862)","v":""},{"$f":"IF(入力シート!H862=\"\",\"\",入力シート!H862)","v":""},{"$f":"IF(入力シート!I862=\"\",\"\",入力シート!I862)","v":""},{"$f":"IF(入力シート!J862=\"\",\"\",入力シート!J862)","v":""},{"$f":"IF(入力シート!K862=\"\",\"\",入力シート!K862)","v":""},{"$f":"IF(入力シート!L862=\"\",\"\",入力シート!L862)","v":""},{"$f":"IF(入力シート!M862=\"\",\"\",入力シート!M862)","v":""},{"$f":"IF(入力シート!N862=\"\",\"\",入力シート!P862)","v":""}]
[{"$f":"IF(入力シート!A863=\"\",\"\",入力シート!A863)","v":""},{"$f":"IF(入力シート!B863=\"\",\"\",入力シート!B863)","v":""},{"$f":"IF(入力シート!C863=\"\",\"\",TEXT(入力シート!C863,\"yyyy-mm-dd\"))","v":""},{"$f":"IF(入力シート!O863=\"\",\"\",TEXT(入力シート!O863,\"000-0000\"))","v":""},{"$f":"IF(入力シート!F863=\"\",\"\",入力シート!F863)","v":""},{"$f":"IF(入力シート!G863=\"\",\"\",入力シート!G863)","v":""},{"$f":"IF(入力シート!H863=\"\",\"\",入力シート!H863)","v":""},{"$f":"IF(入力シート!I863=\"\",\"\",入力シート!I863)","v":""},{"$f":"IF(入力シート!J863=\"\",\"\",入力シート!J863)","v":""},{"$f":"IF(入力シート!K863=\"\",\"\",入力シート!K863)","v":""},{"$f":"IF(入力シート!L863=\"\",\"\",入力シート!L863)","v":""},{"$f":"IF(入力シート!M863=\"\",\"\",入力シート!M863)","v":""},{"$f":"IF(入力シート!N863=\"\",\"\",入力シート!P863)","v":""}]
[{"$f":"IF(入力シート!A864=\"\",\"\",入力シート!A864)","v":""},{"$f":"IF(入力シート!B864=\"\",\"\",入力シート!B864)","v":""},{"$f":"IF(入力シート!C864=\"\",\"\",TEXT(入力シート!C864,\"yyyy-mm-dd\"))","v":""},{"$f":"IF(入力シート!O864=\"\",\"\",TEXT(入力シート!O864,\"000-0000\"))","v":""},{"$f":"IF(入力シート!F864=\"\",\"\",入力シート!F864)","v":""},{"$f":"IF(入力シート!G864=\"\",\"\",入力シート!G864)","v":""},{"$f":"IF(入力シート!H864=\"\",\"\",入力シート!H864)","v":""},{"$f":"IF(入力シート!I864=\"\",\"\",入力シート!I864)","v":""},{"$f":"IF(入力シート!J864=\"\",\"\",入力シート!J864)","v":""},{"$f":"IF(入力シート!K864=\"\",\"\",入力シート!K864)","v":""},{"$f":"IF(入力シート!L864=\"\",\"\",入力シート!L864)","v":""},{"$f":"IF(入力シート!M864=\"\",\"\",入力シート!M864)","v":""},{"$f":"IF(入力シート!N864=\"\",\"\",入力シート!P864)","v":""}]
[{"$f":"IF(入力シート!A865=\"\",\"\",入力シート!A865)","v":""},{"$f":"IF(入力シート!B865=\"\",\"\",入力シート!B865)","v":""},{"$f":"IF(入力シート!C865=\"\",\"\",TEXT(入力シート!C865,\"yyyy-mm-dd\"))","v":""},{"$f":"IF(入力シート!O865=\"\",\"\",TEXT(入力シート!O865,\"000-0000\"))","v":""},{"$f":"IF(入力シート!F865=\"\",\"\",入力シート!F865)","v":""},{"$f":"IF(入力シート!G865=\"\",\"\",入力シート!G865)","v":""},{"$f":"IF(入力シート!H865=\"\",\"\",入力シート!H865)","v":""},{"$f":"IF(入力シート!I865=\"\",\"\",入力シート!I865)","v":""},{"$f":"IF(入力シート!J865=\"\",\"\",入力シート!J865)","v":""},{"$f":"IF(入力シート!K865=\"\",\"\",入力シート!K865)","v":""},{"$f":"IF(入力シート!L865=\"\",\"\",入力シート!L865)","v":""},{"$f":"IF(入力シート!M865=\"\",\"\",入力シート!M865)","v":""},{"$f":"IF(入力シート!N865=\"\",\"\",入力シート!P865)","v":""}]
[{"$f":"IF(入力シート!A866=\"\",\"\",入力シート!A866)","v":""},{"$f":"IF(入力シート!B866=\"\",\"\",入力シート!B866)","v":""},{"$f":"IF(入力シート!C866=\"\",\"\",TEXT(入力シート!C866,\"yyyy-mm-dd\"))","v":""},{"$f":"IF(入力シート!O866=\"\",\"\",TEXT(入力シート!O866,\"000-0000\"))","v":""},{"$f":"IF(入力シート!F866=\"\",\"\",入力シート!F866)","v":""},{"$f":"IF(入力シート!G866=\"\",\"\",入力シート!G866)","v":""},{"$f":"IF(入力シート!H866=\"\",\"\",入力シート!H866)","v":""},{"$f":"IF(入力シート!I866=\"\",\"\",入力シート!I866)","v":""},{"$f":"IF(入力シート!J866=\"\",\"\",入力シート!J866)","v":""},{"$f":"IF(入力シート!K866=\"\",\"\",入力シート!K866)","v":""},{"$f":"IF(入力シート!L866=\"\",\"\",入力シート!L866)","v":""},{"$f":"IF(入力シート!M866=\"\",\"\",入力シート!M866)","v":""},{"$f":"IF(入力シート!N866=\"\",\"\",入力シート!P866)","v":""}]
[{"$f":"IF(入力シート!A867=\"\",\"\",入力シート!A867)","v":""},{"$f":"IF(入力シート!B867=\"\",\"\",入力シート!B867)","v":""},{"$f":"IF(入力シート!C867=\"\",\"\",TEXT(入力シート!C867,\"yyyy-mm-dd\"))","v":""},{"$f":"IF(入力シート!O867=\"\",\"\",TEXT(入力シート!O867,\"000-0000\"))","v":""},{"$f":"IF(入力シート!F867=\"\",\"\",入力シート!F867)","v":""},{"$f":"IF(入力シート!G867=\"\",\"\",入力シート!G867)","v":""},{"$f":"IF(入力シート!H867=\"\",\"\",入力シート!H867)","v":""},{"$f":"IF(入力シート!I867=\"\",\"\",入力シート!I867)","v":""},{"$f":"IF(入力シート!J867=\"\",\"\",入力シート!J867)","v":""},{"$f":"IF(入力シート!K867=\"\",\"\",入力シート!K867)","v":""},{"$f":"IF(入力シート!L867=\"\",\"\",入力シート!L867)","v":""},{"$f":"IF(入力シート!M867=\"\",\"\",入力シート!M867)","v":""},{"$f":"IF(入力シート!N867=\"\",\"\",入力シート!P867)","v":""}]
[{"$f":"IF(入力シート!A868=\"\",\"\",入力シート!A868)","v":""},{"$f":"IF(入力シート!B868=\"\",\"\",入力シート!B868)","v":""},{"$f":"IF(入力シート!C868=\"\",\"\",TEXT(入力シート!C868,\"yyyy-mm-dd\"))","v":""},{"$f":"IF(入力シート!O868=\"\",\"\",TEXT(入力シート!O868,\"000-0000\"))","v":""},{"$f":"IF(入力シート!F868=\"\",\"\",入力シート!F868)","v":""},{"$f":"IF(入力シート!G868=\"\",\"\",入力シート!G868)","v":""},{"$f":"IF(入力シート!H868=\"\",\"\",入力シート!H868)","v":""},{"$f":"IF(入力シート!I868=\"\",\"\",入力シート!I868)","v":""},{"$f":"IF(入力シート!J868=\"\",\"\",入力シート!J868)","v":""},{"$f":"IF(入力シート!K868=\"\",\"\",入力シート!K868)","v":""},{"$f":"IF(入力シート!L868=\"\",\"\",入力シート!L868)","v":""},{"$f":"IF(入力シート!M868=\"\",\"\",入力シート!M868)","v":""},{"$f":"IF(入力シート!N868=\"\",\"\",入力シート!P868)","v":""}]
[{"$f":"IF(入力シート!A869=\"\",\"\",入力シート!A869)","v":""},{"$f":"IF(入力シート!B869=\"\",\"\",入力シート!B869)","v":""},{"$f":"IF(入力シート!C869=\"\",\"\",TEXT(入力シート!C869,\"yyyy-mm-dd\"))","v":""},{"$f":"IF(入力シート!O869=\"\",\"\",TEXT(入力シート!O869,\"000-0000\"))","v":""},{"$f":"IF(入力シート!F869=\"\",\"\",入力シート!F869)","v":""},{"$f":"IF(入力シート!G869=\"\",\"\",入力シート!G869)","v":""},{"$f":"IF(入力シート!H869=\"\",\"\",入力シート!H869)","v":""},{"$f":"IF(入力シート!I869=\"\",\"\",入力シート!I869)","v":""},{"$f":"IF(入力シート!J869=\"\",\"\",入力シート!J869)","v":""},{"$f":"IF(入力シート!K869=\"\",\"\",入力シート!K869)","v":""},{"$f":"IF(入力シート!L869=\"\",\"\",入力シート!L869)","v":""},{"$f":"IF(入力シート!M869=\"\",\"\",入力シート!M869)","v":""},{"$f":"IF(入力シート!N869=\"\",\"\",入力シート!P869)","v":""}]
[{"$f":"IF(入力シート!A870=\"\",\"\",入力シート!A870)","v":""},{"$f":"IF(入力シート!B870=\"\",\"\",入力シート!B870)","v":""},{"$f":"IF(入力シート!C870=\"\",\"\",TEXT(入力シート!C870,\"yyyy-mm-dd\"))","v":""},{"$f":"IF(入力シート!O870=\"\",\"\",TEXT(入力シート!O870,\"000-0000\"))","v":""},{"$f":"IF(入力シート!F870=\"\",\"\",入力シート!F870)","v":""},{"$f":"IF(入力シート!G870=\"\",\"\",入力シート!G870)","v":""},{"$f":"IF(入力シート!H870=\"\",\"\",入力シート!H870)","v":""},{"$f":"IF(入力シート!I870=\"\",\"\",入力シート!I870)","v":""},{"$f":"IF(入力シート!J870=\"\",\"\",入力シート!J870)","v":""},{"$f":"IF(入力シート!K870=\"\",\"\",入力シート!K870)","v":""},{"$f":"IF(入力シート!L870=\"\",\"\",入力シート!L870)","v":""},{"$f":"IF(入力シート!M870=\"\",\"\",入力シート!M870)","v":""},{"$f":"IF(入力シート!N870=\"\",\"\",入力シート!P870)","v":""}]
[{"$f":"IF(入力シート!A871=\"\",\"\",入力シート!A871)","v":""},{"$f":"IF(入力シート!B871=\"\",\"\",入力シート!B871)","v":""},{"$f":"IF(入力シート!C871=\"\",\"\",TEXT(入力シート!C871,\"yyyy-mm-dd\"))","v":""},{"$f":"IF(入力シート!O871=\"\",\"\",TEXT(入力シート!O871,\"000-0000\"))","v":""},{"$f":"IF(入力シート!F871=\"\",\"\",入力シート!F871)","v":""},{"$f":"IF(入力シート!G871=\"\",\"\",入力シート!G871)","v":""},{"$f":"IF(入力シート!H871=\"\",\"\",入力シート!H871)","v":""},{"$f":"IF(入力シート!I871=\"\",\"\",入力シート!I871)","v":""},{"$f":"IF(入力シート!J871=\"\",\"\",入力シート!J871)","v":""},{"$f":"IF(入力シート!K871=\"\",\"\",入力シート!K871)","v":""},{"$f":"IF(入力シート!L871=\"\",\"\",入力シート!L871)","v":""},{"$f":"IF(入力シート!M871=\"\",\"\",入力シート!M871)","v":""},{"$f":"IF(入力シート!N871=\"\",\"\",入力シート!P871)","v":""}]
[{"$f":"IF(入力シート!A872=\"\",\"\",入力シート!A872)","v":""},{"$f":"IF(入力シート!B872=\"\",\"\",入力シート!B872)","v":""},{"$f":"IF(入力シート!C872=\"\",\"\",TEXT(入力シート!C872,\"yyyy-mm-dd\"))","v":""},{"$f":"IF(入力シート!O872=\"\",\"\",TEXT(入力シート!O872,\"000-0000\"))","v":""},{"$f":"IF(入力シート!F872=\"\",\"\",入力シート!F872)","v":""},{"$f":"IF(入力シート!G872=\"\",\"\",入力シート!G872)","v":""},{"$f":"IF(入力シート!H872=\"\",\"\",入力シート!H872)","v":""},{"$f":"IF(入力シート!I872=\"\",\"\",入力シート!I872)","v":""},{"$f":"IF(入力シート!J872=\"\",\"\",入力シート!J872)","v":""},{"$f":"IF(入力シート!K872=\"\",\"\",入力シート!K872)","v":""},{"$f":"IF(入力シート!L872=\"\",\"\",入力シート!L872)","v":""},{"$f":"IF(入力シート!M872=\"\",\"\",入力シート!M872)","v":""},{"$f":"IF(入力シート!N872=\"\",\"\",入力シート!P872)","v":""}]
[{"$f":"IF(入力シート!A873=\"\",\"\",入力シート!A873)","v":""},{"$f":"IF(入力シート!B873=\"\",\"\",入力シート!B873)","v":""},{"$f":"IF(入力シート!C873=\"\",\"\",TEXT(入力シート!C873,\"yyyy-mm-dd\"))","v":""},{"$f":"IF(入力シート!O873=\"\",\"\",TEXT(入力シート!O873,\"000-0000\"))","v":""},{"$f":"IF(入力シート!F873=\"\",\"\",入力シート!F873)","v":""},{"$f":"IF(入力シート!G873=\"\",\"\",入力シート!G873)","v":""},{"$f":"IF(入力シート!H873=\"\",\"\",入力シート!H873)","v":""},{"$f":"IF(入力シート!I873=\"\",\"\",入力シート!I873)","v":""},{"$f":"IF(入力シート!J873=\"\",\"\",入力シート!J873)","v":""},{"$f":"IF(入力シート!K873=\"\",\"\",入力シート!K873)","v":""},{"$f":"IF(入力シート!L873=\"\",\"\",入力シート!L873)","v":""},{"$f":"IF(入力シート!M873=\"\",\"\",入力シート!M873)","v":""},{"$f":"IF(入力シート!N873=\"\",\"\",入力シート!P873)","v":""}]
[{"$f":"IF(入力シート!A874=\"\",\"\",入力シート!A874)","v":""},{"$f":"IF(入力シート!B874=\"\",\"\",入力シート!B874)","v":""},{"$f":"IF(入力シート!C874=\"\",\"\",TEXT(入力シート!C874,\"yyyy-mm-dd\"))","v":""},{"$f":"IF(入力シート!O874=\"\",\"\",TEXT(入力シート!O874,\"000-0000\"))","v":""},{"$f":"IF(入力シート!F874=\"\",\"\",入力シート!F874)","v":""},{"$f":"IF(入力シート!G874=\"\",\"\",入力シート!G874)","v":""},{"$f":"IF(入力シート!H874=\"\",\"\",入力シート!H874)","v":""},{"$f":"IF(入力シート!I874=\"\",\"\",入力シート!I874)","v":""},{"$f":"IF(入力シート!J874=\"\",\"\",入力シート!J874)","v":""},{"$f":"IF(入力シート!K874=\"\",\"\",入力シート!K874)","v":""},{"$f":"IF(入力シート!L874=\"\",\"\",入力シート!L874)","v":""},{"$f":"IF(入力シート!M874=\"\",\"\",入力シート!M874)","v":""},{"$f":"IF(入力シート!N874=\"\",\"\",入力シート!P874)","v":""}]
[{"$f":"IF(入力シート!A875=\"\",\"\",入力シート!A875)","v":""},{"$f":"IF(入力シート!B875=\"\",\"\",入力シート!B875)","v":""},{"$f":"IF(入力シート!C875=\"\",\"\",TEXT(入力シート!C875,\"yyyy-mm-dd\"))","v":""},{"$f":"IF(入力シート!O875=\"\",\"\",TEXT(入力シート!O875,\"000-0000\"))","v":""},{"$f":"IF(入力シート!F875=\"\",\"\",入力シート!F875)","v":""},{"$f":"IF(入力シート!G875=\"\",\"\",入力シート!G875)","v":""},{"$f":"IF(入力シート!H875=\"\",\"\",入力シート!H875)","v":""},{"$f":"IF(入力シート!I875=\"\",\"\",入力シート!I875)","v":""},{"$f":"IF(入力シート!J875=\"\",\"\",入力シート!J875)","v":""},{"$f":"IF(入力シート!K875=\"\",\"\",入力シート!K875)","v":""},{"$f":"IF(入力シート!L875=\"\",\"\",入力シート!L875)","v":""},{"$f":"IF(入力シート!M875=\"\",\"\",入力シート!M875)","v":""},{"$f":"IF(入力シート!N875=\"\",\"\",入力シート!P875)","v":""}]
[{"$f":"IF(入力シート!A876=\"\",\"\",入力シート!A876)","v":""},{"$f":"IF(入力シート!B876=\"\",\"\",入力シート!B876)","v":""},{"$f":"IF(入力シート!C876=\"\",\"\",TEXT(入力シート!C876,\"yyyy-mm-dd\"))","v":""},{"$f":"IF(入力シート!O876=\"\",\"\",TEXT(入力シート!O876,\"000-0000\"))","v":""},{"$f":"IF(入力シート!F876=\"\",\"\",入力シート!F876)","v":""},{"$f":"IF(入力シート!G876=\"\",\"\",入力シート!G876)","v":""},{"$f":"IF(入力シート!H876=\"\",\"\",入力シート!H876)","v":""},{"$f":"IF(入力シート!I876=\"\",\"\",入力シート!I876)","v":""},{"$f":"IF(入力シート!J876=\"\",\"\",入力シート!J876)","v":""},{"$f":"IF(入力シート!K876=\"\",\"\",入力シート!K876)","v":""},{"$f":"IF(入力シート!L876=\"\",\"\",入力シート!L876)","v":""},{"$f":"IF(入力シート!M876=\"\",\"\",入力シート!M876)","v":""},{"$f":"IF(入力シート!N876=\"\",\"\",入力シート!P876)","v":""}]
[{"$f":"IF(入力シート!A877=\"\",\"\",入力シート!A877)","v":""},{"$f":"IF(入力シート!B877=\"\",\"\",入力シート!B877)","v":""},{"$f":"IF(入力シート!C877=\"\",\"\",TEXT(入力シート!C877,\"yyyy-mm-dd\"))","v":""},{"$f":"IF(入力シート!O877=\"\",\"\",TEXT(入力シート!O877,\"000-0000\"))","v":""},{"$f":"IF(入力シート!F877=\"\",\"\",入力シート!F877)","v":""},{"$f":"IF(入力シート!G877=\"\",\"\",入力シート!G877)","v":""},{"$f":"IF(入力シート!H877=\"\",\"\",入力シート!H877)","v":""},{"$f":"IF(入力シート!I877=\"\",\"\",入力シート!I877)","v":""},{"$f":"IF(入力シート!J877=\"\",\"\",入力シート!J877)","v":""},{"$f":"IF(入力シート!K877=\"\",\"\",入力シート!K877)","v":""},{"$f":"IF(入力シート!L877=\"\",\"\",入力シート!L877)","v":""},{"$f":"IF(入力シート!M877=\"\",\"\",入力シート!M877)","v":""},{"$f":"IF(入力シート!N877=\"\",\"\",入力シート!P877)","v":""}]
[{"$f":"IF(入力シート!A878=\"\",\"\",入力シート!A878)","v":""},{"$f":"IF(入力シート!B878=\"\",\"\",入力シート!B878)","v":""},{"$f":"IF(入力シート!C878=\"\",\"\",TEXT(入力シート!C878,\"yyyy-mm-dd\"))","v":""},{"$f":"IF(入力シート!O878=\"\",\"\",TEXT(入力シート!O878,\"000-0000\"))","v":""},{"$f":"IF(入力シート!F878=\"\",\"\",入力シート!F878)","v":""},{"$f":"IF(入力シート!G878=\"\",\"\",入力シート!G878)","v":""},{"$f":"IF(入力シート!H878=\"\",\"\",入力シート!H878)","v":""},{"$f":"IF(入力シート!I878=\"\",\"\",入力シート!I878)","v":""},{"$f":"IF(入力シート!J878=\"\",\"\",入力シート!J878)","v":""},{"$f":"IF(入力シート!K878=\"\",\"\",入力シート!K878)","v":""},{"$f":"IF(入力シート!L878=\"\",\"\",入力シート!L878)","v":""},{"$f":"IF(入力シート!M878=\"\",\"\",入力シート!M878)","v":""},{"$f":"IF(入力シート!N878=\"\",\"\",入力シート!P878)","v":""}]
[{"$f":"IF(入力シート!A879=\"\",\"\",入力シート!A879)","v":""},{"$f":"IF(入力シート!B879=\"\",\"\",入力シート!B879)","v":""},{"$f":"IF(入力シート!C879=\"\",\"\",TEXT(入力シート!C879,\"yyyy-mm-dd\"))","v":""},{"$f":"IF(入力シート!O879=\"\",\"\",TEXT(入力シート!O879,\"000-0000\"))","v":""},{"$f":"IF(入力シート!F879=\"\",\"\",入力シート!F879)","v":""},{"$f":"IF(入力シート!G879=\"\",\"\",入力シート!G879)","v":""},{"$f":"IF(入力シート!H879=\"\",\"\",入力シート!H879)","v":""},{"$f":"IF(入力シート!I879=\"\",\"\",入力シート!I879)","v":""},{"$f":"IF(入力シート!J879=\"\",\"\",入力シート!J879)","v":""},{"$f":"IF(入力シート!K879=\"\",\"\",入力シート!K879)","v":""},{"$f":"IF(入力シート!L879=\"\",\"\",入力シート!L879)","v":""},{"$f":"IF(入力シート!M879=\"\",\"\",入力シート!M879)","v":""},{"$f":"IF(入力シート!N879=\"\",\"\",入力シート!P879)","v":""}]
[{"$f":"IF(入力シート!A880=\"\",\"\",入力シート!A880)","v":""},{"$f":"IF(入力シート!B880=\"\",\"\",入力シート!B880)","v":""},{"$f":"IF(入力シート!C880=\"\",\"\",TEXT(入力シート!C880,\"yyyy-mm-dd\"))","v":""},{"$f":"IF(入力シート!O880=\"\",\"\",TEXT(入力シート!O880,\"000-0000\"))","v":""},{"$f":"IF(入力シート!F880=\"\",\"\",入力シート!F880)","v":""},{"$f":"IF(入力シート!G880=\"\",\"\",入力シート!G880)","v":""},{"$f":"IF(入力シート!H880=\"\",\"\",入力シート!H880)","v":""},{"$f":"IF(入力シート!I880=\"\",\"\",入力シート!I880)","v":""},{"$f":"IF(入力シート!J880=\"\",\"\",入力シート!J880)","v":""},{"$f":"IF(入力シート!K880=\"\",\"\",入力シート!K880)","v":""},{"$f":"IF(入力シート!L880=\"\",\"\",入力シート!L880)","v":""},{"$f":"IF(入力シート!M880=\"\",\"\",入力シート!M880)","v":""},{"$f":"IF(入力シート!N880=\"\",\"\",入力シート!P880)","v":""}]
[{"$f":"IF(入力シート!A881=\"\",\"\",入力シート!A881)","v":""},{"$f":"IF(入力シート!B881=\"\",\"\",入力シート!B881)","v":""},{"$f":"IF(入力シート!C881=\"\",\"\",TEXT(入力シート!C881,\"yyyy-mm-dd\"))","v":""},{"$f":"IF(入力シート!O881=\"\",\"\",TEXT(入力シート!O881,\"000-0000\"))","v":""},{"$f":"IF(入力シート!F881=\"\",\"\",入力シート!F881)","v":""},{"$f":"IF(入力シート!G881=\"\",\"\",入力シート!G881)","v":""},{"$f":"IF(入力シート!H881=\"\",\"\",入力シート!H881)","v":""},{"$f":"IF(入力シート!I881=\"\",\"\",入力シート!I881)","v":""},{"$f":"IF(入力シート!J881=\"\",\"\",入力シート!J881)","v":""},{"$f":"IF(入力シート!K881=\"\",\"\",入力シート!K881)","v":""},{"$f":"IF(入力シート!L881=\"\",\"\",入力シート!L881)","v":""},{"$f":"IF(入力シート!M881=\"\",\"\",入力シート!M881)","v":""},{"$f":"IF(入力シート!N881=\"\",\"\",入力シート!P881)","v":""}]
[{"$f":"IF(入力シート!A882=\"\",\"\",入力シート!A882)","v":""},{"$f":"IF(入力シート!B882=\"\",\"\",入力シート!B882)","v":""},{"$f":"IF(入力シート!C882=\"\",\"\",TEXT(入力シート!C882,\"yyyy-mm-dd\"))","v":""},{"$f":"IF(入力シート!O882=\"\",\"\",TEXT(入力シート!O882,\"000-0000\"))","v":""},{"$f":"IF(入力シート!F882=\"\",\"\",入力シート!F882)","v":""},{"$f":"IF(入力シート!G882=\"\",\"\",入力シート!G882)","v":""},{"$f":"IF(入力シート!H882=\"\",\"\",入力シート!H882)","v":""},{"$f":"IF(入力シート!I882=\"\",\"\",入力シート!I882)","v":""},{"$f":"IF(入力シート!J882=\"\",\"\",入力シート!J882)","v":""},{"$f":"IF(入力シート!K882=\"\",\"\",入力シート!K882)","v":""},{"$f":"IF(入力シート!L882=\"\",\"\",入力シート!L882)","v":""},{"$f":"IF(入力シート!M882=\"\",\"\",入力シート!M882)","v":""},{"$f":"IF(入力シート!N882=\"\",\"\",入力シート!P882)","v":""}]
[{"$f":"IF(入力シート!A883=\"\",\"\",入力シート!A883)","v":""},{"$f":"IF(入力シート!B883=\"\",\"\",入力シート!B883)","v":""},{"$f":"IF(入力シート!C883=\"\",\"\",TEXT(入力シート!C883,\"yyyy-mm-dd\"))","v":""},{"$f":"IF(入力シート!O883=\"\",\"\",TEXT(入力シート!O883,\"000-0000\"))","v":""},{"$f":"IF(入力シート!F883=\"\",\"\",入力シート!F883)","v":""},{"$f":"IF(入力シート!G883=\"\",\"\",入力シート!G883)","v":""},{"$f":"IF(入力シート!H883=\"\",\"\",入力シート!H883)","v":""},{"$f":"IF(入力シート!I883=\"\",\"\",入力シート!I883)","v":""},{"$f":"IF(入力シート!J883=\"\",\"\",入力シート!J883)","v":""},{"$f":"IF(入力シート!K883=\"\",\"\",入力シート!K883)","v":""},{"$f":"IF(入力シート!L883=\"\",\"\",入力シート!L883)","v":""},{"$f":"IF(入力シート!M883=\"\",\"\",入力シート!M883)","v":""},{"$f":"IF(入力シート!N883=\"\",\"\",入力シート!P883)","v":""}]
[{"$f":"IF(入力シート!A884=\"\",\"\",入力シート!A884)","v":""},{"$f":"IF(入力シート!B884=\"\",\"\",入力シート!B884)","v":""},{"$f":"IF(入力シート!C884=\"\",\"\",TEXT(入力シート!C884,\"yyyy-mm-dd\"))","v":""},{"$f":"IF(入力シート!O884=\"\",\"\",TEXT(入力シート!O884,\"000-0000\"))","v":""},{"$f":"IF(入力シート!F884=\"\",\"\",入力シート!F884)","v":""},{"$f":"IF(入力シート!G884=\"\",\"\",入力シート!G884)","v":""},{"$f":"IF(入力シート!H884=\"\",\"\",入力シート!H884)","v":""},{"$f":"IF(入力シート!I884=\"\",\"\",入力シート!I884)","v":""},{"$f":"IF(入力シート!J884=\"\",\"\",入力シート!J884)","v":""},{"$f":"IF(入力シート!K884=\"\",\"\",入力シート!K884)","v":""},{"$f":"IF(入力シート!L884=\"\",\"\",入力シート!L884)","v":""},{"$f":"IF(入力シート!M884=\"\",\"\",入力シート!M884)","v":""},{"$f":"IF(入力シート!N884=\"\",\"\",入力シート!P884)","v":""}]
[{"$f":"IF(入力シート!A885=\"\",\"\",入力シート!A885)","v":""},{"$f":"IF(入力シート!B885=\"\",\"\",入力シート!B885)","v":""},{"$f":"IF(入力シート!C885=\"\",\"\",TEXT(入力シート!C885,\"yyyy-mm-dd\"))","v":""},{"$f":"IF(入力シート!O885=\"\",\"\",TEXT(入力シート!O885,\"000-0000\"))","v":""},{"$f":"IF(入力シート!F885=\"\",\"\",入力シート!F885)","v":""},{"$f":"IF(入力シート!G885=\"\",\"\",入力シート!G885)","v":""},{"$f":"IF(入力シート!H885=\"\",\"\",入力シート!H885)","v":""},{"$f":"IF(入力シート!I885=\"\",\"\",入力シート!I885)","v":""},{"$f":"IF(入力シート!J885=\"\",\"\",入力シート!J885)","v":""},{"$f":"IF(入力シート!K885=\"\",\"\",入力シート!K885)","v":""},{"$f":"IF(入力シート!L885=\"\",\"\",入力シート!L885)","v":""},{"$f":"IF(入力シート!M885=\"\",\"\",入力シート!M885)","v":""},{"$f":"IF(入力シート!N885=\"\",\"\",入力シート!P885)","v":""}]
[{"$f":"IF(入力シート!A886=\"\",\"\",入力シート!A886)","v":""},{"$f":"IF(入力シート!B886=\"\",\"\",入力シート!B886)","v":""},{"$f":"IF(入力シート!C886=\"\",\"\",TEXT(入力シート!C886,\"yyyy-mm-dd\"))","v":""},{"$f":"IF(入力シート!O886=\"\",\"\",TEXT(入力シート!O886,\"000-0000\"))","v":""},{"$f":"IF(入力シート!F886=\"\",\"\",入力シート!F886)","v":""},{"$f":"IF(入力シート!G886=\"\",\"\",入力シート!G886)","v":""},{"$f":"IF(入力シート!H886=\"\",\"\",入力シート!H886)","v":""},{"$f":"IF(入力シート!I886=\"\",\"\",入力シート!I886)","v":""},{"$f":"IF(入力シート!J886=\"\",\"\",入力シート!J886)","v":""},{"$f":"IF(入力シート!K886=\"\",\"\",入力シート!K886)","v":""},{"$f":"IF(入力シート!L886=\"\",\"\",入力シート!L886)","v":""},{"$f":"IF(入力シート!M886=\"\",\"\",入力シート!M886)","v":""},{"$f":"IF(入力シート!N886=\"\",\"\",入力シート!P886)","v":""}]
[{"$f":"IF(入力シート!A887=\"\",\"\",入力シート!A887)","v":""},{"$f":"IF(入力シート!B887=\"\",\"\",入力シート!B887)","v":""},{"$f":"IF(入力シート!C887=\"\",\"\",TEXT(入力シート!C887,\"yyyy-mm-dd\"))","v":""},{"$f":"IF(入力シート!O887=\"\",\"\",TEXT(入力シート!O887,\"000-0000\"))","v":""},{"$f":"IF(入力シート!F887=\"\",\"\",入力シート!F887)","v":""},{"$f":"IF(入力シート!G887=\"\",\"\",入力シート!G887)","v":""},{"$f":"IF(入力シート!H887=\"\",\"\",入力シート!H887)","v":""},{"$f":"IF(入力シート!I887=\"\",\"\",入力シート!I887)","v":""},{"$f":"IF(入力シート!J887=\"\",\"\",入力シート!J887)","v":""},{"$f":"IF(入力シート!K887=\"\",\"\",入力シート!K887)","v":""},{"$f":"IF(入力シート!L887=\"\",\"\",入力シート!L887)","v":""},{"$f":"IF(入力シート!M887=\"\",\"\",入力シート!M887)","v":""},{"$f":"IF(入力シート!N887=\"\",\"\",入力シート!P887)","v":""}]
[{"$f":"IF(入力シート!A888=\"\",\"\",入力シート!A888)","v":""},{"$f":"IF(入力シート!B888=\"\",\"\",入力シート!B888)","v":""},{"$f":"IF(入力シート!C888=\"\",\"\",TEXT(入力シート!C888,\"yyyy-mm-dd\"))","v":""},{"$f":"IF(入力シート!O888=\"\",\"\",TEXT(入力シート!O888,\"000-0000\"))","v":""},{"$f":"IF(入力シート!F888=\"\",\"\",入力シート!F888)","v":""},{"$f":"IF(入力シート!G888=\"\",\"\",入力シート!G888)","v":""},{"$f":"IF(入力シート!H888=\"\",\"\",入力シート!H888)","v":""},{"$f":"IF(入力シート!I888=\"\",\"\",入力シート!I888)","v":""},{"$f":"IF(入力シート!J888=\"\",\"\",入力シート!J888)","v":""},{"$f":"IF(入力シート!K888=\"\",\"\",入力シート!K888)","v":""},{"$f":"IF(入力シート!L888=\"\",\"\",入力シート!L888)","v":""},{"$f":"IF(入力シート!M888=\"\",\"\",入力シート!M888)","v":""},{"$f":"IF(入力シート!N888=\"\",\"\",入力シート!P888)","v":""}]
[{"$f":"IF(入力シート!A889=\"\",\"\",入力シート!A889)","v":""},{"$f":"IF(入力シート!B889=\"\",\"\",入力シート!B889)","v":""},{"$f":"IF(入力シート!C889=\"\",\"\",TEXT(入力シート!C889,\"yyyy-mm-dd\"))","v":""},{"$f":"IF(入力シート!O889=\"\",\"\",TEXT(入力シート!O889,\"000-0000\"))","v":""},{"$f":"IF(入力シート!F889=\"\",\"\",入力シート!F889)","v":""},{"$f":"IF(入力シート!G889=\"\",\"\",入力シート!G889)","v":""},{"$f":"IF(入力シート!H889=\"\",\"\",入力シート!H889)","v":""},{"$f":"IF(入力シート!I889=\"\",\"\",入力シート!I889)","v":""},{"$f":"IF(入力シート!J889=\"\",\"\",入力シート!J889)","v":""},{"$f":"IF(入力シート!K889=\"\",\"\",入力シート!K889)","v":""},{"$f":"IF(入力シート!L889=\"\",\"\",入力シート!L889)","v":""},{"$f":"IF(入力シート!M889=\"\",\"\",入力シート!M889)","v":""},{"$f":"IF(入力シート!N889=\"\",\"\",入力シート!P889)","v":""}]
[{"$f":"IF(入力シート!A890=\"\",\"\",入力シート!A890)","v":""},{"$f":"IF(入力シート!B890=\"\",\"\",入力シート!B890)","v":""},{"$f":"IF(入力シート!C890=\"\",\"\",TEXT(入力シート!C890,\"yyyy-mm-dd\"))","v":""},{"$f":"IF(入力シート!O890=\"\",\"\",TEXT(入力シート!O890,\"000-0000\"))","v":""},{"$f":"IF(入力シート!F890=\"\",\"\",入力シート!F890)","v":""},{"$f":"IF(入力シート!G890=\"\",\"\",入力シート!G890)","v":""},{"$f":"IF(入力シート!H890=\"\",\"\",入力シート!H890)","v":""},{"$f":"IF(入力シート!I890=\"\",\"\",入力シート!I890)","v":""},{"$f":"IF(入力シート!J890=\"\",\"\",入力シート!J890)","v":""},{"$f":"IF(入力シート!K890=\"\",\"\",入力シート!K890)","v":""},{"$f":"IF(入力シート!L890=\"\",\"\",入力シート!L890)","v":""},{"$f":"IF(入力シート!M890=\"\",\"\",入力シート!M890)","v":""},{"$f":"IF(入力シート!N890=\"\",\"\",入力シート!P890)","v":""}]
[{"$f":"IF(入力シート!A891=\"\",\"\",入力シート!A891)","v":""},{"$f":"IF(入力シート!B891=\"\",\"\",入力シート!B891)","v":""},{"$f":"IF(入力シート!C891=\"\",\"\",TEXT(入力シート!C891,\"yyyy-mm-dd\"))","v":""},{"$f":"IF(入力シート!O891=\"\",\"\",TEXT(入力シート!O891,\"000-0000\"))","v":""},{"$f":"IF(入力シート!F891=\"\",\"\",入力シート!F891)","v":""},{"$f":"IF(入力シート!G891=\"\",\"\",入力シート!G891)","v":""},{"$f":"IF(入力シート!H891=\"\",\"\",入力シート!H891)","v":""},{"$f":"IF(入力シート!I891=\"\",\"\",入力シート!I891)","v":""},{"$f":"IF(入力シート!J891=\"\",\"\",入力シート!J891)","v":""},{"$f":"IF(入力シート!K891=\"\",\"\",入力シート!K891)","v":""},{"$f":"IF(入力シート!L891=\"\",\"\",入力シート!L891)","v":""},{"$f":"IF(入力シート!M891=\"\",\"\",入力シート!M891)","v":""},{"$f":"IF(入力シート!N891=\"\",\"\",入力シート!P891)","v":""}]
[{"$f":"IF(入力シート!A892=\"\",\"\",入力シート!A892)","v":""},{"$f":"IF(入力シート!B892=\"\",\"\",入力シート!B892)","v":""},{"$f":"IF(入力シート!C892=\"\",\"\",TEXT(入力シート!C892,\"yyyy-mm-dd\"))","v":""},{"$f":"IF(入力シート!O892=\"\",\"\",TEXT(入力シート!O892,\"000-0000\"))","v":""},{"$f":"IF(入力シート!F892=\"\",\"\",入力シート!F892)","v":""},{"$f":"IF(入力シート!G892=\"\",\"\",入力シート!G892)","v":""},{"$f":"IF(入力シート!H892=\"\",\"\",入力シート!H892)","v":""},{"$f":"IF(入力シート!I892=\"\",\"\",入力シート!I892)","v":""},{"$f":"IF(入力シート!J892=\"\",\"\",入力シート!J892)","v":""},{"$f":"IF(入力シート!K892=\"\",\"\",入力シート!K892)","v":""},{"$f":"IF(入力シート!L892=\"\",\"\",入力シート!L892)","v":""},{"$f":"IF(入力シート!M892=\"\",\"\",入力シート!M892)","v":""},{"$f":"IF(入力シート!N892=\"\",\"\",入力シート!P892)","v":""}]
[{"$f":"IF(入力シート!A893=\"\",\"\",入力シート!A893)","v":""},{"$f":"IF(入力シート!B893=\"\",\"\",入力シート!B893)","v":""},{"$f":"IF(入力シート!C893=\"\",\"\",TEXT(入力シート!C893,\"yyyy-mm-dd\"))","v":""},{"$f":"IF(入力シート!O893=\"\",\"\",TEXT(入力シート!O893,\"000-0000\"))","v":""},{"$f":"IF(入力シート!F893=\"\",\"\",入力シート!F893)","v":""},{"$f":"IF(入力シート!G893=\"\",\"\",入力シート!G893)","v":""},{"$f":"IF(入力シート!H893=\"\",\"\",入力シート!H893)","v":""},{"$f":"IF(入力シート!I893=\"\",\"\",入力シート!I893)","v":""},{"$f":"IF(入力シート!J893=\"\",\"\",入力シート!J893)","v":""},{"$f":"IF(入力シート!K893=\"\",\"\",入力シート!K893)","v":""},{"$f":"IF(入力シート!L893=\"\",\"\",入力シート!L893)","v":""},{"$f":"IF(入力シート!M893=\"\",\"\",入力シート!M893)","v":""},{"$f":"IF(入力シート!N893=\"\",\"\",入力シート!P893)","v":""}]
[{"$f":"IF(入力シート!A894=\"\",\"\",入力シート!A894)","v":""},{"$f":"IF(入力シート!B894=\"\",\"\",入力シート!B894)","v":""},{"$f":"IF(入力シート!C894=\"\",\"\",TEXT(入力シート!C894,\"yyyy-mm-dd\"))","v":""},{"$f":"IF(入力シート!O894=\"\",\"\",TEXT(入力シート!O894,\"000-0000\"))","v":""},{"$f":"IF(入力シート!F894=\"\",\"\",入力シート!F894)","v":""},{"$f":"IF(入力シート!G894=\"\",\"\",入力シート!G894)","v":""},{"$f":"IF(入力シート!H894=\"\",\"\",入力シート!H894)","v":""},{"$f":"IF(入力シート!I894=\"\",\"\",入力シート!I894)","v":""},{"$f":"IF(入力シート!J894=\"\",\"\",入力シート!J894)","v":""},{"$f":"IF(入力シート!K894=\"\",\"\",入力シート!K894)","v":""},{"$f":"IF(入力シート!L894=\"\",\"\",入力シート!L894)","v":""},{"$f":"IF(入力シート!M894=\"\",\"\",入力シート!M894)","v":""},{"$f":"IF(入力シート!N894=\"\",\"\",入力シート!P894)","v":""}]
[{"$f":"IF(入力シート!A895=\"\",\"\",入力シート!A895)","v":""},{"$f":"IF(入力シート!B895=\"\",\"\",入力シート!B895)","v":""},{"$f":"IF(入力シート!C895=\"\",\"\",TEXT(入力シート!C895,\"yyyy-mm-dd\"))","v":""},{"$f":"IF(入力シート!O895=\"\",\"\",TEXT(入力シート!O895,\"000-0000\"))","v":""},{"$f":"IF(入力シート!F895=\"\",\"\",入力シート!F895)","v":""},{"$f":"IF(入力シート!G895=\"\",\"\",入力シート!G895)","v":""},{"$f":"IF(入力シート!H895=\"\",\"\",入力シート!H895)","v":""},{"$f":"IF(入力シート!I895=\"\",\"\",入力シート!I895)","v":""},{"$f":"IF(入力シート!J895=\"\",\"\",入力シート!J895)","v":""},{"$f":"IF(入力シート!K895=\"\",\"\",入力シート!K895)","v":""},{"$f":"IF(入力シート!L895=\"\",\"\",入力シート!L895)","v":""},{"$f":"IF(入力シート!M895=\"\",\"\",入力シート!M895)","v":""},{"$f":"IF(入力シート!N895=\"\",\"\",入力シート!P895)","v":""}]
[{"$f":"IF(入力シート!A896=\"\",\"\",入力シート!A896)","v":""},{"$f":"IF(入力シート!B896=\"\",\"\",入力シート!B896)","v":""},{"$f":"IF(入力シート!C896=\"\",\"\",TEXT(入力シート!C896,\"yyyy-mm-dd\"))","v":""},{"$f":"IF(入力シート!O896=\"\",\"\",TEXT(入力シート!O896,\"000-0000\"))","v":""},{"$f":"IF(入力シート!F896=\"\",\"\",入力シート!F896)","v":""},{"$f":"IF(入力シート!G896=\"\",\"\",入力シート!G896)","v":""},{"$f":"IF(入力シート!H896=\"\",\"\",入力シート!H896)","v":""},{"$f":"IF(入力シート!I896=\"\",\"\",入力シート!I896)","v":""},{"$f":"IF(入力シート!J896=\"\",\"\",入力シート!J896)","v":""},{"$f":"IF(入力シート!K896=\"\",\"\",入力シート!K896)","v":""},{"$f":"IF(入力シート!L896=\"\",\"\",入力シート!L896)","v":""},{"$f":"IF(入力シート!M896=\"\",\"\",入力シート!M896)","v":""},{"$f":"IF(入力シート!N896=\"\",\"\",入力シート!P896)","v":""}]
[{"$f":"IF(入力シート!A897=\"\",\"\",入力シート!A897)","v":""},{"$f":"IF(入力シート!B897=\"\",\"\",入力シート!B897)","v":""},{"$f":"IF(入力シート!C897=\"\",\"\",TEXT(入力シート!C897,\"yyyy-mm-dd\"))","v":""},{"$f":"IF(入力シート!O897=\"\",\"\",TEXT(入力シート!O897,\"000-0000\"))","v":""},{"$f":"IF(入力シート!F897=\"\",\"\",入力シート!F897)","v":""},{"$f":"IF(入力シート!G897=\"\",\"\",入力シート!G897)","v":""},{"$f":"IF(入力シート!H897=\"\",\"\",入力シート!H897)","v":""},{"$f":"IF(入力シート!I897=\"\",\"\",入力シート!I897)","v":""},{"$f":"IF(入力シート!J897=\"\",\"\",入力シート!J897)","v":""},{"$f":"IF(入力シート!K897=\"\",\"\",入力シート!K897)","v":""},{"$f":"IF(入力シート!L897=\"\",\"\",入力シート!L897)","v":""},{"$f":"IF(入力シート!M897=\"\",\"\",入力シート!M897)","v":""},{"$f":"IF(入力シート!N897=\"\",\"\",入力シート!P897)","v":""}]
[{"$f":"IF(入力シート!A898=\"\",\"\",入力シート!A898)","v":""},{"$f":"IF(入力シート!B898=\"\",\"\",入力シート!B898)","v":""},{"$f":"IF(入力シート!C898=\"\",\"\",TEXT(入力シート!C898,\"yyyy-mm-dd\"))","v":""},{"$f":"IF(入力シート!O898=\"\",\"\",TEXT(入力シート!O898,\"000-0000\"))","v":""},{"$f":"IF(入力シート!F898=\"\",\"\",入力シート!F898)","v":""},{"$f":"IF(入力シート!G898=\"\",\"\",入力シート!G898)","v":""},{"$f":"IF(入力シート!H898=\"\",\"\",入力シート!H898)","v":""},{"$f":"IF(入力シート!I898=\"\",\"\",入力シート!I898)","v":""},{"$f":"IF(入力シート!J898=\"\",\"\",入力シート!J898)","v":""},{"$f":"IF(入力シート!K898=\"\",\"\",入力シート!K898)","v":""},{"$f":"IF(入力シート!L898=\"\",\"\",入力シート!L898)","v":""},{"$f":"IF(入力シート!M898=\"\",\"\",入力シート!M898)","v":""},{"$f":"IF(入力シート!N898=\"\",\"\",入力シート!P898)","v":""}]
[{"$f":"IF(入力シート!A899=\"\",\"\",入力シート!A899)","v":""},{"$f":"IF(入力シート!B899=\"\",\"\",入力シート!B899)","v":""},{"$f":"IF(入力シート!C899=\"\",\"\",TEXT(入力シート!C899,\"yyyy-mm-dd\"))","v":""},{"$f":"IF(入力シート!O899=\"\",\"\",TEXT(入力シート!O899,\"000-0000\"))","v":""},{"$f":"IF(入力シート!F899=\"\",\"\",入力シート!F899)","v":""},{"$f":"IF(入力シート!G899=\"\",\"\",入力シート!G899)","v":""},{"$f":"IF(入力シート!H899=\"\",\"\",入力シート!H899)","v":""},{"$f":"IF(入力シート!I899=\"\",\"\",入力シート!I899)","v":""},{"$f":"IF(入力シート!J899=\"\",\"\",入力シート!J899)","v":""},{"$f":"IF(入力シート!K899=\"\",\"\",入力シート!K899)","v":""},{"$f":"IF(入力シート!L899=\"\",\"\",入力シート!L899)","v":""},{"$f":"IF(入力シート!M899=\"\",\"\",入力シート!M899)","v":""},{"$f":"IF(入力シート!N899=\"\",\"\",入力シート!P899)","v":""}]
[{"$f":"IF(入力シート!A900=\"\",\"\",入力シート!A900)","v":""},{"$f":"IF(入力シート!B900=\"\",\"\",入力シート!B900)","v":""},{"$f":"IF(入力シート!C900=\"\",\"\",TEXT(入力シート!C900,\"yyyy-mm-dd\"))","v":""},{"$f":"IF(入力シート!O900=\"\",\"\",TEXT(入力シート!O900,\"000-0000\"))","v":""},{"$f":"IF(入力シート!F900=\"\",\"\",入力シート!F900)","v":""},{"$f":"IF(入力シート!G900=\"\",\"\",入力シート!G900)","v":""},{"$f":"IF(入力シート!H900=\"\",\"\",入力シート!H900)","v":""},{"$f":"IF(入力シート!I900=\"\",\"\",入力シート!I900)","v":""},{"$f":"IF(入力シート!J900=\"\",\"\",入力シート!J900)","v":""},{"$f":"IF(入力シート!K900=\"\",\"\",入力シート!K900)","v":""},{"$f":"IF(入力シート!L900=\"\",\"\",入力シート!L900)","v":""},{"$f":"IF(入力シート!M900=\"\",\"\",入力シート!M900)","v":""},{"$f":"IF(入力シート!N900=\"\",\"\",入力シート!P900)","v":""}]
[{"$f":"IF(入力シート!A901=\"\",\"\",入力シート!A901)","v":""},{"$f":"IF(入力シート!B901=\"\",\"\",入力シート!B901)","v":""},{"$f":"IF(入力シート!C901=\"\",\"\",TEXT(入力シート!C901,\"yyyy-mm-dd\"))","v":""},{"$f":"IF(入力シート!O901=\"\",\"\",TEXT(入力シート!O901,\"000-0000\"))","v":""},{"$f":"IF(入力シート!F901=\"\",\"\",入力シート!F901)","v":""},{"$f":"IF(入力シート!G901=\"\",\"\",入力シート!G901)","v":""},{"$f":"IF(入力シート!H901=\"\",\"\",入力シート!H901)","v":""},{"$f":"IF(入力シート!I901=\"\",\"\",入力シート!I901)","v":""},{"$f":"IF(入力シート!J901=\"\",\"\",入力シート!J901)","v":""},{"$f":"IF(入力シート!K901=\"\",\"\",入力シート!K901)","v":""},{"$f":"IF(入力シート!L901=\"\",\"\",入力シート!L901)","v":""},{"$f":"IF(入力シート!M901=\"\",\"\",入力シート!M901)","v":""},{"$f":"IF(入力シート!N901=\"\",\"\",入力シート!P901)","v":""}]
[{"$f":"IF(入力シート!A902=\"\",\"\",入力シート!A902)","v":""},{"$f":"IF(入力シート!B902=\"\",\"\",入力シート!B902)","v":""},{"$f":"IF(入力シート!C902=\"\",\"\",TEXT(入力シート!C902,\"yyyy-mm-dd\"))","v":""},{"$f":"IF(入力シート!O902=\"\",\"\",TEXT(入力シート!O902,\"000-0000\"))","v":""},{"$f":"IF(入力シート!F902=\"\",\"\",入力シート!F902)","v":""},{"$f":"IF(入力シート!G902=\"\",\"\",入力シート!G902)","v":""},{"$f":"IF(入力シート!H902=\"\",\"\",入力シート!H902)","v":""},{"$f":"IF(入力シート!I902=\"\",\"\",入力シート!I902)","v":""},{"$f":"IF(入力シート!J902=\"\",\"\",入力シート!J902)","v":""},{"$f":"IF(入力シート!K902=\"\",\"\",入力シート!K902)","v":""},{"$f":"IF(入力シート!L902=\"\",\"\",入力シート!L902)","v":""},{"$f":"IF(入力シート!M902=\"\",\"\",入力シート!M902)","v":""},{"$f":"IF(入力シート!N902=\"\",\"\",入力シート!P902)","v":""}]
[{"$f":"IF(入力シート!A903=\"\",\"\",入力シート!A903)","v":""},{"$f":"IF(入力シート!B903=\"\",\"\",入力シート!B903)","v":""},{"$f":"IF(入力シート!C903=\"\",\"\",TEXT(入力シート!C903,\"yyyy-mm-dd\"))","v":""},{"$f":"IF(入力シート!O903=\"\",\"\",TEXT(入力シート!O903,\"000-0000\"))","v":""},{"$f":"IF(入力シート!F903=\"\",\"\",入力シート!F903)","v":""},{"$f":"IF(入力シート!G903=\"\",\"\",入力シート!G903)","v":""},{"$f":"IF(入力シート!H903=\"\",\"\",入力シート!H903)","v":""},{"$f":"IF(入力シート!I903=\"\",\"\",入力シート!I903)","v":""},{"$f":"IF(入力シート!J903=\"\",\"\",入力シート!J903)","v":""},{"$f":"IF(入力シート!K903=\"\",\"\",入力シート!K903)","v":""},{"$f":"IF(入力シート!L903=\"\",\"\",入力シート!L903)","v":""},{"$f":"IF(入力シート!M903=\"\",\"\",入力シート!M903)","v":""},{"$f":"IF(入力シート!N903=\"\",\"\",入力シート!P903)","v":""}]
[{"$f":"IF(入力シート!A904=\"\",\"\",入力シート!A904)","v":""},{"$f":"IF(入力シート!B904=\"\",\"\",入力シート!B904)","v":""},{"$f":"IF(入力シート!C904=\"\",\"\",TEXT(入力シート!C904,\"yyyy-mm-dd\"))","v":""},{"$f":"IF(入力シート!O904=\"\",\"\",TEXT(入力シート!O904,\"000-0000\"))","v":""},{"$f":"IF(入力シート!F904=\"\",\"\",入力シート!F904)","v":""},{"$f":"IF(入力シート!G904=\"\",\"\",入力シート!G904)","v":""},{"$f":"IF(入力シート!H904=\"\",\"\",入力シート!H904)","v":""},{"$f":"IF(入力シート!I904=\"\",\"\",入力シート!I904)","v":""},{"$f":"IF(入力シート!J904=\"\",\"\",入力シート!J904)","v":""},{"$f":"IF(入力シート!K904=\"\",\"\",入力シート!K904)","v":""},{"$f":"IF(入力シート!L904=\"\",\"\",入力シート!L904)","v":""},{"$f":"IF(入力シート!M904=\"\",\"\",入力シート!M904)","v":""},{"$f":"IF(入力シート!N904=\"\",\"\",入力シート!P904)","v":""}]
[{"$f":"IF(入力シート!A905=\"\",\"\",入力シート!A905)","v":""},{"$f":"IF(入力シート!B905=\"\",\"\",入力シート!B905)","v":""},{"$f":"IF(入力シート!C905=\"\",\"\",TEXT(入力シート!C905,\"yyyy-mm-dd\"))","v":""},{"$f":"IF(入力シート!O905=\"\",\"\",TEXT(入力シート!O905,\"000-0000\"))","v":""},{"$f":"IF(入力シート!F905=\"\",\"\",入力シート!F905)","v":""},{"$f":"IF(入力シート!G905=\"\",\"\",入力シート!G905)","v":""},{"$f":"IF(入力シート!H905=\"\",\"\",入力シート!H905)","v":""},{"$f":"IF(入力シート!I905=\"\",\"\",入力シート!I905)","v":""},{"$f":"IF(入力シート!J905=\"\",\"\",入力シート!J905)","v":""},{"$f":"IF(入力シート!K905=\"\",\"\",入力シート!K905)","v":""},{"$f":"IF(入力シート!L905=\"\",\"\",入力シート!L905)","v":""},{"$f":"IF(入力シート!M905=\"\",\"\",入力シート!M905)","v":""},{"$f":"IF(入力シート!N905=\"\",\"\",入力シート!P905)","v":""}]
[{"$f":"IF(入力シート!A906=\"\",\"\",入力シート!A906)","v":""},{"$f":"IF(入力シート!B906=\"\",\"\",入力シート!B906)","v":""},{"$f":"IF(入力シート!C906=\"\",\"\",TEXT(入力シート!C906,\"yyyy-mm-dd\"))","v":""},{"$f":"IF(入力シート!O906=\"\",\"\",TEXT(入力シート!O906,\"000-0000\"))","v":""},{"$f":"IF(入力シート!F906=\"\",\"\",入力シート!F906)","v":""},{"$f":"IF(入力シート!G906=\"\",\"\",入力シート!G906)","v":""},{"$f":"IF(入力シート!H906=\"\",\"\",入力シート!H906)","v":""},{"$f":"IF(入力シート!I906=\"\",\"\",入力シート!I906)","v":""},{"$f":"IF(入力シート!J906=\"\",\"\",入力シート!J906)","v":""},{"$f":"IF(入力シート!K906=\"\",\"\",入力シート!K906)","v":""},{"$f":"IF(入力シート!L906=\"\",\"\",入力シート!L906)","v":""},{"$f":"IF(入力シート!M906=\"\",\"\",入力シート!M906)","v":""},{"$f":"IF(入力シート!N906=\"\",\"\",入力シート!P906)","v":""}]
[{"$f":"IF(入力シート!A907=\"\",\"\",入力シート!A907)","v":""},{"$f":"IF(入力シート!B907=\"\",\"\",入力シート!B907)","v":""},{"$f":"IF(入力シート!C907=\"\",\"\",TEXT(入力シート!C907,\"yyyy-mm-dd\"))","v":""},{"$f":"IF(入力シート!O907=\"\",\"\",TEXT(入力シート!O907,\"000-0000\"))","v":""},{"$f":"IF(入力シート!F907=\"\",\"\",入力シート!F907)","v":""},{"$f":"IF(入力シート!G907=\"\",\"\",入力シート!G907)","v":""},{"$f":"IF(入力シート!H907=\"\",\"\",入力シート!H907)","v":""},{"$f":"IF(入力シート!I907=\"\",\"\",入力シート!I907)","v":""},{"$f":"IF(入力シート!J907=\"\",\"\",入力シート!J907)","v":""},{"$f":"IF(入力シート!K907=\"\",\"\",入力シート!K907)","v":""},{"$f":"IF(入力シート!L907=\"\",\"\",入力シート!L907)","v":""},{"$f":"IF(入力シート!M907=\"\",\"\",入力シート!M907)","v":""},{"$f":"IF(入力シート!N907=\"\",\"\",入力シート!P907)","v":""}]
[{"$f":"IF(入力シート!A908=\"\",\"\",入力シート!A908)","v":""},{"$f":"IF(入力シート!B908=\"\",\"\",入力シート!B908)","v":""},{"$f":"IF(入力シート!C908=\"\",\"\",TEXT(入力シート!C908,\"yyyy-mm-dd\"))","v":""},{"$f":"IF(入力シート!O908=\"\",\"\",TEXT(入力シート!O908,\"000-0000\"))","v":""},{"$f":"IF(入力シート!F908=\"\",\"\",入力シート!F908)","v":""},{"$f":"IF(入力シート!G908=\"\",\"\",入力シート!G908)","v":""},{"$f":"IF(入力シート!H908=\"\",\"\",入力シート!H908)","v":""},{"$f":"IF(入力シート!I908=\"\",\"\",入力シート!I908)","v":""},{"$f":"IF(入力シート!J908=\"\",\"\",入力シート!J908)","v":""},{"$f":"IF(入力シート!K908=\"\",\"\",入力シート!K908)","v":""},{"$f":"IF(入力シート!L908=\"\",\"\",入力シート!L908)","v":""},{"$f":"IF(入力シート!M908=\"\",\"\",入力シート!M908)","v":""},{"$f":"IF(入力シート!N908=\"\",\"\",入力シート!P908)","v":""}]
[{"$f":"IF(入力シート!A909=\"\",\"\",入力シート!A909)","v":""},{"$f":"IF(入力シート!B909=\"\",\"\",入力シート!B909)","v":""},{"$f":"IF(入力シート!C909=\"\",\"\",TEXT(入力シート!C909,\"yyyy-mm-dd\"))","v":""},{"$f":"IF(入力シート!O909=\"\",\"\",TEXT(入力シート!O909,\"000-0000\"))","v":""},{"$f":"IF(入力シート!F909=\"\",\"\",入力シート!F909)","v":""},{"$f":"IF(入力シート!G909=\"\",\"\",入力シート!G909)","v":""},{"$f":"IF(入力シート!H909=\"\",\"\",入力シート!H909)","v":""},{"$f":"IF(入力シート!I909=\"\",\"\",入力シート!I909)","v":""},{"$f":"IF(入力シート!J909=\"\",\"\",入力シート!J909)","v":""},{"$f":"IF(入力シート!K909=\"\",\"\",入力シート!K909)","v":""},{"$f":"IF(入力シート!L909=\"\",\"\",入力シート!L909)","v":""},{"$f":"IF(入力シート!M909=\"\",\"\",入力シート!M909)","v":""},{"$f":"IF(入力シート!N909=\"\",\"\",入力シート!P909)","v":""}]
[{"$f":"IF(入力シート!A910=\"\",\"\",入力シート!A910)","v":""},{"$f":"IF(入力シート!B910=\"\",\"\",入力シート!B910)","v":""},{"$f":"IF(入力シート!C910=\"\",\"\",TEXT(入力シート!C910,\"yyyy-mm-dd\"))","v":""},{"$f":"IF(入力シート!O910=\"\",\"\",TEXT(入力シート!O910,\"000-0000\"))","v":""},{"$f":"IF(入力シート!F910=\"\",\"\",入力シート!F910)","v":""},{"$f":"IF(入力シート!G910=\"\",\"\",入力シート!G910)","v":""},{"$f":"IF(入力シート!H910=\"\",\"\",入力シート!H910)","v":""},{"$f":"IF(入力シート!I910=\"\",\"\",入力シート!I910)","v":""},{"$f":"IF(入力シート!J910=\"\",\"\",入力シート!J910)","v":""},{"$f":"IF(入力シート!K910=\"\",\"\",入力シート!K910)","v":""},{"$f":"IF(入力シート!L910=\"\",\"\",入力シート!L910)","v":""},{"$f":"IF(入力シート!M910=\"\",\"\",入力シート!M910)","v":""},{"$f":"IF(入力シート!N910=\"\",\"\",入力シート!P910)","v":""}]
[{"$f":"IF(入力シート!A911=\"\",\"\",入力シート!A911)","v":""},{"$f":"IF(入力シート!B911=\"\",\"\",入力シート!B911)","v":""},{"$f":"IF(入力シート!C911=\"\",\"\",TEXT(入力シート!C911,\"yyyy-mm-dd\"))","v":""},{"$f":"IF(入力シート!O911=\"\",\"\",TEXT(入力シート!O911,\"000-0000\"))","v":""},{"$f":"IF(入力シート!F911=\"\",\"\",入力シート!F911)","v":""},{"$f":"IF(入力シート!G911=\"\",\"\",入力シート!G911)","v":""},{"$f":"IF(入力シート!H911=\"\",\"\",入力シート!H911)","v":""},{"$f":"IF(入力シート!I911=\"\",\"\",入力シート!I911)","v":""},{"$f":"IF(入力シート!J911=\"\",\"\",入力シート!J911)","v":""},{"$f":"IF(入力シート!K911=\"\",\"\",入力シート!K911)","v":""},{"$f":"IF(入力シート!L911=\"\",\"\",入力シート!L911)","v":""},{"$f":"IF(入力シート!M911=\"\",\"\",入力シート!M911)","v":""},{"$f":"IF(入力シート!N911=\"\",\"\",入力シート!P911)","v":""}]
[{"$f":"IF(入力シート!A912=\"\",\"\",入力シート!A912)","v":""},{"$f":"IF(入力シート!B912=\"\",\"\",入力シート!B912)","v":""},{"$f":"IF(入力シート!C912=\"\",\"\",TEXT(入力シート!C912,\"yyyy-mm-dd\"))","v":""},{"$f":"IF(入力シート!O912=\"\",\"\",TEXT(入力シート!O912,\"000-0000\"))","v":""},{"$f":"IF(入力シート!F912=\"\",\"\",入力シート!F912)","v":""},{"$f":"IF(入力シート!G912=\"\",\"\",入力シート!G912)","v":""},{"$f":"IF(入力シート!H912=\"\",\"\",入力シート!H912)","v":""},{"$f":"IF(入力シート!I912=\"\",\"\",入力シート!I912)","v":""},{"$f":"IF(入力シート!J912=\"\",\"\",入力シート!J912)","v":""},{"$f":"IF(入力シート!K912=\"\",\"\",入力シート!K912)","v":""},{"$f":"IF(入力シート!L912=\"\",\"\",入力シート!L912)","v":""},{"$f":"IF(入力シート!M912=\"\",\"\",入力シート!M912)","v":""},{"$f":"IF(入力シート!N912=\"\",\"\",入力シート!P912)","v":""}]
[{"$f":"IF(入力シート!A913=\"\",\"\",入力シート!A913)","v":""},{"$f":"IF(入力シート!B913=\"\",\"\",入力シート!B913)","v":""},{"$f":"IF(入力シート!C913=\"\",\"\",TEXT(入力シート!C913,\"yyyy-mm-dd\"))","v":""},{"$f":"IF(入力シート!O913=\"\",\"\",TEXT(入力シート!O913,\"000-0000\"))","v":""},{"$f":"IF(入力シート!F913=\"\",\"\",入力シート!F913)","v":""},{"$f":"IF(入力シート!G913=\"\",\"\",入力シート!G913)","v":""},{"$f":"IF(入力シート!H913=\"\",\"\",入力シート!H913)","v":""},{"$f":"IF(入力シート!I913=\"\",\"\",入力シート!I913)","v":""},{"$f":"IF(入力シート!J913=\"\",\"\",入力シート!J913)","v":""},{"$f":"IF(入力シート!K913=\"\",\"\",入力シート!K913)","v":""},{"$f":"IF(入力シート!L913=\"\",\"\",入力シート!L913)","v":""},{"$f":"IF(入力シート!M913=\"\",\"\",入力シート!M913)","v":""},{"$f":"IF(入力シート!N913=\"\",\"\",入力シート!P913)","v":""}]
[{"$f":"IF(入力シート!A914=\"\",\"\",入力シート!A914)","v":""},{"$f":"IF(入力シート!B914=\"\",\"\",入力シート!B914)","v":""},{"$f":"IF(入力シート!C914=\"\",\"\",TEXT(入力シート!C914,\"yyyy-mm-dd\"))","v":""},{"$f":"IF(入力シート!O914=\"\",\"\",TEXT(入力シート!O914,\"000-0000\"))","v":""},{"$f":"IF(入力シート!F914=\"\",\"\",入力シート!F914)","v":""},{"$f":"IF(入力シート!G914=\"\",\"\",入力シート!G914)","v":""},{"$f":"IF(入力シート!H914=\"\",\"\",入力シート!H914)","v":""},{"$f":"IF(入力シート!I914=\"\",\"\",入力シート!I914)","v":""},{"$f":"IF(入力シート!J914=\"\",\"\",入力シート!J914)","v":""},{"$f":"IF(入力シート!K914=\"\",\"\",入力シート!K914)","v":""},{"$f":"IF(入力シート!L914=\"\",\"\",入力シート!L914)","v":""},{"$f":"IF(入力シート!M914=\"\",\"\",入力シート!M914)","v":""},{"$f":"IF(入力シート!N914=\"\",\"\",入力シート!P914)","v":""}]
[{"$f":"IF(入力シート!A915=\"\",\"\",入力シート!A915)","v":""},{"$f":"IF(入力シート!B915=\"\",\"\",入力シート!B915)","v":""},{"$f":"IF(入力シート!C915=\"\",\"\",TEXT(入力シート!C915,\"yyyy-mm-dd\"))","v":""},{"$f":"IF(入力シート!O915=\"\",\"\",TEXT(入力シート!O915,\"000-0000\"))","v":""},{"$f":"IF(入力シート!F915=\"\",\"\",入力シート!F915)","v":""},{"$f":"IF(入力シート!G915=\"\",\"\",入力シート!G915)","v":""},{"$f":"IF(入力シート!H915=\"\",\"\",入力シート!H915)","v":""},{"$f":"IF(入力シート!I915=\"\",\"\",入力シート!I915)","v":""},{"$f":"IF(入力シート!J915=\"\",\"\",入力シート!J915)","v":""},{"$f":"IF(入力シート!K915=\"\",\"\",入力シート!K915)","v":""},{"$f":"IF(入力シート!L915=\"\",\"\",入力シート!L915)","v":""},{"$f":"IF(入力シート!M915=\"\",\"\",入力シート!M915)","v":""},{"$f":"IF(入力シート!N915=\"\",\"\",入力シート!P915)","v":""}]
[{"$f":"IF(入力シート!A916=\"\",\"\",入力シート!A916)","v":""},{"$f":"IF(入力シート!B916=\"\",\"\",入力シート!B916)","v":""},{"$f":"IF(入力シート!C916=\"\",\"\",TEXT(入力シート!C916,\"yyyy-mm-dd\"))","v":""},{"$f":"IF(入力シート!O916=\"\",\"\",TEXT(入力シート!O916,\"000-0000\"))","v":""},{"$f":"IF(入力シート!F916=\"\",\"\",入力シート!F916)","v":""},{"$f":"IF(入力シート!G916=\"\",\"\",入力シート!G916)","v":""},{"$f":"IF(入力シート!H916=\"\",\"\",入力シート!H916)","v":""},{"$f":"IF(入力シート!I916=\"\",\"\",入力シート!I916)","v":""},{"$f":"IF(入力シート!J916=\"\",\"\",入力シート!J916)","v":""},{"$f":"IF(入力シート!K916=\"\",\"\",入力シート!K916)","v":""},{"$f":"IF(入力シート!L916=\"\",\"\",入力シート!L916)","v":""},{"$f":"IF(入力シート!M916=\"\",\"\",入力シート!M916)","v":""},{"$f":"IF(入力シート!N916=\"\",\"\",入力シート!P916)","v":""}]
[{"$f":"IF(入力シート!A917=\"\",\"\",入力シート!A917)","v":""},{"$f":"IF(入力シート!B917=\"\",\"\",入力シート!B917)","v":""},{"$f":"IF(入力シート!C917=\"\",\"\",TEXT(入力シート!C917,\"yyyy-mm-dd\"))","v":""},{"$f":"IF(入力シート!O917=\"\",\"\",TEXT(入力シート!O917,\"000-0000\"))","v":""},{"$f":"IF(入力シート!F917=\"\",\"\",入力シート!F917)","v":""},{"$f":"IF(入力シート!G917=\"\",\"\",入力シート!G917)","v":""},{"$f":"IF(入力シート!H917=\"\",\"\",入力シート!H917)","v":""},{"$f":"IF(入力シート!I917=\"\",\"\",入力シート!I917)","v":""},{"$f":"IF(入力シート!J917=\"\",\"\",入力シート!J917)","v":""},{"$f":"IF(入力シート!K917=\"\",\"\",入力シート!K917)","v":""},{"$f":"IF(入力シート!L917=\"\",\"\",入力シート!L917)","v":""},{"$f":"IF(入力シート!M917=\"\",\"\",入力シート!M917)","v":""},{"$f":"IF(入力シート!N917=\"\",\"\",入力シート!P917)","v":""}]
[{"$f":"IF(入力シート!A918=\"\",\"\",入力シート!A918)","v":""},{"$f":"IF(入力シート!B918=\"\",\"\",入力シート!B918)","v":""},{"$f":"IF(入力シート!C918=\"\",\"\",TEXT(入力シート!C918,\"yyyy-mm-dd\"))","v":""},{"$f":"IF(入力シート!O918=\"\",\"\",TEXT(入力シート!O918,\"000-0000\"))","v":""},{"$f":"IF(入力シート!F918=\"\",\"\",入力シート!F918)","v":""},{"$f":"IF(入力シート!G918=\"\",\"\",入力シート!G918)","v":""},{"$f":"IF(入力シート!H918=\"\",\"\",入力シート!H918)","v":""},{"$f":"IF(入力シート!I918=\"\",\"\",入力シート!I918)","v":""},{"$f":"IF(入力シート!J918=\"\",\"\",入力シート!J918)","v":""},{"$f":"IF(入力シート!K918=\"\",\"\",入力シート!K918)","v":""},{"$f":"IF(入力シート!L918=\"\",\"\",入力シート!L918)","v":""},{"$f":"IF(入力シート!M918=\"\",\"\",入力シート!M918)","v":""},{"$f":"IF(入力シート!N918=\"\",\"\",入力シート!P918)","v":""}]
[{"$f":"IF(入力シート!A919=\"\",\"\",入力シート!A919)","v":""},{"$f":"IF(入力シート!B919=\"\",\"\",入力シート!B919)","v":""},{"$f":"IF(入力シート!C919=\"\",\"\",TEXT(入力シート!C919,\"yyyy-mm-dd\"))","v":""},{"$f":"IF(入力シート!O919=\"\",\"\",TEXT(入力シート!O919,\"000-0000\"))","v":""},{"$f":"IF(入力シート!F919=\"\",\"\",入力シート!F919)","v":""},{"$f":"IF(入力シート!G919=\"\",\"\",入力シート!G919)","v":""},{"$f":"IF(入力シート!H919=\"\",\"\",入力シート!H919)","v":""},{"$f":"IF(入力シート!I919=\"\",\"\",入力シート!I919)","v":""},{"$f":"IF(入力シート!J919=\"\",\"\",入力シート!J919)","v":""},{"$f":"IF(入力シート!K919=\"\",\"\",入力シート!K919)","v":""},{"$f":"IF(入力シート!L919=\"\",\"\",入力シート!L919)","v":""},{"$f":"IF(入力シート!M919=\"\",\"\",入力シート!M919)","v":""},{"$f":"IF(入力シート!N919=\"\",\"\",入力シート!P919)","v":""}]
[{"$f":"IF(入力シート!A920=\"\",\"\",入力シート!A920)","v":""},{"$f":"IF(入力シート!B920=\"\",\"\",入力シート!B920)","v":""},{"$f":"IF(入力シート!C920=\"\",\"\",TEXT(入力シート!C920,\"yyyy-mm-dd\"))","v":""},{"$f":"IF(入力シート!O920=\"\",\"\",TEXT(入力シート!O920,\"000-0000\"))","v":""},{"$f":"IF(入力シート!F920=\"\",\"\",入力シート!F920)","v":""},{"$f":"IF(入力シート!G920=\"\",\"\",入力シート!G920)","v":""},{"$f":"IF(入力シート!H920=\"\",\"\",入力シート!H920)","v":""},{"$f":"IF(入力シート!I920=\"\",\"\",入力シート!I920)","v":""},{"$f":"IF(入力シート!J920=\"\",\"\",入力シート!J920)","v":""},{"$f":"IF(入力シート!K920=\"\",\"\",入力シート!K920)","v":""},{"$f":"IF(入力シート!L920=\"\",\"\",入力シート!L920)","v":""},{"$f":"IF(入力シート!M920=\"\",\"\",入力シート!M920)","v":""},{"$f":"IF(入力シート!N920=\"\",\"\",入力シート!P920)","v":""}]
[{"$f":"IF(入力シート!A921=\"\",\"\",入力シート!A921)","v":""},{"$f":"IF(入力シート!B921=\"\",\"\",入力シート!B921)","v":""},{"$f":"IF(入力シート!C921=\"\",\"\",TEXT(入力シート!C921,\"yyyy-mm-dd\"))","v":""},{"$f":"IF(入力シート!O921=\"\",\"\",TEXT(入力シート!O921,\"000-0000\"))","v":""},{"$f":"IF(入力シート!F921=\"\",\"\",入力シート!F921)","v":""},{"$f":"IF(入力シート!G921=\"\",\"\",入力シート!G921)","v":""},{"$f":"IF(入力シート!H921=\"\",\"\",入力シート!H921)","v":""},{"$f":"IF(入力シート!I921=\"\",\"\",入力シート!I921)","v":""},{"$f":"IF(入力シート!J921=\"\",\"\",入力シート!J921)","v":""},{"$f":"IF(入力シート!K921=\"\",\"\",入力シート!K921)","v":""},{"$f":"IF(入力シート!L921=\"\",\"\",入力シート!L921)","v":""},{"$f":"IF(入力シート!M921=\"\",\"\",入力シート!M921)","v":""},{"$f":"IF(入力シート!N921=\"\",\"\",入力シート!P921)","v":""}]
[{"$f":"IF(入力シート!A922=\"\",\"\",入力シート!A922)","v":""},{"$f":"IF(入力シート!B922=\"\",\"\",入力シート!B922)","v":""},{"$f":"IF(入力シート!C922=\"\",\"\",TEXT(入力シート!C922,\"yyyy-mm-dd\"))","v":""},{"$f":"IF(入力シート!O922=\"\",\"\",TEXT(入力シート!O922,\"000-0000\"))","v":""},{"$f":"IF(入力シート!F922=\"\",\"\",入力シート!F922)","v":""},{"$f":"IF(入力シート!G922=\"\",\"\",入力シート!G922)","v":""},{"$f":"IF(入力シート!H922=\"\",\"\",入力シート!H922)","v":""},{"$f":"IF(入力シート!I922=\"\",\"\",入力シート!I922)","v":""},{"$f":"IF(入力シート!J922=\"\",\"\",入力シート!J922)","v":""},{"$f":"IF(入力シート!K922=\"\",\"\",入力シート!K922)","v":""},{"$f":"IF(入力シート!L922=\"\",\"\",入力シート!L922)","v":""},{"$f":"IF(入力シート!M922=\"\",\"\",入力シート!M922)","v":""},{"$f":"IF(入力シート!N922=\"\",\"\",入力シート!P922)","v":""}]
[{"$f":"IF(入力シート!A923=\"\",\"\",入力シート!A923)","v":""},{"$f":"IF(入力シート!B923=\"\",\"\",入力シート!B923)","v":""},{"$f":"IF(入力シート!C923=\"\",\"\",TEXT(入力シート!C923,\"yyyy-mm-dd\"))","v":""},{"$f":"IF(入力シート!O923=\"\",\"\",TEXT(入力シート!O923,\"000-0000\"))","v":""},{"$f":"IF(入力シート!F923=\"\",\"\",入力シート!F923)","v":""},{"$f":"IF(入力シート!G923=\"\",\"\",入力シート!G923)","v":""},{"$f":"IF(入力シート!H923=\"\",\"\",入力シート!H923)","v":""},{"$f":"IF(入力シート!I923=\"\",\"\",入力シート!I923)","v":""},{"$f":"IF(入力シート!J923=\"\",\"\",入力シート!J923)","v":""},{"$f":"IF(入力シート!K923=\"\",\"\",入力シート!K923)","v":""},{"$f":"IF(入力シート!L923=\"\",\"\",入力シート!L923)","v":""},{"$f":"IF(入力シート!M923=\"\",\"\",入力シート!M923)","v":""},{"$f":"IF(入力シート!N923=\"\",\"\",入力シート!P923)","v":""}]
[{"$f":"IF(入力シート!A924=\"\",\"\",入力シート!A924)","v":""},{"$f":"IF(入力シート!B924=\"\",\"\",入力シート!B924)","v":""},{"$f":"IF(入力シート!C924=\"\",\"\",TEXT(入力シート!C924,\"yyyy-mm-dd\"))","v":""},{"$f":"IF(入力シート!O924=\"\",\"\",TEXT(入力シート!O924,\"000-0000\"))","v":""},{"$f":"IF(入力シート!F924=\"\",\"\",入力シート!F924)","v":""},{"$f":"IF(入力シート!G924=\"\",\"\",入力シート!G924)","v":""},{"$f":"IF(入力シート!H924=\"\",\"\",入力シート!H924)","v":""},{"$f":"IF(入力シート!I924=\"\",\"\",入力シート!I924)","v":""},{"$f":"IF(入力シート!J924=\"\",\"\",入力シート!J924)","v":""},{"$f":"IF(入力シート!K924=\"\",\"\",入力シート!K924)","v":""},{"$f":"IF(入力シート!L924=\"\",\"\",入力シート!L924)","v":""},{"$f":"IF(入力シート!M924=\"\",\"\",入力シート!M924)","v":""},{"$f":"IF(入力シート!N924=\"\",\"\",入力シート!P924)","v":""}]
[{"$f":"IF(入力シート!A925=\"\",\"\",入力シート!A925)","v":""},{"$f":"IF(入力シート!B925=\"\",\"\",入力シート!B925)","v":""},{"$f":"IF(入力シート!C925=\"\",\"\",TEXT(入力シート!C925,\"yyyy-mm-dd\"))","v":""},{"$f":"IF(入力シート!O925=\"\",\"\",TEXT(入力シート!O925,\"000-0000\"))","v":""},{"$f":"IF(入力シート!F925=\"\",\"\",入力シート!F925)","v":""},{"$f":"IF(入力シート!G925=\"\",\"\",入力シート!G925)","v":""},{"$f":"IF(入力シート!H925=\"\",\"\",入力シート!H925)","v":""},{"$f":"IF(入力シート!I925=\"\",\"\",入力シート!I925)","v":""},{"$f":"IF(入力シート!J925=\"\",\"\",入力シート!J925)","v":""},{"$f":"IF(入力シート!K925=\"\",\"\",入力シート!K925)","v":""},{"$f":"IF(入力シート!L925=\"\",\"\",入力シート!L925)","v":""},{"$f":"IF(入力シート!M925=\"\",\"\",入力シート!M925)","v":""},{"$f":"IF(入力シート!N925=\"\",\"\",入力シート!P925)","v":""}]
[{"$f":"IF(入力シート!A926=\"\",\"\",入力シート!A926)","v":""},{"$f":"IF(入力シート!B926=\"\",\"\",入力シート!B926)","v":""},{"$f":"IF(入力シート!C926=\"\",\"\",TEXT(入力シート!C926,\"yyyy-mm-dd\"))","v":""},{"$f":"IF(入力シート!O926=\"\",\"\",TEXT(入力シート!O926,\"000-0000\"))","v":""},{"$f":"IF(入力シート!F926=\"\",\"\",入力シート!F926)","v":""},{"$f":"IF(入力シート!G926=\"\",\"\",入力シート!G926)","v":""},{"$f":"IF(入力シート!H926=\"\",\"\",入力シート!H926)","v":""},{"$f":"IF(入力シート!I926=\"\",\"\",入力シート!I926)","v":""},{"$f":"IF(入力シート!J926=\"\",\"\",入力シート!J926)","v":""},{"$f":"IF(入力シート!K926=\"\",\"\",入力シート!K926)","v":""},{"$f":"IF(入力シート!L926=\"\",\"\",入力シート!L926)","v":""},{"$f":"IF(入力シート!M926=\"\",\"\",入力シート!M926)","v":""},{"$f":"IF(入力シート!N926=\"\",\"\",入力シート!P926)","v":""}]
[{"$f":"IF(入力シート!A927=\"\",\"\",入力シート!A927)","v":""},{"$f":"IF(入力シート!B927=\"\",\"\",入力シート!B927)","v":""},{"$f":"IF(入力シート!C927=\"\",\"\",TEXT(入力シート!C927,\"yyyy-mm-dd\"))","v":""},{"$f":"IF(入力シート!O927=\"\",\"\",TEXT(入力シート!O927,\"000-0000\"))","v":""},{"$f":"IF(入力シート!F927=\"\",\"\",入力シート!F927)","v":""},{"$f":"IF(入力シート!G927=\"\",\"\",入力シート!G927)","v":""},{"$f":"IF(入力シート!H927=\"\",\"\",入力シート!H927)","v":""},{"$f":"IF(入力シート!I927=\"\",\"\",入力シート!I927)","v":""},{"$f":"IF(入力シート!J927=\"\",\"\",入力シート!J927)","v":""},{"$f":"IF(入力シート!K927=\"\",\"\",入力シート!K927)","v":""},{"$f":"IF(入力シート!L927=\"\",\"\",入力シート!L927)","v":""},{"$f":"IF(入力シート!M927=\"\",\"\",入力シート!M927)","v":""},{"$f":"IF(入力シート!N927=\"\",\"\",入力シート!P927)","v":""}]
[{"$f":"IF(入力シート!A928=\"\",\"\",入力シート!A928)","v":""},{"$f":"IF(入力シート!B928=\"\",\"\",入力シート!B928)","v":""},{"$f":"IF(入力シート!C928=\"\",\"\",TEXT(入力シート!C928,\"yyyy-mm-dd\"))","v":""},{"$f":"IF(入力シート!O928=\"\",\"\",TEXT(入力シート!O928,\"000-0000\"))","v":""},{"$f":"IF(入力シート!F928=\"\",\"\",入力シート!F928)","v":""},{"$f":"IF(入力シート!G928=\"\",\"\",入力シート!G928)","v":""},{"$f":"IF(入力シート!H928=\"\",\"\",入力シート!H928)","v":""},{"$f":"IF(入力シート!I928=\"\",\"\",入力シート!I928)","v":""},{"$f":"IF(入力シート!J928=\"\",\"\",入力シート!J928)","v":""},{"$f":"IF(入力シート!K928=\"\",\"\",入力シート!K928)","v":""},{"$f":"IF(入力シート!L928=\"\",\"\",入力シート!L928)","v":""},{"$f":"IF(入力シート!M928=\"\",\"\",入力シート!M928)","v":""},{"$f":"IF(入力シート!N928=\"\",\"\",入力シート!P928)","v":""}]
[{"$f":"IF(入力シート!A929=\"\",\"\",入力シート!A929)","v":""},{"$f":"IF(入力シート!B929=\"\",\"\",入力シート!B929)","v":""},{"$f":"IF(入力シート!C929=\"\",\"\",TEXT(入力シート!C929,\"yyyy-mm-dd\"))","v":""},{"$f":"IF(入力シート!O929=\"\",\"\",TEXT(入力シート!O929,\"000-0000\"))","v":""},{"$f":"IF(入力シート!F929=\"\",\"\",入力シート!F929)","v":""},{"$f":"IF(入力シート!G929=\"\",\"\",入力シート!G929)","v":""},{"$f":"IF(入力シート!H929=\"\",\"\",入力シート!H929)","v":""},{"$f":"IF(入力シート!I929=\"\",\"\",入力シート!I929)","v":""},{"$f":"IF(入力シート!J929=\"\",\"\",入力シート!J929)","v":""},{"$f":"IF(入力シート!K929=\"\",\"\",入力シート!K929)","v":""},{"$f":"IF(入力シート!L929=\"\",\"\",入力シート!L929)","v":""},{"$f":"IF(入力シート!M929=\"\",\"\",入力シート!M929)","v":""},{"$f":"IF(入力シート!N929=\"\",\"\",入力シート!P929)","v":""}]
[{"$f":"IF(入力シート!A930=\"\",\"\",入力シート!A930)","v":""},{"$f":"IF(入力シート!B930=\"\",\"\",入力シート!B930)","v":""},{"$f":"IF(入力シート!C930=\"\",\"\",TEXT(入力シート!C930,\"yyyy-mm-dd\"))","v":""},{"$f":"IF(入力シート!O930=\"\",\"\",TEXT(入力シート!O930,\"000-0000\"))","v":""},{"$f":"IF(入力シート!F930=\"\",\"\",入力シート!F930)","v":""},{"$f":"IF(入力シート!G930=\"\",\"\",入力シート!G930)","v":""},{"$f":"IF(入力シート!H930=\"\",\"\",入力シート!H930)","v":""},{"$f":"IF(入力シート!I930=\"\",\"\",入力シート!I930)","v":""},{"$f":"IF(入力シート!J930=\"\",\"\",入力シート!J930)","v":""},{"$f":"IF(入力シート!K930=\"\",\"\",入力シート!K930)","v":""},{"$f":"IF(入力シート!L930=\"\",\"\",入力シート!L930)","v":""},{"$f":"IF(入力シート!M930=\"\",\"\",入力シート!M930)","v":""},{"$f":"IF(入力シート!N930=\"\",\"\",入力シート!P930)","v":""}]
[{"$f":"IF(入力シート!A931=\"\",\"\",入力シート!A931)","v":""},{"$f":"IF(入力シート!B931=\"\",\"\",入力シート!B931)","v":""},{"$f":"IF(入力シート!C931=\"\",\"\",TEXT(入力シート!C931,\"yyyy-mm-dd\"))","v":""},{"$f":"IF(入力シート!O931=\"\",\"\",TEXT(入力シート!O931,\"000-0000\"))","v":""},{"$f":"IF(入力シート!F931=\"\",\"\",入力シート!F931)","v":""},{"$f":"IF(入力シート!G931=\"\",\"\",入力シート!G931)","v":""},{"$f":"IF(入力シート!H931=\"\",\"\",入力シート!H931)","v":""},{"$f":"IF(入力シート!I931=\"\",\"\",入力シート!I931)","v":""},{"$f":"IF(入力シート!J931=\"\",\"\",入力シート!J931)","v":""},{"$f":"IF(入力シート!K931=\"\",\"\",入力シート!K931)","v":""},{"$f":"IF(入力シート!L931=\"\",\"\",入力シート!L931)","v":""},{"$f":"IF(入力シート!M931=\"\",\"\",入力シート!M931)","v":""},{"$f":"IF(入力シート!N931=\"\",\"\",入力シート!P931)","v":""}]
[{"$f":"IF(入力シート!A932=\"\",\"\",入力シート!A932)","v":""},{"$f":"IF(入力シート!B932=\"\",\"\",入力シート!B932)","v":""},{"$f":"IF(入力シート!C932=\"\",\"\",TEXT(入力シート!C932,\"yyyy-mm-dd\"))","v":""},{"$f":"IF(入力シート!O932=\"\",\"\",TEXT(入力シート!O932,\"000-0000\"))","v":""},{"$f":"IF(入力シート!F932=\"\",\"\",入力シート!F932)","v":""},{"$f":"IF(入力シート!G932=\"\",\"\",入力シート!G932)","v":""},{"$f":"IF(入力シート!H932=\"\",\"\",入力シート!H932)","v":""},{"$f":"IF(入力シート!I932=\"\",\"\",入力シート!I932)","v":""},{"$f":"IF(入力シート!J932=\"\",\"\",入力シート!J932)","v":""},{"$f":"IF(入力シート!K932=\"\",\"\",入力シート!K932)","v":""},{"$f":"IF(入力シート!L932=\"\",\"\",入力シート!L932)","v":""},{"$f":"IF(入力シート!M932=\"\",\"\",入力シート!M932)","v":""},{"$f":"IF(入力シート!N932=\"\",\"\",入力シート!P932)","v":""}]
[{"$f":"IF(入力シート!A933=\"\",\"\",入力シート!A933)","v":""},{"$f":"IF(入力シート!B933=\"\",\"\",入力シート!B933)","v":""},{"$f":"IF(入力シート!C933=\"\",\"\",TEXT(入力シート!C933,\"yyyy-mm-dd\"))","v":""},{"$f":"IF(入力シート!O933=\"\",\"\",TEXT(入力シート!O933,\"000-0000\"))","v":""},{"$f":"IF(入力シート!F933=\"\",\"\",入力シート!F933)","v":""},{"$f":"IF(入力シート!G933=\"\",\"\",入力シート!G933)","v":""},{"$f":"IF(入力シート!H933=\"\",\"\",入力シート!H933)","v":""},{"$f":"IF(入力シート!I933=\"\",\"\",入力シート!I933)","v":""},{"$f":"IF(入力シート!J933=\"\",\"\",入力シート!J933)","v":""},{"$f":"IF(入力シート!K933=\"\",\"\",入力シート!K933)","v":""},{"$f":"IF(入力シート!L933=\"\",\"\",入力シート!L933)","v":""},{"$f":"IF(入力シート!M933=\"\",\"\",入力シート!M933)","v":""},{"$f":"IF(入力シート!N933=\"\",\"\",入力シート!P933)","v":""}]
[{"$f":"IF(入力シート!A934=\"\",\"\",入力シート!A934)","v":""},{"$f":"IF(入力シート!B934=\"\",\"\",入力シート!B934)","v":""},{"$f":"IF(入力シート!C934=\"\",\"\",TEXT(入力シート!C934,\"yyyy-mm-dd\"))","v":""},{"$f":"IF(入力シート!O934=\"\",\"\",TEXT(入力シート!O934,\"000-0000\"))","v":""},{"$f":"IF(入力シート!F934=\"\",\"\",入力シート!F934)","v":""},{"$f":"IF(入力シート!G934=\"\",\"\",入力シート!G934)","v":""},{"$f":"IF(入力シート!H934=\"\",\"\",入力シート!H934)","v":""},{"$f":"IF(入力シート!I934=\"\",\"\",入力シート!I934)","v":""},{"$f":"IF(入力シート!J934=\"\",\"\",入力シート!J934)","v":""},{"$f":"IF(入力シート!K934=\"\",\"\",入力シート!K934)","v":""},{"$f":"IF(入力シート!L934=\"\",\"\",入力シート!L934)","v":""},{"$f":"IF(入力シート!M934=\"\",\"\",入力シート!M934)","v":""},{"$f":"IF(入力シート!N934=\"\",\"\",入力シート!P934)","v":""}]
[{"$f":"IF(入力シート!A935=\"\",\"\",入力シート!A935)","v":""},{"$f":"IF(入力シート!B935=\"\",\"\",入力シート!B935)","v":""},{"$f":"IF(入力シート!C935=\"\",\"\",TEXT(入力シート!C935,\"yyyy-mm-dd\"))","v":""},{"$f":"IF(入力シート!O935=\"\",\"\",TEXT(入力シート!O935,\"000-0000\"))","v":""},{"$f":"IF(入力シート!F935=\"\",\"\",入力シート!F935)","v":""},{"$f":"IF(入力シート!G935=\"\",\"\",入力シート!G935)","v":""},{"$f":"IF(入力シート!H935=\"\",\"\",入力シート!H935)","v":""},{"$f":"IF(入力シート!I935=\"\",\"\",入力シート!I935)","v":""},{"$f":"IF(入力シート!J935=\"\",\"\",入力シート!J935)","v":""},{"$f":"IF(入力シート!K935=\"\",\"\",入力シート!K935)","v":""},{"$f":"IF(入力シート!L935=\"\",\"\",入力シート!L935)","v":""},{"$f":"IF(入力シート!M935=\"\",\"\",入力シート!M935)","v":""},{"$f":"IF(入力シート!N935=\"\",\"\",入力シート!P935)","v":""}]
[{"$f":"IF(入力シート!A936=\"\",\"\",入力シート!A936)","v":""},{"$f":"IF(入力シート!B936=\"\",\"\",入力シート!B936)","v":""},{"$f":"IF(入力シート!C936=\"\",\"\",TEXT(入力シート!C936,\"yyyy-mm-dd\"))","v":""},{"$f":"IF(入力シート!O936=\"\",\"\",TEXT(入力シート!O936,\"000-0000\"))","v":""},{"$f":"IF(入力シート!F936=\"\",\"\",入力シート!F936)","v":""},{"$f":"IF(入力シート!G936=\"\",\"\",入力シート!G936)","v":""},{"$f":"IF(入力シート!H936=\"\",\"\",入力シート!H936)","v":""},{"$f":"IF(入力シート!I936=\"\",\"\",入力シート!I936)","v":""},{"$f":"IF(入力シート!J936=\"\",\"\",入力シート!J936)","v":""},{"$f":"IF(入力シート!K936=\"\",\"\",入力シート!K936)","v":""},{"$f":"IF(入力シート!L936=\"\",\"\",入力シート!L936)","v":""},{"$f":"IF(入力シート!M936=\"\",\"\",入力シート!M936)","v":""},{"$f":"IF(入力シート!N936=\"\",\"\",入力シート!P936)","v":""}]
[{"$f":"IF(入力シート!A937=\"\",\"\",入力シート!A937)","v":""},{"$f":"IF(入力シート!B937=\"\",\"\",入力シート!B937)","v":""},{"$f":"IF(入力シート!C937=\"\",\"\",TEXT(入力シート!C937,\"yyyy-mm-dd\"))","v":""},{"$f":"IF(入力シート!O937=\"\",\"\",TEXT(入力シート!O937,\"000-0000\"))","v":""},{"$f":"IF(入力シート!F937=\"\",\"\",入力シート!F937)","v":""},{"$f":"IF(入力シート!G937=\"\",\"\",入力シート!G937)","v":""},{"$f":"IF(入力シート!H937=\"\",\"\",入力シート!H937)","v":""},{"$f":"IF(入力シート!I937=\"\",\"\",入力シート!I937)","v":""},{"$f":"IF(入力シート!J937=\"\",\"\",入力シート!J937)","v":""},{"$f":"IF(入力シート!K937=\"\",\"\",入力シート!K937)","v":""},{"$f":"IF(入力シート!L937=\"\",\"\",入力シート!L937)","v":""},{"$f":"IF(入力シート!M937=\"\",\"\",入力シート!M937)","v":""},{"$f":"IF(入力シート!N937=\"\",\"\",入力シート!P937)","v":""}]
[{"$f":"IF(入力シート!A938=\"\",\"\",入力シート!A938)","v":""},{"$f":"IF(入力シート!B938=\"\",\"\",入力シート!B938)","v":""},{"$f":"IF(入力シート!C938=\"\",\"\",TEXT(入力シート!C938,\"yyyy-mm-dd\"))","v":""},{"$f":"IF(入力シート!O938=\"\",\"\",TEXT(入力シート!O938,\"000-0000\"))","v":""},{"$f":"IF(入力シート!F938=\"\",\"\",入力シート!F938)","v":""},{"$f":"IF(入力シート!G938=\"\",\"\",入力シート!G938)","v":""},{"$f":"IF(入力シート!H938=\"\",\"\",入力シート!H938)","v":""},{"$f":"IF(入力シート!I938=\"\",\"\",入力シート!I938)","v":""},{"$f":"IF(入力シート!J938=\"\",\"\",入力シート!J938)","v":""},{"$f":"IF(入力シート!K938=\"\",\"\",入力シート!K938)","v":""},{"$f":"IF(入力シート!L938=\"\",\"\",入力シート!L938)","v":""},{"$f":"IF(入力シート!M938=\"\",\"\",入力シート!M938)","v":""},{"$f":"IF(入力シート!N938=\"\",\"\",入力シート!P938)","v":""}]
[{"$f":"IF(入力シート!A939=\"\",\"\",入力シート!A939)","v":""},{"$f":"IF(入力シート!B939=\"\",\"\",入力シート!B939)","v":""},{"$f":"IF(入力シート!C939=\"\",\"\",TEXT(入力シート!C939,\"yyyy-mm-dd\"))","v":""},{"$f":"IF(入力シート!O939=\"\",\"\",TEXT(入力シート!O939,\"000-0000\"))","v":""},{"$f":"IF(入力シート!F939=\"\",\"\",入力シート!F939)","v":""},{"$f":"IF(入力シート!G939=\"\",\"\",入力シート!G939)","v":""},{"$f":"IF(入力シート!H939=\"\",\"\",入力シート!H939)","v":""},{"$f":"IF(入力シート!I939=\"\",\"\",入力シート!I939)","v":""},{"$f":"IF(入力シート!J939=\"\",\"\",入力シート!J939)","v":""},{"$f":"IF(入力シート!K939=\"\",\"\",入力シート!K939)","v":""},{"$f":"IF(入力シート!L939=\"\",\"\",入力シート!L939)","v":""},{"$f":"IF(入力シート!M939=\"\",\"\",入力シート!M939)","v":""},{"$f":"IF(入力シート!N939=\"\",\"\",入力シート!P939)","v":""}]
[{"$f":"IF(入力シート!A940=\"\",\"\",入力シート!A940)","v":""},{"$f":"IF(入力シート!B940=\"\",\"\",入力シート!B940)","v":""},{"$f":"IF(入力シート!C940=\"\",\"\",TEXT(入力シート!C940,\"yyyy-mm-dd\"))","v":""},{"$f":"IF(入力シート!O940=\"\",\"\",TEXT(入力シート!O940,\"000-0000\"))","v":""},{"$f":"IF(入力シート!F940=\"\",\"\",入力シート!F940)","v":""},{"$f":"IF(入力シート!G940=\"\",\"\",入力シート!G940)","v":""},{"$f":"IF(入力シート!H940=\"\",\"\",入力シート!H940)","v":""},{"$f":"IF(入力シート!I940=\"\",\"\",入力シート!I940)","v":""},{"$f":"IF(入力シート!J940=\"\",\"\",入力シート!J940)","v":""},{"$f":"IF(入力シート!K940=\"\",\"\",入力シート!K940)","v":""},{"$f":"IF(入力シート!L940=\"\",\"\",入力シート!L940)","v":""},{"$f":"IF(入力シート!M940=\"\",\"\",入力シート!M940)","v":""},{"$f":"IF(入力シート!N940=\"\",\"\",入力シート!P940)","v":""}]
[{"$f":"IF(入力シート!A941=\"\",\"\",入力シート!A941)","v":""},{"$f":"IF(入力シート!B941=\"\",\"\",入力シート!B941)","v":""},{"$f":"IF(入力シート!C941=\"\",\"\",TEXT(入力シート!C941,\"yyyy-mm-dd\"))","v":""},{"$f":"IF(入力シート!O941=\"\",\"\",TEXT(入力シート!O941,\"000-0000\"))","v":""},{"$f":"IF(入力シート!F941=\"\",\"\",入力シート!F941)","v":""},{"$f":"IF(入力シート!G941=\"\",\"\",入力シート!G941)","v":""},{"$f":"IF(入力シート!H941=\"\",\"\",入力シート!H941)","v":""},{"$f":"IF(入力シート!I941=\"\",\"\",入力シート!I941)","v":""},{"$f":"IF(入力シート!J941=\"\",\"\",入力シート!J941)","v":""},{"$f":"IF(入力シート!K941=\"\",\"\",入力シート!K941)","v":""},{"$f":"IF(入力シート!L941=\"\",\"\",入力シート!L941)","v":""},{"$f":"IF(入力シート!M941=\"\",\"\",入力シート!M941)","v":""},{"$f":"IF(入力シート!N941=\"\",\"\",入力シート!P941)","v":""}]
[{"$f":"IF(入力シート!A942=\"\",\"\",入力シート!A942)","v":""},{"$f":"IF(入力シート!B942=\"\",\"\",入力シート!B942)","v":""},{"$f":"IF(入力シート!C942=\"\",\"\",TEXT(入力シート!C942,\"yyyy-mm-dd\"))","v":""},{"$f":"IF(入力シート!O942=\"\",\"\",TEXT(入力シート!O942,\"000-0000\"))","v":""},{"$f":"IF(入力シート!F942=\"\",\"\",入力シート!F942)","v":""},{"$f":"IF(入力シート!G942=\"\",\"\",入力シート!G942)","v":""},{"$f":"IF(入力シート!H942=\"\",\"\",入力シート!H942)","v":""},{"$f":"IF(入力シート!I942=\"\",\"\",入力シート!I942)","v":""},{"$f":"IF(入力シート!J942=\"\",\"\",入力シート!J942)","v":""},{"$f":"IF(入力シート!K942=\"\",\"\",入力シート!K942)","v":""},{"$f":"IF(入力シート!L942=\"\",\"\",入力シート!L942)","v":""},{"$f":"IF(入力シート!M942=\"\",\"\",入力シート!M942)","v":""},{"$f":"IF(入力シート!N942=\"\",\"\",入力シート!P942)","v":""}]
[{"$f":"IF(入力シート!A943=\"\",\"\",入力シート!A943)","v":""},{"$f":"IF(入力シート!B943=\"\",\"\",入力シート!B943)","v":""},{"$f":"IF(入力シート!C943=\"\",\"\",TEXT(入力シート!C943,\"yyyy-mm-dd\"))","v":""},{"$f":"IF(入力シート!O943=\"\",\"\",TEXT(入力シート!O943,\"000-0000\"))","v":""},{"$f":"IF(入力シート!F943=\"\",\"\",入力シート!F943)","v":""},{"$f":"IF(入力シート!G943=\"\",\"\",入力シート!G943)","v":""},{"$f":"IF(入力シート!H943=\"\",\"\",入力シート!H943)","v":""},{"$f":"IF(入力シート!I943=\"\",\"\",入力シート!I943)","v":""},{"$f":"IF(入力シート!J943=\"\",\"\",入力シート!J943)","v":""},{"$f":"IF(入力シート!K943=\"\",\"\",入力シート!K943)","v":""},{"$f":"IF(入力シート!L943=\"\",\"\",入力シート!L943)","v":""},{"$f":"IF(入力シート!M943=\"\",\"\",入力シート!M943)","v":""},{"$f":"IF(入力シート!N943=\"\",\"\",入力シート!P943)","v":""}]
[{"$f":"IF(入力シート!A944=\"\",\"\",入力シート!A944)","v":""},{"$f":"IF(入力シート!B944=\"\",\"\",入力シート!B944)","v":""},{"$f":"IF(入力シート!C944=\"\",\"\",TEXT(入力シート!C944,\"yyyy-mm-dd\"))","v":""},{"$f":"IF(入力シート!O944=\"\",\"\",TEXT(入力シート!O944,\"000-0000\"))","v":""},{"$f":"IF(入力シート!F944=\"\",\"\",入力シート!F944)","v":""},{"$f":"IF(入力シート!G944=\"\",\"\",入力シート!G944)","v":""},{"$f":"IF(入力シート!H944=\"\",\"\",入力シート!H944)","v":""},{"$f":"IF(入力シート!I944=\"\",\"\",入力シート!I944)","v":""},{"$f":"IF(入力シート!J944=\"\",\"\",入力シート!J944)","v":""},{"$f":"IF(入力シート!K944=\"\",\"\",入力シート!K944)","v":""},{"$f":"IF(入力シート!L944=\"\",\"\",入力シート!L944)","v":""},{"$f":"IF(入力シート!M944=\"\",\"\",入力シート!M944)","v":""},{"$f":"IF(入力シート!N944=\"\",\"\",入力シート!P944)","v":""}]
[{"$f":"IF(入力シート!A945=\"\",\"\",入力シート!A945)","v":""},{"$f":"IF(入力シート!B945=\"\",\"\",入力シート!B945)","v":""},{"$f":"IF(入力シート!C945=\"\",\"\",TEXT(入力シート!C945,\"yyyy-mm-dd\"))","v":""},{"$f":"IF(入力シート!O945=\"\",\"\",TEXT(入力シート!O945,\"000-0000\"))","v":""},{"$f":"IF(入力シート!F945=\"\",\"\",入力シート!F945)","v":""},{"$f":"IF(入力シート!G945=\"\",\"\",入力シート!G945)","v":""},{"$f":"IF(入力シート!H945=\"\",\"\",入力シート!H945)","v":""},{"$f":"IF(入力シート!I945=\"\",\"\",入力シート!I945)","v":""},{"$f":"IF(入力シート!J945=\"\",\"\",入力シート!J945)","v":""},{"$f":"IF(入力シート!K945=\"\",\"\",入力シート!K945)","v":""},{"$f":"IF(入力シート!L945=\"\",\"\",入力シート!L945)","v":""},{"$f":"IF(入力シート!M945=\"\",\"\",入力シート!M945)","v":""},{"$f":"IF(入力シート!N945=\"\",\"\",入力シート!P945)","v":""}]
[{"$f":"IF(入力シート!A946=\"\",\"\",入力シート!A946)","v":""},{"$f":"IF(入力シート!B946=\"\",\"\",入力シート!B946)","v":""},{"$f":"IF(入力シート!C946=\"\",\"\",TEXT(入力シート!C946,\"yyyy-mm-dd\"))","v":""},{"$f":"IF(入力シート!O946=\"\",\"\",TEXT(入力シート!O946,\"000-0000\"))","v":""},{"$f":"IF(入力シート!F946=\"\",\"\",入力シート!F946)","v":""},{"$f":"IF(入力シート!G946=\"\",\"\",入力シート!G946)","v":""},{"$f":"IF(入力シート!H946=\"\",\"\",入力シート!H946)","v":""},{"$f":"IF(入力シート!I946=\"\",\"\",入力シート!I946)","v":""},{"$f":"IF(入力シート!J946=\"\",\"\",入力シート!J946)","v":""},{"$f":"IF(入力シート!K946=\"\",\"\",入力シート!K946)","v":""},{"$f":"IF(入力シート!L946=\"\",\"\",入力シート!L946)","v":""},{"$f":"IF(入力シート!M946=\"\",\"\",入力シート!M946)","v":""},{"$f":"IF(入力シート!N946=\"\",\"\",入力シート!P946)","v":""}]
[{"$f":"IF(入力シート!A947=\"\",\"\",入力シート!A947)","v":""},{"$f":"IF(入力シート!B947=\"\",\"\",入力シート!B947)","v":""},{"$f":"IF(入力シート!C947=\"\",\"\",TEXT(入力シート!C947,\"yyyy-mm-dd\"))","v":""},{"$f":"IF(入力シート!O947=\"\",\"\",TEXT(入力シート!O947,\"000-0000\"))","v":""},{"$f":"IF(入力シート!F947=\"\",\"\",入力シート!F947)","v":""},{"$f":"IF(入力シート!G947=\"\",\"\",入力シート!G947)","v":""},{"$f":"IF(入力シート!H947=\"\",\"\",入力シート!H947)","v":""},{"$f":"IF(入力シート!I947=\"\",\"\",入力シート!I947)","v":""},{"$f":"IF(入力シート!J947=\"\",\"\",入力シート!J947)","v":""},{"$f":"IF(入力シート!K947=\"\",\"\",入力シート!K947)","v":""},{"$f":"IF(入力シート!L947=\"\",\"\",入力シート!L947)","v":""},{"$f":"IF(入力シート!M947=\"\",\"\",入力シート!M947)","v":""},{"$f":"IF(入力シート!N947=\"\",\"\",入力シート!P947)","v":""}]
[{"$f":"IF(入力シート!A948=\"\",\"\",入力シート!A948)","v":""},{"$f":"IF(入力シート!B948=\"\",\"\",入力シート!B948)","v":""},{"$f":"IF(入力シート!C948=\"\",\"\",TEXT(入力シート!C948,\"yyyy-mm-dd\"))","v":""},{"$f":"IF(入力シート!O948=\"\",\"\",TEXT(入力シート!O948,\"000-0000\"))","v":""},{"$f":"IF(入力シート!F948=\"\",\"\",入力シート!F948)","v":""},{"$f":"IF(入力シート!G948=\"\",\"\",入力シート!G948)","v":""},{"$f":"IF(入力シート!H948=\"\",\"\",入力シート!H948)","v":""},{"$f":"IF(入力シート!I948=\"\",\"\",入力シート!I948)","v":""},{"$f":"IF(入力シート!J948=\"\",\"\",入力シート!J948)","v":""},{"$f":"IF(入力シート!K948=\"\",\"\",入力シート!K948)","v":""},{"$f":"IF(入力シート!L948=\"\",\"\",入力シート!L948)","v":""},{"$f":"IF(入力シート!M948=\"\",\"\",入力シート!M948)","v":""},{"$f":"IF(入力シート!N948=\"\",\"\",入力シート!P948)","v":""}]
[{"$f":"IF(入力シート!A949=\"\",\"\",入力シート!A949)","v":""},{"$f":"IF(入力シート!B949=\"\",\"\",入力シート!B949)","v":""},{"$f":"IF(入力シート!C949=\"\",\"\",TEXT(入力シート!C949,\"yyyy-mm-dd\"))","v":""},{"$f":"IF(入力シート!O949=\"\",\"\",TEXT(入力シート!O949,\"000-0000\"))","v":""},{"$f":"IF(入力シート!F949=\"\",\"\",入力シート!F949)","v":""},{"$f":"IF(入力シート!G949=\"\",\"\",入力シート!G949)","v":""},{"$f":"IF(入力シート!H949=\"\",\"\",入力シート!H949)","v":""},{"$f":"IF(入力シート!I949=\"\",\"\",入力シート!I949)","v":""},{"$f":"IF(入力シート!J949=\"\",\"\",入力シート!J949)","v":""},{"$f":"IF(入力シート!K949=\"\",\"\",入力シート!K949)","v":""},{"$f":"IF(入力シート!L949=\"\",\"\",入力シート!L949)","v":""},{"$f":"IF(入力シート!M949=\"\",\"\",入力シート!M949)","v":""},{"$f":"IF(入力シート!N949=\"\",\"\",入力シート!P949)","v":""}]
[{"$f":"IF(入力シート!A950=\"\",\"\",入力シート!A950)","v":""},{"$f":"IF(入力シート!B950=\"\",\"\",入力シート!B950)","v":""},{"$f":"IF(入力シート!C950=\"\",\"\",TEXT(入力シート!C950,\"yyyy-mm-dd\"))","v":""},{"$f":"IF(入力シート!O950=\"\",\"\",TEXT(入力シート!O950,\"000-0000\"))","v":""},{"$f":"IF(入力シート!F950=\"\",\"\",入力シート!F950)","v":""},{"$f":"IF(入力シート!G950=\"\",\"\",入力シート!G950)","v":""},{"$f":"IF(入力シート!H950=\"\",\"\",入力シート!H950)","v":""},{"$f":"IF(入力シート!I950=\"\",\"\",入力シート!I950)","v":""},{"$f":"IF(入力シート!J950=\"\",\"\",入力シート!J950)","v":""},{"$f":"IF(入力シート!K950=\"\",\"\",入力シート!K950)","v":""},{"$f":"IF(入力シート!L950=\"\",\"\",入力シート!L950)","v":""},{"$f":"IF(入力シート!M950=\"\",\"\",入力シート!M950)","v":""},{"$f":"IF(入力シート!N950=\"\",\"\",入力シート!P950)","v":""}]
[{"$f":"IF(入力シート!A951=\"\",\"\",入力シート!A951)","v":""},{"$f":"IF(入力シート!B951=\"\",\"\",入力シート!B951)","v":""},{"$f":"IF(入力シート!C951=\"\",\"\",TEXT(入力シート!C951,\"yyyy-mm-dd\"))","v":""},{"$f":"IF(入力シート!O951=\"\",\"\",TEXT(入力シート!O951,\"000-0000\"))","v":""},{"$f":"IF(入力シート!F951=\"\",\"\",入力シート!F951)","v":""},{"$f":"IF(入力シート!G951=\"\",\"\",入力シート!G951)","v":""},{"$f":"IF(入力シート!H951=\"\",\"\",入力シート!H951)","v":""},{"$f":"IF(入力シート!I951=\"\",\"\",入力シート!I951)","v":""},{"$f":"IF(入力シート!J951=\"\",\"\",入力シート!J951)","v":""},{"$f":"IF(入力シート!K951=\"\",\"\",入力シート!K951)","v":""},{"$f":"IF(入力シート!L951=\"\",\"\",入力シート!L951)","v":""},{"$f":"IF(入力シート!M951=\"\",\"\",入力シート!M951)","v":""},{"$f":"IF(入力シート!N951=\"\",\"\",入力シート!P951)","v":""}]
[{"$f":"IF(入力シート!A952=\"\",\"\",入力シート!A952)","v":""},{"$f":"IF(入力シート!B952=\"\",\"\",入力シート!B952)","v":""},{"$f":"IF(入力シート!C952=\"\",\"\",TEXT(入力シート!C952,\"yyyy-mm-dd\"))","v":""},{"$f":"IF(入力シート!O952=\"\",\"\",TEXT(入力シート!O952,\"000-0000\"))","v":""},{"$f":"IF(入力シート!F952=\"\",\"\",入力シート!F952)","v":""},{"$f":"IF(入力シート!G952=\"\",\"\",入力シート!G952)","v":""},{"$f":"IF(入力シート!H952=\"\",\"\",入力シート!H952)","v":""},{"$f":"IF(入力シート!I952=\"\",\"\",入力シート!I952)","v":""},{"$f":"IF(入力シート!J952=\"\",\"\",入力シート!J952)","v":""},{"$f":"IF(入力シート!K952=\"\",\"\",入力シート!K952)","v":""},{"$f":"IF(入力シート!L952=\"\",\"\",入力シート!L952)","v":""},{"$f":"IF(入力シート!M952=\"\",\"\",入力シート!M952)","v":""},{"$f":"IF(入力シート!N952=\"\",\"\",入力シート!P952)","v":""}]
[{"$f":"IF(入力シート!A953=\"\",\"\",入力シート!A953)","v":""},{"$f":"IF(入力シート!B953=\"\",\"\",入力シート!B953)","v":""},{"$f":"IF(入力シート!C953=\"\",\"\",TEXT(入力シート!C953,\"yyyy-mm-dd\"))","v":""},{"$f":"IF(入力シート!O953=\"\",\"\",TEXT(入力シート!O953,\"000-0000\"))","v":""},{"$f":"IF(入力シート!F953=\"\",\"\",入力シート!F953)","v":""},{"$f":"IF(入力シート!G953=\"\",\"\",入力シート!G953)","v":""},{"$f":"IF(入力シート!H953=\"\",\"\",入力シート!H953)","v":""},{"$f":"IF(入力シート!I953=\"\",\"\",入力シート!I953)","v":""},{"$f":"IF(入力シート!J953=\"\",\"\",入力シート!J953)","v":""},{"$f":"IF(入力シート!K953=\"\",\"\",入力シート!K953)","v":""},{"$f":"IF(入力シート!L953=\"\",\"\",入力シート!L953)","v":""},{"$f":"IF(入力シート!M953=\"\",\"\",入力シート!M953)","v":""},{"$f":"IF(入力シート!N953=\"\",\"\",入力シート!P953)","v":""}]
[{"$f":"IF(入力シート!A954=\"\",\"\",入力シート!A954)","v":""},{"$f":"IF(入力シート!B954=\"\",\"\",入力シート!B954)","v":""},{"$f":"IF(入力シート!C954=\"\",\"\",TEXT(入力シート!C954,\"yyyy-mm-dd\"))","v":""},{"$f":"IF(入力シート!O954=\"\",\"\",TEXT(入力シート!O954,\"000-0000\"))","v":""},{"$f":"IF(入力シート!F954=\"\",\"\",入力シート!F954)","v":""},{"$f":"IF(入力シート!G954=\"\",\"\",入力シート!G954)","v":""},{"$f":"IF(入力シート!H954=\"\",\"\",入力シート!H954)","v":""},{"$f":"IF(入力シート!I954=\"\",\"\",入力シート!I954)","v":""},{"$f":"IF(入力シート!J954=\"\",\"\",入力シート!J954)","v":""},{"$f":"IF(入力シート!K954=\"\",\"\",入力シート!K954)","v":""},{"$f":"IF(入力シート!L954=\"\",\"\",入力シート!L954)","v":""},{"$f":"IF(入力シート!M954=\"\",\"\",入力シート!M954)","v":""},{"$f":"IF(入力シート!N954=\"\",\"\",入力シート!P954)","v":""}]
[{"$f":"IF(入力シート!A955=\"\",\"\",入力シート!A955)","v":""},{"$f":"IF(入力シート!B955=\"\",\"\",入力シート!B955)","v":""},{"$f":"IF(入力シート!C955=\"\",\"\",TEXT(入力シート!C955,\"yyyy-mm-dd\"))","v":""},{"$f":"IF(入力シート!O955=\"\",\"\",TEXT(入力シート!O955,\"000-0000\"))","v":""},{"$f":"IF(入力シート!F955=\"\",\"\",入力シート!F955)","v":""},{"$f":"IF(入力シート!G955=\"\",\"\",入力シート!G955)","v":""},{"$f":"IF(入力シート!H955=\"\",\"\",入力シート!H955)","v":""},{"$f":"IF(入力シート!I955=\"\",\"\",入力シート!I955)","v":""},{"$f":"IF(入力シート!J955=\"\",\"\",入力シート!J955)","v":""},{"$f":"IF(入力シート!K955=\"\",\"\",入力シート!K955)","v":""},{"$f":"IF(入力シート!L955=\"\",\"\",入力シート!L955)","v":""},{"$f":"IF(入力シート!M955=\"\",\"\",入力シート!M955)","v":""},{"$f":"IF(入力シート!N955=\"\",\"\",入力シート!P955)","v":""}]
[{"$f":"IF(入力シート!A956=\"\",\"\",入力シート!A956)","v":""},{"$f":"IF(入力シート!B956=\"\",\"\",入力シート!B956)","v":""},{"$f":"IF(入力シート!C956=\"\",\"\",TEXT(入力シート!C956,\"yyyy-mm-dd\"))","v":""},{"$f":"IF(入力シート!O956=\"\",\"\",TEXT(入力シート!O956,\"000-0000\"))","v":""},{"$f":"IF(入力シート!F956=\"\",\"\",入力シート!F956)","v":""},{"$f":"IF(入力シート!G956=\"\",\"\",入力シート!G956)","v":""},{"$f":"IF(入力シート!H956=\"\",\"\",入力シート!H956)","v":""},{"$f":"IF(入力シート!I956=\"\",\"\",入力シート!I956)","v":""},{"$f":"IF(入力シート!J956=\"\",\"\",入力シート!J956)","v":""},{"$f":"IF(入力シート!K956=\"\",\"\",入力シート!K956)","v":""},{"$f":"IF(入力シート!L956=\"\",\"\",入力シート!L956)","v":""},{"$f":"IF(入力シート!M956=\"\",\"\",入力シート!M956)","v":""},{"$f":"IF(入力シート!N956=\"\",\"\",入力シート!P956)","v":""}]
[{"$f":"IF(入力シート!A957=\"\",\"\",入力シート!A957)","v":""},{"$f":"IF(入力シート!B957=\"\",\"\",入力シート!B957)","v":""},{"$f":"IF(入力シート!C957=\"\",\"\",TEXT(入力シート!C957,\"yyyy-mm-dd\"))","v":""},{"$f":"IF(入力シート!O957=\"\",\"\",TEXT(入力シート!O957,\"000-0000\"))","v":""},{"$f":"IF(入力シート!F957=\"\",\"\",入力シート!F957)","v":""},{"$f":"IF(入力シート!G957=\"\",\"\",入力シート!G957)","v":""},{"$f":"IF(入力シート!H957=\"\",\"\",入力シート!H957)","v":""},{"$f":"IF(入力シート!I957=\"\",\"\",入力シート!I957)","v":""},{"$f":"IF(入力シート!J957=\"\",\"\",入力シート!J957)","v":""},{"$f":"IF(入力シート!K957=\"\",\"\",入力シート!K957)","v":""},{"$f":"IF(入力シート!L957=\"\",\"\",入力シート!L957)","v":""},{"$f":"IF(入力シート!M957=\"\",\"\",入力シート!M957)","v":""},{"$f":"IF(入力シート!N957=\"\",\"\",入力シート!P957)","v":""}]
[{"$f":"IF(入力シート!A958=\"\",\"\",入力シート!A958)","v":""},{"$f":"IF(入力シート!B958=\"\",\"\",入力シート!B958)","v":""},{"$f":"IF(入力シート!C958=\"\",\"\",TEXT(入力シート!C958,\"yyyy-mm-dd\"))","v":""},{"$f":"IF(入力シート!O958=\"\",\"\",TEXT(入力シート!O958,\"000-0000\"))","v":""},{"$f":"IF(入力シート!F958=\"\",\"\",入力シート!F958)","v":""},{"$f":"IF(入力シート!G958=\"\",\"\",入力シート!G958)","v":""},{"$f":"IF(入力シート!H958=\"\",\"\",入力シート!H958)","v":""},{"$f":"IF(入力シート!I958=\"\",\"\",入力シート!I958)","v":""},{"$f":"IF(入力シート!J958=\"\",\"\",入力シート!J958)","v":""},{"$f":"IF(入力シート!K958=\"\",\"\",入力シート!K958)","v":""},{"$f":"IF(入力シート!L958=\"\",\"\",入力シート!L958)","v":""},{"$f":"IF(入力シート!M958=\"\",\"\",入力シート!M958)","v":""},{"$f":"IF(入力シート!N958=\"\",\"\",入力シート!P958)","v":""}]
[{"$f":"IF(入力シート!A959=\"\",\"\",入力シート!A959)","v":""},{"$f":"IF(入力シート!B959=\"\",\"\",入力シート!B959)","v":""},{"$f":"IF(入力シート!C959=\"\",\"\",TEXT(入力シート!C959,\"yyyy-mm-dd\"))","v":""},{"$f":"IF(入力シート!O959=\"\",\"\",TEXT(入力シート!O959,\"000-0000\"))","v":""},{"$f":"IF(入力シート!F959=\"\",\"\",入力シート!F959)","v":""},{"$f":"IF(入力シート!G959=\"\",\"\",入力シート!G959)","v":""},{"$f":"IF(入力シート!H959=\"\",\"\",入力シート!H959)","v":""},{"$f":"IF(入力シート!I959=\"\",\"\",入力シート!I959)","v":""},{"$f":"IF(入力シート!J959=\"\",\"\",入力シート!J959)","v":""},{"$f":"IF(入力シート!K959=\"\",\"\",入力シート!K959)","v":""},{"$f":"IF(入力シート!L959=\"\",\"\",入力シート!L959)","v":""},{"$f":"IF(入力シート!M959=\"\",\"\",入力シート!M959)","v":""},{"$f":"IF(入力シート!N959=\"\",\"\",入力シート!P959)","v":""}]
[{"$f":"IF(入力シート!A960=\"\",\"\",入力シート!A960)","v":""},{"$f":"IF(入力シート!B960=\"\",\"\",入力シート!B960)","v":""},{"$f":"IF(入力シート!C960=\"\",\"\",TEXT(入力シート!C960,\"yyyy-mm-dd\"))","v":""},{"$f":"IF(入力シート!O960=\"\",\"\",TEXT(入力シート!O960,\"000-0000\"))","v":""},{"$f":"IF(入力シート!F960=\"\",\"\",入力シート!F960)","v":""},{"$f":"IF(入力シート!G960=\"\",\"\",入力シート!G960)","v":""},{"$f":"IF(入力シート!H960=\"\",\"\",入力シート!H960)","v":""},{"$f":"IF(入力シート!I960=\"\",\"\",入力シート!I960)","v":""},{"$f":"IF(入力シート!J960=\"\",\"\",入力シート!J960)","v":""},{"$f":"IF(入力シート!K960=\"\",\"\",入力シート!K960)","v":""},{"$f":"IF(入力シート!L960=\"\",\"\",入力シート!L960)","v":""},{"$f":"IF(入力シート!M960=\"\",\"\",入力シート!M960)","v":""},{"$f":"IF(入力シート!N960=\"\",\"\",入力シート!P960)","v":""}]
[{"$f":"IF(入力シート!A961=\"\",\"\",入力シート!A961)","v":""},{"$f":"IF(入力シート!B961=\"\",\"\",入力シート!B961)","v":""},{"$f":"IF(入力シート!C961=\"\",\"\",TEXT(入力シート!C961,\"yyyy-mm-dd\"))","v":""},{"$f":"IF(入力シート!O961=\"\",\"\",TEXT(入力シート!O961,\"000-0000\"))","v":""},{"$f":"IF(入力シート!F961=\"\",\"\",入力シート!F961)","v":""},{"$f":"IF(入力シート!G961=\"\",\"\",入力シート!G961)","v":""},{"$f":"IF(入力シート!H961=\"\",\"\",入力シート!H961)","v":""},{"$f":"IF(入力シート!I961=\"\",\"\",入力シート!I961)","v":""},{"$f":"IF(入力シート!J961=\"\",\"\",入力シート!J961)","v":""},{"$f":"IF(入力シート!K961=\"\",\"\",入力シート!K961)","v":""},{"$f":"IF(入力シート!L961=\"\",\"\",入力シート!L961)","v":""},{"$f":"IF(入力シート!M961=\"\",\"\",入力シート!M961)","v":""},{"$f":"IF(入力シート!N961=\"\",\"\",入力シート!P961)","v":""}]
[{"$f":"IF(入力シート!A962=\"\",\"\",入力シート!A962)","v":""},{"$f":"IF(入力シート!B962=\"\",\"\",入力シート!B962)","v":""},{"$f":"IF(入力シート!C962=\"\",\"\",TEXT(入力シート!C962,\"yyyy-mm-dd\"))","v":""},{"$f":"IF(入力シート!O962=\"\",\"\",TEXT(入力シート!O962,\"000-0000\"))","v":""},{"$f":"IF(入力シート!F962=\"\",\"\",入力シート!F962)","v":""},{"$f":"IF(入力シート!G962=\"\",\"\",入力シート!G962)","v":""},{"$f":"IF(入力シート!H962=\"\",\"\",入力シート!H962)","v":""},{"$f":"IF(入力シート!I962=\"\",\"\",入力シート!I962)","v":""},{"$f":"IF(入力シート!J962=\"\",\"\",入力シート!J962)","v":""},{"$f":"IF(入力シート!K962=\"\",\"\",入力シート!K962)","v":""},{"$f":"IF(入力シート!L962=\"\",\"\",入力シート!L962)","v":""},{"$f":"IF(入力シート!M962=\"\",\"\",入力シート!M962)","v":""},{"$f":"IF(入力シート!N962=\"\",\"\",入力シート!P962)","v":""}]
[{"$f":"IF(入力シート!A963=\"\",\"\",入力シート!A963)","v":""},{"$f":"IF(入力シート!B963=\"\",\"\",入力シート!B963)","v":""},{"$f":"IF(入力シート!C963=\"\",\"\",TEXT(入力シート!C963,\"yyyy-mm-dd\"))","v":""},{"$f":"IF(入力シート!O963=\"\",\"\",TEXT(入力シート!O963,\"000-0000\"))","v":""},{"$f":"IF(入力シート!F963=\"\",\"\",入力シート!F963)","v":""},{"$f":"IF(入力シート!G963=\"\",\"\",入力シート!G963)","v":""},{"$f":"IF(入力シート!H963=\"\",\"\",入力シート!H963)","v":""},{"$f":"IF(入力シート!I963=\"\",\"\",入力シート!I963)","v":""},{"$f":"IF(入力シート!J963=\"\",\"\",入力シート!J963)","v":""},{"$f":"IF(入力シート!K963=\"\",\"\",入力シート!K963)","v":""},{"$f":"IF(入力シート!L963=\"\",\"\",入力シート!L963)","v":""},{"$f":"IF(入力シート!M963=\"\",\"\",入力シート!M963)","v":""},{"$f":"IF(入力シート!N963=\"\",\"\",入力シート!P963)","v":""}]
[{"$f":"IF(入力シート!A964=\"\",\"\",入力シート!A964)","v":""},{"$f":"IF(入力シート!B964=\"\",\"\",入力シート!B964)","v":""},{"$f":"IF(入力シート!C964=\"\",\"\",TEXT(入力シート!C964,\"yyyy-mm-dd\"))","v":""},{"$f":"IF(入力シート!O964=\"\",\"\",TEXT(入力シート!O964,\"000-0000\"))","v":""},{"$f":"IF(入力シート!F964=\"\",\"\",入力シート!F964)","v":""},{"$f":"IF(入力シート!G964=\"\",\"\",入力シート!G964)","v":""},{"$f":"IF(入力シート!H964=\"\",\"\",入力シート!H964)","v":""},{"$f":"IF(入力シート!I964=\"\",\"\",入力シート!I964)","v":""},{"$f":"IF(入力シート!J964=\"\",\"\",入力シート!J964)","v":""},{"$f":"IF(入力シート!K964=\"\",\"\",入力シート!K964)","v":""},{"$f":"IF(入力シート!L964=\"\",\"\",入力シート!L964)","v":""},{"$f":"IF(入力シート!M964=\"\",\"\",入力シート!M964)","v":""},{"$f":"IF(入力シート!N964=\"\",\"\",入力シート!P964)","v":""}]
[{"$f":"IF(入力シート!A965=\"\",\"\",入力シート!A965)","v":""},{"$f":"IF(入力シート!B965=\"\",\"\",入力シート!B965)","v":""},{"$f":"IF(入力シート!C965=\"\",\"\",TEXT(入力シート!C965,\"yyyy-mm-dd\"))","v":""},{"$f":"IF(入力シート!O965=\"\",\"\",TEXT(入力シート!O965,\"000-0000\"))","v":""},{"$f":"IF(入力シート!F965=\"\",\"\",入力シート!F965)","v":""},{"$f":"IF(入力シート!G965=\"\",\"\",入力シート!G965)","v":""},{"$f":"IF(入力シート!H965=\"\",\"\",入力シート!H965)","v":""},{"$f":"IF(入力シート!I965=\"\",\"\",入力シート!I965)","v":""},{"$f":"IF(入力シート!J965=\"\",\"\",入力シート!J965)","v":""},{"$f":"IF(入力シート!K965=\"\",\"\",入力シート!K965)","v":""},{"$f":"IF(入力シート!L965=\"\",\"\",入力シート!L965)","v":""},{"$f":"IF(入力シート!M965=\"\",\"\",入力シート!M965)","v":""},{"$f":"IF(入力シート!N965=\"\",\"\",入力シート!P965)","v":""}]
[{"$f":"IF(入力シート!A966=\"\",\"\",入力シート!A966)","v":""},{"$f":"IF(入力シート!B966=\"\",\"\",入力シート!B966)","v":""},{"$f":"IF(入力シート!C966=\"\",\"\",TEXT(入力シート!C966,\"yyyy-mm-dd\"))","v":""},{"$f":"IF(入力シート!O966=\"\",\"\",TEXT(入力シート!O966,\"000-0000\"))","v":""},{"$f":"IF(入力シート!F966=\"\",\"\",入力シート!F966)","v":""},{"$f":"IF(入力シート!G966=\"\",\"\",入力シート!G966)","v":""},{"$f":"IF(入力シート!H966=\"\",\"\",入力シート!H966)","v":""},{"$f":"IF(入力シート!I966=\"\",\"\",入力シート!I966)","v":""},{"$f":"IF(入力シート!J966=\"\",\"\",入力シート!J966)","v":""},{"$f":"IF(入力シート!K966=\"\",\"\",入力シート!K966)","v":""},{"$f":"IF(入力シート!L966=\"\",\"\",入力シート!L966)","v":""},{"$f":"IF(入力シート!M966=\"\",\"\",入力シート!M966)","v":""},{"$f":"IF(入力シート!N966=\"\",\"\",入力シート!P966)","v":""}]
[{"$f":"IF(入力シート!A967=\"\",\"\",入力シート!A967)","v":""},{"$f":"IF(入力シート!B967=\"\",\"\",入力シート!B967)","v":""},{"$f":"IF(入力シート!C967=\"\",\"\",TEXT(入力シート!C967,\"yyyy-mm-dd\"))","v":""},{"$f":"IF(入力シート!O967=\"\",\"\",TEXT(入力シート!O967,\"000-0000\"))","v":""},{"$f":"IF(入力シート!F967=\"\",\"\",入力シート!F967)","v":""},{"$f":"IF(入力シート!G967=\"\",\"\",入力シート!G967)","v":""},{"$f":"IF(入力シート!H967=\"\",\"\",入力シート!H967)","v":""},{"$f":"IF(入力シート!I967=\"\",\"\",入力シート!I967)","v":""},{"$f":"IF(入力シート!J967=\"\",\"\",入力シート!J967)","v":""},{"$f":"IF(入力シート!K967=\"\",\"\",入力シート!K967)","v":""},{"$f":"IF(入力シート!L967=\"\",\"\",入力シート!L967)","v":""},{"$f":"IF(入力シート!M967=\"\",\"\",入力シート!M967)","v":""},{"$f":"IF(入力シート!N967=\"\",\"\",入力シート!P967)","v":""}]
[{"$f":"IF(入力シート!A968=\"\",\"\",入力シート!A968)","v":""},{"$f":"IF(入力シート!B968=\"\",\"\",入力シート!B968)","v":""},{"$f":"IF(入力シート!C968=\"\",\"\",TEXT(入力シート!C968,\"yyyy-mm-dd\"))","v":""},{"$f":"IF(入力シート!O968=\"\",\"\",TEXT(入力シート!O968,\"000-0000\"))","v":""},{"$f":"IF(入力シート!F968=\"\",\"\",入力シート!F968)","v":""},{"$f":"IF(入力シート!G968=\"\",\"\",入力シート!G968)","v":""},{"$f":"IF(入力シート!H968=\"\",\"\",入力シート!H968)","v":""},{"$f":"IF(入力シート!I968=\"\",\"\",入力シート!I968)","v":""},{"$f":"IF(入力シート!J968=\"\",\"\",入力シート!J968)","v":""},{"$f":"IF(入力シート!K968=\"\",\"\",入力シート!K968)","v":""},{"$f":"IF(入力シート!L968=\"\",\"\",入力シート!L968)","v":""},{"$f":"IF(入力シート!M968=\"\",\"\",入力シート!M968)","v":""},{"$f":"IF(入力シート!N968=\"\",\"\",入力シート!P968)","v":""}]
[{"$f":"IF(入力シート!A969=\"\",\"\",入力シート!A969)","v":""},{"$f":"IF(入力シート!B969=\"\",\"\",入力シート!B969)","v":""},{"$f":"IF(入力シート!C969=\"\",\"\",TEXT(入力シート!C969,\"yyyy-mm-dd\"))","v":""},{"$f":"IF(入力シート!O969=\"\",\"\",TEXT(入力シート!O969,\"000-0000\"))","v":""},{"$f":"IF(入力シート!F969=\"\",\"\",入力シート!F969)","v":""},{"$f":"IF(入力シート!G969=\"\",\"\",入力シート!G969)","v":""},{"$f":"IF(入力シート!H969=\"\",\"\",入力シート!H969)","v":""},{"$f":"IF(入力シート!I969=\"\",\"\",入力シート!I969)","v":""},{"$f":"IF(入力シート!J969=\"\",\"\",入力シート!J969)","v":""},{"$f":"IF(入力シート!K969=\"\",\"\",入力シート!K969)","v":""},{"$f":"IF(入力シート!L969=\"\",\"\",入力シート!L969)","v":""},{"$f":"IF(入力シート!M969=\"\",\"\",入力シート!M969)","v":""},{"$f":"IF(入力シート!N969=\"\",\"\",入力シート!P969)","v":""}]
[{"$f":"IF(入力シート!A970=\"\",\"\",入力シート!A970)","v":""},{"$f":"IF(入力シート!B970=\"\",\"\",入力シート!B970)","v":""},{"$f":"IF(入力シート!C970=\"\",\"\",TEXT(入力シート!C970,\"yyyy-mm-dd\"))","v":""},{"$f":"IF(入力シート!O970=\"\",\"\",TEXT(入力シート!O970,\"000-0000\"))","v":""},{"$f":"IF(入力シート!F970=\"\",\"\",入力シート!F970)","v":""},{"$f":"IF(入力シート!G970=\"\",\"\",入力シート!G970)","v":""},{"$f":"IF(入力シート!H970=\"\",\"\",入力シート!H970)","v":""},{"$f":"IF(入力シート!I970=\"\",\"\",入力シート!I970)","v":""},{"$f":"IF(入力シート!J970=\"\",\"\",入力シート!J970)","v":""},{"$f":"IF(入力シート!K970=\"\",\"\",入力シート!K970)","v":""},{"$f":"IF(入力シート!L970=\"\",\"\",入力シート!L970)","v":""},{"$f":"IF(入力シート!M970=\"\",\"\",入力シート!M970)","v":""},{"$f":"IF(入力シート!N970=\"\",\"\",入力シート!P970)","v":""}]
[{"$f":"IF(入力シート!A971=\"\",\"\",入力シート!A971)","v":""},{"$f":"IF(入力シート!B971=\"\",\"\",入力シート!B971)","v":""},{"$f":"IF(入力シート!C971=\"\",\"\",TEXT(入力シート!C971,\"yyyy-mm-dd\"))","v":""},{"$f":"IF(入力シート!O971=\"\",\"\",TEXT(入力シート!O971,\"000-0000\"))","v":""},{"$f":"IF(入力シート!F971=\"\",\"\",入力シート!F971)","v":""},{"$f":"IF(入力シート!G971=\"\",\"\",入力シート!G971)","v":""},{"$f":"IF(入力シート!H971=\"\",\"\",入力シート!H971)","v":""},{"$f":"IF(入力シート!I971=\"\",\"\",入力シート!I971)","v":""},{"$f":"IF(入力シート!J971=\"\",\"\",入力シート!J971)","v":""},{"$f":"IF(入力シート!K971=\"\",\"\",入力シート!K971)","v":""},{"$f":"IF(入力シート!L971=\"\",\"\",入力シート!L971)","v":""},{"$f":"IF(入力シート!M971=\"\",\"\",入力シート!M971)","v":""},{"$f":"IF(入力シート!N971=\"\",\"\",入力シート!P971)","v":""}]
[{"$f":"IF(入力シート!A972=\"\",\"\",入力シート!A972)","v":""},{"$f":"IF(入力シート!B972=\"\",\"\",入力シート!B972)","v":""},{"$f":"IF(入力シート!C972=\"\",\"\",TEXT(入力シート!C972,\"yyyy-mm-dd\"))","v":""},{"$f":"IF(入力シート!O972=\"\",\"\",TEXT(入力シート!O972,\"000-0000\"))","v":""},{"$f":"IF(入力シート!F972=\"\",\"\",入力シート!F972)","v":""},{"$f":"IF(入力シート!G972=\"\",\"\",入力シート!G972)","v":""},{"$f":"IF(入力シート!H972=\"\",\"\",入力シート!H972)","v":""},{"$f":"IF(入力シート!I972=\"\",\"\",入力シート!I972)","v":""},{"$f":"IF(入力シート!J972=\"\",\"\",入力シート!J972)","v":""},{"$f":"IF(入力シート!K972=\"\",\"\",入力シート!K972)","v":""},{"$f":"IF(入力シート!L972=\"\",\"\",入力シート!L972)","v":""},{"$f":"IF(入力シート!M972=\"\",\"\",入力シート!M972)","v":""},{"$f":"IF(入力シート!N972=\"\",\"\",入力シート!P972)","v":""}]
[{"$f":"IF(入力シート!A973=\"\",\"\",入力シート!A973)","v":""},{"$f":"IF(入力シート!B973=\"\",\"\",入力シート!B973)","v":""},{"$f":"IF(入力シート!C973=\"\",\"\",TEXT(入力シート!C973,\"yyyy-mm-dd\"))","v":""},{"$f":"IF(入力シート!O973=\"\",\"\",TEXT(入力シート!O973,\"000-0000\"))","v":""},{"$f":"IF(入力シート!F973=\"\",\"\",入力シート!F973)","v":""},{"$f":"IF(入力シート!G973=\"\",\"\",入力シート!G973)","v":""},{"$f":"IF(入力シート!H973=\"\",\"\",入力シート!H973)","v":""},{"$f":"IF(入力シート!I973=\"\",\"\",入力シート!I973)","v":""},{"$f":"IF(入力シート!J973=\"\",\"\",入力シート!J973)","v":""},{"$f":"IF(入力シート!K973=\"\",\"\",入力シート!K973)","v":""},{"$f":"IF(入力シート!L973=\"\",\"\",入力シート!L973)","v":""},{"$f":"IF(入力シート!M973=\"\",\"\",入力シート!M973)","v":""},{"$f":"IF(入力シート!N973=\"\",\"\",入力シート!P973)","v":""}]
[{"$f":"IF(入力シート!A974=\"\",\"\",入力シート!A974)","v":""},{"$f":"IF(入力シート!B974=\"\",\"\",入力シート!B974)","v":""},{"$f":"IF(入力シート!C974=\"\",\"\",TEXT(入力シート!C974,\"yyyy-mm-dd\"))","v":""},{"$f":"IF(入力シート!O974=\"\",\"\",TEXT(入力シート!O974,\"000-0000\"))","v":""},{"$f":"IF(入力シート!F974=\"\",\"\",入力シート!F974)","v":""},{"$f":"IF(入力シート!G974=\"\",\"\",入力シート!G974)","v":""},{"$f":"IF(入力シート!H974=\"\",\"\",入力シート!H974)","v":""},{"$f":"IF(入力シート!I974=\"\",\"\",入力シート!I974)","v":""},{"$f":"IF(入力シート!J974=\"\",\"\",入力シート!J974)","v":""},{"$f":"IF(入力シート!K974=\"\",\"\",入力シート!K974)","v":""},{"$f":"IF(入力シート!L974=\"\",\"\",入力シート!L974)","v":""},{"$f":"IF(入力シート!M974=\"\",\"\",入力シート!M974)","v":""},{"$f":"IF(入力シート!N974=\"\",\"\",入力シート!P974)","v":""}]
[{"$f":"IF(入力シート!A975=\"\",\"\",入力シート!A975)","v":""},{"$f":"IF(入力シート!B975=\"\",\"\",入力シート!B975)","v":""},{"$f":"IF(入力シート!C975=\"\",\"\",TEXT(入力シート!C975,\"yyyy-mm-dd\"))","v":""},{"$f":"IF(入力シート!O975=\"\",\"\",TEXT(入力シート!O975,\"000-0000\"))","v":""},{"$f":"IF(入力シート!F975=\"\",\"\",入力シート!F975)","v":""},{"$f":"IF(入力シート!G975=\"\",\"\",入力シート!G975)","v":""},{"$f":"IF(入力シート!H975=\"\",\"\",入力シート!H975)","v":""},{"$f":"IF(入力シート!I975=\"\",\"\",入力シート!I975)","v":""},{"$f":"IF(入力シート!J975=\"\",\"\",入力シート!J975)","v":""},{"$f":"IF(入力シート!K975=\"\",\"\",入力シート!K975)","v":""},{"$f":"IF(入力シート!L975=\"\",\"\",入力シート!L975)","v":""},{"$f":"IF(入力シート!M975=\"\",\"\",入力シート!M975)","v":""},{"$f":"IF(入力シート!N975=\"\",\"\",入力シート!P975)","v":""}]
[{"$f":"IF(入力シート!A976=\"\",\"\",入力シート!A976)","v":""},{"$f":"IF(入力シート!B976=\"\",\"\",入力シート!B976)","v":""},{"$f":"IF(入力シート!C976=\"\",\"\",TEXT(入力シート!C976,\"yyyy-mm-dd\"))","v":""},{"$f":"IF(入力シート!O976=\"\",\"\",TEXT(入力シート!O976,\"000-0000\"))","v":""},{"$f":"IF(入力シート!F976=\"\",\"\",入力シート!F976)","v":""},{"$f":"IF(入力シート!G976=\"\",\"\",入力シート!G976)","v":""},{"$f":"IF(入力シート!H976=\"\",\"\",入力シート!H976)","v":""},{"$f":"IF(入力シート!I976=\"\",\"\",入力シート!I976)","v":""},{"$f":"IF(入力シート!J976=\"\",\"\",入力シート!J976)","v":""},{"$f":"IF(入力シート!K976=\"\",\"\",入力シート!K976)","v":""},{"$f":"IF(入力シート!L976=\"\",\"\",入力シート!L976)","v":""},{"$f":"IF(入力シート!M976=\"\",\"\",入力シート!M976)","v":""},{"$f":"IF(入力シート!N976=\"\",\"\",入力シート!P976)","v":""}]
[{"$f":"IF(入力シート!A977=\"\",\"\",入力シート!A977)","v":""},{"$f":"IF(入力シート!B977=\"\",\"\",入力シート!B977)","v":""},{"$f":"IF(入力シート!C977=\"\",\"\",TEXT(入力シート!C977,\"yyyy-mm-dd\"))","v":""},{"$f":"IF(入力シート!O977=\"\",\"\",TEXT(入力シート!O977,\"000-0000\"))","v":""},{"$f":"IF(入力シート!F977=\"\",\"\",入力シート!F977)","v":""},{"$f":"IF(入力シート!G977=\"\",\"\",入力シート!G977)","v":""},{"$f":"IF(入力シート!H977=\"\",\"\",入力シート!H977)","v":""},{"$f":"IF(入力シート!I977=\"\",\"\",入力シート!I977)","v":""},{"$f":"IF(入力シート!J977=\"\",\"\",入力シート!J977)","v":""},{"$f":"IF(入力シート!K977=\"\",\"\",入力シート!K977)","v":""},{"$f":"IF(入力シート!L977=\"\",\"\",入力シート!L977)","v":""},{"$f":"IF(入力シート!M977=\"\",\"\",入力シート!M977)","v":""},{"$f":"IF(入力シート!N977=\"\",\"\",入力シート!P977)","v":""}]
[{"$f":"IF(入力シート!A978=\"\",\"\",入力シート!A978)","v":""},{"$f":"IF(入力シート!B978=\"\",\"\",入力シート!B978)","v":""},{"$f":"IF(入力シート!C978=\"\",\"\",TEXT(入力シート!C978,\"yyyy-mm-dd\"))","v":""},{"$f":"IF(入力シート!O978=\"\",\"\",TEXT(入力シート!O978,\"000-0000\"))","v":""},{"$f":"IF(入力シート!F978=\"\",\"\",入力シート!F978)","v":""},{"$f":"IF(入力シート!G978=\"\",\"\",入力シート!G978)","v":""},{"$f":"IF(入力シート!H978=\"\",\"\",入力シート!H978)","v":""},{"$f":"IF(入力シート!I978=\"\",\"\",入力シート!I978)","v":""},{"$f":"IF(入力シート!J978=\"\",\"\",入力シート!J978)","v":""},{"$f":"IF(入力シート!K978=\"\",\"\",入力シート!K978)","v":""},{"$f":"IF(入力シート!L978=\"\",\"\",入力シート!L978)","v":""},{"$f":"IF(入力シート!M978=\"\",\"\",入力シート!M978)","v":""},{"$f":"IF(入力シート!N978=\"\",\"\",入力シート!P978)","v":""}]
[{"$f":"IF(入力シート!A979=\"\",\"\",入力シート!A979)","v":""},{"$f":"IF(入力シート!B979=\"\",\"\",入力シート!B979)","v":""},{"$f":"IF(入力シート!C979=\"\",\"\",TEXT(入力シート!C979,\"yyyy-mm-dd\"))","v":""},{"$f":"IF(入力シート!O979=\"\",\"\",TEXT(入力シート!O979,\"000-0000\"))","v":""},{"$f":"IF(入力シート!F979=\"\",\"\",入力シート!F979)","v":""},{"$f":"IF(入力シート!G979=\"\",\"\",入力シート!G979)","v":""},{"$f":"IF(入力シート!H979=\"\",\"\",入力シート!H979)","v":""},{"$f":"IF(入力シート!I979=\"\",\"\",入力シート!I979)","v":""},{"$f":"IF(入力シート!J979=\"\",\"\",入力シート!J979)","v":""},{"$f":"IF(入力シート!K979=\"\",\"\",入力シート!K979)","v":""},{"$f":"IF(入力シート!L979=\"\",\"\",入力シート!L979)","v":""},{"$f":"IF(入力シート!M979=\"\",\"\",入力シート!M979)","v":""},{"$f":"IF(入力シート!N979=\"\",\"\",入力シート!P979)","v":""}]
[{"$f":"IF(入力シート!A980=\"\",\"\",入力シート!A980)","v":""},{"$f":"IF(入力シート!B980=\"\",\"\",入力シート!B980)","v":""},{"$f":"IF(入力シート!C980=\"\",\"\",TEXT(入力シート!C980,\"yyyy-mm-dd\"))","v":""},{"$f":"IF(入力シート!O980=\"\",\"\",TEXT(入力シート!O980,\"000-0000\"))","v":""},{"$f":"IF(入力シート!F980=\"\",\"\",入力シート!F980)","v":""},{"$f":"IF(入力シート!G980=\"\",\"\",入力シート!G980)","v":""},{"$f":"IF(入力シート!H980=\"\",\"\",入力シート!H980)","v":""},{"$f":"IF(入力シート!I980=\"\",\"\",入力シート!I980)","v":""},{"$f":"IF(入力シート!J980=\"\",\"\",入力シート!J980)","v":""},{"$f":"IF(入力シート!K980=\"\",\"\",入力シート!K980)","v":""},{"$f":"IF(入力シート!L980=\"\",\"\",入力シート!L980)","v":""},{"$f":"IF(入力シート!M980=\"\",\"\",入力シート!M980)","v":""},{"$f":"IF(入力シート!N980=\"\",\"\",入力シート!P980)","v":""}]
[{"$f":"IF(入力シート!A981=\"\",\"\",入力シート!A981)","v":""},{"$f":"IF(入力シート!B981=\"\",\"\",入力シート!B981)","v":""},{"$f":"IF(入力シート!C981=\"\",\"\",TEXT(入力シート!C981,\"yyyy-mm-dd\"))","v":""},{"$f":"IF(入力シート!O981=\"\",\"\",TEXT(入力シート!O981,\"000-0000\"))","v":""},{"$f":"IF(入力シート!F981=\"\",\"\",入力シート!F981)","v":""},{"$f":"IF(入力シート!G981=\"\",\"\",入力シート!G981)","v":""},{"$f":"IF(入力シート!H981=\"\",\"\",入力シート!H981)","v":""},{"$f":"IF(入力シート!I981=\"\",\"\",入力シート!I981)","v":""},{"$f":"IF(入力シート!J981=\"\",\"\",入力シート!J981)","v":""},{"$f":"IF(入力シート!K981=\"\",\"\",入力シート!K981)","v":""},{"$f":"IF(入力シート!L981=\"\",\"\",入力シート!L981)","v":""},{"$f":"IF(入力シート!M981=\"\",\"\",入力シート!M981)","v":""},{"$f":"IF(入力シート!N981=\"\",\"\",入力シート!P981)","v":""}]
[{"$f":"IF(入力シート!A982=\"\",\"\",入力シート!A982)","v":""},{"$f":"IF(入力シート!B982=\"\",\"\",入力シート!B982)","v":""},{"$f":"IF(入力シート!C982=\"\",\"\",TEXT(入力シート!C982,\"yyyy-mm-dd\"))","v":""},{"$f":"IF(入力シート!O982=\"\",\"\",TEXT(入力シート!O982,\"000-0000\"))","v":""},{"$f":"IF(入力シート!F982=\"\",\"\",入力シート!F982)","v":""},{"$f":"IF(入力シート!G982=\"\",\"\",入力シート!G982)","v":""},{"$f":"IF(入力シート!H982=\"\",\"\",入力シート!H982)","v":""},{"$f":"IF(入力シート!I982=\"\",\"\",入力シート!I982)","v":""},{"$f":"IF(入力シート!J982=\"\",\"\",入力シート!J982)","v":""},{"$f":"IF(入力シート!K982=\"\",\"\",入力シート!K982)","v":""},{"$f":"IF(入力シート!L982=\"\",\"\",入力シート!L982)","v":""},{"$f":"IF(入力シート!M982=\"\",\"\",入力シート!M982)","v":""},{"$f":"IF(入力シート!N982=\"\",\"\",入力シート!P982)","v":""}]
[{"$f":"IF(入力シート!A983=\"\",\"\",入力シート!A983)","v":""},{"$f":"IF(入力シート!B983=\"\",\"\",入力シート!B983)","v":""},{"$f":"IF(入力シート!C983=\"\",\"\",TEXT(入力シート!C983,\"yyyy-mm-dd\"))","v":""},{"$f":"IF(入力シート!O983=\"\",\"\",TEXT(入力シート!O983,\"000-0000\"))","v":""},{"$f":"IF(入力シート!F983=\"\",\"\",入力シート!F983)","v":""},{"$f":"IF(入力シート!G983=\"\",\"\",入力シート!G983)","v":""},{"$f":"IF(入力シート!H983=\"\",\"\",入力シート!H983)","v":""},{"$f":"IF(入力シート!I983=\"\",\"\",入力シート!I983)","v":""},{"$f":"IF(入力シート!J983=\"\",\"\",入力シート!J983)","v":""},{"$f":"IF(入力シート!K983=\"\",\"\",入力シート!K983)","v":""},{"$f":"IF(入力シート!L983=\"\",\"\",入力シート!L983)","v":""},{"$f":"IF(入力シート!M983=\"\",\"\",入力シート!M983)","v":""},{"$f":"IF(入力シート!N983=\"\",\"\",入力シート!P983)","v":""}]
[{"$f":"IF(入力シート!A984=\"\",\"\",入力シート!A984)","v":""},{"$f":"IF(入力シート!B984=\"\",\"\",入力シート!B984)","v":""},{"$f":"IF(入力シート!C984=\"\",\"\",TEXT(入力シート!C984,\"yyyy-mm-dd\"))","v":""},{"$f":"IF(入力シート!O984=\"\",\"\",TEXT(入力シート!O984,\"000-0000\"))","v":""},{"$f":"IF(入力シート!F984=\"\",\"\",入力シート!F984)","v":""},{"$f":"IF(入力シート!G984=\"\",\"\",入力シート!G984)","v":""},{"$f":"IF(入力シート!H984=\"\",\"\",入力シート!H984)","v":""},{"$f":"IF(入力シート!I984=\"\",\"\",入力シート!I984)","v":""},{"$f":"IF(入力シート!J984=\"\",\"\",入力シート!J984)","v":""},{"$f":"IF(入力シート!K984=\"\",\"\",入力シート!K984)","v":""},{"$f":"IF(入力シート!L984=\"\",\"\",入力シート!L984)","v":""},{"$f":"IF(入力シート!M984=\"\",\"\",入力シート!M984)","v":""},{"$f":"IF(入力シート!N984=\"\",\"\",入力シート!P984)","v":""}]
[{"$f":"IF(入力シート!A985=\"\",\"\",入力シート!A985)","v":""},{"$f":"IF(入力シート!B985=\"\",\"\",入力シート!B985)","v":""},{"$f":"IF(入力シート!C985=\"\",\"\",TEXT(入力シート!C985,\"yyyy-mm-dd\"))","v":""},{"$f":"IF(入力シート!O985=\"\",\"\",TEXT(入力シート!O985,\"000-0000\"))","v":""},{"$f":"IF(入力シート!F985=\"\",\"\",入力シート!F985)","v":""},{"$f":"IF(入力シート!G985=\"\",\"\",入力シート!G985)","v":""},{"$f":"IF(入力シート!H985=\"\",\"\",入力シート!H985)","v":""},{"$f":"IF(入力シート!I985=\"\",\"\",入力シート!I985)","v":""},{"$f":"IF(入力シート!J985=\"\",\"\",入力シート!J985)","v":""},{"$f":"IF(入力シート!K985=\"\",\"\",入力シート!K985)","v":""},{"$f":"IF(入力シート!L985=\"\",\"\",入力シート!L985)","v":""},{"$f":"IF(入力シート!M985=\"\",\"\",入力シート!M985)","v":""},{"$f":"IF(入力シート!N985=\"\",\"\",入力シート!P985)","v":""}]
[{"$f":"IF(入力シート!A986=\"\",\"\",入力シート!A986)","v":""},{"$f":"IF(入力シート!B986=\"\",\"\",入力シート!B986)","v":""},{"$f":"IF(入力シート!C986=\"\",\"\",TEXT(入力シート!C986,\"yyyy-mm-dd\"))","v":""},{"$f":"IF(入力シート!O986=\"\",\"\",TEXT(入力シート!O986,\"000-0000\"))","v":""},{"$f":"IF(入力シート!F986=\"\",\"\",入力シート!F986)","v":""},{"$f":"IF(入力シート!G986=\"\",\"\",入力シート!G986)","v":""},{"$f":"IF(入力シート!H986=\"\",\"\",入力シート!H986)","v":""},{"$f":"IF(入力シート!I986=\"\",\"\",入力シート!I986)","v":""},{"$f":"IF(入力シート!J986=\"\",\"\",入力シート!J986)","v":""},{"$f":"IF(入力シート!K986=\"\",\"\",入力シート!K986)","v":""},{"$f":"IF(入力シート!L986=\"\",\"\",入力シート!L986)","v":""},{"$f":"IF(入力シート!M986=\"\",\"\",入力シート!M986)","v":""},{"$f":"IF(入力シート!N986=\"\",\"\",入力シート!P986)","v":""}]
[{"$f":"IF(入力シート!A987=\"\",\"\",入力シート!A987)","v":""},{"$f":"IF(入力シート!B987=\"\",\"\",入力シート!B987)","v":""},{"$f":"IF(入力シート!C987=\"\",\"\",TEXT(入力シート!C987,\"yyyy-mm-dd\"))","v":""},{"$f":"IF(入力シート!O987=\"\",\"\",TEXT(入力シート!O987,\"000-0000\"))","v":""},{"$f":"IF(入力シート!F987=\"\",\"\",入力シート!F987)","v":""},{"$f":"IF(入力シート!G987=\"\",\"\",入力シート!G987)","v":""},{"$f":"IF(入力シート!H987=\"\",\"\",入力シート!H987)","v":""},{"$f":"IF(入力シート!I987=\"\",\"\",入力シート!I987)","v":""},{"$f":"IF(入力シート!J987=\"\",\"\",入力シート!J987)","v":""},{"$f":"IF(入力シート!K987=\"\",\"\",入力シート!K987)","v":""},{"$f":"IF(入力シート!L987=\"\",\"\",入力シート!L987)","v":""},{"$f":"IF(入力シート!M987=\"\",\"\",入力シート!M987)","v":""},{"$f":"IF(入力シート!N987=\"\",\"\",入力シート!P987)","v":""}]
[{"$f":"IF(入力シート!A988=\"\",\"\",入力シート!A988)","v":""},{"$f":"IF(入力シート!B988=\"\",\"\",入力シート!B988)","v":""},{"$f":"IF(入力シート!C988=\"\",\"\",TEXT(入力シート!C988,\"yyyy-mm-dd\"))","v":""},{"$f":"IF(入力シート!O988=\"\",\"\",TEXT(入力シート!O988,\"000-0000\"))","v":""},{"$f":"IF(入力シート!F988=\"\",\"\",入力シート!F988)","v":""},{"$f":"IF(入力シート!G988=\"\",\"\",入力シート!G988)","v":""},{"$f":"IF(入力シート!H988=\"\",\"\",入力シート!H988)","v":""},{"$f":"IF(入力シート!I988=\"\",\"\",入力シート!I988)","v":""},{"$f":"IF(入力シート!J988=\"\",\"\",入力シート!J988)","v":""},{"$f":"IF(入力シート!K988=\"\",\"\",入力シート!K988)","v":""},{"$f":"IF(入力シート!L988=\"\",\"\",入力シート!L988)","v":""},{"$f":"IF(入力シート!M988=\"\",\"\",入力シート!M988)","v":""},{"$f":"IF(入力シート!N988=\"\",\"\",入力シート!P988)","v":""}]
[{"$f":"IF(入力シート!A989=\"\",\"\",入力シート!A989)","v":""},{"$f":"IF(入力シート!B989=\"\",\"\",入力シート!B989)","v":""},{"$f":"IF(入力シート!C989=\"\",\"\",TEXT(入力シート!C989,\"yyyy-mm-dd\"))","v":""},{"$f":"IF(入力シート!O989=\"\",\"\",TEXT(入力シート!O989,\"000-0000\"))","v":""},{"$f":"IF(入力シート!F989=\"\",\"\",入力シート!F989)","v":""},{"$f":"IF(入力シート!G989=\"\",\"\",入力シート!G989)","v":""},{"$f":"IF(入力シート!H989=\"\",\"\",入力シート!H989)","v":""},{"$f":"IF(入力シート!I989=\"\",\"\",入力シート!I989)","v":""},{"$f":"IF(入力シート!J989=\"\",\"\",入力シート!J989)","v":""},{"$f":"IF(入力シート!K989=\"\",\"\",入力シート!K989)","v":""},{"$f":"IF(入力シート!L989=\"\",\"\",入力シート!L989)","v":""},{"$f":"IF(入力シート!M989=\"\",\"\",入力シート!M989)","v":""},{"$f":"IF(入力シート!N989=\"\",\"\",入力シート!P989)","v":""}]
[{"$f":"IF(入力シート!A990=\"\",\"\",入力シート!A990)","v":""},{"$f":"IF(入力シート!B990=\"\",\"\",入力シート!B990)","v":""},{"$f":"IF(入力シート!C990=\"\",\"\",TEXT(入力シート!C990,\"yyyy-mm-dd\"))","v":""},{"$f":"IF(入力シート!O990=\"\",\"\",TEXT(入力シート!O990,\"000-0000\"))","v":""},{"$f":"IF(入力シート!F990=\"\",\"\",入力シート!F990)","v":""},{"$f":"IF(入力シート!G990=\"\",\"\",入力シート!G990)","v":""},{"$f":"IF(入力シート!H990=\"\",\"\",入力シート!H990)","v":""},{"$f":"IF(入力シート!I990=\"\",\"\",入力シート!I990)","v":""},{"$f":"IF(入力シート!J990=\"\",\"\",入力シート!J990)","v":""},{"$f":"IF(入力シート!K990=\"\",\"\",入力シート!K990)","v":""},{"$f":"IF(入力シート!L990=\"\",\"\",入力シート!L990)","v":""},{"$f":"IF(入力シート!M990=\"\",\"\",入力シート!M990)","v":""},{"$f":"IF(入力シート!N990=\"\",\"\",入力シート!P990)","v":""}]
[{"$f":"IF(入力シート!A991=\"\",\"\",入力シート!A991)","v":""},{"$f":"IF(入力シート!B991=\"\",\"\",入力シート!B991)","v":""},{"$f":"IF(入力シート!C991=\"\",\"\",TEXT(入力シート!C991,\"yyyy-mm-dd\"))","v":""},{"$f":"IF(入力シート!O991=\"\",\"\",TEXT(入力シート!O991,\"000-0000\"))","v":""},{"$f":"IF(入力シート!F991=\"\",\"\",入力シート!F991)","v":""},{"$f":"IF(入力シート!G991=\"\",\"\",入力シート!G991)","v":""},{"$f":"IF(入力シート!H991=\"\",\"\",入力シート!H991)","v":""},{"$f":"IF(入力シート!I991=\"\",\"\",入力シート!I991)","v":""},{"$f":"IF(入力シート!J991=\"\",\"\",入力シート!J991)","v":""},{"$f":"IF(入力シート!K991=\"\",\"\",入力シート!K991)","v":""},{"$f":"IF(入力シート!L991=\"\",\"\",入力シート!L991)","v":""},{"$f":"IF(入力シート!M991=\"\",\"\",入力シート!M991)","v":""},{"$f":"IF(入力シート!N991=\"\",\"\",入力シート!P991)","v":""}]
[{"$f":"IF(入力シート!A992=\"\",\"\",入力シート!A992)","v":""},{"$f":"IF(入力シート!B992=\"\",\"\",入力シート!B992)","v":""},{"$f":"IF(入力シート!C992=\"\",\"\",TEXT(入力シート!C992,\"yyyy-mm-dd\"))","v":""},{"$f":"IF(入力シート!O992=\"\",\"\",TEXT(入力シート!O992,\"000-0000\"))","v":""},{"$f":"IF(入力シート!F992=\"\",\"\",入力シート!F992)","v":""},{"$f":"IF(入力シート!G992=\"\",\"\",入力シート!G992)","v":""},{"$f":"IF(入力シート!H992=\"\",\"\",入力シート!H992)","v":""},{"$f":"IF(入力シート!I992=\"\",\"\",入力シート!I992)","v":""},{"$f":"IF(入力シート!J992=\"\",\"\",入力シート!J992)","v":""},{"$f":"IF(入力シート!K992=\"\",\"\",入力シート!K992)","v":""},{"$f":"IF(入力シート!L992=\"\",\"\",入力シート!L992)","v":""},{"$f":"IF(入力シート!M992=\"\",\"\",入力シート!M992)","v":""},{"$f":"IF(入力シート!N992=\"\",\"\",入力シート!P992)","v":""}]
[{"$f":"IF(入力シート!A993=\"\",\"\",入力シート!A993)","v":""},{"$f":"IF(入力シート!B993=\"\",\"\",入力シート!B993)","v":""},{"$f":"IF(入力シート!C993=\"\",\"\",TEXT(入力シート!C993,\"yyyy-mm-dd\"))","v":""},{"$f":"IF(入力シート!O993=\"\",\"\",TEXT(入力シート!O993,\"000-0000\"))","v":""},{"$f":"IF(入力シート!F993=\"\",\"\",入力シート!F993)","v":""},{"$f":"IF(入力シート!G993=\"\",\"\",入力シート!G993)","v":""},{"$f":"IF(入力シート!H993=\"\",\"\",入力シート!H993)","v":""},{"$f":"IF(入力シート!I993=\"\",\"\",入力シート!I993)","v":""},{"$f":"IF(入力シート!J993=\"\",\"\",入力シート!J993)","v":""},{"$f":"IF(入力シート!K993=\"\",\"\",入力シート!K993)","v":""},{"$f":"IF(入力シート!L993=\"\",\"\",入力シート!L993)","v":""},{"$f":"IF(入力シート!M993=\"\",\"\",入力シート!M993)","v":""},{"$f":"IF(入力シート!N993=\"\",\"\",入力シート!P993)","v":""}]
[{"$f":"IF(入力シート!A994=\"\",\"\",入力シート!A994)","v":""},{"$f":"IF(入力シート!B994=\"\",\"\",入力シート!B994)","v":""},{"$f":"IF(入力シート!C994=\"\",\"\",TEXT(入力シート!C994,\"yyyy-mm-dd\"))","v":""},{"$f":"IF(入力シート!O994=\"\",\"\",TEXT(入力シート!O994,\"000-0000\"))","v":""},{"$f":"IF(入力シート!F994=\"\",\"\",入力シート!F994)","v":""},{"$f":"IF(入力シート!G994=\"\",\"\",入力シート!G994)","v":""},{"$f":"IF(入力シート!H994=\"\",\"\",入力シート!H994)","v":""},{"$f":"IF(入力シート!I994=\"\",\"\",入力シート!I994)","v":""},{"$f":"IF(入力シート!J994=\"\",\"\",入力シート!J994)","v":""},{"$f":"IF(入力シート!K994=\"\",\"\",入力シート!K994)","v":""},{"$f":"IF(入力シート!L994=\"\",\"\",入力シート!L994)","v":""},{"$f":"IF(入力シート!M994=\"\",\"\",入力シート!M994)","v":""},{"$f":"IF(入力シート!N994=\"\",\"\",入力シート!P994)","v":""}]
[{"$f":"IF(入力シート!A995=\"\",\"\",入力シート!A995)","v":""},{"$f":"IF(入力シート!B995=\"\",\"\",入力シート!B995)","v":""},{"$f":"IF(入力シート!C995=\"\",\"\",TEXT(入力シート!C995,\"yyyy-mm-dd\"))","v":""},{"$f":"IF(入力シート!O995=\"\",\"\",TEXT(入力シート!O995,\"000-0000\"))","v":""},{"$f":"IF(入力シート!F995=\"\",\"\",入力シート!F995)","v":""},{"$f":"IF(入力シート!G995=\"\",\"\",入力シート!G995)","v":""},{"$f":"IF(入力シート!H995=\"\",\"\",入力シート!H995)","v":""},{"$f":"IF(入力シート!I995=\"\",\"\",入力シート!I995)","v":""},{"$f":"IF(入力シート!J995=\"\",\"\",入力シート!J995)","v":""},{"$f":"IF(入力シート!K995=\"\",\"\",入力シート!K995)","v":""},{"$f":"IF(入力シート!L995=\"\",\"\",入力シート!L995)","v":""},{"$f":"IF(入力シート!M995=\"\",\"\",入力シート!M995)","v":""},{"$f":"IF(入力シート!N995=\"\",\"\",入力シート!P995)","v":""}]
[{"$f":"IF(入力シート!A996=\"\",\"\",入力シート!A996)","v":""},{"$f":"IF(入力シート!B996=\"\",\"\",入力シート!B996)","v":""},{"$f":"IF(入力シート!C996=\"\",\"\",TEXT(入力シート!C996,\"yyyy-mm-dd\"))","v":""},{"$f":"IF(入力シート!O996=\"\",\"\",TEXT(入力シート!O996,\"000-0000\"))","v":""},{"$f":"IF(入力シート!F996=\"\",\"\",入力シート!F996)","v":""},{"$f":"IF(入力シート!G996=\"\",\"\",入力シート!G996)","v":""},{"$f":"IF(入力シート!H996=\"\",\"\",入力シート!H996)","v":""},{"$f":"IF(入力シート!I996=\"\",\"\",入力シート!I996)","v":""},{"$f":"IF(入力シート!J996=\"\",\"\",入力シート!J996)","v":""},{"$f":"IF(入力シート!K996=\"\",\"\",入力シート!K996)","v":""},{"$f":"IF(入力シート!L996=\"\",\"\",入力シート!L996)","v":""},{"$f":"IF(入力シート!M996=\"\",\"\",入力シート!M996)","v":""},{"$f":"IF(入力シート!N996=\"\",\"\",入力シート!P996)","v":""}]
[{"$f":"IF(入力シート!A997=\"\",\"\",入力シート!A997)","v":""},{"$f":"IF(入力シート!B997=\"\",\"\",入力シート!B997)","v":""},{"$f":"IF(入力シート!C997=\"\",\"\",TEXT(入力シート!C997,\"yyyy-mm-dd\"))","v":""},{"$f":"IF(入力シート!O997=\"\",\"\",TEXT(入力シート!O997,\"000-0000\"))","v":""},{"$f":"IF(入力シート!F997=\"\",\"\",入力シート!F997)","v":""},{"$f":"IF(入力シート!G997=\"\",\"\",入力シート!G997)","v":""},{"$f":"IF(入力シート!H997=\"\",\"\",入力シート!H997)","v":""},{"$f":"IF(入力シート!I997=\"\",\"\",入力シート!I997)","v":""},{"$f":"IF(入力シート!J997=\"\",\"\",入力シート!J997)","v":""},{"$f":"IF(入力シート!K997=\"\",\"\",入力シート!K997)","v":""},{"$f":"IF(入力シート!L997=\"\",\"\",入力シート!L997)","v":""},{"$f":"IF(入力シート!M997=\"\",\"\",入力シート!M997)","v":""},{"$f":"IF(入力シート!N997=\"\",\"\",入力シート!P997)","v":""}]
[{"$f":"IF(入力シート!A998=\"\",\"\",入力シート!A998)","v":""},{"$f":"IF(入力シート!B998=\"\",\"\",入力シート!B998)","v":""},{"$f":"IF(入力シート!C998=\"\",\"\",TEXT(入力シート!C998,\"yyyy-mm-dd\"))","v":""},{"$f":"IF(入力シート!O998=\"\",\"\",TEXT(入力シート!O998,\"000-0000\"))","v":""},{"$f":"IF(入力シート!F998=\"\",\"\",入力シート!F998)","v":""},{"$f":"IF(入力シート!G998=\"\",\"\",入力シート!G998)","v":""},{"$f":"IF(入力シート!H998=\"\",\"\",入力シート!H998)","v":""},{"$f":"IF(入力シート!I998=\"\",\"\",入力シート!I998)","v":""},{"$f":"IF(入力シート!J998=\"\",\"\",入力シート!J998)","v":""},{"$f":"IF(入力シート!K998=\"\",\"\",入力シート!K998)","v":""},{"$f":"IF(入力シート!L998=\"\",\"\",入力シート!L998)","v":""},{"$f":"IF(入力シート!M998=\"\",\"\",入力シート!M998)","v":""},{"$f":"IF(入力シート!N998=\"\",\"\",入力シート!P998)","v":""}]
[{"$f":"IF(入力シート!A999=\"\",\"\",入力シート!A999)","v":""},{"$f":"IF(入力シート!B999=\"\",\"\",入力シート!B999)","v":""},{"$f":"IF(入力シート!C999=\"\",\"\",TEXT(入力シート!C999,\"yyyy-mm-dd\"))","v":""},{"$f":"IF(入力シート!O999=\"\",\"\",TEXT(入力シート!O999,\"000-0000\"))","v":""},{"$f":"IF(入力シート!F999=\"\",\"\",入力シート!F999)","v":""},{"$f":"IF(入力シート!G999=\"\",\"\",入力シート!G999)","v":""},{"$f":"IF(入力シート!H999=\"\",\"\",入力シート!H999)","v":""},{"$f":"IF(入力シート!I999=\"\",\"\",入力シート!I999)","v":""},{"$f":"IF(入力シート!J999=\"\",\"\",入力シート!J999)","v":""},{"$f":"IF(入力シート!K999=\"\",\"\",入力シート!K999)","v":""},{"$f":"IF(入力シート!L999=\"\",\"\",入力シート!L999)","v":""},{"$f":"IF(入力シート!M999=\"\",\"\",入力シート!M999)","v":""},{"$f":"IF(入力シート!N999=\"\",\"\",入力シート!P999)","v":""}]
[{"$f":"IF(入力シート!A1000=\"\",\"\",入力シート!A1000)","v":""},{"$f":"IF(入力シート!B1000=\"\",\"\",入力シート!B1000)","v":""},{"$f":"IF(入力シート!C1000=\"\",\"\",TEXT(入力シート!C1000,\"yyyy-mm-dd\"))","v":""},{"$f":"IF(入力シート!O1000=\"\",\"\",TEXT(入力シート!O1000,\"000-0000\"))","v":""},{"$f":"IF(入力シート!F1000=\"\",\"\",入力シート!F1000)","v":""},{"$f":"IF(入力シート!G1000=\"\",\"\",入力シート!G1000)","v":""},{"$f":"IF(入力シート!H1000=\"\",\"\",入力シート!H1000)","v":""},{"$f":"IF(入力シート!I1000=\"\",\"\",入力シート!I1000)","v":""},{"$f":"IF(入力シート!J1000=\"\",\"\",入力シート!J1000)","v":""},{"$f":"IF(入力シート!K1000=\"\",\"\",入力シート!K1000)","v":""},{"$f":"IF(入力シート!L1000=\"\",\"\",入力シート!L1000)","v":""},{"$f":"IF(入力シート!M1000=\"\",\"\",入力シート!M1000)","v":""},{"$f":"IF(入力シート!N1000=\"\",\"\",入力シート!P1000)","v":""}]
[{"$f":"IF(入力シート!A1001=\"\",\"\",入力シート!A1001)","v":""},{"$f":"IF(入力シート!B1001=\"\",\"\",入力シート!B1001)","v":""},{"$f":"IF(入力シート!C1001=\"\",\"\",TEXT(入力シート!C1001,\"yyyy-mm-dd\"))","v":""},{"$f":"IF(入力シート!O1001=\"\",\"\",TEXT(入力シート!O1001,\"000-0000\"))","v":""},{"$f":"IF(入力シート!F1001=\"\",\"\",入力シート!F1001)","v":""},{"$f":"IF(入力シート!G1001=\"\",\"\",入力シート!G1001)","v":""},{"$f":"IF(入力シート!H1001=\"\",\"\",入力シート!H1001)","v":""},{"$f":"IF(入力シート!I1001=\"\",\"\",入力シート!I1001)","v":""},{"$f":"IF(入力シート!J1001=\"\",\"\",入力シート!J1001)","v":""},{"$f":"IF(入力シート!K1001=\"\",\"\",入力シート!K1001)","v":""},{"$f":"IF(入力シート!L1001=\"\",\"\",入力シート!L1001)","v":""},{"$f":"IF(入力シート!M1001=\"\",\"\",入力シート!M1001)","v":""},{"$f":"IF(入力シート!N1001=\"\",\"\",入力シート!P1001)","v":""}]
[{"$f":"IF(入力シート!A1002=\"\",\"\",入力シート!A1002)","v":""},{"$f":"IF(入力シート!B1002=\"\",\"\",入力シート!B1002)","v":""},{"$f":"IF(入力シート!C1002=\"\",\"\",TEXT(入力シート!C1002,\"yyyy-mm-dd\"))","v":""},{"$f":"IF(入力シート!O1002=\"\",\"\",TEXT(入力シート!O1002,\"000-0000\"))","v":""},{"$f":"IF(入力シート!F1002=\"\",\"\",入力シート!F1002)","v":""},{"$f":"IF(入力シート!G1002=\"\",\"\",入力シート!G1002)","v":""},{"$f":"IF(入力シート!H1002=\"\",\"\",入力シート!H1002)","v":""},{"$f":"IF(入力シート!I1002=\"\",\"\",入力シート!I1002)","v":""},{"$f":"IF(入力シート!J1002=\"\",\"\",入力シート!J1002)","v":""},{"$f":"IF(入力シート!K1002=\"\",\"\",入力シート!K1002)","v":""},{"$f":"IF(入力シート!L1002=\"\",\"\",入力シート!L1002)","v":""},{"$f":"IF(入力シート!M1002=\"\",\"\",入力シート!M1002)","v":""},{"$f":"IF(入力シート!N1002=\"\",\"\",入力シート!P1002)","v":""}]
[{"$f":"IF(入力シート!A1003=\"\",\"\",入力シート!A1003)","v":""},{"$f":"IF(入力シート!B1003=\"\",\"\",入力シート!B1003)","v":""},{"$f":"IF(入力シート!C1003=\"\",\"\",TEXT(入力シート!C1003,\"yyyy-mm-dd\"))","v":""},{"$f":"IF(入力シート!O1003=\"\",\"\",TEXT(入力シート!O1003,\"000-0000\"))","v":""},{"$f":"IF(入力シート!F1003=\"\",\"\",入力シート!F1003)","v":""},{"$f":"IF(入力シート!G1003=\"\",\"\",入力シート!G1003)","v":""},{"$f":"IF(入力シート!H1003=\"\",\"\",入力シート!H1003)","v":""},{"$f":"IF(入力シート!I1003=\"\",\"\",入力シート!I1003)","v":""},{"$f":"IF(入力シート!J1003=\"\",\"\",入力シート!J1003)","v":""},{"$f":"IF(入力シート!K1003=\"\",\"\",入力シート!K1003)","v":""},{"$f":"IF(入力シート!L1003=\"\",\"\",入力シート!L1003)","v":""},{"$f":"IF(入力シート!M1003=\"\",\"\",入力シート!M1003)","v":""},{"$f":"IF(入力シート!N1003=\"\",\"\",入力シート!P1003)","v":""}]
[{"$f":"IF(入力シート!A1004=\"\",\"\",入力シート!A1004)","v":""},{"$f":"IF(入力シート!B1004=\"\",\"\",入力シート!B1004)","v":""},{"$f":"IF(入力シート!C1004=\"\",\"\",TEXT(入力シート!C1004,\"yyyy-mm-dd\"))","v":""},{"$f":"IF(入力シート!O1004=\"\",\"\",TEXT(入力シート!O1004,\"000-0000\"))","v":""},{"$f":"IF(入力シート!F1004=\"\",\"\",入力シート!F1004)","v":""},{"$f":"IF(入力シート!G1004=\"\",\"\",入力シート!G1004)","v":""},{"$f":"IF(入力シート!H1004=\"\",\"\",入力シート!H1004)","v":""},{"$f":"IF(入力シート!I1004=\"\",\"\",入力シート!I1004)","v":""},{"$f":"IF(入力シート!J1004=\"\",\"\",入力シート!J1004)","v":""},{"$f":"IF(入力シート!K1004=\"\",\"\",入力シート!K1004)","v":""},{"$f":"IF(入力シート!L1004=\"\",\"\",入力シート!L1004)","v":""},{"$f":"IF(入力シート!M1004=\"\",\"\",入力シート!M1004)","v":""},{"$f":"IF(入力シート!N1004=\"\",\"\",入力シート!P1004)","v":""}]

{"sheet":"集荷不可","index":2,"n_rows":397,"n_cols":8,"rows_kept":397,"cut":false,"hidden":false,"merged":[]}
["郵便番号","郵便番号1","郵便番号2","都道府県名","市区町村名","町域名","集荷可否","備考"]
[9791300,{"$f":"MID(A2,1,3)","v":"979"},{"$f":"MID(A2,4,4)","v":"1300"},"福島県","双葉郡大熊町","以下に掲載がない場合","×","全域集荷不可"]
[9791306,{"$f":"MID(A3,1,3)","v":"979"},{"$f":"MID(A3,4,4)","v":"1306"},"福島県","双葉郡大熊町","大川原","×","全域集荷不可"]
[9791301,"979","1301","福島県","双葉郡大熊町","夫沢","×","全域集荷不可"]
[9791304,"979","1304","福島県","双葉郡大熊町","小良浜","×","全域集荷不可"]
[9791305,"979","1305","福島県","双葉郡大熊町","熊","×","全域集荷不可"]
[9791303,"979","1303","福島県","双葉郡大熊町","熊川","×","全域集荷不可"]
[9791302,"979","1302","福島県","双葉郡大熊町","小入野","×","全域集荷不可"]
[9791308,"979","1308","福島県","双葉郡大熊町","下野上","×","全域集荷不可"]
[9791307,"979","1307","福島県","双葉郡大熊町","野上","×","全域集荷不可"]
[9791400,"979","1400","福島県","双葉郡双葉町","以下に掲載がない場合","×","全域集荷不可"]
[9791433,"979","1433","福島県","双葉郡双葉町","石熊","×","全域集荷不可"]
[9791442,"979","1442","福島県","双葉郡双葉町","上羽鳥","×","全域集荷不可"]
[9791463,"979","1463","福島県","双葉郡双葉町","鴻草","×","全域集荷不可"]
[9791411,"979","1411","福島県","双葉郡双葉町","郡山","×","全域集荷不可"]
[9791451,"979","1451","福島県","双葉郡双葉町","渋川","×","全域集荷不可"]
[9791441,"979","1441","福島県","双葉郡双葉町","下羽鳥","×","全域集荷不可"]
[9791472,"979","1472","福島県","双葉郡双葉町","新山","×","全域集荷不可"]
[9791453,"979","1453","福島県","双葉郡双葉町","寺沢","×","全域集荷不可"]
[9791462,"979","1462","福島県","双葉郡双葉町","中田","×","全域集荷不可"]
[9791401,"979","1401","福島県","双葉郡双葉町","中野","×","全域集荷不可"]
[9791402,"979","1402","福島県","双葉郡双葉町","中浜","×","全域集荷不可"]
[9791471,"979","1471","福島県","双葉郡双葉町","長塚","×","全域集荷不可"]
[9791412,"979","1412","福島県","双葉郡双葉町","細谷","×","全域集荷不可"]
[9791421,"979","1421","福島県","双葉郡双葉町","前田","×","全域集荷不可"]
[9791452,"979","1452","福島県","双葉郡双葉町","松倉","×","全域集荷不可"]
[9791432,"979","1432","福島県","双葉郡双葉町","松迫","×","全域集荷不可"]
[9791422,"979","1422","福島県","双葉郡双葉町","水沢","×","全域集荷不可"]
[9791423,"979","1423","福島県","双葉郡双葉町","目迫","×","全域集荷不可"]
[9791461,"979","1461","福島県","双葉郡双葉町","両竹","×","全域集荷不可"]
[9791431,"979","1431","福島県","双葉郡双葉町","山田","×","全域集荷不可"]
[9791600,"979","1600","福島県","双葉郡葛尾村","以下に掲載がない場合","△","集荷不可地域あり"]
[9791601,"979","1601","福島県","双葉郡葛尾村","葛尾","×"]
[9791500,"979","1500","福島県","双葉郡浪江町","以下に掲載がない場合","△","集荷不可地域あり"]
[null,"","","福島県","双葉郡浪江町","赤宇木","◯","230905解除"]
[null,"","","福島県","双葉郡浪江町","井手","◯","230905解除"]
[null,"","","福島県","双葉郡浪江町","大堀","◯","230905解除"]
[9791545,"979","1545","福島県","双葉郡浪江町","小丸","×"]
[9791753,"979","1753","福島県","双葉郡浪江町","川房","×"]
[9791533,"979","1533","福島県","双葉郡浪江町","酒井","×"]
[null,"","","福島県","双葉郡浪江町","下津島","◯","230905解除"]
[null,"","","福島県","双葉郡浪江町","末森","◯","230905解除"]
[null,"","","福島県","双葉郡浪江町","津島","◯","230905解除"]
[null,"","","福島県","双葉郡浪江町","羽附","◯","230905解除"]
[9791752,"979","1752","福島県","双葉郡浪江町","昼曽根","×"]
[null,"","","福島県","双葉郡浪江町","南津島","◯","230905解除"]
[null,"","","福島県","双葉郡浪江町","室原（小伝谷６７）","◯","230905解除"]
[null,"","","福島県","双葉郡浪江町","室原（その他）","◯","230905解除"]
[9791100,"979","1100","福島県","双葉郡富岡町","以下に掲載がない場合","△","集荷不可地域あり"]
[null,"","","福島県","双葉郡富岡町","大菅","◯","230905解除"]
[null,"","","福島県","双葉郡富岡町","小良ケ浜","◯","230905解除"]
[9790622,"979","0622","福島県","双葉郡富岡町","毛萱（前川原２３２〜２４４、３１１、３１２、３３７〜８６２番地","×"]
[null,"","","福島県","双葉郡富岡町","桜","◯","230905解除"]
[null,"","","福島県","双葉郡富岡町","本岡","◯","230905解除"]
[null,"","","福島県","双葉郡富岡町","夜の森","◯","230905解除"]
[9601600,"960","1600","福島県","相馬郡飯舘村","以下に掲載がない場合","△","集荷不可地域あり"]
[9601723,"960","1723","福島県","相馬郡飯舘村","長泥","×"]
[9750000,"975","0000","福島県","南相馬市","以下に掲載がない場合","△","集荷不可地域あり"]
[9792165,"979","2165","福島県","南相馬市","小高区金谷","×"]
[9860000,{"$f":"MID(A60,1,3)","v":"986"},{"$f":"MID(A60,4,4)","v":"0000"},"宮城県","石巻市","以下に掲載がない場合","△","集荷不可地域あり"]
[9862116,{"$f":"MID(A61,1,3)","v":"986"},{"$f":"MID(A61,4,4)","v":"2116"},"宮城県","石巻市","小竹浜","×"]
[9862525,{"$f":"MID(A62,1,3)","v":"986"},{"$f":"MID(A62,4,4)","v":"2525"},"宮城県","石巻市","長渡浜","×"]
[9862526,"986","2526","宮城県","石巻市","網地浜","×"]
[9862200,"986","2200","宮城県","牡鹿郡女川町","以下に掲載がない場合","△","集荷不可地域あり"]
[9862211,"986","2211","宮城県","牡鹿郡女川町","出島","×"]
[9862212,"986","2212","宮城県","牡鹿郡女川町","江島","×"]
[9980000,"998","0000","山形県","酒田市","以下に掲載がない場合","△","集荷不可地域あり"]
["9980281","998","0281","山形県","酒田市","飛島","×"]
[1000301,"100","0301","東京都","利島村","利島村一円","×"]
[1000400,"100","0400","東京都","新島村","以下に掲載がない場合","×"]
[1000401,"100","0401","東京都","新島村","若郷","×"]
[1000402,"100","0402","東京都","新島村","本村","×"]
[1000511,"100","0511","東京都","新島村","式根島","×"]
[1000601,"100","0601","東京都","神津島村","神津島村一円","×"]
[1001100,"100","1100","東京都","三宅島三宅村","以下に掲載がない場合","×"]
[1001101,{"$f":"MID(A76,1,3)","v":"100"},{"$f":"MID(A76,4,4)","v":"1101"},"東京都","三宅島三宅村","神着","×"]
[1001102,{"$f":"MID(A77,1,3)","v":"100"},{"$f":"MID(A77,4,4)","v":"1102"},"東京都","三宅島三宅村","伊豆","×"]
[1001103,{"$f":"MID(A78,1,3)","v":"100"},{"$f":"MID(A78,4,4)","v":"1103"},"東京都","三宅島三宅村","伊ケ谷","×"]
[1001211,{"$f":"MID(A79,1,3)","v":"100"},{"$f":"MID(A79,4,4)","v":"1211"},"東京都","三宅島三宅村","坪田","×"]
[1001212,"100","1212","東京都","三宅島三宅村","阿古","×"]
[1001213,{"$f":"MID(A81,1,3)","v":"100"},{"$f":"MID(A81,4,4)","v":"1213"},"東京都","三宅島三宅村","雄山","×"]
[1001301,{"$f":"MID(A82,1,3)","v":"100"},{"$f":"MID(A82,4,4)","v":"1301"},"東京都","御蔵島村","御蔵島村一円","×"]
[1001400,"100","1400","東京都","八丈島八丈町","以下に掲載がない場合","×"]
[1001401,"100","1401","東京都","八丈島八丈町","大賀郷","×"]
[1001511,{"$f":"MID(A85,1,3)","v":"100"},{"$f":"MID(A85,4,4)","v":"1511"},"東京都","八丈島八丈町","三根","×"]
[1001621,"100","1621","東京都","八丈島八丈町","樫立","×"]
[1001622,"100","1622","東京都","八丈島八丈町","末吉","×"]
[1001623,"100","1623","東京都","八丈島八丈町","中之郷","×"]
[1001701,"100","1701","東京都","青ヶ島村","青ヶ島村一円","×"]
[1002100,"100","2100","東京都","小笠原村","以下に掲載がない場合","×"]
[1002101,"100","2101","東京都","小笠原村","父島","×"]
[1002211,"100","2211","東京都","小笠原村","母島","×"]
[9580061,"958","0061","新潟県","岩船郡粟島浦村","粟島浦村一円","×"]
[9280000,"928","0000","石川県","輪島市","以下に掲載がない場合","△","集荷不可地域あり"]
[9280072,"928","0072","石川県","輪島市","海士町 / 海士町（舳倉島）","×"]
[5170000,"517","0000","三重県","鳥羽市","以下に掲載がない場合","△","集荷不可地域あり"]
[5170001,{"$f":"MID(A97,1,3)","v":"517"},{"$f":"MID(A97,4,4)","v":"0001"},"三重県","鳥羽市","神島町","×"]
[5170002,{"$f":"MID(A98,1,3)","v":"517"},{"$f":"MID(A98,4,4)","v":"0002"},"三重県","鳥羽市","答志町","×"]
[5170003,"517","0003","三重県","鳥羽市","桃取町","×"]
[5170004,"517","0004","三重県","鳥羽市","菅島町","×"]
[5170005,"517","0005","三重県","鳥羽市","坂手町","×"]
[5170500,"517","0500","三重県","志摩市","以下に掲載がない場合","△","集荷不可地域あり"]
[5170205,"517","0205","三重県","志摩市","磯部町渡鹿野","×"]
[5170703,"517","0703","三重県","志摩市","志摩町和具","×"]
[5230000,{"$f":"MID(A105,1,3)","v":"523"},{"$f":"MID(A105,4,4)","v":"0000"},"滋賀県","近江八幡市","以下に掲載がない場合","△","集荷不可地域あり"]
[5230801,{"$f":"MID(A106,1,3)","v":"523"},{"$f":"MID(A106,4,4)","v":"0801"},"滋賀県","近江八幡市","沖島町","×"]
[7000000,{"$f":"MID(A107,1,3)","v":"700"},{"$f":"MID(A107,4,4)","v":"0000"},"岡山県","岡山市北区 / 中区 / 東区 / 南区","以下に掲載がない場合","△","集荷不可地域あり"]
[7048153,{"$f":"MID(A108,1,3)","v":"704"},{"$f":"MID(A108,4,4)","v":"8153"},"岡山県","岡山市東区","犬島","×"]
[7060000,{"$f":"MID(A109,1,3)","v":"706"},{"$f":"MID(A109,4,4)","v":"0000"},"岡山県","玉野市","以下に掲載がない場合","△","集荷不可地域あり"]
[7060306,{"$f":"MID(A110,1,3)","v":"706"},{"$f":"MID(A110,4,4)","v":"0306"},"岡山県","玉野市","石島","×"]
[7140000,{"$f":"MID(A111,1,3)","v":"714"},{"$f":"MID(A111,4,4)","v":"0000"},"岡山県","笠岡市","以下に掲載がない場合","△","集荷不可地域あり"]
[7140035,"714","0035","岡山県","笠岡市","高島","×"]
[7140036,"714","0036","岡山県","笠岡市","白石島","×"]
[7140037,"714","0037","岡山県","笠岡市","真鍋島","×"]
[7140038,"714","0038","岡山県","笠岡市","六島","×"]
[7140301,"714","0301","岡山県","笠岡市","北木島町","×"]
[7140302,"714","0302","岡山県","笠岡市","飛島","×"]
[7050000,{"$f":"MID(A118,1,3)","v":"705"},{"$f":"MID(A118,4,4)","v":"0000"},"岡山県","備前市","以下に掲載がない場合","△","集荷不可地域あり"]
[7013203,{"$f":"MID(A119,1,3)","v":"701"},{"$f":"MID(A119,4,4)","v":"3203"},"岡山県","備前市","日生町大多府","×"]
[7014200,{"$f":"MID(A120,1,3)","v":"701"},{"$f":"MID(A120,4,4)","v":"4200"},"岡山県","瀬戸内市","以下に掲載がない場合","△","集荷不可地域あり"]
[7014302,{"$f":"MID(A121,1,3)","v":"701"},{"$f":"MID(A121,4,4)","v":"4302"},"岡山県","瀬戸内市","牛窓町牛窓","×"]
[7340000,{"$f":"MID(A122,1,3)","v":"734"},{"$f":"MID(A122,4,4)","v":"0000"},"広島県","広島市南区","以下に掲載がない場合","△","集荷不可地域あり"]
[7340017,"734","0017","広島県","広島市南区","似島町","×"]
[7370000,"737","0000","広島県","呉市","以下に掲載がない場合","△","集荷不可地域あり"]
[7340101,"734","0101","広島県","呉市","豊浜町豊島","×"]
[7340102,"734","0102","広島県","呉市","豊浜町大浜","×"]
[7340103,"734","0103","広島県","呉市","豊浜町斎島","×"]
[7340301,"734","0301","広島県","呉市","豊町大長","×"]
[7340302,"734","0302","広島県","呉市","豊町御手洗","×"]
[7340303,"734","0303","広島県","呉市","豊町沖友","×"]
[7340304,"734","0304","広島県","呉市","豊町久比","×"]
[7210000,"721","0000","広島県","福山市","以下に掲載がない場合","△","集荷不可地域あり"]
[7200204,"720","0204","広島県","福山市","走島町","×"]
[7390600,"739","0600","広島県","大竹市","以下に掲載がない場合","△","集荷不可地域あり"]
[7390607,"739","0607","広島県","大竹市","阿多田","×"]
[7500000,{"$f":"MID(A136,1,3)","v":"750"},{"$f":"MID(A136,4,4)","v":"0000"},"山口県","下関市","以下に掲載がない場合","△","集荷不可地域あり"]
[7500095,{"$f":"MID(A137,1,3)","v":"750"},{"$f":"MID(A137,4,4)","v":"0095"},"山口県","下関市","六連島","×"]
[7596542,{"$f":"MID(A138,1,3)","v":"759"},{"$f":"MID(A138,4,4)","v":"6542"},"山口県","下関市","蓋井島","×"]
[7580000,{"$f":"MID(A139,1,3)","v":"758"},{"$f":"MID(A139,4,4)","v":"0000"},"山口県","萩市","以下に掲載がない場合","△","集荷不可地域あり"]
[7580001,{"$f":"MID(A140,1,3)","v":"758"},{"$f":"MID(A140,4,4)","v":"0001"},"山口県","萩市","相島","×"]
[7580003,{"$f":"MID(A141,1,3)","v":"758"},{"$f":"MID(A141,4,4)","v":"0003"},"山口県","萩市","大島","×"]
[7580701,{"$f":"MID(A142,1,3)","v":"758"},{"$f":"MID(A142,4,4)","v":"0701"},"山口県","萩市","見島","×"]
[7400000,{"$f":"MID(A143,1,3)","v":"740"},{"$f":"MID(A143,4,4)","v":"0000"},"山口県","岩国市 / 玖珂郡和木町","以下に掲載がない場合","△","集荷不可地域あり"]
[7400051,"740","0051","山口県","岩国市","柱島","×"]
[7430000,"743","0000","山口県","光市","以下に掲載がない場合","△","集荷不可地域あり"]
[7430003,{"$f":"MID(A146,1,3)","v":"743"},{"$f":"MID(A146,4,4)","v":"0003"},"山口県","光市","牛島","×"]
[7420000,{"$f":"MID(A147,1,3)","v":"742"},{"$f":"MID(A147,4,4)","v":"0000"},"山口県","柳井市","以下に掲載がない場合","△","集荷不可地域あり"]
[7420041,"742","0041","山口県","柳井市","平郡","×"]
[7450000,"745","0000","山口県","周南市","以下に掲載がない場合","△","集荷不可地域あり"]
[7450057,"745","0057","山口県","周南市","大津島","×"]
[7422100,"742","2100","山口県","大島郡周防大島町","以下に掲載がない場合","△","集荷不可地域あり"]
[7422108,"742","2108","山口県","大島郡周防大島町","笠佐島","×"]
[7422801,"742","2801","山口県","大島郡周防大島町","浮島","×"]
[7421400,"742","1400","山口県","熊毛郡上関町","以下に掲載がない場合","△","集荷不可地域あり"]
[7421401,"742","1401","山口県","熊毛郡上関町","祝島","×"]
[7421404,"742","1404","山口県","熊毛郡上関町","八島","×"]
[7421500,"742","1500","山口県","熊毛郡田布施町","以下に掲載がない場合","△","集荷不可地域あり"]
[7421516,"742","1516","山口県","熊毛郡田布施町","馬島","×"]
[7421100,"742","1100","山口県","熊毛郡平生町","以下に掲載がない場合","△","集荷不可地域あり"]
[7421114,{"$f":"MID(A160,1,3)","v":"742"},{"$f":"MID(A160,4,4)","v":"1114"},"山口県","熊毛郡平生町","佐合島","×"]
[7740000,{"$f":"MID(A161,1,3)","v":"774"},{"$f":"MID(A161,4,4)","v":"0000"},"徳島県","阿南市","以下に掲載がない場合","△","集荷不可地域あり"]
[7741760,{"$f":"MID(A162,1,3)","v":"774"},{"$f":"MID(A162,4,4)","v":"1760"},"徳島県","阿南市","伊島町","×"]
[7750000,{"$f":"MID(A163,1,3)","v":"775"},{"$f":"MID(A163,4,4)","v":"0000"},"徳島県","海部郡牟岐町","以下に掲載がない場合","△","集荷不可地域あり"]
[7750010,"775","0010","徳島県","海部郡牟岐町","牟岐浦（その他） / 牟岐浦","△","集荷不可地域あり"]
[7750013,"775","0013","徳島県","海部郡牟岐町","牟岐浦（出羽島）","×"]
[7600000,{"$f":"MID(A166,1,3)","v":"760"},{"$f":"MID(A166,4,4)","v":"0000"},"香川県","高松市","以下に掲載がない場合","△","集荷不可地域あり"]
[7600091,{"$f":"MID(A167,1,3)","v":"760"},{"$f":"MID(A167,4,4)","v":"0091"},"香川県","高松市","男木町","×"]
[7600092,{"$f":"MID(A168,1,3)","v":"760"},{"$f":"MID(A168,4,4)","v":"0092"},"香川県","高松市","女木町","×"]
[7630000,{"$f":"MID(A169,1,3)","v":"763"},{"$f":"MID(A169,4,4)","v":"0000"},"香川県","丸亀市","以下に掲載がない場合","△","集荷不可地域あり"]
[7630101,"763","0101","香川県","丸亀市","広島町立石","×"]
[7630102,"763","0102","香川県","丸亀市","広島町江の浦","×"]
[7630103,"763","0103","香川県","丸亀市","広島町釜の越","×"]
[7630104,"763","0104","香川県","丸亀市","広島町甲路","×"]
[7630105,"763","0105","香川県","丸亀市","広島町青木","×"]
[7630106,"763","0106","香川県","丸亀市","広島町市井","×"]
[7630107,"763","0107","香川県","丸亀市","広島町茂浦","×"]
[7630108,"763","0108","香川県","丸亀市","広島町小手島","×"]
[7630111,"763","0111","香川県","丸亀市","手島町","×"]
[7630221,"763","0221","香川県","丸亀市","本島町笠島","×"]
[7630222,"763","0222","香川県","丸亀市","本島町甲生","×"]
[7630223,"763","0223","香川県","丸亀市","本島町泊","×"]
[7630224,"763","0224","香川県","丸亀市","本島町小阪","×"]
[7630225,"763","0225","香川県","丸亀市","本島町生ノ浜","×"]
[7630226,"763","0226","香川県","丸亀市","本島町尻浜","×"]
[7630227,"763","0227","香川県","丸亀市","本島町福田","×"]
[7630228,"763","0228","香川県","丸亀市","本島町大浦","×"]
[7630231,"763","0231","香川県","丸亀市","牛島","×"]
[7620000,{"$f":"MID(A188,1,3)","v":"762"},{"$f":"MID(A188,4,4)","v":"0000"},"香川県","坂出市","以下に掲載がない場合","△","集荷不可地域あり"]
[7620071,"762","0071","香川県","坂出市","与島町","×"]
[7620072,"762","0072","香川県","坂出市","岩黒","×"]
[7620073,"762","0073","香川県","坂出市","櫃石","×"]
[7680000,{"$f":"MID(A192,1,3)","v":"768"},{"$f":"MID(A192,4,4)","v":"0000"},"香川県","観音寺市","以下に掲載がない場合","△","集荷不可地域あり"]
[7680071,"768","0071","香川県","観音寺市","伊吹町","×"]
[7670000,{"$f":"MID(A194,1,3)","v":"767"},{"$f":"MID(A194,4,4)","v":"0000"},"香川県","三豊市","以下に掲載がない場合","△","集荷不可地域あり"]
[7691108,"769","1108","香川県","三豊市","詫間町粟島","×"]
[7691109,"769","1109","香川県","三豊市","詫間町志々島","×"]
[7614100,{"$f":"MID(A197,1,3)","v":"761"},{"$f":"MID(A197,4,4)","v":"4100"},"香川県","小豆郡土庄町","以下に掲載がない場合","△","集荷不可地域あり"]
[7614661,"761","4661","香川県","小豆郡土庄町","豊島家浦","×"]
[7614662,"761","4662","香川県","小豆郡土庄町","豊島唐櫃","×"]
[7614663,"761","4663","香川県","小豆郡土庄町","豊島甲生","×"]
[7640000,"764","0000","香川県","仲多度郡多度津町","以下に掲載がない場合","△","集荷不可地域あり"]
[7640040,"764","0040","香川県","仲多度郡多度津町","佐柳","×"]
[7640050,"764","0050","香川県","仲多度郡多度津町","高見","×"]
[7910000,{"$f":"MID(A204,1,3)","v":"791"},{"$f":"MID(A204,4,4)","v":"0000"},"愛媛県","松山市","以下に掲載がない場合","△","集荷不可地域あり"]
[7914321,{"$f":"MID(A205,1,3)","v":"791"},{"$f":"MID(A205,4,4)","v":"4321"},"愛媛県","松山市","元怒和","×"]
[7914322,"791","4322","愛媛県","松山市","上怒和","×"]
[7914323,"791","4323","愛媛県","松山市","二神","×"]
[7914324,"791","4324","愛媛県","松山市","津和地","×"]
[7914431,"791","4431","愛媛県","松山市","睦月","×"]
[7914432,"791","4432","愛媛県","松山市","野忽那","×"]
[7992433,"799","2433","愛媛県","松山市","安居島","×"]
[7940000,"794","0000","愛媛県","今治市","以下に掲載がない場合","△","集荷不可地域あり"]
[7941101,"794","1101","愛媛県","今治市","関前岡村","×"]
[7941102,"794","1102","愛媛県","今治市","関前小大下","×"]
[7941103,"794","1103","愛媛県","今治市","関前大下","×"]
[7992121,"799","2121","愛媛県","今治市","来島（その他）","×"]
[7992122,"799","2122","愛媛県","今治市","来島（小島）","×"]
[7992123,"799","2123","愛媛県","今治市","馬島","×"]
[7980000,"798","0000","愛媛県","宇和島市","以下に掲載がない場合","△","集荷不可地域あり"]
[7980099,"798","0099","愛媛県","宇和島市","日振島","×"]
[7980212,"798","0212","愛媛県","宇和島市","戸島","×"]
[7983358,"798","3358","愛媛県","宇和島市","津島町竹ケ島","×"]
[7960000,"796","0000","愛媛県","八幡浜市","以下に掲載がない場合","△","集荷不可地域あり"]
[7950000,"795","0000","愛媛県","大洲市","以下に掲載がない場合","△","集荷不可地域あり"]
[7993470,"799","3470","愛媛県","大洲市","長浜町青島","×"]
[7942500,"794","2500","愛媛県","越智郡上島町","以下に掲載がない場合","△","集荷不可地域あり"]
[7942540,"794","2540","愛媛県","越智郡上島町","魚島一番耕地","×"]
[7942541,"794","2541","愛媛県","越智郡上島町","魚島二番耕地","×"]
[7942542,"794","2542","愛媛県","越智郡上島町","魚島三番耕地","×"]
[7942550,"794","2550","愛媛県","越智郡上島町","生名","×"]
[7880000,{"$f":"MID(A231,1,3)","v":"788"},{"$f":"MID(A231,4,4)","v":"0000"},"高知県","宿毛市","以下に掲載がない場合","△","集荷不可地域あり"]
[7880677,{"$f":"MID(A232,1,3)","v":"788"},{"$f":"MID(A232,4,4)","v":"0677"},"高知県","宿毛市","沖の島町母島","×"]
[7880678,"788","0678","高知県","宿毛市","沖の島町弘瀬","×"]
[7880679,"788","0679","高知県","宿毛市","沖の島町鵜来島","×"]
[8110100,{"$f":"MID(A235,1,3)","v":"811"},{"$f":"MID(A235,4,4)","v":"0100"},"福岡県","糟屋郡新宮町","以下に掲載がない場合","△","集荷不可地域あり"]
[8110118,{"$f":"MID(A236,1,3)","v":"811"},{"$f":"MID(A236,4,4)","v":"0118"},"福岡県","糟屋郡新宮町","相島","×"]
[8113400,"811","3400","福岡県","宗像市","以下に掲載がない場合","△","集荷不可地域あり"]
[8113701,"811","3701","福岡県","宗像市","大島","×"]
[8470000,{"$f":"MID(A239,1,3)","v":"847"},{"$f":"MID(A239,4,4)","v":"0000"},"佐賀県","唐津市","以下に掲載がない場合","△","集荷不可地域あり"]
[8470131,{"$f":"MID(A240,1,3)","v":"847"},{"$f":"MID(A240,4,4)","v":"0131"},"佐賀県","唐津市","神集島","×"]
[8470306,"847","0306","佐賀県","唐津市","呼子町小川島","×"]
[8470317,"847","0317","佐賀県","唐津市","鎮西町加唐島","×"]
[8470405,"847","0405","佐賀県","唐津市","鎮西町馬渡島","×"]
[8470406,"847","0406","佐賀県","唐津市","鎮西町松島","×"]
[8471524,"847","1524","佐賀県","唐津市","肥前町向島","×"]
[8500000,{"$f":"MID(A246,1,3)","v":"850"},{"$f":"MID(A246,4,4)","v":"0000"},"長崎県","長崎市","以下に掲載がない場合","△","集荷不可地域あり"]
[8570071,{"$f":"MID(A247,1,3)","v":"857"},{"$f":"MID(A247,4,4)","v":"0071"},"長崎県","長崎市","池島町","×"]
[8570000,"857","0000","長崎県","佐世保市","以下に掲載がない場合","△","集荷不可地域あり"]
[8573271,"857","3271","長崎県","佐世保市","黒島町","×"]
[8594500,"859","4500","長崎県","松浦市","以下に掲載がない場合","△","集荷不可地域あり"]
[8594529,"859","4529","長崎県","松浦市","今福町飛島免","×"]
[8594745,"859","4745","長崎県","松浦市","星鹿町青島免","×"]
[8115100,"811","5100","長崎県","壱岐市","以下に掲載がない場合","△","集荷不可地域あり"]
[8115161,"811","5161","長崎県","壱岐市","郷ノ浦町大島","×"]
[8115162,"811","5162","長崎県","壱岐市","郷ノ浦町長島","×"]
[8115163,"811","5163","長崎県","壱岐市","郷ノ浦町原島","×"]
[8530000,"853","0000","長崎県","五島市","以下に掲載がない場合","△","集荷不可地域あり"]
[8530061,"853","0061","長崎県","五島市","黄島町","×"]
[8530062,"853","0062","長崎県","五島市","赤島町","×"]
[8530208,"853","0208","長崎県","五島市","富江町黒島","×"]
[8530611,"853","0611","長崎県","五島市","三井楽町嵯峨島","×"]
[8532171,"853","2171","長崎県","五島市","久賀町","×"]
[8532172,"853","2172","長崎県","五島市","蕨町","×"]
[8532173,"853","2173","長崎県","五島市","田ノ浦町","×"]
[8532174,"853","2174","長崎県","五島市","猪之木町","×"]
[8532481,"853","2481","長崎県","五島市","伊福貴町","×"]
[8532482,"853","2482","長崎県","五島市","本窯町","×"]
[8574700,"857","4700","長崎県","北松浦郡小値賀町","以下に掲載がない場合","△","集荷不可地域あり"]
[8574708,"857","4708","長崎県","北松浦郡小値賀町","大島郷","×"]
[8574709,"857","4709","長崎県","北松浦郡小値賀町","野崎郷","×"]
[8574711,"857","4711","長崎県","北松浦郡小値賀町","納島郷","×"]
[8574712,"857","4712","長崎県","北松浦郡小値賀町","六島郷","×"]
[8693600,{"$f":"MID(A273,1,3)","v":"869"},{"$f":"MID(A273,4,4)","v":"3600"},"熊本県","上天草市","以下に掲載がない場合","△","集荷不可地域あり"]
[8693711,{"$f":"MID(A274,1,3)","v":"869"},{"$f":"MID(A274,4,4)","v":"3711"},"熊本県","上天草市","大矢野町湯島","×"]
[8760000,{"$f":"MID(A275,1,3)","v":"876"},{"$f":"MID(A275,4,4)","v":"0000"},"大分県","佐伯市","以下に掲載がない場合","△","集荷不可地域あり"]
[8760001,{"$f":"MID(A276,1,3)","v":"876"},{"$f":"MID(A276,4,4)","v":"0001"},"大分県","佐伯市","高松浦","×"]
[8760002,"876","0002","大分県","佐伯市","日向泊浦","×"]
[8760003,"876","0003","大分県","佐伯市","塩内浦","×"]
[8760004,"876","0004","大分県","佐伯市","荒網代浦","×"]
[8760005,"876","0005","大分県","佐伯市","石間浦","×"]
[8760006,"876","0006","大分県","佐伯市","守後浦","×"]
[8760007,"876","0007","大分県","佐伯市","久保浦","×"]
[8760008,"876","0008","大分県","佐伯市","片神浦","×"]
[8761313,"876","1313","大分県","佐伯市","鶴見大島","×"]
[8792400,"879","2400","大分県","津久見市","以下に掲載がない場合","△","集荷不可地域あり"]
[8792501,"879","2501","大分県","津久見市","保戸島","×"]
[8900000,{"$f":"MID(A287,1,3)","v":"890"},{"$f":"MID(A287,4,4)","v":"0000"},"鹿児島県","鹿児島市 / 鹿児島郡三島村","以下に掲載がない場合","×"]
[8915200,{"$f":"MID(A288,1,3)","v":"891"},{"$f":"MID(A288,4,4)","v":"5200"},"鹿児島県","鹿児島郡十島村","以下に掲載がない場合","×"]
[8900901,"890","0901","鹿児島県","鹿児島郡三島村","硫黄島","×"]
[8900902,"890","0902","鹿児島県","鹿児島郡三島村","黒島","×"]
[8900903,"890","0903","鹿児島県","鹿児島郡三島村","竹島","×"]
[8915101,"891","5101","鹿児島県","鹿児島郡十島村","口之島","×"]
[8915201,"891","5201","鹿児島県","鹿児島郡十島村","中之島","×"]
[8915202,"891","5202","鹿児島県","鹿児島郡十島村","平島","×"]
[8915203,"891","5203","鹿児島県","鹿児島郡十島村","諏訪之瀬島","×"]
[8915204,"891","5204","鹿児島県","鹿児島郡十島村","悪石島","×"]
[8915205,"891","5205","鹿児島県","鹿児島郡十島村","小宝島","×"]
[8915301,"891","5301","鹿児島県","鹿児島郡十島村","宝島","×"]
[8941500,"894","1500","鹿児島県","大島郡瀬戸内町","以下に掲載がない場合","△","集荷不可地域あり"]
[8942501,"894","2501","鹿児島県","大島郡瀬戸内町","池地","×"]
[8942502,"894","2502","鹿児島県","大島郡瀬戸内町","請阿室","×"]
[8942601,"894","2601","鹿児島県","大島郡瀬戸内町","与路","×"]
[8919300,"891","9300","鹿児島県","大島郡与論町","以下に掲載がない場合","×"]
[8919301,"891","9301","鹿児島県","大島郡与論町","茶花","×"]
[8919302,"891","9302","鹿児島県","大島郡与論町","立長","×"]
[8919303,"891","9303","鹿児島県","大島郡与論町","城","×"]
[8919304,"891","9304","鹿児島県","大島郡与論町","朝戸","×"]
[8919305,"891","9305","鹿児島県","大島郡与論町","西区","×"]
[8919306,"891","9306","鹿児島県","大島郡与論町","東区","×"]
[8919307,"891","9307","鹿児島県","大島郡与論町","古里","×"]
[8919308,"891","9308","鹿児島県","大島郡与論町","那間","×"]
[8919309,"891","9309","鹿児島県","大島郡与論町","叶","×"]
[9070000,"907","0000","沖縄県","石垣市","以下に掲載がない場合","×","全域集荷不可"]
[9070024,"907","0024","沖縄県","石垣市","新川","×","全域集荷不可"]
[9070023,"907","0023","沖縄県","石垣市","石垣","×","全域集荷不可"]
[9070332,"907","0332","沖縄県","石垣市","伊原間","×","全域集荷不可"]
[9070022,"907","0022","沖縄県","石垣市","大川","×","全域集荷不可"]
[9070001,"907","0001","沖縄県","石垣市","大浜","×","全域集荷不可"]
[9070453,"907","0453","沖縄県","石垣市","川平","×","全域集荷不可"]
[9070452,"907","0452","沖縄県","石垣市","崎枝","×","全域集荷不可"]
[9070242,"907","0242","沖縄県","石垣市","白保","×","全域集荷不可"]
[9070014,"907","0014","沖縄県","石垣市","新栄町","×","全域集荷不可"]
[9070241,"907","0241","沖縄県","石垣市","桃里","×","全域集荷不可"]
[9070004,"907","0004","沖縄県","石垣市","登野城","×","全域集荷不可"]
[9070021,"907","0021","沖縄県","石垣市","名蔵","×","全域集荷不可"]
[9070333,"907","0333","沖縄県","石垣市","野底","×","全域集荷不可"]
[9070013,"907","0013","沖縄県","石垣市","浜崎町","×","全域集荷不可"]
[9070003,"907","0003","沖縄県","石垣市","平得","×","全域集荷不可"]
[9070331,"907","0331","沖縄県","石垣市","平久保","×","全域集荷不可"]
[9070451,"907","0451","沖縄県","石垣市","桴海","×","全域集荷不可"]
[9070002,"907","0002","沖縄県","石垣市","真栄里","×","全域集荷不可"]
[9070012,"907","0012","沖縄県","石垣市","美崎町","×","全域集荷不可"]
[9070243,"907","0243","沖縄県","石垣市","宮良","×","全域集荷不可"]
[9070244,"907","0244","沖縄県","石垣市","盛山","×","全域集荷不可"]
[9070011,"907","0011","沖縄県","石垣市","八島町","×","全域集荷不可"]
[9060000,"906","0000","沖縄県","宮古島市","以下に掲載がない場合","×","全域集荷不可"]
[9060502,"906","0502","沖縄県","宮古島市","伊良部池間添","×","全域集荷不可"]
[9060503,"906","0503","沖縄県","宮古島市","伊良部伊良部","×","全域集荷不可"]
[9060505,"906","0505","沖縄県","宮古島市","伊良部国仲","×","全域集荷不可"]
[9060507,"906","0507","沖縄県","宮古島市","伊良部佐和田","×","全域集荷不可"]
[9060504,"906","0504","沖縄県","宮古島市","伊良部仲地","×","全域集荷不可"]
[9060506,"906","0506","沖縄県","宮古島市","伊良部長浜","×","全域集荷不可"]
[9060501,"906","0501","沖縄県","宮古島市","伊良部前里添","×","全域集荷不可"]
[9060204,"906","0204","沖縄県","宮古島市","上野上野","×","全域集荷不可"]
[9060202,"906","0202","沖縄県","宮古島市","上野新里","×","全域集荷不可"]
[9060201,"906","0201","沖縄県","宮古島市","上野野原","×","全域集荷不可"]
[9060203,"906","0203","沖縄県","宮古島市","上野宮国","×","全域集荷不可"]
[9060102,"906","0102","沖縄県","宮古島市","城辺新城","×","全域集荷不可"]
[9060108,"906","0108","沖縄県","宮古島市","城辺砂川","×","全域集荷不可"]
[9060109,"906","0109","沖縄県","宮古島市","城辺下里添","×","全域集荷不可"]
[9060107,"906","0107","沖縄県","宮古島市","城辺友利","×","全域集荷不可"]
[9060105,{"$f":"MID(A352,1,3)","v":"906"},{"$f":"MID(A352,4,4)","v":"0105"},"沖縄県","宮古島市","城辺長間","×","全域集荷不可"]
[9060106,"906","0106","沖縄県","宮古島市","城辺西里添","×","全域集荷不可"]
[9060104,"906","0104","沖縄県","宮古島市","城辺比嘉","×","全域集荷不可"]
[9060103,"906","0103","沖縄県","宮古島市","城辺福里","×","全域集荷不可"]
[9060101,"906","0101","沖縄県","宮古島市","城辺保良","×","全域集荷不可"]
[9060304,"906","0304","沖縄県","宮古島市","下地上地","×","全域集荷不可"]
[9060302,"906","0302","沖縄県","宮古島市","下地嘉手苅","×","全域集荷不可"]
[9060301,"906","0301","沖縄県","宮古島市","下地川満","×","全域集荷不可"]
[9060306,"906","0306","沖縄県","宮古島市","下地来間","×","全域集荷不可"]
[9060303,"906","0303","沖縄県","宮古島市","下地洲鎌","×","全域集荷不可"]
[9060305,"906","0305","沖縄県","宮古島市","下地与那覇","×","全域集荷不可"]
[9060421,"906","0421","沖縄県","宮古島市","平良池間","×","全域集荷不可"]
[9060004,"906","0004","沖縄県","宮古島市","平良大浦","×","全域集荷不可"]
[9060001,"906","0001","沖縄県","宮古島市","平良大神","×","全域集荷不可"]
[9060002,"906","0002","沖縄県","宮古島市","平良狩俣","×","全域集荷不可"]
[9060015,"906","0015","沖縄県","宮古島市","平良久貝","×","全域集荷不可"]
[9060003,"906","0003","沖縄県","宮古島市","平良島尻","×","全域集荷不可"]
[9060013,"906","0013","沖縄県","宮古島市","平良下里","×","全域集荷不可"]
[9060008,"906","0008","沖縄県","宮古島市","平良荷川取","×","全域集荷不可"]
[9060012,"906","0012","沖縄県","宮古島市","平良西里","×","全域集荷不可"]
[9060006,"906","0006","沖縄県","宮古島市","平良西仲宗根","×","全域集荷不可"]
[9060005,"906","0005","沖縄県","宮古島市","平良西原","×","全域集荷不可"]
[9060007,"906","0007","沖縄県","宮古島市","平良東仲宗根","×","全域集荷不可"]
[9060011,"906","0011","沖縄県","宮古島市","平良東仲宗根添","×","全域集荷不可"]
[9060422,"906","0422","沖縄県","宮古島市","平良前里","×","全域集荷不可"]
[9060014,"906","0014","沖縄県","宮古島市","平良松原","×","全域集荷不可"]
[9060600,"906","0600","沖縄県","宮古郡多良間村","以下に掲載がない場合","×","全域集荷不可"]
[9060601,"906","0601","沖縄県","宮古郡多良間村","塩川","×","全域集荷不可"]
[9060602,"906","0602","沖縄県","宮古郡多良間村","仲筋","×","全域集荷不可"]
[9060603,"906","0603","沖縄県","宮古郡多良間村","水納","×","全域集荷不可"]
[9070000,"907","0000","沖縄県","八重山郡竹富町","以下に掲載がない場合","×","全域集荷不可"]
[9071435,"907","1435","沖縄県","八重山郡竹富町","新城","×","全域集荷不可"]
[9071542,"907","1542","沖縄県","八重山郡竹富町","西表","×","全域集荷不可"]
[9071541,"907","1541","沖縄県","八重山郡竹富町","上原","×","全域集荷不可"]
[9071311,"907","1311","沖縄県","八重山郡竹富町","黒島","×","全域集荷不可"]
[9071221,"907","1221","沖縄県","八重山郡竹富町","小浜","×","全域集荷不可"]
[9071432,"907","1432","沖縄県","八重山郡竹富町","古見","×","全域集荷不可"]
[9071543,"907","1543","沖縄県","八重山郡竹富町","崎山","×","全域集荷不可"]
[9071431,"907","1431","沖縄県","八重山郡竹富町","高那","×","全域集荷不可"]
[9071101,"907","1101","沖縄県","八重山郡竹富町","竹富","×","全域集荷不可"]
[9071434,"907","1434","沖縄県","八重山郡竹富町","南風見","×","全域集荷不可"]
[9071433,"907","1433","沖縄県","八重山郡竹富町","南風見仲","×","全域集荷不可"]
[9071751,"907","1751","沖縄県","八重山郡竹富町","波照間","×","全域集荷不可"]
[9071544,"907","1544","沖縄県","八重山郡竹富町","鳩間","×","全域集荷不可"]
[9071800,"907","1800","沖縄県","八重山郡与那国町","以下に掲載がない場合","×","全域集荷不可"]
[9071801,"907","1801","沖縄県","八重山郡与那国町","与那国","×","全域集荷不可"]

{"sheet":"リスト","index":3,"n_rows":2,"n_cols":3,"rows_kept":2,"cut":false,"hidden":true,"merged":[]}
["男性","1:本人","会社"]
["女性","2:家族","自宅"]